Workbook

Sheet Kilpailu
A4: Paikka: | B4: Vesivehmaa
A5: Päivä: | B5: 42217
A6: Ohjelma: | B6: Popular
A8: Kilpailijat: | D8: Lentojärjestys
B9: Nimi | D9: kierros 1: | F9: kierros 2: | H9: kierros 3:
A10: 1. | B10: Petri Kivikoski
A11: 2. | B11: Timo Juska
A12: 3. | B12: Santeri Sirkiä
A13: 4. | B13: Koippa
A14: 5. | B14: Toni
A15: 6. | B15: Pekka
A16: 7. | B16: Sami
A17: 8.
A18: 9.
A19: 10.
A20: 11.
A21: 12.
A22: 13.
A23: 14.
A24: 15.
A28: Ohjelma: | B28: FAI-P
B29: Liike: | C29: kerroin:
A30: 1. | B30: M with 2 half pirouettes on all side | C30: 1
A31: 2. | B31: Semicircle with pirouette | C31: 1
A32: 3. | B32: Diamond 3 | C32: 1
A33: 4. | B33: Cuban eight | C33: 1
A34: 5. | B34: Pullpack with backward full roll | C34: 1
A35: 6. | B35: Cobra Roll with pushed flip | C35: 1
A36: 7. | B36: Vertical candle | C36: 1
A37: 8. | B37: Opposite 2 point rolls | C37: 1
A38: 9. | B38: Inside loop with pirouette on top | C38: 1
A39: 10. | B39: Autorotation with two 90º turns | C39: 1
A40: 11. | C40: 1
A43: Ohjelma: | B43: Eurosport
B44: Liike: | C44: kerroin:
A45: 1. | B45: M kahdella 180 piruetilla | C45: 1
A46: 2. | B46: Salmiakki 360 piruetilla | C46: 1
A47: 3. | B47: Cuubalainen kahdeksikko | C47: 1
A48: 4. | B48: Pullback | C48: 1
A49: 5. | B49: Cobraroll puolikierteillä | C49: 1
A50: 6. | B50: Pushover | C50: 1
A51: 7. | B51: Tuplakierteet | C51: 1
A52: 8. | B52: Tuplasilmukat | C52: 1
A53: 9. | B53: Autorotaatio | C53: 1
A54: 10. | C54: 1
A55: 11. | C55: 1
A58: Ohjelma: | B58: Popular
B59: Liike: | C59: kerroin:
A60: 1. | B60: Leijunta-M | C60: 1
A61: 2. | B61: Leijunta TopHat | C61: 1
A62: 3. | B62: Cobra | C62: 1
A63: 4. | B63: Suora ohilento | C63: 1
A64: 5. | B64: Nouseva 180 asteen käännös | C64: 1
A65: 6. | B65: 45 asteen moottorilasku | C65: 1
A66: 7. | C66: 1
A67: 8. | C67: 1
A68: 9. | C68: 1
A69: 10. | C69: 1
A70: 11. | C70: 1
A79: F3C-P
A80: Eurosport
A81: Popular

Sheet Tulokset
A4: Paikka: | B4: Vesivehmaa | C4: Päivä: | D4: 42217 | E4: Luokka: | F4: =Kilpailu!B6 -> Popular
B6: Kokonaistulokset | J6: suht.
C7: Pisteet | D7: Suht… | E7: Tm 1 | F7: Tm 2 | G7: Tm 3 | H7: Tm 4 | I7: Tm 5 | J7: Ero kärkeen
A8: 1. | B8: =Kilpailu!B$10 -> Petri Kivikoski | C8: =SUM(C28,C48,C68)-'1'!D10 -> 214 | D8: =SUM(D28,D48,D68)-'1'!E10 -> 1618.1248 | E8: =SUM(E28,E48,E68) -> 98 | F8: =SUM(F28,F48,F68) -> 99 | G8: =SUM(G28,G48,G68) -> 116 | H8: =SUM(H28,H48,H68) -> 0 | I8: =SUM(I28,I48,I68) -> 180 | J8: =LARGE(D$8:D$22,1)-D8 -> 381.87518
A9: 2. | B9: =Kilpailu!B$11 -> Timo Juska | C9: =SUM(C29,C49,C69)-'2'!D10 -> 243 | D9: =SUM(D29,D49,D69)-'2'!E10 -> 1910.4478 | E9: =SUM(E29,E49,E69) -> 114 | F9: =SUM(F29,F49,F69) -> 120 | G9: =SUM(G29,G49,G69) -> 123 | H9: =SUM(H29,H49,H69) -> 0 | I9: =SUM(I29,I49,I69) -> 180 | J9: =LARGE(D$8:D$22,1)-D9 -> 89.552239
A10: 3. | B10: =Kilpailu!B$12 -> Santeri Sirkiä | C10: =SUM(C30,C50,C70)-'3'!D10 -> 253 | D10: =SUM(D30,D50,D70)-'3'!E10 -> 1880.0419 | E10: =SUM(E30,E50,E70) -> 111 | F10: =SUM(F30,F50,F70) -> 117 | G10: =SUM(G30,G50,G70) -> 136 | H10: =SUM(H30,H50,H70) -> 0 | I10: =SUM(I30,I50,I70) -> 180 | J10: =LARGE(D$8:D$22,1)-D10 -> 119.95806
A11: 4. | B11: =Kilpailu!B$13 -> Koippa | C11: =SUM(C31,C51,C71)-'4'!D10 -> 212 | D11: =SUM(D31,D51,D71)-'4'!E10 -> 1620.1431 | E11: =SUM(E31,E51,E71) -> 96 | F11: =SUM(F31,F51,F71) -> 101 | G11: =SUM(G31,G51,G71) -> 109 | H11: =SUM(H31,H51,H71) -> 0 | I11: =SUM(I31,I51,I71) -> 180 | J11: =LARGE(D$8:D$22,1)-D11 -> 379.85691
A12: 5. | B12: =Kilpailu!B$14 -> Toni | C12: =SUM(C32,C52,C72)-'5'!D10 -> 279 | D12: =SUM(D32,D52,D72)-'5'!E10 -> 2000 | E12: =SUM(E32,E52,E72) -> 126 | F12: =SUM(F32,F52,F72) -> 127 | G12: =SUM(G32,G52,G72) -> 138 | H12: =SUM(H32,H52,H72) -> 0 | I12: =SUM(I32,I52,I72) -> 180 | J12: =LARGE(D$8:D$22,1)-D12 -> 0
A13: 6. | B13: =Kilpailu!B$15 -> Pekka | C13: =SUM(C33,C53,C73)-'6'!D10 -> 241 | D13: =SUM(D33,D53,D73)-'6'!E10 -> 1892.3153 | E13: =SUM(E33,E53,E73) -> 108 | F13: =SUM(F33,F53,F73) -> 113 | G13: =SUM(G33,G53,G73) -> 134 | H13: =SUM(H33,H53,H73) -> 0 | I13: =SUM(I33,I53,I73) -> 180 | J13: =LARGE(D$8:D$22,1)-D13 -> 107.68472
A14: 7. | B14: =Kilpailu!B$16 -> Sami | C14: =SUM(C34,C54,C74)-'7'!D10 -> 161 | D14: =SUM(D34,D54,D74)-'7'!E10 -> 1250.7093 | E14: =SUM(E34,E54,E74) -> 72 | F14: =SUM(F34,F54,F74) -> 75 | G14: =SUM(G34,G54,G74) -> 93 | H14: =SUM(H34,H54,H74) -> 0 | I14: =SUM(I34,I54,I74) -> 300 | J14: =LARGE(D$8:D$22,1)-D14 -> 749.29074
A15: 8. | B15: =Kilpailu!B$17 -> 0 | C15: =SUM(C35,C55,C75)-'8'!D10 -> 0 | D15: =SUM(D35,D55,D75)-'8'!E10 -> 0 | E15: =SUM(E35,E55,E75) -> 0 | F15: =SUM(F35,F55,F75) -> 0 | G15: =SUM(G35,G55,G75) -> 0 | H15: =SUM(H35,H55,H75) -> 0 | I15: =SUM(I35,I55,I75) -> 300 | J15: =LARGE(D$8:D$22,1)-D15 -> 2000
A16: 9. | B16: =Kilpailu!B$18 -> 0 | C16: =SUM(C36,C56,C76)-'9'!D10 -> 0 | D16: =SUM(D36,D56,D76)-'9'!E10 -> 0 | E16: =SUM(E36,E56,E76) -> 0 | F16: =SUM(F36,F56,F76) -> 0 | G16: =SUM(G36,G56,G76) -> 0 | H16: =SUM(H36,H56,H76) -> 0 | I16: =SUM(I36,I56,I76) -> 300 | J16: =LARGE(D$8:D$22,1)-D16 -> 2000
A17: 10. | B17: =Kilpailu!B$19 -> 0 | C17: =SUM(C37,C57,C77) -> 0 | D17: =SUM(D37,D57,D77) -> 0 | E17: =SUM(E37,E57,E77) -> 0 | F17: =SUM(F37,F57,F77) -> 0 | G17: =SUM(G37,G57,G77) -> 0 | H17: =SUM(H37,H57,H77) -> 0 | I17: =SUM(I37,I57,I77) -> 0 | J17: =LARGE(D$8:D$22,1)-D17 -> 2000
A18: 11. | B18: =Kilpailu!B$20 -> 0 | C18: =SUM(C38,C58,C78) -> 0 | D18: =SUM(D38,D58,D78) -> 0 | E18: =SUM(E38,E58,E78) -> 0 | F18: =SUM(F38,F58,F78) -> 0 | G18: =SUM(G38,G58,G78) -> 0 | H18: =SUM(H38,H58,H78) -> 0 | I18: =SUM(I38,I58,I78) -> 0 | J18: =LARGE(D$8:D$22,1)-D18 -> 2000
A19: 12. | B19: =Kilpailu!B$21 -> 0 | C19: =SUM(C39,C59,C79) -> 0 | D19: =SUM(D39,D59,D79) -> 0 | E19: =SUM(E39,E59,E79) -> 0 | F19: =SUM(F39,F59,F79) -> 0 | G19: =SUM(G39,G59,G79) -> 0 | H19: =SUM(H39,H59,H79) -> 0 | I19: =SUM(I39,I59,I79) -> 0 | J19: =LARGE(D$8:D$22,1)-D19 -> 2000
A20: 13. | B20: =Kilpailu!B$22 -> 0 | C20: =SUM(C40,C60,C80) -> 0 | D20: =SUM(D40,D60,D80) -> 0 | E20: =SUM(E40,E60,E80) -> 0 | F20: =SUM(F40,F60,F80) -> 0 | G20: =SUM(G40,G60,G80) -> 0 | H20: =SUM(H40,H60,H80) -> 0 | I20: =SUM(I40,I60,I80) -> 0 | J20: =LARGE(D$8:D$22,1)-D20 -> 2000
A21: 14. | B21: =Kilpailu!B$23 -> 0 | C21: =SUM(C41,C61,C81) -> 0 | D21: =SUM(D41,D61,D81) -> 0 | E21: =SUM(E41,E61,E81) -> 0 | F21: =SUM(F41,F61,F81) -> 0 | G21: =SUM(G41,G61,G81) -> 0 | H21: =SUM(H41,H61,H81) -> 0 | I21: =SUM(I41,I61,I81) -> 0 | J21: =LARGE(D$8:D$22,1)-D21 -> 2000
A22: 15. | B22: =Kilpailu!B$24 -> 0 | C22: =SUM(C42,C62,C82) -> 0 | D22: =SUM(D42,D62,D82) -> 0 | E22: =SUM(E42,E62,E82) -> 0 | F22: =SUM(F42,F62,F82) -> 0 | G22: =SUM(G42,G62,G82) -> 0 | H22: =SUM(H42,H62,H82) -> 0 | I22: =SUM(I42,I62,I82) -> 0 | J22: =LARGE(D$8:D$22,1)-D22 -> 2000
B26: Kierros 1: | J26: tuomari pist.
C27: Pisteet | D27: Suht… | E27: Tm 1 | F27: Tm 2 | G27: Tm 3 | H27: Tm 4 | I27: Tm 5 | J27: Ero kärkeen
A28: 1. | B28: =Kilpailu!B$10 -> Petri Kivikoski | C28: ='1'!D$5 -> 104 | D28: =C28/LARGE(C$28:C$42,1)*1000 -> 859.50413 | E28: ='1'!C$26 -> 33 | F28: ='1'!D$26 -> 31 | G28: ='1'!E$26 -> 40 | H28: ='1'!F$26 -> 0 | I28: ='1'!G$26 -> 60 | J28: =LARGE(C$28:C$42,1)-C28 -> 17
A29: 2. | B29: =Kilpailu!B$11 -> Timo Juska | C29: ='2'!D$5 -> 121 | D29: =C29/LARGE(C$28:C$42,1)*1000 -> 1000 | E29: ='2'!C$26 -> 42 | F29: ='2'!D$26 -> 41 | G29: ='2'!E$26 -> 38 | H29: 0 | I29: ='2'!G$26 -> 60 | J29: =LARGE(C$28:C$42,1)-C29 -> 0
A30: 3. | B30: =Kilpailu!B$12 -> Santeri Sirkiä | C30: ='3'!D$5 -> 111 | D30: =C30/LARGE(C$28:C$42,1)*1000 -> 917.35537 | E30: ='3'!C$26 -> 36 | F30: ='3'!D$26 -> 36 | G30: ='3'!E$26 -> 39 | H30: ='3'!F$26 -> 0 | I30: ='3'!G$26 -> 60 | J30: =LARGE(C$28:C$42,1)-C30 -> 10
A31: 4. | B31: =Kilpailu!B$13 -> Koippa | C31: ='4'!D$5 -> 94 | D31: =C31/LARGE(C$28:C$42,1)*1000 -> 776.8595 | E31: ='4'!C$26 -> 30 | F31: ='4'!D$26 -> 33 | G31: ='4'!E$26 -> 31 | H31: ='4'!F$26 -> 0 | I31: ='4'!G$26 -> 60 | J31: =LARGE(C$28:C$42,1)-C31 -> 27
A32: 5. | B32: =Kilpailu!B$14 -> Toni | C32: ='5'!D$5 -> 112 | D32: =C32/LARGE(C$28:C$42,1)*1000 -> 925.61983 | E32: ='5'!C$26 -> 35 | F32: ='5'!D$26 -> 36 | G32: ='5'!E$26 -> 41 | H32: ='5'!F$26 -> 0 | I32: ='5'!G$26 -> 60 | J32: =LARGE(C$28:C$42,1)-C32 -> 9
A33: 6. | B33: =Kilpailu!B$15 -> Pekka | C33: ='6'!D$5 -> 117 | D33: =C33/LARGE(C$28:C$42,1)*1000 -> 966.94215 | E33: ='6'!C$26 -> 34 | F33: ='6'!D$26 -> 38 | G33: ='6'!E$26 -> 45 | H33: ='6'!F$26 -> 0 | I33: ='6'!G$26 -> 60 | J33: =LARGE(C$28:C$42,1)-C33 -> 4
A34: 7. | B34: =Kilpailu!B$16 -> Sami | C34: ='7'!D$5 -> 80 | D34: =C34/LARGE(C$28:C$42,1)*1000 -> 661.15702 | E34: ='7'!C$26 -> 24 | F34: ='7'!D$26 -> 26 | G34: ='7'!E$26 -> 30 | H34: ='7'!F$26 -> 0 | I34: ='7'!G$26 -> 100 | J34: =LARGE(C$28:C$42,1)-C34 -> 41
A35: 8. | B35: =Kilpailu!B$17 -> 0 | C35: ='8'!D$5 -> 0 | D35: =C35/LARGE(C$28:C$42,1)*1000 -> 0 | E35: ='8'!C$26 -> 0 | F35: ='8'!D$26 -> 0 | G35: ='8'!E$26 -> 0 | H35: ='8'!F$26 -> 0 | I35: ='8'!G$26 -> 100 | J35: =LARGE(C$28:C$42,1)-C35 -> 121
A36: 9. | B36: =Kilpailu!B$18 -> 0 | C36: ='9'!D$5 -> 0 | D36: =C36/LARGE(C$28:C$42,1)*1000 -> 0 | E36: ='9'!C$26 -> 0 | F36: ='9'!D$26 -> 0 | G36: ='9'!E$26 -> 0 | H36: ='9'!F$26 -> 0 | I36: ='9'!G$26 -> 100 | J36: =LARGE(C$28:C$42,1)-C36 -> 121
A37: 10. | B37: =Kilpailu!B$19 -> 0 | C37: ='10'!D$5 -> 0 | D37: =C37/LARGE(C$28:C$42,1)*1000 -> 0 | E37: ='10'!C$26 -> 0 | F37: ='10'!D$26 -> 0 | G37: ='10'!E$26 -> 0 | H37: ='10'!F$26 -> 0 | I37: ='10'!G$26 -> 0 | J37: =LARGE(C$28:C$42,1)-C37 -> 121
A38: 11. | B38: =Kilpailu!B$20 -> 0 | C38: ='11'!D$5 -> 0 | D38: =C38/LARGE(C$28:C$42,1)*1000 -> 0 | E38: ='11'!C$26 -> 0 | F38: ='11'!D$26 -> 0 | G38: ='11'!E$26 -> 0 | H38: ='11'!F$26 -> 0 | I38: ='11'!G$26 -> 0 | J38: =LARGE(C$28:C$42,1)-C38 -> 121
A39: 12. | B39: =Kilpailu!B$21 -> 0 | C39: ='12'!D$5 -> 0 | D39: =C39/LARGE(C$28:C$42,1)*1000 -> 0 | E39: ='12'!C$26 -> 0 | F39: ='12'!D$26 -> 0 | G39: ='12'!E$26 -> 0 | H39: ='12'!F$26 -> 0 | I39: ='12'!G$26 -> 0 | J39: =LARGE(C$28:C$42,1)-C39 -> 121
A40: 13. | B40: =Kilpailu!B$22 -> 0 | C40: ='13'!D$5 -> 0 | D40: =C40/LARGE(C$28:C$42,1)*1000 -> 0 | E40: ='13'!C$26 -> 0 | F40: ='13'!D$26 -> 0 | G40: ='13'!E$26 -> 0 | H40: ='13'!F$26 -> 0 | I40: ='13'!G$26 -> 0 | J40: =LARGE(C$28:C$42,1)-C40 -> 121
A41: 14. | B41: =Kilpailu!B$23 -> 0 | C41: ='14'!D$5 -> 0 | D41: =C41/LARGE(C$28:C$42,1)*1000 -> 0 | E41: ='14'!C$26 -> 0 | F41: ='14'!D$26 -> 0 | G41: ='14'!E$26 -> 0 | H41: ='14'!F$26 -> 0 | I41: ='14'!G$26 -> 0 | J41: =LARGE(C$28:C$42,1)-C41 -> 121
A42: 15. | B42: =Kilpailu!B$24 -> 0 | C42: ='15'!D$5 -> 0 | D42: =C42/LARGE(C$28:C$42,1)*1000 -> 0 | E42: ='15'!C$26 -> 0 | F42: ='15'!D$26 -> 0 | G42: ='15'!E$26 -> 0 | H42: ='15'!F$26 -> 0 | I42: ='15'!G$26 -> 0 | J42: =LARGE(C$28:C$42,1)-C42 -> 121
B46: Kierros 2: | J46: tuomari pist.
C47: Pisteet | D47: Suht… | E47: Tm 1 | F47: Tm 2 | G47: Tm 3 | H47: Tm 4 | I47: Tm 5 | J47: Ero kärkeen
A48: 1. | B48: =Kilpailu!B$10 -> Petri Kivikoski | C48: ='1'!D$6 -> 99 | D48: =C48/LARGE(C$48:C$62,1)*1000 -> 738.80597 | E48: ='1'!C$42 -> 32 | F48: ='1'!D$42 -> 32 | G48: ='1'!E$42 -> 35 | H48: ='1'!F$42 -> 0 | I48: ='1'!G$42 -> 60 | J48: =LARGE(C$48:C$62,1)-C48 -> 35
A49: 2. | B49: =Kilpailu!B$11 -> Timo Juska | C49: ='2'!D$6 -> 122 | D49: =C49/LARGE(C$48:C$62,1)*1000 -> 910.44776 | E49: ='2'!C$42 -> 39 | F49: ='2'!D$42 -> 40 | G49: ='2'!E$42 -> 43 | H49: 0 | I49: ='2'!G$42 -> 60 | J49: =LARGE(C$48:C$62,1)-C49 -> 12
A50: 3. | B50: =Kilpailu!B$12 -> Santeri Sirkiä | C50: ='3'!D$6 -> 129 | D50: =C50/LARGE(C$48:C$62,1)*1000 -> 962.68657 | E50: ='3'!C$42 -> 39 | F50: ='3'!D$42 -> 41 | G50: ='3'!E$42 -> 49 | H50: ='3'!F$42 -> 0 | I50: ='3'!G$42 -> 60 | J50: =LARGE(C$48:C$62,1)-C50 -> 5
A51: 4. | B51: =Kilpailu!B$13 -> Koippa | C51: ='4'!D$6 -> 113 | D51: =C51/LARGE(C$48:C$62,1)*1000 -> 843.28358 | E51: ='4'!C$42 -> 37 | F51: ='4'!D$42 -> 37 | G51: ='4'!E$42 -> 39 | H51: ='4'!F$42 -> 0 | I51: ='4'!G$42 -> 60 | J51: =LARGE(C$48:C$62,1)-C51 -> 21
A52: 5. | B52: =Kilpailu!B$14 -> Toni | C52: ='5'!D$6 -> 134 | D52: =C52/LARGE(C$48:C$62,1)*1000 -> 1000 | E52: ='5'!C$42 -> 45 | F52: ='5'!D$42 -> 44 | G52: ='5'!E$42 -> 45 | H52: ='5'!F$42 -> 0 | I52: ='5'!G$42 -> 60 | J52: =LARGE(C$48:C$62,1)-C52 -> 0
A53: 6. | B53: =Kilpailu!B$15 -> Pekka | C53: ='6'!D$6 -> 124 | D53: =C53/LARGE(C$48:C$62,1)*1000 -> 925.37313 | E53: ='6'!C$42 -> 37 | F53: ='6'!D$42 -> 39 | G53: ='6'!E$42 -> 48 | H53: ='6'!F$42 -> 0 | I53: ='6'!G$42 -> 60 | J53: =LARGE(C$48:C$62,1)-C53 -> 10
A54: 7. | B54: =Kilpailu!B$16 -> Sami | C54: ='7'!D$6 -> 79 | D54: =C54/LARGE(C$48:C$62,1)*1000 -> 589.55224 | E54: ='7'!C$42 -> 23 | F54: ='7'!D$42 -> 24 | G54: ='7'!E$42 -> 32 | H54: ='7'!F$42 -> 0 | I54: ='7'!G$42 -> 100 | J54: =LARGE(C$48:C$62,1)-C54 -> 55
A55: 8. | B55: =Kilpailu!B$17 -> 0 | C55: ='8'!D$6 -> 0 | D55: =C55/LARGE(C$48:C$62,1)*1000 -> 0 | E55: ='8'!C$42 -> 0 | F55: ='8'!D$42 -> 0 | G55: ='8'!E$42 -> 0 | H55: ='8'!F$42 -> 0 | I55: ='8'!G$42 -> 100 | J55: =LARGE(C$48:C$62,1)-C55 -> 134
A56: 9. | B56: =Kilpailu!B$18 -> 0 | C56: ='9'!D$6 -> 0 | D56: =C56/LARGE(C$48:C$62,1)*1000 -> 0 | E56: ='9'!C$42 -> 0 | F56: ='9'!D$42 -> 0 | G56: ='9'!E$42 -> 0 | H56: ='9'!F$42 -> 0 | I56: ='9'!G$42 -> 100 | J56: =LARGE(C$48:C$62,1)-C56 -> 134
A57: 10. | B57: =Kilpailu!B$19 -> 0 | C57: ='10'!D$5 -> 0 | D57: =C57/LARGE(C$48:C$62,1)*1000 -> 0 | E57: ='10'!C$42 -> 0 | F57: ='10'!D$42 -> 0 | G57: ='10'!E$42 -> 0 | H57: ='10'!F$42 -> 0 | I57: ='10'!G$42 -> 0 | J57: =LARGE(C$48:C$62,1)-C57 -> 134
A58: 11. | B58: =Kilpailu!B$20 -> 0 | C58: ='11'!D$5 -> 0 | D58: =C58/LARGE(C$48:C$62,1)*1000 -> 0 | E58: ='11'!C$42 -> 0 | F58: ='11'!D$42 -> 0 | G58: ='11'!E$42 -> 0 | H58: ='11'!F$42 -> 0 | I58: ='11'!G$42 -> 0 | J58: =LARGE(C$48:C$62,1)-C58 -> 134
A59: 12. | B59: =Kilpailu!B$21 -> 0 | C59: ='12'!D$5 -> 0 | D59: =C59/LARGE(C$48:C$62,1)*1000 -> 0 | E59: ='12'!C$42 -> 0 | F59: ='12'!D$42 -> 0 | G59: ='12'!E$42 -> 0 | H59: ='12'!F$42 -> 0 | I59: ='12'!G$42 -> 0 | J59: =LARGE(C$48:C$62,1)-C59 -> 134
A60: 13. | B60: =Kilpailu!B$22 -> 0 | C60: ='13'!D$5 -> 0 | D60: =C60/LARGE(C$48:C$62,1)*1000 -> 0 | E60: ='13'!C$42 -> 0 | F60: ='13'!D$42 -> 0 | G60: ='13'!E$42 -> 0 | H60: ='13'!F$42 -> 0 | I60: ='13'!G$42 -> 0 | J60: =LARGE(C$48:C$62,1)-C60 -> 134
A61: 14. | B61: =Kilpailu!B$23 -> 0 | C61: ='14'!D$5 -> 0 | D61: =C61/LARGE(C$48:C$62,1)*1000 -> 0 | E61: ='14'!C$42 -> 0 | F61: ='14'!D$42 -> 0 | G61: ='14'!E$42 -> 0 | H61: ='14'!F$42 -> 0 | I61: ='14'!G$42 -> 0 | J61: =LARGE(C$48:C$62,1)-C61 -> 134
A62: 15. | B62: =Kilpailu!B$24 -> 0 | C62: ='15'!D$5 -> 0 | D62: =C62/LARGE(C$48:C$62,1)*1000 -> 0 | E62: ='15'!C$42 -> 0 | F62: ='15'!D$42 -> 0 | G62: ='15'!E$42 -> 0 | H62: ='15'!F$42 -> 0 | I62: ='15'!G$42 -> 0 | J62: =LARGE(C$48:C$62,1)-C62 -> 134
B66: Kierros 3: | J66: tuomari pist.
C67: Pisteet | D67: Suht… | E67: Tm 1 | F67: Tm 2 | G67: Tm 3 | H67: Tm 4 | I67: Tm 5 | J67: Ero kärkeen
A68: 1. | B68: =Kilpailu!B$10 -> Petri Kivikoski | C68: ='1'!D$7 -> 110 | D68: =IF(LARGE(C$68:C$82,1)*1000=0,0,C68/LARGE(C$68:C$82,1)*1000) -> 758.62069 | E68: ='1'!C$58 -> 33 | F68: ='1'!D$58 -> 36 | G68: ='1'!E$58 -> 41 | H68: ='1'!F$58 -> 0 | I68: ='1'!G$58 -> 60 | J68: =LARGE(C$68:C$82,1)-C68 -> 35
A69: 2. | B69: =Kilpailu!B$11 -> Timo Juska | C69: ='2'!D$7 -> 118 | D69: =IF(LARGE(C$68:C$82,1)*1000=0,0,C69/LARGE(C$68:C$82,1)*1000) -> 813.7931 | E69: ='1'!C$58 -> 33 | F69: ='2'!D$58 -> 39 | G69: ='2'!E$58 -> 42 | H69: ='2'!F$58 -> 0 | I69: ='2'!G$58 -> 60 | J69: =LARGE(C$68:C$82,1)-C69 -> 27
A70: 3. | B70: =Kilpailu!B$12 -> Santeri Sirkiä | C70: ='3'!D$7 -> 124 | D70: =IF(LARGE(C$68:C$82,1)*1000=0,0,C70/LARGE(C$68:C$82,1)*1000) -> 855.17241 | E70: ='3'!C$58 -> 36 | F70: ='3'!D$58 -> 40 | G70: ='3'!E$58 -> 48 | H70: ='3'!F$58 -> 0 | I70: ='3'!G$58 -> 60 | J70: =LARGE(C$68:C$82,1)-C70 -> 21
A71: 4. | B71: =Kilpailu!B$13 -> Koippa | C71: ='4'!D$7 -> 99 | D71: =IF(LARGE(C$68:C$82,1)*1000=0,0,C71/LARGE(C$68:C$82,1)*1000) -> 682.75862 | E71: ='4'!C$58 -> 29 | F71: ='4'!D$58 -> 31 | G71: ='4'!E$58 -> 39 | H71: ='4'!F$58 -> 0 | I71: ='4'!G$58 -> 60 | J71: =LARGE(C$68:C$82,1)-C71 -> 46
A72: 5. | B72: =Kilpailu!B$14 -> Toni | C72: ='5'!D$7 -> 145 | D72: =IF(LARGE(C$68:C$82,1)*1000=0,0,C72/LARGE(C$68:C$82,1)*1000) -> 1000 | E72: ='5'!C$58 -> 46 | F72: ='5'!D$58 -> 47 | G72: ='5'!E$58 -> 52 | H72: ='5'!F$58 -> 0 | I72: ='5'!G$58 -> 60 | J72: =LARGE(C$68:C$82,1)-C72 -> 0
A73: 6. | B73: =Kilpailu!B$15 -> Pekka | C73: ='6'!D$7 -> 114 | D73: =IF(LARGE(C$68:C$82,1)*1000=0,0,C73/LARGE(C$68:C$82,1)*1000) -> 786.2069 | E73: ='6'!C$58 -> 37 | F73: ='6'!D$58 -> 36 | G73: ='6'!E$58 -> 41 | H73: ='6'!F$58 -> 0 | I73: ='6'!G$58 -> 60 | J73: =LARGE(C$68:C$82,1)-C73 -> 31
A74: 7. | B74: =Kilpailu!B$16 -> Sami | C74: ='7'!D$7 -> 81 | D74: =IF(LARGE(C$68:C$82,1)*1000=0,0,C74/LARGE(C$68:C$82,1)*1000) -> 558.62069 | E74: ='7'!C$58 -> 25 | F74: ='7'!D$58 -> 25 | G74: ='7'!E$58 -> 31 | H74: ='7'!F$58 -> 0 | I74: ='7'!G$58 -> 100 | J74: =LARGE(C$68:C$82,1)-C74 -> 64
A75: 8. | B75: =Kilpailu!B$17 -> 0 | C75: ='8'!D$7 -> 0 | D75: =IF(LARGE(C$68:C$82,1)*1000=0,0,C75/LARGE(C$68:C$82,1)*1000) -> 0 | E75: ='8'!C$58 -> 0 | F75: ='8'!D$58 -> 0 | G75: ='8'!E$58 -> 0 | H75: ='8'!F$58 -> 0 | I75: ='8'!G$58 -> 100 | J75: =LARGE(C$68:C$82,1)-C75 -> 145
A76: 9. | B76: =Kilpailu!B$18 -> 0 | C76: ='9'!D$7 -> 0 | D76: =IF(LARGE(C$68:C$82,1)*1000=0,0,C76/LARGE(C$68:C$82,1)*1000) -> 0 | E76: ='9'!C$58 -> 0 | F76: ='9'!D$58 -> 0 | G76: ='9'!E$58 -> 0 | H76: ='9'!F$58 -> 0 | I76: ='9'!G$58 -> 100 | J76: =LARGE(C$68:C$82,1)-C76 -> 145
A77: 10. | B77: =Kilpailu!B$19 -> 0 | C77: ='10'!D$5 -> 0 | D77: =IF(LARGE(C$68:C$82,1)*1000=0,0,C77/LARGE(C$68:C$82,1)*1000) -> 0 | E77: ='10'!C$26 -> 0 | F77: ='10'!D$26 -> 0 | G77: ='10'!E$26 -> 0 | H77: ='10'!F$26 -> 0 | I77: ='10'!G$26 -> 0 | J77: =LARGE(C$68:C$82,1)-C77 -> 145
A78: 11. | B78: =Kilpailu!B$20 -> 0 | C78: ='11'!D$5 -> 0 | D78: =IF(LARGE(C$68:C$82,1)*1000=0,0,C78/LARGE(C$68:C$82,1)*1000) -> 0 | E78: ='11'!C$26 -> 0 | F78: ='11'!D$26 -> 0 | G78: ='11'!E$26 -> 0 | H78: ='11'!F$26 -> 0 | I78: ='11'!G$26 -> 0 | J78: =LARGE(C$68:C$82,1)-C78 -> 145
A79: 12. | B79: =Kilpailu!B$21 -> 0 | C79: ='12'!D$5 -> 0 | D79: =IF(LARGE(C$68:C$82,1)*1000=0,0,C79/LARGE(C$68:C$82,1)*1000) -> 0 | E79: ='12'!C$26 -> 0 | F79: ='12'!D$26 -> 0 | G79: ='12'!E$26 -> 0 | H79: ='12'!F$26 -> 0 | I79: ='12'!G$26 -> 0 | J79: =LARGE(C$68:C$82,1)-C79 -> 145
A80: 13. | B80: =Kilpailu!B$22 -> 0 | C80: ='13'!D$5 -> 0 | D80: =IF(LARGE(C$68:C$82,1)*1000=0,0,C80/LARGE(C$68:C$82,1)*1000) -> 0 | E80: ='13'!C$26 -> 0 | F80: ='13'!D$26 -> 0 | G80: ='13'!E$26 -> 0 | H80: ='13'!F$26 -> 0 | I80: ='13'!G$26 -> 0 | J80: =LARGE(C$68:C$82,1)-C80 -> 145
A81: 14. | B81: =Kilpailu!B$23 -> 0 | C81: ='14'!D$5 -> 0 | D81: =IF(LARGE(C$68:C$82,1)*1000=0,0,C81/LARGE(C$68:C$82,1)*1000) -> 0 | E81: ='14'!C$26 -> 0 | F81: ='14'!D$26 -> 0 | G81: ='14'!E$26 -> 0 | H81: ='14'!F$26 -> 0 | I81: ='14'!G$26 -> 0 | J81: =LARGE(C$68:C$82,1)-C81 -> 145
A82: 15. | B82: =Kilpailu!B$24 -> 0 | C82: ='15'!D$5 -> 0 | D82: =IF(LARGE(C$68:C$82,1)*1000=0,0,C82/LARGE(C$68:C$82,1)*1000) -> 0 | E82: ='15'!C$26 -> 0 | F82: ='15'!D$26 -> 0 | G82: ='15'!E$26 -> 0 | H82: ='15'!F$26 -> 0 | I82: ='15'!G$26 -> 0 | J82: =LARGE(C$68:C$82,1)-C82 -> 145

Sheet 1
D4: Pisteet | E4: Suht…
A5: Nimi: | B5: =Kilpailu!B10 -> Petri Kivikoski | C5: Kierros 1. | D5: =SUM(C26:G26)-LARGE(C26:G26,1)-SMALL(C26:G26,1) -> 104 | E5: =Tulokset!D28 -> 859.50413
C6: Kierros 2. | D6: =SUM(C42:G42)-LARGE(C42:G42,1)-SMALL(C42:G42,1) -> 99 | E6: =Tulokset!D48 -> 738.80597
A7: Paikka: | B7: Ämmässuo, Espoo | C7: Kierros 3. | D7: =SUM(C58:G58)-LARGE(C58:G58,1)-SMALL(C58:G58,1) -> 110 | E7: =Tulokset!D68 -> 758.62069
A8: Päivä: | B8: 42119
A9: Ohjelma: | B9: =Kilpailu!B6 -> Popular | C9: yhteensä: | D9: =SUM(D5:D7) -> 313 | E9: =SUM(E5:E7) -> 2356.9308
C10: pois: | D10: =SMALL(D5:D7,1) -> 99 | E10: =SMALL(E5:E7,1) -> 738.80597
C11: 2 parasta: | D11: =SUM(D5:D7)-D10 -> 214 | E11: =SUM(E5:E7)-E10 -> 1618.1248
A14: Kierros 1: | C14: Tuomari 1 | D14: Tuomari 2 | E14: Tuomari 3 | F14: Tuomari 4 | G14: Tuomari 5 | H14: yht.
A15: 1. | B15: =IF(Kilpailu!$B$6 =Kilpailu!$A$79,Kilpailu!$B$30,IF(Kilpailu!$B$6 =Kilpailu!$A$80,Kilpailu!$B$45,IF(Kilpailu!$B$6 =Kilpailu!$A$81,Kilpailu!$B$60,""))) -> Leijunta-M | C15: 5 | D15: 6 | E15: 8 | F15: 0 | G15: 10 | H15: =(SUM(C15:G15)*IF(Kilpailu!$B$6 =Kilpailu!$A$79,Kilpailu!C30,IF(Kilpailu!$B$6 =Kilpailu!$A$80,Kilpailu!C45,IF(Kilpailu!$B$6 =Kilpailu!$A$81,Kilpailu!C60,1))))-SMALL(C15:G15,1)-LARGE(C15:G15,1) -> 19
A16: 2. | B16: =IF(Kilpailu!$B$6 =Kilpailu!$A$79,Kilpailu!$B$31,IF(Kilpailu!$B$6 =Kilpailu!$A$80,Kilpailu!$B$46,IF(Kilpailu!$B$6 =Kilpailu!$A$81,Kilpailu!$B$61,""))) -> Leijunta TopHat | C16: 6 | D16: 6 | E16: 7 | F16: 0 | G16: 10 | H16: =(SUM(C16:G16)*IF(Kilpailu!$B$6 =Kilpailu!$A$79,Kilpailu!C31,IF(Kilpailu!$B$6 =Kilpailu!$A$80,Kilpailu!C46,IF(Kilpailu!$B$6 =Kilpailu!$A$81,Kilpailu!C61,1))))-SMALL(C16:G16,1)-LARGE(C16:G16,1) -> 19
A17: 3. | B17: =IF(Kilpailu!$B$6 =Kilpailu!$A$79,Kilpailu!$B$32,IF(Kilpailu!$B$6 =Kilpailu!$A$80,Kilpailu!$B$47,IF(Kilpailu!$B$6 =Kilpailu!$A$81,Kilpailu!$B$62,""))) -> Cobra | C17: 3 | D17: 4 | E17: 6 | F17: 0 | G17: 10 | H17: =(SUM(C17:G17)*IF(Kilpailu!$B$6 =Kilpailu!$A$79,Kilpailu!C32,IF(Kilpailu!$B$6 =Kilpailu!$A$80,Kilpailu!C47,IF(Kilpailu!$B$6 =Kilpailu!$A$81,Kilpailu!C62,1))))-SMALL(C17:G17,1)-LARGE(C17:G17,1) -> 13
A18: 4. | B18: =IF(Kilpailu!$B$6 =Kilpailu!$A$79,Kilpailu!$B$33,IF(Kilpailu!$B$6 =Kilpailu!$A$80,Kilpailu!$B$48,IF(Kilpailu!$B$6 =Kilpailu!$A$81,Kilpailu!$B$63,""))) -> Suora ohilento | C18: 8 | D18: 6 | E18: 6 | F18: 0 | G18: 10 | H18: =(SUM(C18:G18)*IF(Kilpailu!$B$6 =Kilpailu!$A$79,Kilpailu!C33,IF(Kilpailu!$B$6 =Kilpailu!$A$80,Kilpailu!C48,IF(Kilpailu!$B$6 =Kilpailu!$A$81,Kilpailu!C63,1))))-SMALL(C18:G18,1)-LARGE(C18:G18,1) -> 20
A19: 5. | B19: =IF(Kilpailu!$B$6 =Kilpailu!$A$79,Kilpailu!$B$34,IF(Kilpailu!$B$6 =Kilpailu!$A$80,Kilpailu!$B$49,IF(Kilpailu!$B$6 =Kilpailu!$A$81,Kilpailu!$B$64,""))) -> Nouseva 180 asteen käännös | C19: 6 | D19: 4 | E19: 7 | F19: 0 | G19: 10 | H19: =(SUM(C19:G19)*IF(Kilpailu!$B$6 =Kilpailu!$A$79,Kilpailu!C34,IF(Kilpailu!$B$6 =Kilpailu!$A$80,Kilpailu!C49,IF(Kilpailu!$B$6 =Kilpailu!$A$81,Kilpailu!C64,1))))-SMALL(C19:G19,1)-LARGE(C19:G19,1) -> 17
A20: 6. | B20: =IF(Kilpailu!$B$6 =Kilpailu!$A$79,Kilpailu!$B$35,IF(Kilpailu!$B$6 =Kilpailu!$A$80,Kilpailu!$B$50,IF(Kilpailu!$B$6 =Kilpailu!$A$81,Kilpailu!$B$65,""))) -> 45 asteen moottorilasku | C20: 5 | D20: 5 | E20: 6 | F20: 0 | G20: 10 | H20: =(SUM(C20:G20)*IF(Kilpailu!$B$6 =Kilpailu!$A$79,Kilpailu!C35,IF(Kilpailu!$B$6 =Kilpailu!$A$80,Kilpailu!C50,IF(Kilpailu!$B$6 =Kilpailu!$A$81,Kilpailu!C65,1))))-SMALL(C20:G20,1)-LARGE(C20:G20,1) -> 16
A21: 7. | B21: =IF(Kilpailu!$B$6 =Kilpailu!$A$79,Kilpailu!$B$36,IF(Kilpailu!$B$6 =Kilpailu!$A$80,Kilpailu!$B$51,IF(Kilpailu!$B$6 =Kilpailu!$A$81,Kilpailu!$B$66,""))) | F21: 0 | H21: =(SUM(C21:G21)*IF(Kilpailu!$B$6 =Kilpailu!$A$79,Kilpailu!C36,IF(Kilpailu!$B$6 =Kilpailu!$A$80,Kilpailu!C51,IF(Kilpailu!$B$6 =Kilpailu!$A$81,Kilpailu!C66,1))))-SMALL(C21:G21,1)-LARGE(C21:G21,1) -> 0
A22: 8. | B22: =IF(Kilpailu!$B$6 =Kilpailu!$A$79,Kilpailu!$B$37,IF(Kilpailu!$B$6 =Kilpailu!$A$80,Kilpailu!$B$52,IF(Kilpailu!$B$6 =Kilpailu!$A$81,Kilpailu!$B$67,""))) | F22: 0 | H22: =(SUM(C22:G22)*IF(Kilpailu!$B$6 =Kilpailu!$A$79,Kilpailu!C37,IF(Kilpailu!$B$6 =Kilpailu!$A$80,Kilpailu!C52,IF(Kilpailu!$B$6 =Kilpailu!$A$81,Kilpailu!C67,1))))-SMALL(C22:G22,1)-LARGE(C22:G22,1) -> 0
A23: 9. | B23: =IF(Kilpailu!$B$6 =Kilpailu!$A$79,Kilpailu!$B$38,IF(Kilpailu!$B$6 =Kilpailu!$A$80,Kilpailu!$B$53,IF(Kilpailu!$B$6 =Kilpailu!$A$81,Kilpailu!$B$68,""))) | F23: 0 | H23: =(SUM(C23:G23)*IF(Kilpailu!$B$6 =Kilpailu!$A$79,Kilpailu!C38,IF(Kilpailu!$B$6 =Kilpailu!$A$80,Kilpailu!C53,IF(Kilpailu!$B$6 =Kilpailu!$A$81,Kilpailu!C68,1))))-SMALL(C23:G23,1)-LARGE(C23:G23,1) -> 0
A24: 10. | B24: =IF(Kilpailu!$B$6 =Kilpailu!$A$79,Kilpailu!$B$39,IF(Kilpailu!$B$6 =Kilpailu!$A$80,Kilpailu!$B$54,IF(Kilpailu!$B$6 =Kilpailu!$A$81,Kilpailu!$B$69,""))) | F24: 0 | H24: =(SUM(C24:G24)*IF(Kilpailu!$B$6 =Kilpailu!$A$79,Kilpailu!C39,IF(Kilpailu!$B$6 =Kilpailu!$A$80,Kilpailu!C54,IF(Kilpailu!$B$6 =Kilpailu!$A$81,Kilpailu!C69,1))))-SMALL(C24:G24,1)-LARGE(C24:G24,1) -> 0
A25: 11. | B25: =IF(Kilpailu!$B$6 =Kilpailu!$A$79,Kilpailu!$B$40,IF(Kilpailu!$B$6 =Kilpailu!$A$80,Kilpailu!$B$55,IF(Kilpailu!$B$6 =Kilpailu!$A$81,Kilpailu!$B$70,""))) | F25: 0 | H25: =(SUM(C25:G25)*IF(Kilpailu!$B$6 =Kilpailu!$A$79,Kilpailu!C40,IF(Kilpailu!$B$6 =Kilpailu!$A$80,Kilpailu!C55,IF(Kilpailu!$B$6 =Kilpailu!$A$81,Kilpailu!C70,1))))-SMALL(C25:G25,1)-LARGE(C25:G25,1) -> 0
B26: Yht. | C26: =SUM(C15:C25) -> 33 | D26: =SUM(D15:D25) -> 31 | E26: =SUM(E15:E25) -> 40 | F26: =SUM(F15:F25) -> 0 | G26: =SUM(G15:G25) -> 60 | H26: =SUM(C26:G26)-LARGE(C26:G26,1)-SMALL(C26:G26,1) -> 104
A30: Kierros 2: | C30: Tuomari 1 | D30: Tuomari 2 | E30: Tuomari 3 | F30: Tuomari 4 | G30: Tuomari 5 | H30: yht.
A31: 1. | B31: =IF(Kilpailu!$B$6 =Kilpailu!$A$79,Kilpailu!$B$30,IF(Kilpailu!$B$6 =Kilpailu!$A$80,Kilpailu!$B$45,IF(Kilpailu!$B$6 =Kilpailu!$A$81,Kilpailu!$B$60,""))) -> Leijunta-M | C31: 6 | D31: 6 | E31: 7 | F31: 0 | G31: 10 | H31: =(SUM(C31:G31)*IF(Kilpailu!$B$6 =Kilpailu!$A$79,Kilpailu!C30,IF(Kilpailu!$B$6 =Kilpailu!$A$80,Kilpailu!C45,IF(Kilpailu!$B$6 =Kilpailu!$A$81,Kilpailu!C60,1))))-SMALL(C31:G31,1)-LARGE(C31:G31,1) -> 19
A32: 2. | B32: =IF(Kilpailu!$B$6 =Kilpailu!$A$79,Kilpailu!$B$31,IF(Kilpailu!$B$6 =Kilpailu!$A$80,Kilpailu!$B$46,IF(Kilpailu!$B$6 =Kilpailu!$A$81,Kilpailu!$B$61,""))) -> Leijunta TopHat | C32: 4 | D32: 4 | E32: 6 | F32: 0 | G32: 10 | H32: =(SUM(C32:G32)*IF(Kilpailu!$B$6 =Kilpailu!$A$79,Kilpailu!C31,IF(Kilpailu!$B$6 =Kilpailu!$A$80,Kilpailu!C46,IF(Kilpailu!$B$6 =Kilpailu!$A$81,Kilpailu!C61,1))))-SMALL(C32:G32,1)-LARGE(C32:G32,1) -> 14
A33: 3. | B33: =IF(Kilpailu!$B$6 =Kilpailu!$A$79,Kilpailu!$B$32,IF(Kilpailu!$B$6 =Kilpailu!$A$80,Kilpailu!$B$47,IF(Kilpailu!$B$6 =Kilpailu!$A$81,Kilpailu!$B$62,""))) -> Cobra | C33: 4 | D33: 4 | E33: 4 | F33: 0 | G33: 10 | H33: =(SUM(C33:G33)*IF(Kilpailu!$B$6 =Kilpailu!$A$79,Kilpailu!C32,IF(Kilpailu!$B$6 =Kilpailu!$A$80,Kilpailu!C47,IF(Kilpailu!$B$6 =Kilpailu!$A$81,Kilpailu!C62,1))))-SMALL(C33:G33,1)-LARGE(C33:G33,1) -> 12
A34: 4. | B34: =IF(Kilpailu!$B$6 =Kilpailu!$A$79,Kilpailu!$B$33,IF(Kilpailu!$B$6 =Kilpailu!$A$80,Kilpailu!$B$48,IF(Kilpailu!$B$6 =Kilpailu!$A$81,Kilpailu!$B$63,""))) -> Suora ohilento | C34: 7 | D34: 7 | E34: 7 | F34: 0 | G34: 10 | H34: =(SUM(C34:G34)*IF(Kilpailu!$B$6 =Kilpailu!$A$79,Kilpailu!C33,IF(Kilpailu!$B$6 =Kilpailu!$A$80,Kilpailu!C48,IF(Kilpailu!$B$6 =Kilpailu!$A$81,Kilpailu!C63,1))))-SMALL(C34:G34,1)-LARGE(C34:G34,1) -> 21
A35: 5. | B35: =IF(Kilpailu!$B$6 =Kilpailu!$A$79,Kilpailu!$B$34,IF(Kilpailu!$B$6 =Kilpailu!$A$80,Kilpailu!$B$49,IF(Kilpailu!$B$6 =Kilpailu!$A$81,Kilpailu!$B$64,""))) -> Nouseva 180 asteen käännös | C35: 5 | D35: 6 | E35: 5 | F35: 0 | G35: 10 | H35: =(SUM(C35:G35)*IF(Kilpailu!$B$6 =Kilpailu!$A$79,Kilpailu!C34,IF(Kilpailu!$B$6 =Kilpailu!$A$80,Kilpailu!C49,IF(Kilpailu!$B$6 =Kilpailu!$A$81,Kilpailu!C64,1))))-SMALL(C35:G35,1)-LARGE(C35:G35,1) -> 16
A36: 6. | B36: =IF(Kilpailu!$B$6 =Kilpailu!$A$79,Kilpailu!$B$35,IF(Kilpailu!$B$6 =Kilpailu!$A$80,Kilpailu!$B$50,IF(Kilpailu!$B$6 =Kilpailu!$A$81,Kilpailu!$B$65,""))) -> 45 asteen moottorilasku | C36: 6 | D36: 5 | E36: 6 | F36: 0 | G36: 10 | H36: =(SUM(C36:G36)*IF(Kilpailu!$B$6 =Kilpailu!$A$79,Kilpailu!C35,IF(Kilpailu!$B$6 =Kilpailu!$A$80,Kilpailu!C50,IF(Kilpailu!$B$6 =Kilpailu!$A$81,Kilpailu!C65,1))))-SMALL(C36:G36,1)-LARGE(C36:G36,1) -> 17
A37: 7. | B37: =IF(Kilpailu!$B$6 =Kilpailu!$A$79,Kilpailu!$B$36,IF(Kilpailu!$B$6 =Kilpailu!$A$80,Kilpailu!$B$51,IF(Kilpailu!$B$6 =Kilpailu!$A$81,Kilpailu!$B$66,""))) | F37: 0 | H37: =(SUM(C37:G37)*IF(Kilpailu!$B$6 =Kilpailu!$A$79,Kilpailu!C36,IF(Kilpailu!$B$6 =Kilpailu!$A$80,Kilpailu!C51,IF(Kilpailu!$B$6 =Kilpailu!$A$81,Kilpailu!C66,1))))-SMALL(C37:G37,1)-LARGE(C37:G37,1) -> 0
A38: 8. | B38: =IF(Kilpailu!$B$6 =Kilpailu!$A$79,Kilpailu!$B$37,IF(Kilpailu!$B$6 =Kilpailu!$A$80,Kilpailu!$B$52,IF(Kilpailu!$B$6 =Kilpailu!$A$81,Kilpailu!$B$67,""))) | F38: 0 | H38: =(SUM(C38:G38)*IF(Kilpailu!$B$6 =Kilpailu!$A$79,Kilpailu!C37,IF(Kilpailu!$B$6 =Kilpailu!$A$80,Kilpailu!C52,IF(Kilpailu!$B$6 =Kilpailu!$A$81,Kilpailu!C67,1))))-SMALL(C38:G38,1)-LARGE(C38:G38,1) -> 0
A39: 9. | B39: =IF(Kilpailu!$B$6 =Kilpailu!$A$79,Kilpailu!$B$38,IF(Kilpailu!$B$6 =Kilpailu!$A$80,Kilpailu!$B$53,IF(Kilpailu!$B$6 =Kilpailu!$A$81,Kilpailu!$B$68,""))) | F39: 0 | H39: =(SUM(C39:G39)*IF(Kilpailu!$B$6 =Kilpailu!$A$79,Kilpailu!C38,IF(Kilpailu!$B$6 =Kilpailu!$A$80,Kilpailu!C53,IF(Kilpailu!$B$6 =Kilpailu!$A$81,Kilpailu!C68,1))))-SMALL(C39:G39,1)-LARGE(C39:G39,1) -> 0
A40: 10. | B40: =IF(Kilpailu!$B$6 =Kilpailu!$A$79,Kilpailu!$B$39,IF(Kilpailu!$B$6 =Kilpailu!$A$80,Kilpailu!$B$54,IF(Kilpailu!$B$6 =Kilpailu!$A$81,Kilpailu!$B$69,""))) | F40: 0 | H40: =(SUM(C40:G40)*IF(Kilpailu!$B$6 =Kilpailu!$A$79,Kilpailu!C39,IF(Kilpailu!$B$6 =Kilpailu!$A$80,Kilpailu!C54,IF(Kilpailu!$B$6 =Kilpailu!$A$81,Kilpailu!C69,1))))-SMALL(C40:G40,1)-LARGE(C40:G40,1) -> 0
A41: 11. | B41: =IF(Kilpailu!$B$6 =Kilpailu!$A$79,Kilpailu!$B$40,IF(Kilpailu!$B$6 =Kilpailu!$A$80,Kilpailu!$B$55,IF(Kilpailu!$B$6 =Kilpailu!$A$81,Kilpailu!$B$70,""))) | F41: 0 | H41: =(SUM(C41:G41)*IF(Kilpailu!$B$6 =Kilpailu!$A$79,Kilpailu!C40,IF(Kilpailu!$B$6 =Kilpailu!$A$80,Kilpailu!C55,IF(Kilpailu!$B$6 =Kilpailu!$A$81,Kilpailu!C70,1))))-SMALL(C41:G41,1)-LARGE(C41:G41,1) -> 0
B42: Yht. | C42: =SUM(C31:C41) -> 32 | D42: =SUM(D31:D41) -> 32 | E42: =SUM(E31:E41) -> 35 | F42: =SUM(F31:F41) -> 0 | G42: =SUM(G31:G41) -> 60 | H42: =SUM(C42:G42)-LARGE(C42:G42,1)-SMALL(C42:G42,1) -> 99
A46: Kierros 3: | C46: Tuomari 1 | D46: Tuomari 2 | E46: Tuomari 3 | F46: Tuomari 4 | G46: Tuomari 5 | H46: yht.
A47: 1. | B47: =IF(Kilpailu!$B$6 =Kilpailu!$A$79,Kilpailu!$B$30,IF(Kilpailu!$B$6 =Kilpailu!$A$80,Kilpailu!$B$45,IF(Kilpailu!$B$6 =Kilpailu!$A$81,Kilpailu!$B$60,""))) -> Leijunta-M | C47: 5 | D47: 6 | E47: 7 | F47: 0 | G47: 10 | H47: =(SUM(C47:G47)*IF(Kilpailu!$B$6 =Kilpailu!$A$79,Kilpailu!C30,IF(Kilpailu!$B$6 =Kilpailu!$A$80,Kilpailu!C45,IF(Kilpailu!$B$6 =Kilpailu!$A$81,Kilpailu!C60,1))))-SMALL(C47:G47,1)-LARGE(C47:G47,1) -> 18
A48: 2. | B48: =IF(Kilpailu!$B$6 =Kilpailu!$A$79,Kilpailu!$B$31,IF(Kilpailu!$B$6 =Kilpailu!$A$80,Kilpailu!$B$46,IF(Kilpailu!$B$6 =Kilpailu!$A$81,Kilpailu!$B$61,""))) -> Leijunta TopHat | C48: 4 | D48: 5 | E48: 7 | F48: 0 | G48: 10 | H48: =(SUM(C48:G48)*IF(Kilpailu!$B$6 =Kilpailu!$A$79,Kilpailu!C31,IF(Kilpailu!$B$6 =Kilpailu!$A$80,Kilpailu!C46,IF(Kilpailu!$B$6 =Kilpailu!$A$81,Kilpailu!C61,1))))-SMALL(C48:G48,1)-LARGE(C48:G48,1) -> 16
A49: 3. | B49: =IF(Kilpailu!$B$6 =Kilpailu!$A$79,Kilpailu!$B$32,IF(Kilpailu!$B$6 =Kilpailu!$A$80,Kilpailu!$B$47,IF(Kilpailu!$B$6 =Kilpailu!$A$81,Kilpailu!$B$62,""))) -> Cobra | C49: 6 | D49: 5 | E49: 6 | F49: 0 | G49: 10 | H49: =(SUM(C49:G49)*IF(Kilpailu!$B$6 =Kilpailu!$A$79,Kilpailu!C32,IF(Kilpailu!$B$6 =Kilpailu!$A$80,Kilpailu!C47,IF(Kilpailu!$B$6 =Kilpailu!$A$81,Kilpailu!C62,1))))-SMALL(C49:G49,1)-LARGE(C49:G49,1) -> 17
A50: 4. | B50: =IF(Kilpailu!$B$6 =Kilpailu!$A$79,Kilpailu!$B$33,IF(Kilpailu!$B$6 =Kilpailu!$A$80,Kilpailu!$B$48,IF(Kilpailu!$B$6 =Kilpailu!$A$81,Kilpailu!$B$63,""))) -> Suora ohilento | C50: 7 | D50: 7 | E50: 6 | F50: 0 | G50: 10 | H50: =(SUM(C50:G50)*IF(Kilpailu!$B$6 =Kilpailu!$A$79,Kilpailu!C33,IF(Kilpailu!$B$6 =Kilpailu!$A$80,Kilpailu!C48,IF(Kilpailu!$B$6 =Kilpailu!$A$81,Kilpailu!C63,1))))-SMALL(C50:G50,1)-LARGE(C50:G50,1) -> 20
A51: 5. | B51: =IF(Kilpailu!$B$6 =Kilpailu!$A$79,Kilpailu!$B$34,IF(Kilpailu!$B$6 =Kilpailu!$A$80,Kilpailu!$B$49,IF(Kilpailu!$B$6 =Kilpailu!$A$81,Kilpailu!$B$64,""))) -> Nouseva 180 asteen käännös | C51: 6 | D51: 6 | E51: 8 | F51: 0 | G51: 10 | H51: =(SUM(C51:G51)*IF(Kilpailu!$B$6 =Kilpailu!$A$79,Kilpailu!C34,IF(Kilpailu!$B$6 =Kilpailu!$A$80,Kilpailu!C49,IF(Kilpailu!$B$6 =Kilpailu!$A$81,Kilpailu!C64,1))))-SMALL(C51:G51,1)-LARGE(C51:G51,1) -> 20
A52: 6. | B52: =IF(Kilpailu!$B$6 =Kilpailu!$A$79,Kilpailu!$B$35,IF(Kilpailu!$B$6 =Kilpailu!$A$80,Kilpailu!$B$50,IF(Kilpailu!$B$6 =Kilpailu!$A$81,Kilpailu!$B$65,""))) -> 45 asteen moottorilasku | C52: 5 | D52: 7 | E52: 7 | F52: 0 | G52: 10 | H52: =(SUM(C52:G52)*IF(Kilpailu!$B$6 =Kilpailu!$A$79,Kilpailu!C35,IF(Kilpailu!$B$6 =Kilpailu!$A$80,Kilpailu!C50,IF(Kilpailu!$B$6 =Kilpailu!$A$81,Kilpailu!C65,1))))-SMALL(C52:G52,1)-LARGE(C52:G52,1) -> 19
A53: 7. | B53: =IF(Kilpailu!$B$6 =Kilpailu!$A$79,Kilpailu!$B$36,IF(Kilpailu!$B$6 =Kilpailu!$A$80,Kilpailu!$B$51,IF(Kilpailu!$B$6 =Kilpailu!$A$81,Kilpailu!$B$66,""))) | F53: 0 | H53: =(SUM(C53:G53)*IF(Kilpailu!$B$6 =Kilpailu!$A$79,Kilpailu!C36,IF(Kilpailu!$B$6 =Kilpailu!$A$80,Kilpailu!C51,IF(Kilpailu!$B$6 =Kilpailu!$A$81,Kilpailu!C66,1))))-SMALL(C53:G53,1)-LARGE(C53:G53,1) -> 0
A54: 8. | B54: =IF(Kilpailu!$B$6 =Kilpailu!$A$79,Kilpailu!$B$37,IF(Kilpailu!$B$6 =Kilpailu!$A$80,Kilpailu!$B$52,IF(Kilpailu!$B$6 =Kilpailu!$A$81,Kilpailu!$B$67,""))) | F54: 0 | H54: =(SUM(C54:G54)*IF(Kilpailu!$B$6 =Kilpailu!$A$79,Kilpailu!C37,IF(Kilpailu!$B$6 =Kilpailu!$A$80,Kilpailu!C52,IF(Kilpailu!$B$6 =Kilpailu!$A$81,Kilpailu!C67,1))))-SMALL(C54:G54,1)-LARGE(C54:G54,1) -> 0
A55: 9. | B55: =IF(Kilpailu!$B$6 =Kilpailu!$A$79,Kilpailu!$B$38,IF(Kilpailu!$B$6 =Kilpailu!$A$80,Kilpailu!$B$53,IF(Kilpailu!$B$6 =Kilpailu!$A$81,Kilpailu!$B$68,""))) | F55: 0 | H55: =(SUM(C55:G55)*IF(Kilpailu!$B$6 =Kilpailu!$A$79,Kilpailu!C38,IF(Kilpailu!$B$6 =Kilpailu!$A$80,Kilpailu!C53,IF(Kilpailu!$B$6 =Kilpailu!$A$81,Kilpailu!C68,1))))-SMALL(C55:G55,1)-LARGE(C55:G55,1) -> 0
A56: 10. | B56: =IF(Kilpailu!$B$6 =Kilpailu!$A$79,Kilpailu!$B$39,IF(Kilpailu!$B$6 =Kilpailu!$A$80,Kilpailu!$B$54,IF(Kilpailu!$B$6 =Kilpailu!$A$81,Kilpailu!$B$69,""))) | F56: 0 | H56: =(SUM(C56:G56)*IF(Kilpailu!$B$6 =Kilpailu!$A$79,Kilpailu!C39,IF(Kilpailu!$B$6 =Kilpailu!$A$80,Kilpailu!C54,IF(Kilpailu!$B$6 =Kilpailu!$A$81,Kilpailu!C69,1))))-SMALL(C56:G56,1)-LARGE(C56:G56,1) -> 0
A57: 11. | B57: =IF(Kilpailu!$B$6 =Kilpailu!$A$79,Kilpailu!$B$40,IF(Kilpailu!$B$6 =Kilpailu!$A$80,Kilpailu!$B$55,IF(Kilpailu!$B$6 =Kilpailu!$A$81,Kilpailu!$B$70,""))) | F57: 0 | H57: =(SUM(C57:G57)*IF(Kilpailu!$B$6 =Kilpailu!$A$79,Kilpailu!C40,IF(Kilpailu!$B$6 =Kilpailu!$A$80,Kilpailu!C55,IF(Kilpailu!$B$6 =Kilpailu!$A$81,Kilpailu!C70,1))))-SMALL(C57:G57,1)-LARGE(C57:G57,1) -> 0
B58: Yht. | C58: =SUM(C47:C57) -> 33 | D58: =SUM(D47:D57) -> 36 | E58: =SUM(E47:E57) -> 41 | F58: =SUM(F47:F57) -> 0 | G58: =SUM(G47:G57) -> 60 | H58: =SUM(C58:G58)-LARGE(C58:G58,1)-SMALL(C58:G58,1) -> 110

Sheet 2
D4: Pisteet | E4: Suht…
A5: Nimi: | B5: =Kilpailu!B11 -> Timo Juska | C5: Kierros 1. | D5: =SUM(C26:G26)-LARGE(C26:G26,1)-SMALL(C26:G26,1) -> 121 | E5: =Tulokset!D29 -> 1000
C6: Kierros 2. | D6: =SUM(C42:G42)-LARGE(C42:G42,1)-SMALL(C42:G42,1) -> 122 | E6: =Tulokset!D49 -> 910.44776
A7: Paikka: | B7: =Kilpailu!B4 -> Vesivehmaa | C7: Kierros 3. | D7: =SUM(C58:G58)-LARGE(C58:G58,1)-SMALL(C58:G58,1) -> 118 | E7: =Tulokset!D69 -> 813.7931
A8: Päivä: | B8: =Kilpailu!B5 -> 42217
A9: Ohjelma: | B9: =Kilpailu!B6 -> Popular | C9: yhteensä: | D9: =SUM(D5:D7) -> 361 | E9: =SUM(E5:E7) -> 2724.2409
C10: pois: | D10: =SMALL(D5:D7,1) -> 118 | E10: =SMALL(E5:E7,1) -> 813.7931
C11: 2 parasta: | D11: =SUM(D5:D7)-D10 -> 243 | E11: =SUM(E5:E7)-E10 -> 1910.4478
A14: Kierros 1: | C14: Tuomari 1 | D14: Tuomari 2 | E14: Tuomari 3 | F14: Tuomari 4 | G14: Tuomari 5 | H14: yht.
A15: 1. | B15: =IF(Kilpailu!$B$6 =Kilpailu!$A$79,Kilpailu!B30,IF(Kilpailu!$B$6 =Kilpailu!$A$80,Kilpailu!B45,IF(Kilpailu!$B$6 =Kilpailu!$A$81,Kilpailu!B60,""))) -> Leijunta-M | C15: 7 | D15: 7 | E15: 7 | F15: 0 | G15: 10 | H15: =(SUM(C15:G15)*IF(Kilpailu!$B$6 =Kilpailu!$A$79,Kilpailu!C30,IF(Kilpailu!$B$6 =Kilpailu!$A$80,Kilpailu!C45,IF(Kilpailu!$B$6 =Kilpailu!$A$81,Kilpailu!C60,1))))-SMALL(C15:G15,1)-LARGE(C15:G15,1) -> 21
A16: 2. | B16: =IF(Kilpailu!$B$6 =Kilpailu!$A$79,Kilpailu!B31,IF(Kilpailu!$B$6 =Kilpailu!$A$80,Kilpailu!B46,IF(Kilpailu!$B$6 =Kilpailu!$A$81,Kilpailu!B61,""))) -> Leijunta TopHat | C16: 7 | D16: 6 | E16: 6 | F16: 0 | G16: 10 | H16: =(SUM(C16:G16)*IF(Kilpailu!$B$6 =Kilpailu!$A$79,Kilpailu!C31,IF(Kilpailu!$B$6 =Kilpailu!$A$80,Kilpailu!C46,IF(Kilpailu!$B$6 =Kilpailu!$A$81,Kilpailu!C61,1))))-SMALL(C16:G16,1)-LARGE(C16:G16,1) -> 19
A17: 3. | B17: =IF(Kilpailu!$B$6 =Kilpailu!$A$79,Kilpailu!B32,IF(Kilpailu!$B$6 =Kilpailu!$A$80,Kilpailu!B47,IF(Kilpailu!$B$6 =Kilpailu!$A$81,Kilpailu!B62,""))) -> Cobra | C17: 5 | D17: 6 | E17: 6 | F17: 0 | G17: 10 | H17: =(SUM(C17:G17)*IF(Kilpailu!$B$6 =Kilpailu!$A$79,Kilpailu!C32,IF(Kilpailu!$B$6 =Kilpailu!$A$80,Kilpailu!C47,IF(Kilpailu!$B$6 =Kilpailu!$A$81,Kilpailu!C62,1))))-SMALL(C17:G17,1)-LARGE(C17:G17,1) -> 17
A18: 4. | B18: =IF(Kilpailu!$B$6 =Kilpailu!$A$79,Kilpailu!B33,IF(Kilpailu!$B$6 =Kilpailu!$A$80,Kilpailu!B48,IF(Kilpailu!$B$6 =Kilpailu!$A$81,Kilpailu!B63,""))) -> Suora ohilento | C18: 8 | D18: 8 | E18: 6 | F18: 0 | G18: 10 | H18: =(SUM(C18:G18)*IF(Kilpailu!$B$6 =Kilpailu!$A$79,Kilpailu!C33,IF(Kilpailu!$B$6 =Kilpailu!$A$80,Kilpailu!C48,IF(Kilpailu!$B$6 =Kilpailu!$A$81,Kilpailu!C63,1))))-SMALL(C18:G18,1)-LARGE(C18:G18,1) -> 22
A19: 5. | B19: =IF(Kilpailu!$B$6 =Kilpailu!$A$79,Kilpailu!B34,IF(Kilpailu!$B$6 =Kilpailu!$A$80,Kilpailu!B49,IF(Kilpailu!$B$6 =Kilpailu!$A$81,Kilpailu!B64,""))) -> Nouseva 180 asteen käännös | C19: 7 | D19: 7 | E19: 7 | F19: 0 | G19: 10 | H19: =(SUM(C19:G19)*IF(Kilpailu!$B$6 =Kilpailu!$A$79,Kilpailu!C34,IF(Kilpailu!$B$6 =Kilpailu!$A$80,Kilpailu!C49,IF(Kilpailu!$B$6 =Kilpailu!$A$81,Kilpailu!C64,1))))-SMALL(C19:G19,1)-LARGE(C19:G19,1) -> 21
A20: 6. | B20: =IF(Kilpailu!$B$6 =Kilpailu!$A$79,Kilpailu!B35,IF(Kilpailu!$B$6 =Kilpailu!$A$80,Kilpailu!B50,IF(Kilpailu!$B$6 =Kilpailu!$A$81,Kilpailu!B65,""))) -> 45 asteen moottorilasku | C20: 8 | D20: 7 | E20: 6 | F20: 0 | G20: 10 | H20: =(SUM(C20:G20)*IF(Kilpailu!$B$6 =Kilpailu!$A$79,Kilpailu!C35,IF(Kilpailu!$B$6 =Kilpailu!$A$80,Kilpailu!C50,IF(Kilpailu!$B$6 =Kilpailu!$A$81,Kilpailu!C65,1))))-SMALL(C20:G20,1)-LARGE(C20:G20,1) -> 21
A21: 7. | B21: =IF(Kilpailu!$B$6 =Kilpailu!$A$79,Kilpailu!B36,IF(Kilpailu!$B$6 =Kilpailu!$A$80,Kilpailu!B51,IF(Kilpailu!$B$6 =Kilpailu!$A$81,Kilpailu!B66,""))) | F21: 0 | H21: =(SUM(C21:G21)*IF(Kilpailu!$B$6 =Kilpailu!$A$79,Kilpailu!C36,IF(Kilpailu!$B$6 =Kilpailu!$A$80,Kilpailu!C51,IF(Kilpailu!$B$6 =Kilpailu!$A$81,Kilpailu!C66,1))))-SMALL(C21:G21,1)-LARGE(C21:G21,1) -> 0
A22: 8. | B22: =IF(Kilpailu!$B$6 =Kilpailu!$A$79,Kilpailu!B37,IF(Kilpailu!$B$6 =Kilpailu!$A$80,Kilpailu!B52,IF(Kilpailu!$B$6 =Kilpailu!$A$81,Kilpailu!B67,""))) | F22: 0 | H22: 0
A23: 9. | B23: =IF(Kilpailu!$B$6 =Kilpailu!$A$79,Kilpailu!B38,IF(Kilpailu!$B$6 =Kilpailu!$A$80,Kilpailu!B53,IF(Kilpailu!$B$6 =Kilpailu!$A$81,Kilpailu!B68,""))) | F23: 0 | H23: 0
A24: 10. | B24: =IF(Kilpailu!$B$6 =Kilpailu!$A$79,Kilpailu!B39,IF(Kilpailu!$B$6 =Kilpailu!$A$80,Kilpailu!B54,IF(Kilpailu!$B$6 =Kilpailu!$A$81,Kilpailu!B69,""))) | F24: 0 | H24: 0
A25: 11. | B25: =IF(Kilpailu!$B$6 =Kilpailu!$A$79,Kilpailu!B40,IF(Kilpailu!$B$6 =Kilpailu!$A$80,Kilpailu!B55,IF(Kilpailu!$B$6 =Kilpailu!$A$81,Kilpailu!B70,""))) | F25: 0 | H25: 0
B26: Yht. | C26: =SUM(C15:C25) -> 42 | D26: =SUM(D15:D25) -> 41 | E26: =SUM(E15:E25) -> 38 | F26: =SUM(F15:F25) -> 0 | G26: =SUM(G15:G25) -> 60 | H26: =SUM(C26:G26)-LARGE(C26:G26,1)-SMALL(C26:G26,1) -> 121
A30: Kierros 2: | C30: Tuomari 1 | D30: Tuomari 2 | E30: Tuomari 3 | F30: Tuomari 4 | G30: Tuomari 5 | H30: yht.
A31: 1. | B31: =IF(Kilpailu!$B$6 =Kilpailu!$A$79,Kilpailu!B30,IF(Kilpailu!$B$6 =Kilpailu!$A$80,Kilpailu!B45,IF(Kilpailu!$B$6 =Kilpailu!$A$81,Kilpailu!B60,""))) -> Leijunta-M | C31: 7 | D31: 7 | E31: 7 | F31: 0 | G31: 10 | H31: =(SUM(C31:G31)*IF(Kilpailu!$B$6 =Kilpailu!$A$79,Kilpailu!C30,IF(Kilpailu!$B$6 =Kilpailu!$A$80,Kilpailu!C45,IF(Kilpailu!$B$6 =Kilpailu!$A$81,Kilpailu!C60,1))))-SMALL(C31:G31,1)-LARGE(C31:G31,1) -> 21
A32: 2. | B32: =IF(Kilpailu!$B$6 =Kilpailu!$A$79,Kilpailu!B31,IF(Kilpailu!$B$6 =Kilpailu!$A$80,Kilpailu!B46,IF(Kilpailu!$B$6 =Kilpailu!$A$81,Kilpailu!B61,""))) -> Leijunta TopHat | C32: 7 | D32: 7 | E32: 7 | F32: 0 | G32: 10 | H32: =(SUM(C32:G32)*IF(Kilpailu!$B$6 =Kilpailu!$A$79,Kilpailu!C31,IF(Kilpailu!$B$6 =Kilpailu!$A$80,Kilpailu!C46,IF(Kilpailu!$B$6 =Kilpailu!$A$81,Kilpailu!C61,1))))-SMALL(C32:G32,1)-LARGE(C32:G32,1) -> 21
A33: 3. | B33: =IF(Kilpailu!$B$6 =Kilpailu!$A$79,Kilpailu!B32,IF(Kilpailu!$B$6 =Kilpailu!$A$80,Kilpailu!B47,IF(Kilpailu!$B$6 =Kilpailu!$A$81,Kilpailu!B62,""))) -> Cobra | C33: 6 | D33: 7 | E33: 7 | F33: 0 | G33: 10 | H33: =(SUM(C33:G33)*IF(Kilpailu!$B$6 =Kilpailu!$A$79,Kilpailu!C32,IF(Kilpailu!$B$6 =Kilpailu!$A$80,Kilpailu!C47,IF(Kilpailu!$B$6 =Kilpailu!$A$81,Kilpailu!C62,1))))-SMALL(C33:G33,1)-LARGE(C33:G33,1) -> 20
A34: 4. | B34: =IF(Kilpailu!$B$6 =Kilpailu!$A$79,Kilpailu!B33,IF(Kilpailu!$B$6 =Kilpailu!$A$80,Kilpailu!B48,IF(Kilpailu!$B$6 =Kilpailu!$A$81,Kilpailu!B63,""))) -> Suora ohilento | C34: 7 | D34: 7 | E34: 8 | F34: 0 | G34: 10 | H34: =(SUM(C34:G34)*IF(Kilpailu!$B$6 =Kilpailu!$A$79,Kilpailu!C33,IF(Kilpailu!$B$6 =Kilpailu!$A$80,Kilpailu!C48,IF(Kilpailu!$B$6 =Kilpailu!$A$81,Kilpailu!C63,1))))-SMALL(C34:G34,1)-LARGE(C34:G34,1) -> 22
A35: 5. | B35: =IF(Kilpailu!$B$6 =Kilpailu!$A$79,Kilpailu!B34,IF(Kilpailu!$B$6 =Kilpailu!$A$80,Kilpailu!B49,IF(Kilpailu!$B$6 =Kilpailu!$A$81,Kilpailu!B64,""))) -> Nouseva 180 asteen käännös | C35: 7 | D35: 7 | E35: 7 | F35: 0 | G35: 10 | H35: =(SUM(C35:G35)*IF(Kilpailu!$B$6 =Kilpailu!$A$79,Kilpailu!C34,IF(Kilpailu!$B$6 =Kilpailu!$A$80,Kilpailu!C49,IF(Kilpailu!$B$6 =Kilpailu!$A$81,Kilpailu!C64,1))))-SMALL(C35:G35,1)-LARGE(C35:G35,1) -> 21
A36: 6. | B36: =IF(Kilpailu!$B$6 =Kilpailu!$A$79,Kilpailu!B35,IF(Kilpailu!$B$6 =Kilpailu!$A$80,Kilpailu!B50,IF(Kilpailu!$B$6 =Kilpailu!$A$81,Kilpailu!B65,""))) -> 45 asteen moottorilasku | C36: 5 | D36: 5 | E36: 7 | F36: 0 | G36: 10 | H36: =(SUM(C36:G36)*IF(Kilpailu!$B$6 =Kilpailu!$A$79,Kilpailu!C35,IF(Kilpailu!$B$6 =Kilpailu!$A$80,Kilpailu!C50,IF(Kilpailu!$B$6 =Kilpailu!$A$81,Kilpailu!C65,1))))-SMALL(C36:G36,1)-LARGE(C36:G36,1) -> 17
A37: 7. | B37: =IF(Kilpailu!$B$6 =Kilpailu!$A$79,Kilpailu!B36,IF(Kilpailu!$B$6 =Kilpailu!$A$80,Kilpailu!B51,IF(Kilpailu!$B$6 =Kilpailu!$A$81,Kilpailu!B66,""))) | F37: 0 | H37: =(SUM(C37:G37)*IF(Kilpailu!$B$6 =Kilpailu!$A$79,Kilpailu!C36,IF(Kilpailu!$B$6 =Kilpailu!$A$80,Kilpailu!C51,IF(Kilpailu!$B$6 =Kilpailu!$A$81,Kilpailu!C66,1))))-SMALL(C37:G37,1)-LARGE(C37:G37,1) -> 0
A38: 8. | B38: =IF(Kilpailu!$B$6 =Kilpailu!$A$79,Kilpailu!B37,IF(Kilpailu!$B$6 =Kilpailu!$A$80,Kilpailu!B52,IF(Kilpailu!$B$6 =Kilpailu!$A$81,Kilpailu!B67,""))) | F38: 0 | H38: =(SUM(C38:G38)*IF(Kilpailu!$B$6 =Kilpailu!$A$79,Kilpailu!C37,IF(Kilpailu!$B$6 =Kilpailu!$A$80,Kilpailu!C52,IF(Kilpailu!$B$6 =Kilpailu!$A$81,Kilpailu!C67,1))))-SMALL(C38:G38,1)-LARGE(C38:G38,1) -> 0
A39: 9. | B39: =IF(Kilpailu!$B$6 =Kilpailu!$A$79,Kilpailu!B38,IF(Kilpailu!$B$6 =Kilpailu!$A$80,Kilpailu!B53,IF(Kilpailu!$B$6 =Kilpailu!$A$81,Kilpailu!B68,""))) | F39: 0 | H39: =(SUM(C39:G39)*IF(Kilpailu!$B$6 =Kilpailu!$A$79,Kilpailu!C38,IF(Kilpailu!$B$6 =Kilpailu!$A$80,Kilpailu!C53,IF(Kilpailu!$B$6 =Kilpailu!$A$81,Kilpailu!C68,1))))-SMALL(C39:G39,1)-LARGE(C39:G39,1) -> 0
A40: 10. | B40: =IF(Kilpailu!$B$6 =Kilpailu!$A$79,Kilpailu!B39,IF(Kilpailu!$B$6 =Kilpailu!$A$80,Kilpailu!B54,IF(Kilpailu!$B$6 =Kilpailu!$A$81,Kilpailu!B69,""))) | F40: 0 | H40: =(SUM(C40:G40)*IF(Kilpailu!$B$6 =Kilpailu!$A$79,Kilpailu!C39,IF(Kilpailu!$B$6 =Kilpailu!$A$80,Kilpailu!C54,IF(Kilpailu!$B$6 =Kilpailu!$A$81,Kilpailu!C69,1))))-SMALL(C40:G40,1)-LARGE(C40:G40,1) -> 0
A41: 11. | B41: =IF(Kilpailu!$B$6 =Kilpailu!$A$79,Kilpailu!B40,IF(Kilpailu!$B$6 =Kilpailu!$A$80,Kilpailu!B55,IF(Kilpailu!$B$6 =Kilpailu!$A$81,Kilpailu!B70,""))) | F41: 0 | H41: =(SUM(C41:G41)*IF(Kilpailu!$B$6 =Kilpailu!$A$79,Kilpailu!C40,IF(Kilpailu!$B$6 =Kilpailu!$A$80,Kilpailu!C55,IF(Kilpailu!$B$6 =Kilpailu!$A$81,Kilpailu!C70,1))))-SMALL(C41:G41,1)-LARGE(C41:G41,1) -> 0
B42: Yht. | C42: =SUM(C31:C41) -> 39 | D42: =SUM(D31:D41) -> 40 | E42: =SUM(E31:E41) -> 43 | F42: =SUM(F31:F41) -> 0 | G42: =SUM(G31:G41) -> 60 | H42: =SUM(C42:G42)-LARGE(C42:G42,1)-SMALL(C42:G42,1) -> 122
A46: Kierros 3: | C46: Tuomari 1 | D46: Tuomari 2 | E46: Tuomari 3 | F46: Tuomari 4 | G46: Tuomari 5 | H46: yht.
A47: 1. | B47: =IF(Kilpailu!$B$6 =Kilpailu!$A$79,Kilpailu!B30,IF(Kilpailu!$B$6 =Kilpailu!$A$80,Kilpailu!B45,IF(Kilpailu!$B$6 =Kilpailu!$A$81,Kilpailu!B60,""))) -> Leijunta-M | C47: 5 | D47: 6 | E47: 7 | F47: 0 | G47: 10 | H47: =(SUM(C47:G47)*IF(Kilpailu!$B$6 =Kilpailu!$A$79,Kilpailu!C30,IF(Kilpailu!$B$6 =Kilpailu!$A$80,Kilpailu!C45,IF(Kilpailu!$B$6 =Kilpailu!$A$81,Kilpailu!C60,1))))-SMALL(C47:G47,1)-LARGE(C47:G47,1) -> 18
A48: 2. | B48: =IF(Kilpailu!$B$6 =Kilpailu!$A$79,Kilpailu!B31,IF(Kilpailu!$B$6 =Kilpailu!$A$80,Kilpailu!B46,IF(Kilpailu!$B$6 =Kilpailu!$A$81,Kilpailu!B61,""))) -> Leijunta TopHat | C48: 6 | D48: 6 | E48: 6 | F48: 0 | G48: 10 | H48: =(SUM(C48:G48)*IF(Kilpailu!$B$6 =Kilpailu!$A$79,Kilpailu!C31,IF(Kilpailu!$B$6 =Kilpailu!$A$80,Kilpailu!C46,IF(Kilpailu!$B$6 =Kilpailu!$A$81,Kilpailu!C61,1))))-SMALL(C48:G48,1)-LARGE(C48:G48,1) -> 18
A49: 3. | B49: =IF(Kilpailu!$B$6 =Kilpailu!$A$79,Kilpailu!B32,IF(Kilpailu!$B$6 =Kilpailu!$A$80,Kilpailu!B47,IF(Kilpailu!$B$6 =Kilpailu!$A$81,Kilpailu!B62,""))) -> Cobra | C49: 6 | D49: 7 | E49: 7 | F49: 0 | G49: 10 | H49: =(SUM(C49:G49)*IF(Kilpailu!$B$6 =Kilpailu!$A$79,Kilpailu!C32,IF(Kilpailu!$B$6 =Kilpailu!$A$80,Kilpailu!C47,IF(Kilpailu!$B$6 =Kilpailu!$A$81,Kilpailu!C62,1))))-SMALL(C49:G49,1)-LARGE(C49:G49,1) -> 20
A50: 4. | B50: =IF(Kilpailu!$B$6 =Kilpailu!$A$79,Kilpailu!B33,IF(Kilpailu!$B$6 =Kilpailu!$A$80,Kilpailu!B48,IF(Kilpailu!$B$6 =Kilpailu!$A$81,Kilpailu!B63,""))) -> Suora ohilento | C50: 8 | D50: 7 | E50: 7 | F50: 0 | G50: 10 | H50: =(SUM(C50:G50)*IF(Kilpailu!$B$6 =Kilpailu!$A$79,Kilpailu!C33,IF(Kilpailu!$B$6 =Kilpailu!$A$80,Kilpailu!C48,IF(Kilpailu!$B$6 =Kilpailu!$A$81,Kilpailu!C63,1))))-SMALL(C50:G50,1)-LARGE(C50:G50,1) -> 22
A51: 5. | B51: =IF(Kilpailu!$B$6 =Kilpailu!$A$79,Kilpailu!B34,IF(Kilpailu!$B$6 =Kilpailu!$A$80,Kilpailu!B49,IF(Kilpailu!$B$6 =Kilpailu!$A$81,Kilpailu!B64,""))) -> Nouseva 180 asteen käännös | C51: 6 | D51: 7 | E51: 7 | F51: 0 | G51: 10 | H51: =(SUM(C51:G51)*IF(Kilpailu!$B$6 =Kilpailu!$A$79,Kilpailu!C34,IF(Kilpailu!$B$6 =Kilpailu!$A$80,Kilpailu!C49,IF(Kilpailu!$B$6 =Kilpailu!$A$81,Kilpailu!C64,1))))-SMALL(C51:G51,1)-LARGE(C51:G51,1) -> 20
A52: 6. | B52: =IF(Kilpailu!$B$6 =Kilpailu!$A$79,Kilpailu!B35,IF(Kilpailu!$B$6 =Kilpailu!$A$80,Kilpailu!B50,IF(Kilpailu!$B$6 =Kilpailu!$A$81,Kilpailu!B65,""))) -> 45 asteen moottorilasku | C52: 6 | D52: 6 | E52: 8 | F52: 0 | G52: 10 | H52: =(SUM(C52:G52)*IF(Kilpailu!$B$6 =Kilpailu!$A$79,Kilpailu!C35,IF(Kilpailu!$B$6 =Kilpailu!$A$80,Kilpailu!C50,IF(Kilpailu!$B$6 =Kilpailu!$A$81,Kilpailu!C65,1))))-SMALL(C52:G52,1)-LARGE(C52:G52,1) -> 20
A53: 7. | B53: =IF(Kilpailu!$B$6 =Kilpailu!$A$79,Kilpailu!B36,IF(Kilpailu!$B$6 =Kilpailu!$A$80,Kilpailu!B51,IF(Kilpailu!$B$6 =Kilpailu!$A$81,Kilpailu!B66,""))) | F53: 0 | H53: =(SUM(C53:G53)*IF(Kilpailu!$B$6 =Kilpailu!$A$79,Kilpailu!C36,IF(Kilpailu!$B$6 =Kilpailu!$A$80,Kilpailu!C51,IF(Kilpailu!$B$6 =Kilpailu!$A$81,Kilpailu!C66,1))))-SMALL(C53:G53,1)-LARGE(C53:G53,1) -> 0
A54: 8. | B54: =IF(Kilpailu!$B$6 =Kilpailu!$A$79,Kilpailu!B37,IF(Kilpailu!$B$6 =Kilpailu!$A$80,Kilpailu!B52,IF(Kilpailu!$B$6 =Kilpailu!$A$81,Kilpailu!B67,""))) | F54: 0 | H54: =(SUM(C54:G54)*IF(Kilpailu!$B$6 =Kilpailu!$A$79,Kilpailu!C37,IF(Kilpailu!$B$6 =Kilpailu!$A$80,Kilpailu!C52,IF(Kilpailu!$B$6 =Kilpailu!$A$81,Kilpailu!C67,1))))-SMALL(C54:G54,1)-LARGE(C54:G54,1) -> 0
A55: 9. | B55: =IF(Kilpailu!$B$6 =Kilpailu!$A$79,Kilpailu!B38,IF(Kilpailu!$B$6 =Kilpailu!$A$80,Kilpailu!B53,IF(Kilpailu!$B$6 =Kilpailu!$A$81,Kilpailu!B68,""))) | F55: 0 | H55: =(SUM(C55:G55)*IF(Kilpailu!$B$6 =Kilpailu!$A$79,Kilpailu!C38,IF(Kilpailu!$B$6 =Kilpailu!$A$80,Kilpailu!C53,IF(Kilpailu!$B$6 =Kilpailu!$A$81,Kilpailu!C68,1))))-SMALL(C55:G55,1)-LARGE(C55:G55,1) -> 0
A56: 10. | B56: =IF(Kilpailu!$B$6 =Kilpailu!$A$79,Kilpailu!B39,IF(Kilpailu!$B$6 =Kilpailu!$A$80,Kilpailu!B54,IF(Kilpailu!$B$6 =Kilpailu!$A$81,Kilpailu!B69,""))) | F56: 0 | H56: =(SUM(C56:G56)*IF(Kilpailu!$B$6 =Kilpailu!$A$79,Kilpailu!C39,IF(Kilpailu!$B$6 =Kilpailu!$A$80,Kilpailu!C54,IF(Kilpailu!$B$6 =Kilpailu!$A$81,Kilpailu!C69,1))))-SMALL(C56:G56,1)-LARGE(C56:G56,1) -> 0
A57: 11. | B57: =IF(Kilpailu!$B$6 =Kilpailu!$A$79,Kilpailu!B40,IF(Kilpailu!$B$6 =Kilpailu!$A$80,Kilpailu!B55,IF(Kilpailu!$B$6 =Kilpailu!$A$81,Kilpailu!B70,""))) | F57: 0 | H57: =(SUM(C57:G57)*IF(Kilpailu!$B$6 =Kilpailu!$A$79,Kilpailu!C40,IF(Kilpailu!$B$6 =Kilpailu!$A$80,Kilpailu!C55,IF(Kilpailu!$B$6 =Kilpailu!$A$81,Kilpailu!C70,1))))-SMALL(C57:G57,1)-LARGE(C57:G57,1) -> 0
B58: Yht. | C58: =SUM(C47:C57) -> 37 | D58: =SUM(D47:D57) -> 39 | E58: =SUM(E47:E57) -> 42 | F58: =SUM(F47:F57) -> 0 | G58: =SUM(G47:G57) -> 60 | H58: =SUM(C58:G58)-LARGE(C58:G58,1)-SMALL(C58:G58,1) -> 118

Sheet 3
D4: Pisteet | E4: Suht…
A5: Nimi: | B5: =Kilpailu!B12 -> Santeri Sirkiä | C5: Kierros 1. | D5: =SUM(C26:G26)-LARGE(C26:G26,1)-SMALL(C26:G26,1) -> 111 | E5: =Tulokset!D30 -> 917.35537
C6: Kierros 2. | D6: =SUM(C42:G42)-LARGE(C42:G42,1)-SMALL(C42:G42,1) -> 129 | E6: =Tulokset!D50 -> 962.68657
A7: Paikka: | B7: =Kilpailu!B4 -> Vesivehmaa | C7: Kierros 3. | D7: =SUM(C58:G58)-LARGE(C58:G58,1)-SMALL(C58:G58,1) -> 124 | E7: =Tulokset!D70 -> 855.17241
A8: Päivä: | B8: =Kilpailu!B5 -> 42217
A9: Ohjelma: | B9: =Kilpailu!B6 -> Popular | C9: yhteensä: | D9: =SUM(D5:D7) -> 364 | E9: =SUM(E5:E7) -> 2735.2144
C10: pois: | D10: =SMALL(D5:D7,1) -> 111 | E10: =SMALL(E5:E7,1) -> 855.17241
C11: 2 parasta: | D11: =SUM(D5:D7)-D10 -> 253 | E11: =SUM(E5:E7)-E10 -> 1880.0419
A14: Kierros 1: | C14: Tuomari 1 | D14: Tuomari 2 | E14: Tuomari 3 | F14: Tuomari 4 | G14: Tuomari 5 | H14: yht.
A15: 1. | B15: =IF(Kilpailu!$B$6 =Kilpailu!$A$79,Kilpailu!B30,IF(Kilpailu!$B$6 =Kilpailu!$A$80,Kilpailu!B45,IF(Kilpailu!$B$6 =Kilpailu!$A$81,Kilpailu!B60,""))) -> Leijunta-M | C15: 4 | D15: 5 | E15: 6 | F15: 0 | G15: 10 | H15: =(SUM(C15:G15)*IF(Kilpailu!$B$6 =Kilpailu!$A$79,Kilpailu!C30,IF(Kilpailu!$B$6 =Kilpailu!$A$80,Kilpailu!C45,IF(Kilpailu!$B$6 =Kilpailu!$A$81,Kilpailu!C60,1))))-SMALL(C15:G15,1)-LARGE(C15:G15,1) -> 15
A16: 2. | B16: =IF(Kilpailu!$B$6 =Kilpailu!$A$79,Kilpailu!B31,IF(Kilpailu!$B$6 =Kilpailu!$A$80,Kilpailu!B46,IF(Kilpailu!$B$6 =Kilpailu!$A$81,Kilpailu!B61,""))) -> Leijunta TopHat | C16: 6 | D16: 7 | E16: 7 | F16: 0 | G16: 10 | H16: =(SUM(C16:G16)*IF(Kilpailu!$B$6 =Kilpailu!$A$79,Kilpailu!C31,IF(Kilpailu!$B$6 =Kilpailu!$A$80,Kilpailu!C46,IF(Kilpailu!$B$6 =Kilpailu!$A$81,Kilpailu!C61,1))))-SMALL(C16:G16,1)-LARGE(C16:G16,1) -> 20
A17: 3. | B17: =IF(Kilpailu!$B$6 =Kilpailu!$A$79,Kilpailu!B32,IF(Kilpailu!$B$6 =Kilpailu!$A$80,Kilpailu!B47,IF(Kilpailu!$B$6 =Kilpailu!$A$81,Kilpailu!B62,""))) -> Cobra | C17: 6 | D17: 6 | E17: 7 | F17: 0 | G17: 10 | H17: =(SUM(C17:G17)*IF(Kilpailu!$B$6 =Kilpailu!$A$79,Kilpailu!C32,IF(Kilpailu!$B$6 =Kilpailu!$A$80,Kilpailu!C47,IF(Kilpailu!$B$6 =Kilpailu!$A$81,Kilpailu!C62,1))))-SMALL(C17:G17,1)-LARGE(C17:G17,1) -> 19
A18: 4. | B18: =IF(Kilpailu!$B$6 =Kilpailu!$A$79,Kilpailu!B33,IF(Kilpailu!$B$6 =Kilpailu!$A$80,Kilpailu!B48,IF(Kilpailu!$B$6 =Kilpailu!$A$81,Kilpailu!B63,""))) -> Suora ohilento | C18: 8 | D18: 8 | E18: 7 | F18: 0 | G18: 10 | H18: =(SUM(C18:G18)*IF(Kilpailu!$B$6 =Kilpailu!$A$79,Kilpailu!C33,IF(Kilpailu!$B$6 =Kilpailu!$A$80,Kilpailu!C48,IF(Kilpailu!$B$6 =Kilpailu!$A$81,Kilpailu!C63,1))))-SMALL(C18:G18,1)-LARGE(C18:G18,1) -> 23
A19: 5. | B19: =IF(Kilpailu!$B$6 =Kilpailu!$A$79,Kilpailu!B34,IF(Kilpailu!$B$6 =Kilpailu!$A$80,Kilpailu!B49,IF(Kilpailu!$B$6 =Kilpailu!$A$81,Kilpailu!B64,""))) -> Nouseva 180 asteen käännös | C19: 6 | D19: 5 | E19: 5 | F19: 0 | G19: 10 | H19: =(SUM(C19:G19)*IF(Kilpailu!$B$6 =Kilpailu!$A$79,Kilpailu!C34,IF(Kilpailu!$B$6 =Kilpailu!$A$80,Kilpailu!C49,IF(Kilpailu!$B$6 =Kilpailu!$A$81,Kilpailu!C64,1))))-SMALL(C19:G19,1)-LARGE(C19:G19,1) -> 16
A20: 6. | B20: =IF(Kilpailu!$B$6 =Kilpailu!$A$79,Kilpailu!B35,IF(Kilpailu!$B$6 =Kilpailu!$A$80,Kilpailu!B50,IF(Kilpailu!$B$6 =Kilpailu!$A$81,Kilpailu!B65,""))) -> 45 asteen moottorilasku | C20: 6 | D20: 5 | E20: 7 | F20: 0 | G20: 10 | H20: =(SUM(C20:G20)*IF(Kilpailu!$B$6 =Kilpailu!$A$79,Kilpailu!C35,IF(Kilpailu!$B$6 =Kilpailu!$A$80,Kilpailu!C50,IF(Kilpailu!$B$6 =Kilpailu!$A$81,Kilpailu!C65,1))))-SMALL(C20:G20,1)-LARGE(C20:G20,1) -> 18
A21: 7. | B21: =IF(Kilpailu!$B$6 =Kilpailu!$A$79,Kilpailu!B36,IF(Kilpailu!$B$6 =Kilpailu!$A$80,Kilpailu!B51,IF(Kilpailu!$B$6 =Kilpailu!$A$81,Kilpailu!B66,""))) | F21: 0 | H21: =(SUM(C21:G21)*IF(Kilpailu!$B$6 =Kilpailu!$A$79,Kilpailu!C36,IF(Kilpailu!$B$6 =Kilpailu!$A$80,Kilpailu!C51,IF(Kilpailu!$B$6 =Kilpailu!$A$81,Kilpailu!C66,1))))-SMALL(C21:G21,1)-LARGE(C21:G21,1) -> 0
A22: 8. | B22: =IF(Kilpailu!$B$6 =Kilpailu!$A$79,Kilpailu!B37,IF(Kilpailu!$B$6 =Kilpailu!$A$80,Kilpailu!B52,IF(Kilpailu!$B$6 =Kilpailu!$A$81,Kilpailu!B67,""))) | F22: 0 | H22: =(SUM(C22:G22)*IF(Kilpailu!$B$6 =Kilpailu!$A$79,Kilpailu!C37,IF(Kilpailu!$B$6 =Kilpailu!$A$80,Kilpailu!C52,IF(Kilpailu!$B$6 =Kilpailu!$A$81,Kilpailu!C67,1))))-SMALL(C22:G22,1)-LARGE(C22:G22,1) -> 0
A23: 9. | B23: =IF(Kilpailu!$B$6 =Kilpailu!$A$79,Kilpailu!B38,IF(Kilpailu!$B$6 =Kilpailu!$A$80,Kilpailu!B53,IF(Kilpailu!$B$6 =Kilpailu!$A$81,Kilpailu!B68,""))) | F23: 0 | H23: =(SUM(C23:G23)*IF(Kilpailu!$B$6 =Kilpailu!$A$79,Kilpailu!C38,IF(Kilpailu!$B$6 =Kilpailu!$A$80,Kilpailu!C53,IF(Kilpailu!$B$6 =Kilpailu!$A$81,Kilpailu!C68,1))))-SMALL(C23:G23,1)-LARGE(C23:G23,1) -> 0
A24: 10. | B24: =IF(Kilpailu!$B$6 =Kilpailu!$A$79,Kilpailu!B39,IF(Kilpailu!$B$6 =Kilpailu!$A$80,Kilpailu!B54,IF(Kilpailu!$B$6 =Kilpailu!$A$81,Kilpailu!B69,""))) | F24: 0 | H24: =(SUM(C24:G24)*IF(Kilpailu!$B$6 =Kilpailu!$A$79,Kilpailu!C39,IF(Kilpailu!$B$6 =Kilpailu!$A$80,Kilpailu!C54,IF(Kilpailu!$B$6 =Kilpailu!$A$81,Kilpailu!C69,1))))-SMALL(C24:G24,1)-LARGE(C24:G24,1) -> 0
A25: 11. | B25: =IF(Kilpailu!$B$6 =Kilpailu!$A$79,Kilpailu!B40,IF(Kilpailu!$B$6 =Kilpailu!$A$80,Kilpailu!B55,IF(Kilpailu!$B$6 =Kilpailu!$A$81,Kilpailu!B70,""))) | G25: 0 | H25: =(SUM(C25:G25)*IF(Kilpailu!$B$6 =Kilpailu!$A$79,Kilpailu!C40,IF(Kilpailu!$B$6 =Kilpailu!$A$80,Kilpailu!C55,IF(Kilpailu!$B$6 =Kilpailu!$A$81,Kilpailu!C70,1))))-SMALL(C25:G25,1)-LARGE(C25:G25,1) -> 0
B26: Yht. | C26: =SUM(C15:C25) -> 36 | D26: =SUM(D15:D25) -> 36 | E26: =SUM(E15:E25) -> 39 | F26: =SUM(F15:F25) -> 0 | G26: =SUM(G15:G25) -> 60 | H26: =SUM(C26:G26)-LARGE(C26:G26,1)-SMALL(C26:G26,1) -> 111
A30: Kierros 2: | C30: Tuomari 1 | D30: Tuomari 2 | E30: Tuomari 3 | F30: Tuomari 4 | G30: Tuomari 5 | H30: yht.
A31: 1. | B31: =IF(Kilpailu!$B$6 =Kilpailu!$A$79,Kilpailu!B30,IF(Kilpailu!$B$6 =Kilpailu!$A$80,Kilpailu!B45,IF(Kilpailu!$B$6 =Kilpailu!$A$81,Kilpailu!B60,""))) -> Leijunta-M | C31: 6 | D31: 6 | E31: 8 | F31: 0 | G31: 10 | H31: =(SUM(C31:G31)*IF(Kilpailu!$B$6 =Kilpailu!$A$79,Kilpailu!C30,IF(Kilpailu!$B$6 =Kilpailu!$A$80,Kilpailu!C45,IF(Kilpailu!$B$6 =Kilpailu!$A$81,Kilpailu!C60,1))))-SMALL(C31:G31,1)-LARGE(C31:G31,1) -> 20
A32: 2. | B32: =IF(Kilpailu!$B$6 =Kilpailu!$A$79,Kilpailu!B31,IF(Kilpailu!$B$6 =Kilpailu!$A$80,Kilpailu!B46,IF(Kilpailu!$B$6 =Kilpailu!$A$81,Kilpailu!B61,""))) -> Leijunta TopHat | C32: 7 | D32: 7 | E32: 9 | F32: 0 | G32: 10 | H32: =(SUM(C32:G32)*IF(Kilpailu!$B$6 =Kilpailu!$A$79,Kilpailu!C31,IF(Kilpailu!$B$6 =Kilpailu!$A$80,Kilpailu!C46,IF(Kilpailu!$B$6 =Kilpailu!$A$81,Kilpailu!C61,1))))-SMALL(C32:G32,1)-LARGE(C32:G32,1) -> 23
A33: 3. | B33: =IF(Kilpailu!$B$6 =Kilpailu!$A$79,Kilpailu!B32,IF(Kilpailu!$B$6 =Kilpailu!$A$80,Kilpailu!B47,IF(Kilpailu!$B$6 =Kilpailu!$A$81,Kilpailu!B62,""))) -> Cobra | C33: 7 | D33: 8 | E33: 8 | F33: 0 | G33: 10 | H33: =(SUM(C33:G33)*IF(Kilpailu!$B$6 =Kilpailu!$A$79,Kilpailu!C32,IF(Kilpailu!$B$6 =Kilpailu!$A$80,Kilpailu!C47,IF(Kilpailu!$B$6 =Kilpailu!$A$81,Kilpailu!C62,1))))-SMALL(C33:G33,1)-LARGE(C33:G33,1) -> 23
A34: 4. | B34: =IF(Kilpailu!$B$6 =Kilpailu!$A$79,Kilpailu!B33,IF(Kilpailu!$B$6 =Kilpailu!$A$80,Kilpailu!B48,IF(Kilpailu!$B$6 =Kilpailu!$A$81,Kilpailu!B63,""))) -> Suora ohilento | C34: 9 | D34: 8 | E34: 8 | F34: 0 | G34: 10 | H34: =(SUM(C34:G34)*IF(Kilpailu!$B$6 =Kilpailu!$A$79,Kilpailu!C33,IF(Kilpailu!$B$6 =Kilpailu!$A$80,Kilpailu!C48,IF(Kilpailu!$B$6 =Kilpailu!$A$81,Kilpailu!C63,1))))-SMALL(C34:G34,1)-LARGE(C34:G34,1) -> 25
A35: 5. | B35: =IF(Kilpailu!$B$6 =Kilpailu!$A$79,Kilpailu!B34,IF(Kilpailu!$B$6 =Kilpailu!$A$80,Kilpailu!B49,IF(Kilpailu!$B$6 =Kilpailu!$A$81,Kilpailu!B64,""))) -> Nouseva 180 asteen käännös | C35: 6 | D35: 7 | E35: 9 | F35: 0 | G35: 10 | H35: =(SUM(C35:G35)*IF(Kilpailu!$B$6 =Kilpailu!$A$79,Kilpailu!C34,IF(Kilpailu!$B$6 =Kilpailu!$A$80,Kilpailu!C49,IF(Kilpailu!$B$6 =Kilpailu!$A$81,Kilpailu!C64,1))))-SMALL(C35:G35,1)-LARGE(C35:G35,1) -> 22
A36: 6. | B36: =IF(Kilpailu!$B$6 =Kilpailu!$A$79,Kilpailu!B35,IF(Kilpailu!$B$6 =Kilpailu!$A$80,Kilpailu!B50,IF(Kilpailu!$B$6 =Kilpailu!$A$81,Kilpailu!B65,""))) -> 45 asteen moottorilasku | C36: 4 | D36: 5 | E36: 7 | F36: 0 | G36: 10 | H36: =(SUM(C36:G36)*IF(Kilpailu!$B$6 =Kilpailu!$A$79,Kilpailu!C35,IF(Kilpailu!$B$6 =Kilpailu!$A$80,Kilpailu!C50,IF(Kilpailu!$B$6 =Kilpailu!$A$81,Kilpailu!C65,1))))-SMALL(C36:G36,1)-LARGE(C36:G36,1) -> 16
A37: 7. | B37: =IF(Kilpailu!$B$6 =Kilpailu!$A$79,Kilpailu!B36,IF(Kilpailu!$B$6 =Kilpailu!$A$80,Kilpailu!B51,IF(Kilpailu!$B$6 =Kilpailu!$A$81,Kilpailu!B66,""))) | F37: 0 | H37: =(SUM(C37:G37)*IF(Kilpailu!$B$6 =Kilpailu!$A$79,Kilpailu!C36,IF(Kilpailu!$B$6 =Kilpailu!$A$80,Kilpailu!C51,IF(Kilpailu!$B$6 =Kilpailu!$A$81,Kilpailu!C66,1))))-SMALL(C37:G37,1)-LARGE(C37:G37,1) -> 0
A38: 8. | B38: =IF(Kilpailu!$B$6 =Kilpailu!$A$79,Kilpailu!B37,IF(Kilpailu!$B$6 =Kilpailu!$A$80,Kilpailu!B52,IF(Kilpailu!$B$6 =Kilpailu!$A$81,Kilpailu!B67,""))) | F38: 0 | H38: =(SUM(C38:G38)*IF(Kilpailu!$B$6 =Kilpailu!$A$79,Kilpailu!C37,IF(Kilpailu!$B$6 =Kilpailu!$A$80,Kilpailu!C52,IF(Kilpailu!$B$6 =Kilpailu!$A$81,Kilpailu!C67,1))))-SMALL(C38:G38,1)-LARGE(C38:G38,1) -> 0
A39: 9. | B39: =IF(Kilpailu!$B$6 =Kilpailu!$A$79,Kilpailu!B38,IF(Kilpailu!$B$6 =Kilpailu!$A$80,Kilpailu!B53,IF(Kilpailu!$B$6 =Kilpailu!$A$81,Kilpailu!B68,""))) | F39: 0 | H39: =(SUM(C39:G39)*IF(Kilpailu!$B$6 =Kilpailu!$A$79,Kilpailu!C38,IF(Kilpailu!$B$6 =Kilpailu!$A$80,Kilpailu!C53,IF(Kilpailu!$B$6 =Kilpailu!$A$81,Kilpailu!C68,1))))-SMALL(C39:G39,1)-LARGE(C39:G39,1) -> 0
A40: 10. | B40: =IF(Kilpailu!$B$6 =Kilpailu!$A$79,Kilpailu!B39,IF(Kilpailu!$B$6 =Kilpailu!$A$80,Kilpailu!B54,IF(Kilpailu!$B$6 =Kilpailu!$A$81,Kilpailu!B69,""))) | F40: 0 | H40: =(SUM(C40:G40)*IF(Kilpailu!$B$6 =Kilpailu!$A$79,Kilpailu!C39,IF(Kilpailu!$B$6 =Kilpailu!$A$80,Kilpailu!C54,IF(Kilpailu!$B$6 =Kilpailu!$A$81,Kilpailu!C69,1))))-SMALL(C40:G40,1)-LARGE(C40:G40,1) -> 0
A41: 11. | B41: =IF(Kilpailu!$B$6 =Kilpailu!$A$79,Kilpailu!B40,IF(Kilpailu!$B$6 =Kilpailu!$A$80,Kilpailu!B55,IF(Kilpailu!$B$6 =Kilpailu!$A$81,Kilpailu!B70,""))) | G41: 0 | H41: =(SUM(C41:G41)*IF(Kilpailu!$B$6 =Kilpailu!$A$79,Kilpailu!C40,IF(Kilpailu!$B$6 =Kilpailu!$A$80,Kilpailu!C55,IF(Kilpailu!$B$6 =Kilpailu!$A$81,Kilpailu!C70,1))))-SMALL(C41:G41,1)-LARGE(C41:G41,1) -> 0
B42: Yht. | C42: =SUM(C31:C41) -> 39 | D42: =SUM(D31:D41) -> 41 | E42: =SUM(E31:E41) -> 49 | F42: =SUM(F31:F41) -> 0 | G42: =SUM(G31:G41) -> 60 | H42: ='3'!D6 -> 129
A46: Kierros 3: | C46: Tuomari 1 | D46: Tuomari 2 | E46: Tuomari 3 | F46: Tuomari 4 | G46: Tuomari 5 | H46: yht.
A47: 1. | B47: =IF(Kilpailu!$B$6 =Kilpailu!$A$79,Kilpailu!B30,IF(Kilpailu!$B$6 =Kilpailu!$A$80,Kilpailu!B45,IF(Kilpailu!$B$6 =Kilpailu!$A$81,Kilpailu!B60,""))) -> Leijunta-M | C47: 6 | D47: 5 | E47: 8 | F47: 0 | G47: 10 | H47: =(SUM(C47:G47)*IF(Kilpailu!$B$6 =Kilpailu!$A$79,Kilpailu!C30,IF(Kilpailu!$B$6 =Kilpailu!$A$80,Kilpailu!C45,IF(Kilpailu!$B$6 =Kilpailu!$A$81,Kilpailu!C60,1))))-SMALL(C47:G47,1)-LARGE(C47:G47,1) -> 19
A48: 2. | B48: =IF(Kilpailu!$B$6 =Kilpailu!$A$79,Kilpailu!B31,IF(Kilpailu!$B$6 =Kilpailu!$A$80,Kilpailu!B46,IF(Kilpailu!$B$6 =Kilpailu!$A$81,Kilpailu!B61,""))) -> Leijunta TopHat | C48: 5 | D48: 6 | E48: 8 | F48: 0 | G48: 10 | H48: =(SUM(C48:G48)*IF(Kilpailu!$B$6 =Kilpailu!$A$79,Kilpailu!C31,IF(Kilpailu!$B$6 =Kilpailu!$A$80,Kilpailu!C46,IF(Kilpailu!$B$6 =Kilpailu!$A$81,Kilpailu!C61,1))))-SMALL(C48:G48,1)-LARGE(C48:G48,1) -> 19
A49: 3. | B49: =IF(Kilpailu!$B$6 =Kilpailu!$A$79,Kilpailu!B32,IF(Kilpailu!$B$6 =Kilpailu!$A$80,Kilpailu!B47,IF(Kilpailu!$B$6 =Kilpailu!$A$81,Kilpailu!B62,""))) -> Cobra | C49: 6 | D49: 9 | E49: 9 | F49: 0 | G49: 10 | H49: =(SUM(C49:G49)*IF(Kilpailu!$B$6 =Kilpailu!$A$79,Kilpailu!C32,IF(Kilpailu!$B$6 =Kilpailu!$A$80,Kilpailu!C47,IF(Kilpailu!$B$6 =Kilpailu!$A$81,Kilpailu!C62,1))))-SMALL(C49:G49,1)-LARGE(C49:G49,1) -> 24
A50: 4. | B50: =IF(Kilpailu!$B$6 =Kilpailu!$A$79,Kilpailu!B33,IF(Kilpailu!$B$6 =Kilpailu!$A$80,Kilpailu!B48,IF(Kilpailu!$B$6 =Kilpailu!$A$81,Kilpailu!B63,""))) -> Suora ohilento | C50: 8 | D50: 8 | E50: 8 | F50: 0 | G50: 10 | H50: =(SUM(C50:G50)*IF(Kilpailu!$B$6 =Kilpailu!$A$79,Kilpailu!C33,IF(Kilpailu!$B$6 =Kilpailu!$A$80,Kilpailu!C48,IF(Kilpailu!$B$6 =Kilpailu!$A$81,Kilpailu!C63,1))))-SMALL(C50:G50,1)-LARGE(C50:G50,1) -> 24
A51: 5. | B51: =IF(Kilpailu!$B$6 =Kilpailu!$A$79,Kilpailu!B34,IF(Kilpailu!$B$6 =Kilpailu!$A$80,Kilpailu!B49,IF(Kilpailu!$B$6 =Kilpailu!$A$81,Kilpailu!B64,""))) -> Nouseva 180 asteen käännös | C51: 6 | D51: 6 | E51: 8 | F51: 0 | G51: 10 | H51: =(SUM(C51:G51)*IF(Kilpailu!$B$6 =Kilpailu!$A$79,Kilpailu!C34,IF(Kilpailu!$B$6 =Kilpailu!$A$80,Kilpailu!C49,IF(Kilpailu!$B$6 =Kilpailu!$A$81,Kilpailu!C64,1))))-SMALL(C51:G51,1)-LARGE(C51:G51,1) -> 20
A52: 6. | B52: =IF(Kilpailu!$B$6 =Kilpailu!$A$79,Kilpailu!B35,IF(Kilpailu!$B$6 =Kilpailu!$A$80,Kilpailu!B50,IF(Kilpailu!$B$6 =Kilpailu!$A$81,Kilpailu!B65,""))) -> 45 asteen moottorilasku | C52: 5 | D52: 6 | E52: 7 | F52: 0 | G52: 10 | H52: =(SUM(C52:G52)*IF(Kilpailu!$B$6 =Kilpailu!$A$79,Kilpailu!C35,IF(Kilpailu!$B$6 =Kilpailu!$A$80,Kilpailu!C50,IF(Kilpailu!$B$6 =Kilpailu!$A$81,Kilpailu!C65,1))))-SMALL(C52:G52,1)-LARGE(C52:G52,1) -> 18
A53: 7. | B53: =IF(Kilpailu!$B$6 =Kilpailu!$A$79,Kilpailu!B36,IF(Kilpailu!$B$6 =Kilpailu!$A$80,Kilpailu!B51,IF(Kilpailu!$B$6 =Kilpailu!$A$81,Kilpailu!B66,""))) | F53: 0 | H53: =(SUM(C53:G53)*IF(Kilpailu!$B$6 =Kilpailu!$A$79,Kilpailu!C36,IF(Kilpailu!$B$6 =Kilpailu!$A$80,Kilpailu!C51,IF(Kilpailu!$B$6 =Kilpailu!$A$81,Kilpailu!C66,1))))-SMALL(C53:G53,1)-LARGE(C53:G53,1) -> 0
A54: 8. | B54: =IF(Kilpailu!$B$6 =Kilpailu!$A$79,Kilpailu!B37,IF(Kilpailu!$B$6 =Kilpailu!$A$80,Kilpailu!B52,IF(Kilpailu!$B$6 =Kilpailu!$A$81,Kilpailu!B67,""))) | F54: 0 | H54: =(SUM(C54:G54)*IF(Kilpailu!$B$6 =Kilpailu!$A$79,Kilpailu!C37,IF(Kilpailu!$B$6 =Kilpailu!$A$80,Kilpailu!C52,IF(Kilpailu!$B$6 =Kilpailu!$A$81,Kilpailu!C67,1))))-SMALL(C54:G54,1)-LARGE(C54:G54,1) -> 0
A55: 9. | B55: =IF(Kilpailu!$B$6 =Kilpailu!$A$79,Kilpailu!B38,IF(Kilpailu!$B$6 =Kilpailu!$A$80,Kilpailu!B53,IF(Kilpailu!$B$6 =Kilpailu!$A$81,Kilpailu!B68,""))) | F55: 0 | H55: =(SUM(C55:G55)*IF(Kilpailu!$B$6 =Kilpailu!$A$79,Kilpailu!C38,IF(Kilpailu!$B$6 =Kilpailu!$A$80,Kilpailu!C53,IF(Kilpailu!$B$6 =Kilpailu!$A$81,Kilpailu!C68,1))))-SMALL(C55:G55,1)-LARGE(C55:G55,1) -> 0
A56: 10. | B56: =IF(Kilpailu!$B$6 =Kilpailu!$A$79,Kilpailu!B39,IF(Kilpailu!$B$6 =Kilpailu!$A$80,Kilpailu!B54,IF(Kilpailu!$B$6 =Kilpailu!$A$81,Kilpailu!B69,""))) | F56: 0 | H56: =(SUM(C56:G56)*IF(Kilpailu!$B$6 =Kilpailu!$A$79,Kilpailu!C39,IF(Kilpailu!$B$6 =Kilpailu!$A$80,Kilpailu!C54,IF(Kilpailu!$B$6 =Kilpailu!$A$81,Kilpailu!C69,1))))-SMALL(C56:G56,1)-LARGE(C56:G56,1) -> 0
A57: 11. | B57: =IF(Kilpailu!$B$6 =Kilpailu!$A$79,Kilpailu!B40,IF(Kilpailu!$B$6 =Kilpailu!$A$80,Kilpailu!B55,IF(Kilpailu!$B$6 =Kilpailu!$A$81,Kilpailu!B70,""))) | G57: 0 | H57: =(SUM(C57:G57)*IF(Kilpailu!$B$6 =Kilpailu!$A$79,Kilpailu!C40,IF(Kilpailu!$B$6 =Kilpailu!$A$80,Kilpailu!C55,IF(Kilpailu!$B$6 =Kilpailu!$A$81,Kilpailu!C70,1))))-SMALL(C57:G57,1)-LARGE(C57:G57,1) -> 0
B58: Yht. | C58: =SUM(C47:C57) -> 36 | D58: =SUM(D47:D57) -> 40 | E58: =SUM(E47:E57) -> 48 | F58: =SUM(F47:F57) -> 0 | G58: =SUM(G47:G57) -> 60

Sheet 4
D4: Pisteet | E4: Suht…
A5: Nimi: | B5: =Kilpailu!B13 -> Koippa | C5: Kierros 1. | D5: =SUM(C26:G26)-LARGE(C26:G26,1)-SMALL(C26:G26,1) -> 94 | E5: =Tulokset!D31 -> 776.8595
C6: Kierros 2. | D6: =SUM(C42:G42)-LARGE(C42:G42,1)-SMALL(C42:G42,1) -> 113 | E6: =Tulokset!D51 -> 843.28358
A7: Paikka: | B7: =Kilpailu!B4 -> Vesivehmaa | C7: Kierros 3. | D7: =SUM(C58:G58)-LARGE(C58:G58,1)-SMALL(C58:G58,1) -> 99 | E7: =Tulokset!D71 -> 682.75862
A8: Päivä: | B8: =Kilpailu!B5 -> 42217
A9: Ohjelma: | B9: =Kilpailu!B6 -> Popular | C9: yhteensä: | D9: =SUM(D5:D7) -> 306 | E9: =SUM(E5:E7) -> 2302.9017
C10: pois: | D10: =SMALL(D5:D7,1) -> 94 | E10: =SMALL(E5:E7,1) -> 682.75862
C11: 2 parasta: | D11: =SUM(D5:D7)-D10 -> 212 | E11: =SUM(E5:E7)-E10 -> 1620.1431
A14: Kierros 1: | C14: Tuomari 1 | D14: Tuomari 2 | E14: Tuomari 3 | F14: Tuomari 4 | G14: Tuomari 5 | H14: yht.
A15: 1. | B15: =IF(Kilpailu!$B$6 =Kilpailu!$A$79,Kilpailu!B30,IF(Kilpailu!$B$6 =Kilpailu!$A$80,Kilpailu!B45,IF(Kilpailu!$B$6 =Kilpailu!$A$81,Kilpailu!B60,""))) -> Leijunta-M | C15: 4 | D15: 5 | E15: 3 | F15: 0 | G15: 10 | H15: =(SUM(C15:G15)*IF(Kilpailu!$B$6 =Kilpailu!$A$79,Kilpailu!C30,IF(Kilpailu!$B$6 =Kilpailu!$A$80,Kilpailu!C45,IF(Kilpailu!$B$6 =Kilpailu!$A$81,Kilpailu!C60,1))))-SMALL(C15:G15,1)-LARGE(C15:G15,1) -> 12
A16: 2. | B16: =IF(Kilpailu!$B$6 =Kilpailu!$A$79,Kilpailu!B31,IF(Kilpailu!$B$6 =Kilpailu!$A$80,Kilpailu!B46,IF(Kilpailu!$B$6 =Kilpailu!$A$81,Kilpailu!B61,""))) -> Leijunta TopHat | C16: 4 | D16: 4 | E16: 4 | F16: 0 | G16: 10 | H16: =(SUM(C16:G16)*IF(Kilpailu!$B$6 =Kilpailu!$A$79,Kilpailu!C31,IF(Kilpailu!$B$6 =Kilpailu!$A$80,Kilpailu!C46,IF(Kilpailu!$B$6 =Kilpailu!$A$81,Kilpailu!C61,1))))-SMALL(C16:G16,1)-LARGE(C16:G16,1) -> 12
A17: 3. | B17: =IF(Kilpailu!$B$6 =Kilpailu!$A$79,Kilpailu!B32,IF(Kilpailu!$B$6 =Kilpailu!$A$80,Kilpailu!B47,IF(Kilpailu!$B$6 =Kilpailu!$A$81,Kilpailu!B62,""))) -> Cobra | C17: 6 | D17: 7 | E17: 7 | F17: 0 | G17: 10 | H17: =(SUM(C17:G17)*IF(Kilpailu!$B$6 =Kilpailu!$A$79,Kilpailu!C32,IF(Kilpailu!$B$6 =Kilpailu!$A$80,Kilpailu!C47,IF(Kilpailu!$B$6 =Kilpailu!$A$81,Kilpailu!C62,1))))-SMALL(C17:G17,1)-LARGE(C17:G17,1) -> 20
A18: 4. | B18: =IF(Kilpailu!$B$6 =Kilpailu!$A$79,Kilpailu!B33,IF(Kilpailu!$B$6 =Kilpailu!$A$80,Kilpailu!B48,IF(Kilpailu!$B$6 =Kilpailu!$A$81,Kilpailu!B63,""))) -> Suora ohilento | C18: 6 | D18: 7 | E18: 6 | F18: 0 | G18: 10 | H18: =(SUM(C18:G18)*IF(Kilpailu!$B$6 =Kilpailu!$A$79,Kilpailu!C33,IF(Kilpailu!$B$6 =Kilpailu!$A$80,Kilpailu!C48,IF(Kilpailu!$B$6 =Kilpailu!$A$81,Kilpailu!C63,1))))-SMALL(C18:G18,1)-LARGE(C18:G18,1) -> 19
A19: 5. | B19: =IF(Kilpailu!$B$6 =Kilpailu!$A$79,Kilpailu!B34,IF(Kilpailu!$B$6 =Kilpailu!$A$80,Kilpailu!B49,IF(Kilpailu!$B$6 =Kilpailu!$A$81,Kilpailu!B64,""))) -> Nouseva 180 asteen käännös | C19: 7 | D19: 6 | E19: 7 | F19: 0 | G19: 10 | H19: =(SUM(C19:G19)*IF(Kilpailu!$B$6 =Kilpailu!$A$79,Kilpailu!C34,IF(Kilpailu!$B$6 =Kilpailu!$A$80,Kilpailu!C49,IF(Kilpailu!$B$6 =Kilpailu!$A$81,Kilpailu!C64,1))))-SMALL(C19:G19,1)-LARGE(C19:G19,1) -> 20
A20: 6. | B20: =IF(Kilpailu!$B$6 =Kilpailu!$A$79,Kilpailu!B35,IF(Kilpailu!$B$6 =Kilpailu!$A$80,Kilpailu!B50,IF(Kilpailu!$B$6 =Kilpailu!$A$81,Kilpailu!B65,""))) -> 45 asteen moottorilasku | C20: 3 | D20: 4 | E20: 4 | F20: 0 | G20: 10 | H20: =(SUM(C20:G20)*IF(Kilpailu!$B$6 =Kilpailu!$A$79,Kilpailu!C35,IF(Kilpailu!$B$6 =Kilpailu!$A$80,Kilpailu!C50,IF(Kilpailu!$B$6 =Kilpailu!$A$81,Kilpailu!C65,1))))-SMALL(C20:G20,1)-LARGE(C20:G20,1) -> 11
A21: 7. | B21: =IF(Kilpailu!$B$6 =Kilpailu!$A$79,Kilpailu!B36,IF(Kilpailu!$B$6 =Kilpailu!$A$80,Kilpailu!B51,IF(Kilpailu!$B$6 =Kilpailu!$A$81,Kilpailu!B66,""))) | F21: 0 | H21: =(SUM(C21:G21)*IF(Kilpailu!$B$6 =Kilpailu!$A$79,Kilpailu!C36,IF(Kilpailu!$B$6 =Kilpailu!$A$80,Kilpailu!C51,IF(Kilpailu!$B$6 =Kilpailu!$A$81,Kilpailu!C66,1))))-SMALL(C21:G21,1)-LARGE(C21:G21,1) -> 0
A22: 8. | B22: =IF(Kilpailu!$B$6 =Kilpailu!$A$79,Kilpailu!B37,IF(Kilpailu!$B$6 =Kilpailu!$A$80,Kilpailu!B52,IF(Kilpailu!$B$6 =Kilpailu!$A$81,Kilpailu!B67,""))) | F22: 0 | H22: =(SUM(C22:G22)*IF(Kilpailu!$B$6 =Kilpailu!$A$79,Kilpailu!C37,IF(Kilpailu!$B$6 =Kilpailu!$A$80,Kilpailu!C52,IF(Kilpailu!$B$6 =Kilpailu!$A$81,Kilpailu!C67,1))))-SMALL(C22:G22,1)-LARGE(C22:G22,1) -> 0
A23: 9. | B23: =IF(Kilpailu!$B$6 =Kilpailu!$A$79,Kilpailu!B38,IF(Kilpailu!$B$6 =Kilpailu!$A$80,Kilpailu!B53,IF(Kilpailu!$B$6 =Kilpailu!$A$81,Kilpailu!B68,""))) | F23: 0 | H23: =(SUM(C23:G23)*IF(Kilpailu!$B$6 =Kilpailu!$A$79,Kilpailu!C38,IF(Kilpailu!$B$6 =Kilpailu!$A$80,Kilpailu!C53,IF(Kilpailu!$B$6 =Kilpailu!$A$81,Kilpailu!C68,1))))-SMALL(C23:G23,1)-LARGE(C23:G23,1) -> 0
A24: 10. | B24: =IF(Kilpailu!$B$6 =Kilpailu!$A$79,Kilpailu!B39,IF(Kilpailu!$B$6 =Kilpailu!$A$80,Kilpailu!B54,IF(Kilpailu!$B$6 =Kilpailu!$A$81,Kilpailu!B69,""))) | F24: 0 | H24: =(SUM(C24:G24)*IF(Kilpailu!$B$6 =Kilpailu!$A$79,Kilpailu!C39,IF(Kilpailu!$B$6 =Kilpailu!$A$80,Kilpailu!C54,IF(Kilpailu!$B$6 =Kilpailu!$A$81,Kilpailu!C69,1))))-SMALL(C24:G24,1)-LARGE(C24:G24,1) -> 0
A25: 11. | B25: =IF(Kilpailu!$B$6 =Kilpailu!$A$79,Kilpailu!B40,IF(Kilpailu!$B$6 =Kilpailu!$A$80,Kilpailu!B55,IF(Kilpailu!$B$6 =Kilpailu!$A$81,Kilpailu!B70,""))) | F25: 0 | H25: =(SUM(C25:G25)*IF(Kilpailu!$B$6 =Kilpailu!$A$79,Kilpailu!C40,IF(Kilpailu!$B$6 =Kilpailu!$A$80,Kilpailu!C55,IF(Kilpailu!$B$6 =Kilpailu!$A$81,Kilpailu!C70,1))))-SMALL(C25:G25,1)-LARGE(C25:G25,1) -> 0
B26: Yht. | C26: =SUM(C15:C25) -> 30 | D26: =SUM(D15:D25) -> 33 | E26: =SUM(E15:E25) -> 31 | F26: =SUM(F15:F25) -> 0 | G26: =SUM(G15:G25) -> 60
A30: Kierros 2: | C30: Tuomari 1 | D30: Tuomari 2 | E30: Tuomari 3 | F30: Tuomari 4 | G30: Tuomari 5 | H30: yht.
A31: 1. | B31: =IF(Kilpailu!$B$6 =Kilpailu!$A$79,Kilpailu!B30,IF(Kilpailu!$B$6 =Kilpailu!$A$80,Kilpailu!B45,IF(Kilpailu!$B$6 =Kilpailu!$A$81,Kilpailu!B60,""))) -> Leijunta-M | C31: 4 | D31: 5 | E31: 6 | F31: 0 | G31: 10 | H31: =(SUM(C31:G31)*IF(Kilpailu!$B$6 =Kilpailu!$A$79,Kilpailu!C30,IF(Kilpailu!$B$6 =Kilpailu!$A$80,Kilpailu!C45,IF(Kilpailu!$B$6 =Kilpailu!$A$81,Kilpailu!C60,1))))-SMALL(C31:G31,1)-LARGE(C31:G31,1) -> 15
A32: 2. | B32: =IF(Kilpailu!$B$6 =Kilpailu!$A$79,Kilpailu!B31,IF(Kilpailu!$B$6 =Kilpailu!$A$80,Kilpailu!B46,IF(Kilpailu!$B$6 =Kilpailu!$A$81,Kilpailu!B61,""))) -> Leijunta TopHat | C32: 5 | D32: 5 | E32: 5 | F32: 0 | G32: 10 | H32: =(SUM(C32:G32)*IF(Kilpailu!$B$6 =Kilpailu!$A$79,Kilpailu!C31,IF(Kilpailu!$B$6 =Kilpailu!$A$80,Kilpailu!C46,IF(Kilpailu!$B$6 =Kilpailu!$A$81,Kilpailu!C61,1))))-SMALL(C32:G32,1)-LARGE(C32:G32,1) -> 15
A33: 3. | B33: =IF(Kilpailu!$B$6 =Kilpailu!$A$79,Kilpailu!B32,IF(Kilpailu!$B$6 =Kilpailu!$A$80,Kilpailu!B47,IF(Kilpailu!$B$6 =Kilpailu!$A$81,Kilpailu!B62,""))) -> Cobra | C33: 6 | D33: 6 | E33: 7 | F33: 0 | G33: 10 | H33: =(SUM(C33:G33)*IF(Kilpailu!$B$6 =Kilpailu!$A$79,Kilpailu!C32,IF(Kilpailu!$B$6 =Kilpailu!$A$80,Kilpailu!C47,IF(Kilpailu!$B$6 =Kilpailu!$A$81,Kilpailu!C62,1))))-SMALL(C33:G33,1)-LARGE(C33:G33,1) -> 19
A34: 4. | B34: =IF(Kilpailu!$B$6 =Kilpailu!$A$79,Kilpailu!B33,IF(Kilpailu!$B$6 =Kilpailu!$A$80,Kilpailu!B48,IF(Kilpailu!$B$6 =Kilpailu!$A$81,Kilpailu!B63,""))) -> Suora ohilento | C34: 7 | D34: 7 | E34: 7 | F34: 0 | G34: 10 | H34: =(SUM(C34:G34)*IF(Kilpailu!$B$6 =Kilpailu!$A$79,Kilpailu!C33,IF(Kilpailu!$B$6 =Kilpailu!$A$80,Kilpailu!C48,IF(Kilpailu!$B$6 =Kilpailu!$A$81,Kilpailu!C63,1))))-SMALL(C34:G34,1)-LARGE(C34:G34,1) -> 21
A35: 5. | B35: =IF(Kilpailu!$B$6 =Kilpailu!$A$79,Kilpailu!B34,IF(Kilpailu!$B$6 =Kilpailu!$A$80,Kilpailu!B49,IF(Kilpailu!$B$6 =Kilpailu!$A$81,Kilpailu!B64,""))) -> Nouseva 180 asteen käännös | C35: 9 | D35: 8 | E35: 8 | F35: 0 | G35: 10 | H35: =(SUM(C35:G35)*IF(Kilpailu!$B$6 =Kilpailu!$A$79,Kilpailu!C34,IF(Kilpailu!$B$6 =Kilpailu!$A$80,Kilpailu!C49,IF(Kilpailu!$B$6 =Kilpailu!$A$81,Kilpailu!C64,1))))-SMALL(C35:G35,1)-LARGE(C35:G35,1) -> 25
A36: 6. | B36: =IF(Kilpailu!$B$6 =Kilpailu!$A$79,Kilpailu!B35,IF(Kilpailu!$B$6 =Kilpailu!$A$80,Kilpailu!B50,IF(Kilpailu!$B$6 =Kilpailu!$A$81,Kilpailu!B65,""))) -> 45 asteen moottorilasku | C36: 6 | D36: 6 | E36: 6 | F36: 0 | G36: 10 | H36: =(SUM(C36:G36)*IF(Kilpailu!$B$6 =Kilpailu!$A$79,Kilpailu!C35,IF(Kilpailu!$B$6 =Kilpailu!$A$80,Kilpailu!C50,IF(Kilpailu!$B$6 =Kilpailu!$A$81,Kilpailu!C65,1))))-SMALL(C36:G36,1)-LARGE(C36:G36,1) -> 18
A37: 7. | B37: =IF(Kilpailu!$B$6 =Kilpailu!$A$79,Kilpailu!B36,IF(Kilpailu!$B$6 =Kilpailu!$A$80,Kilpailu!B51,IF(Kilpailu!$B$6 =Kilpailu!$A$81,Kilpailu!B66,""))) | F37: 0 | H37: =(SUM(C37:G37)*IF(Kilpailu!$B$6 =Kilpailu!$A$79,Kilpailu!C36,IF(Kilpailu!$B$6 =Kilpailu!$A$80,Kilpailu!C51,IF(Kilpailu!$B$6 =Kilpailu!$A$81,Kilpailu!C66,1))))-SMALL(C37:G37,1)-LARGE(C37:G37,1) -> 0
A38: 8. | B38: =IF(Kilpailu!$B$6 =Kilpailu!$A$79,Kilpailu!B37,IF(Kilpailu!$B$6 =Kilpailu!$A$80,Kilpailu!B52,IF(Kilpailu!$B$6 =Kilpailu!$A$81,Kilpailu!B67,""))) | F38: 0 | H38: =(SUM(C38:G38)*IF(Kilpailu!$B$6 =Kilpailu!$A$79,Kilpailu!C37,IF(Kilpailu!$B$6 =Kilpailu!$A$80,Kilpailu!C52,IF(Kilpailu!$B$6 =Kilpailu!$A$81,Kilpailu!C67,1))))-SMALL(C38:G38,1)-LARGE(C38:G38,1) -> 0
A39: 9. | B39: =IF(Kilpailu!$B$6 =Kilpailu!$A$79,Kilpailu!B38,IF(Kilpailu!$B$6 =Kilpailu!$A$80,Kilpailu!B53,IF(Kilpailu!$B$6 =Kilpailu!$A$81,Kilpailu!B68,""))) | F39: 0 | H39: =(SUM(C39:G39)*IF(Kilpailu!$B$6 =Kilpailu!$A$79,Kilpailu!C38,IF(Kilpailu!$B$6 =Kilpailu!$A$80,Kilpailu!C53,IF(Kilpailu!$B$6 =Kilpailu!$A$81,Kilpailu!C68,1))))-SMALL(C39:G39,1)-LARGE(C39:G39,1) -> 0
A40: 10. | B40: =IF(Kilpailu!$B$6 =Kilpailu!$A$79,Kilpailu!B39,IF(Kilpailu!$B$6 =Kilpailu!$A$80,Kilpailu!B54,IF(Kilpailu!$B$6 =Kilpailu!$A$81,Kilpailu!B69,""))) | F40: 0 | H40: =(SUM(C40:G40)*IF(Kilpailu!$B$6 =Kilpailu!$A$79,Kilpailu!C39,IF(Kilpailu!$B$6 =Kilpailu!$A$80,Kilpailu!C54,IF(Kilpailu!$B$6 =Kilpailu!$A$81,Kilpailu!C69,1))))-SMALL(C40:G40,1)-LARGE(C40:G40,1) -> 0
A41: 11. | B41: =IF(Kilpailu!$B$6 =Kilpailu!$A$79,Kilpailu!B40,IF(Kilpailu!$B$6 =Kilpailu!$A$80,Kilpailu!B55,IF(Kilpailu!$B$6 =Kilpailu!$A$81,Kilpailu!B70,""))) | F41: 0 | G41: 0 | H41: =(SUM(C41:G41)*IF(Kilpailu!$B$6 =Kilpailu!$A$79,Kilpailu!C40,IF(Kilpailu!$B$6 =Kilpailu!$A$80,Kilpailu!C55,IF(Kilpailu!$B$6 =Kilpailu!$A$81,Kilpailu!C70,1))))-SMALL(C41:G41,1)-LARGE(C41:G41,1) -> 0
B42: Yht. | C42: =SUM(C31:C41) -> 37 | D42: =SUM(D31:D41) -> 37 | E42: =SUM(E31:E41) -> 39 | F42: =SUM(F31:F41) -> 0 | G42: =SUM(G31:G41) -> 60
A46: Kierros 3: | C46: Tuomari 1 | D46: Tuomari 2 | E46: Tuomari 3 | F46: Tuomari 4 | G46: Tuomari 5 | H46: yht.
A47: 1. | B47: =IF(Kilpailu!$B$6 =Kilpailu!$A$79,Kilpailu!B30,IF(Kilpailu!$B$6 =Kilpailu!$A$80,Kilpailu!B45,IF(Kilpailu!$B$6 =Kilpailu!$A$81,Kilpailu!B60,""))) -> Leijunta-M | C47: 4 | D47: 4 | E47: 5 | F47: 0 | G47: 10 | H47: =(SUM(C47:G47)*IF(Kilpailu!$B$6 =Kilpailu!$A$79,Kilpailu!C30,IF(Kilpailu!$B$6 =Kilpailu!$A$80,Kilpailu!C45,IF(Kilpailu!$B$6 =Kilpailu!$A$81,Kilpailu!C60,1))))-SMALL(C47:G47,1)-LARGE(C47:G47,1) -> 13
A48: 2. | B48: =IF(Kilpailu!$B$6 =Kilpailu!$A$79,Kilpailu!B31,IF(Kilpailu!$B$6 =Kilpailu!$A$80,Kilpailu!B46,IF(Kilpailu!$B$6 =Kilpailu!$A$81,Kilpailu!B61,""))) -> Leijunta TopHat | C48: 5 | D48: 4 | E48: 6 | F48: 0 | G48: 10 | H48: =(SUM(C48:G48)*IF(Kilpailu!$B$6 =Kilpailu!$A$79,Kilpailu!C31,IF(Kilpailu!$B$6 =Kilpailu!$A$80,Kilpailu!C46,IF(Kilpailu!$B$6 =Kilpailu!$A$81,Kilpailu!C61,1))))-SMALL(C48:G48,1)-LARGE(C48:G48,1) -> 15
A49: 3. | B49: =IF(Kilpailu!$B$6 =Kilpailu!$A$79,Kilpailu!B32,IF(Kilpailu!$B$6 =Kilpailu!$A$80,Kilpailu!B47,IF(Kilpailu!$B$6 =Kilpailu!$A$81,Kilpailu!B62,""))) -> Cobra | C49: 3 | D49: 5 | E49: 6 | F49: 0 | G49: 10 | H49: =(SUM(C49:G49)*IF(Kilpailu!$B$6 =Kilpailu!$A$79,Kilpailu!C32,IF(Kilpailu!$B$6 =Kilpailu!$A$80,Kilpailu!C47,IF(Kilpailu!$B$6 =Kilpailu!$A$81,Kilpailu!C62,1))))-SMALL(C49:G49,1)-LARGE(C49:G49,1) -> 14
A50: 4. | B50: =IF(Kilpailu!$B$6 =Kilpailu!$A$79,Kilpailu!B33,IF(Kilpailu!$B$6 =Kilpailu!$A$80,Kilpailu!B48,IF(Kilpailu!$B$6 =Kilpailu!$A$81,Kilpailu!B63,""))) -> Suora ohilento | C50: 6 | D50: 7 | E50: 7 | F50: 0 | G50: 10 | H50: =(SUM(C50:G50)*IF(Kilpailu!$B$6 =Kilpailu!$A$79,Kilpailu!C33,IF(Kilpailu!$B$6 =Kilpailu!$A$80,Kilpailu!C48,IF(Kilpailu!$B$6 =Kilpailu!$A$81,Kilpailu!C63,1))))-SMALL(C50:G50,1)-LARGE(C50:G50,1) -> 20
A51: 5. | B51: =IF(Kilpailu!$B$6 =Kilpailu!$A$79,Kilpailu!B34,IF(Kilpailu!$B$6 =Kilpailu!$A$80,Kilpailu!B49,IF(Kilpailu!$B$6 =Kilpailu!$A$81,Kilpailu!B64,""))) -> Nouseva 180 asteen käännös | C51: 7 | D51: 7 | E51: 8 | F51: 0 | G51: 10 | H51: =(SUM(C51:G51)*IF(Kilpailu!$B$6 =Kilpailu!$A$79,Kilpailu!C34,IF(Kilpailu!$B$6 =Kilpailu!$A$80,Kilpailu!C49,IF(Kilpailu!$B$6 =Kilpailu!$A$81,Kilpailu!C64,1))))-SMALL(C51:G51,1)-LARGE(C51:G51,1) -> 22
A52: 6. | B52: =IF(Kilpailu!$B$6 =Kilpailu!$A$79,Kilpailu!B35,IF(Kilpailu!$B$6 =Kilpailu!$A$80,Kilpailu!B50,IF(Kilpailu!$B$6 =Kilpailu!$A$81,Kilpailu!B65,""))) -> 45 asteen moottorilasku | C52: 4 | D52: 4 | E52: 7 | F52: 0 | G52: 10 | H52: =(SUM(C52:G52)*IF(Kilpailu!$B$6 =Kilpailu!$A$79,Kilpailu!C35,IF(Kilpailu!$B$6 =Kilpailu!$A$80,Kilpailu!C50,IF(Kilpailu!$B$6 =Kilpailu!$A$81,Kilpailu!C65,1))))-SMALL(C52:G52,1)-LARGE(C52:G52,1) -> 15
A53: 7. | B53: =IF(Kilpailu!$B$6 =Kilpailu!$A$79,Kilpailu!B36,IF(Kilpailu!$B$6 =Kilpailu!$A$80,Kilpailu!B51,IF(Kilpailu!$B$6 =Kilpailu!$A$81,Kilpailu!B66,""))) | F53: 0 | G53: 0 | H53: =(SUM(C53:G53)*IF(Kilpailu!$B$6 =Kilpailu!$A$79,Kilpailu!C36,IF(Kilpailu!$B$6 =Kilpailu!$A$80,Kilpailu!C51,IF(Kilpailu!$B$6 =Kilpailu!$A$81,Kilpailu!C66,1))))-SMALL(C53:G53,1)-LARGE(C53:G53,1) -> 0
A54: 8. | B54: =IF(Kilpailu!$B$6 =Kilpailu!$A$79,Kilpailu!B37,IF(Kilpailu!$B$6 =Kilpailu!$A$80,Kilpailu!B52,IF(Kilpailu!$B$6 =Kilpailu!$A$81,Kilpailu!B67,""))) | F54: 0 | H54: =(SUM(C54:G54)*IF(Kilpailu!$B$6 =Kilpailu!$A$79,Kilpailu!C37,IF(Kilpailu!$B$6 =Kilpailu!$A$80,Kilpailu!C52,IF(Kilpailu!$B$6 =Kilpailu!$A$81,Kilpailu!C67,1))))-SMALL(C54:G54,1)-LARGE(C54:G54,1) -> 0
A55: 9. | B55: =IF(Kilpailu!$B$6 =Kilpailu!$A$79,Kilpailu!B38,IF(Kilpailu!$B$6 =Kilpailu!$A$80,Kilpailu!B53,IF(Kilpailu!$B$6 =Kilpailu!$A$81,Kilpailu!B68,""))) | F55: 0 | H55: =(SUM(C55:G55)*IF(Kilpailu!$B$6 =Kilpailu!$A$79,Kilpailu!C38,IF(Kilpailu!$B$6 =Kilpailu!$A$80,Kilpailu!C53,IF(Kilpailu!$B$6 =Kilpailu!$A$81,Kilpailu!C68,1))))-SMALL(C55:G55,1)-LARGE(C55:G55,1) -> 0
A56: 10. | B56: =IF(Kilpailu!$B$6 =Kilpailu!$A$79,Kilpailu!B39,IF(Kilpailu!$B$6 =Kilpailu!$A$80,Kilpailu!B54,IF(Kilpailu!$B$6 =Kilpailu!$A$81,Kilpailu!B69,""))) | F56: 0 | H56: =(SUM(C56:G56)*IF(Kilpailu!$B$6 =Kilpailu!$A$79,Kilpailu!C39,IF(Kilpailu!$B$6 =Kilpailu!$A$80,Kilpailu!C54,IF(Kilpailu!$B$6 =Kilpailu!$A$81,Kilpailu!C69,1))))-SMALL(C56:G56,1)-LARGE(C56:G56,1) -> 0
A57: 11. | B57: =IF(Kilpailu!$B$6 =Kilpailu!$A$79,Kilpailu!B40,IF(Kilpailu!$B$6 =Kilpailu!$A$80,Kilpailu!B55,IF(Kilpailu!$B$6 =Kilpailu!$A$81,Kilpailu!B70,""))) | G57: 0 | H57: =(SUM(C57:G57)*IF(Kilpailu!$B$6 =Kilpailu!$A$79,Kilpailu!C40,IF(Kilpailu!$B$6 =Kilpailu!$A$80,Kilpailu!C55,IF(Kilpailu!$B$6 =Kilpailu!$A$81,Kilpailu!C70,1))))-SMALL(C57:G57,1)-LARGE(C57:G57,1) -> 0
B58: Yht. | C58: =SUM(C47:C57) -> 29 | D58: =SUM(D47:D57) -> 31 | E58: =SUM(E47:E57) -> 39 | F58: =SUM(F47:F57) -> 0 | G58: =SUM(G47:G57) -> 60

Sheet 5
D4: Pisteet | E4: Suht…
A5: Nimi: | B5: =Kilpailu!B14 -> Toni | C5: Kierros 1. | D5: =SUM(C26:G26)-LARGE(C26:G26,1)-SMALL(C26:G26,1) -> 112 | E5: =Tulokset!D32 -> 925.61983
C6: Kierros 2. | D6: =SUM(C42:G42)-LARGE(C42:G42,1)-SMALL(C42:G42,1) -> 134 | E6: =Tulokset!D52 -> 1000
A7: Paikka: | B7: =Kilpailu!B4 -> Vesivehmaa | C7: Kierros 3. | D7: =SUM(C58:G58)-LARGE(C58:G58,1)-SMALL(C58:G58,1) -> 145 | E7: =Tulokset!D72 -> 1000
A8: Päivä: | B8: =Kilpailu!B5 -> 42217
A9: Ohjelma: | B9: =Kilpailu!B6 -> Popular | C9: yhteensä: | D9: =SUM(D5:D7) -> 391 | E9: =SUM(E5:E7) -> 2925.6198
C10: pois: | D10: =SMALL(D5:D7,1) -> 112 | E10: =SMALL(E5:E7,1) -> 925.61983
C11: 2 parasta: | D11: =SUM(D5:D7)-D10 -> 279 | E11: =SUM(E5:E7)-E10 -> 2000
A14: Kierros 1: | C14: Tuomari 1 | D14: Tuomari 2 | E14: Tuomari 3 | F14: Tuomari 4 | G14: Tuomari 5 | H14: yht.
A15: 1. | B15: =IF(Kilpailu!$B$6 =Kilpailu!$A$79,Kilpailu!B30,IF(Kilpailu!$B$6 =Kilpailu!$A$80,Kilpailu!B45,IF(Kilpailu!$B$6 =Kilpailu!$A$81,Kilpailu!B60,""))) -> Leijunta-M | C15: 6 | D15: 5 | E15: 7 | F15: 0 | G15: 10 | H15: =(SUM(C15:G15)*IF(Kilpailu!$B$6 =Kilpailu!$A$79,Kilpailu!C30,IF(Kilpailu!$B$6 =Kilpailu!$A$80,Kilpailu!C45,IF(Kilpailu!$B$6 =Kilpailu!$A$81,Kilpailu!C60,1))))-SMALL(C15:G15,1)-LARGE(C15:G15,1) -> 18
A16: 2. | B16: =IF(Kilpailu!$B$6 =Kilpailu!$A$79,Kilpailu!B31,IF(Kilpailu!$B$6 =Kilpailu!$A$80,Kilpailu!B46,IF(Kilpailu!$B$6 =Kilpailu!$A$81,Kilpailu!B61,""))) -> Leijunta TopHat | C16: 4 | D16: 6 | E16: 7 | F16: 0 | G16: 10 | H16: =(SUM(C16:G16)*IF(Kilpailu!$B$6 =Kilpailu!$A$79,Kilpailu!C31,IF(Kilpailu!$B$6 =Kilpailu!$A$80,Kilpailu!C46,IF(Kilpailu!$B$6 =Kilpailu!$A$81,Kilpailu!C61,1))))-SMALL(C16:G16,1)-LARGE(C16:G16,1) -> 17
A17: 3. | B17: =IF(Kilpailu!$B$6 =Kilpailu!$A$79,Kilpailu!B32,IF(Kilpailu!$B$6 =Kilpailu!$A$80,Kilpailu!B47,IF(Kilpailu!$B$6 =Kilpailu!$A$81,Kilpailu!B62,""))) -> Cobra | C17: 3 | D17: 6 | E17: 6 | F17: 0 | G17: 10 | H17: =(SUM(C17:G17)*IF(Kilpailu!$B$6 =Kilpailu!$A$79,Kilpailu!C32,IF(Kilpailu!$B$6 =Kilpailu!$A$80,Kilpailu!C47,IF(Kilpailu!$B$6 =Kilpailu!$A$81,Kilpailu!C62,1))))-SMALL(C17:G17,1)-LARGE(C17:G17,1) -> 15
A18: 4. | B18: =IF(Kilpailu!$B$6 =Kilpailu!$A$79,Kilpailu!B33,IF(Kilpailu!$B$6 =Kilpailu!$A$80,Kilpailu!B48,IF(Kilpailu!$B$6 =Kilpailu!$A$81,Kilpailu!B63,""))) -> Suora ohilento | C18: 8 | D18: 7 | E18: 8 | F18: 0 | G18: 10 | H18: =(SUM(C18:G18)*IF(Kilpailu!$B$6 =Kilpailu!$A$79,Kilpailu!C33,IF(Kilpailu!$B$6 =Kilpailu!$A$80,Kilpailu!C48,IF(Kilpailu!$B$6 =Kilpailu!$A$81,Kilpailu!C63,1))))-SMALL(C18:G18,1)-LARGE(C18:G18,1) -> 23
A19: 5. | B19: =IF(Kilpailu!$B$6 =Kilpailu!$A$79,Kilpailu!B34,IF(Kilpailu!$B$6 =Kilpailu!$A$80,Kilpailu!B49,IF(Kilpailu!$B$6 =Kilpailu!$A$81,Kilpailu!B64,""))) -> Nouseva 180 asteen käännös | C19: 8 | D19: 7 | E19: 7 | F19: 0 | G19: 10 | H19: =(SUM(C19:G19)*IF(Kilpailu!$B$6 =Kilpailu!$A$79,Kilpailu!C34,IF(Kilpailu!$B$6 =Kilpailu!$A$80,Kilpailu!C49,IF(Kilpailu!$B$6 =Kilpailu!$A$81,Kilpailu!C64,1))))-SMALL(C19:G19,1)-LARGE(C19:G19,1) -> 22
A20: 6. | B20: =IF(Kilpailu!$B$6 =Kilpailu!$A$79,Kilpailu!B35,IF(Kilpailu!$B$6 =Kilpailu!$A$80,Kilpailu!B50,IF(Kilpailu!$B$6 =Kilpailu!$A$81,Kilpailu!B65,""))) -> 45 asteen moottorilasku | C20: 6 | D20: 5 | E20: 6 | F20: 0 | G20: 10 | H20: =(SUM(C20:G20)*IF(Kilpailu!$B$6 =Kilpailu!$A$79,Kilpailu!C35,IF(Kilpailu!$B$6 =Kilpailu!$A$80,Kilpailu!C50,IF(Kilpailu!$B$6 =Kilpailu!$A$81,Kilpailu!C65,1))))-SMALL(C20:G20,1)-LARGE(C20:G20,1) -> 17
A21: 7. | B21: =IF(Kilpailu!$B$6 =Kilpailu!$A$79,Kilpailu!B36,IF(Kilpailu!$B$6 =Kilpailu!$A$80,Kilpailu!B51,IF(Kilpailu!$B$6 =Kilpailu!$A$81,Kilpailu!B66,""))) | F21: 0 | H21: =(SUM(C21:G21)*IF(Kilpailu!$B$6 =Kilpailu!$A$79,Kilpailu!C36,IF(Kilpailu!$B$6 =Kilpailu!$A$80,Kilpailu!C51,IF(Kilpailu!$B$6 =Kilpailu!$A$81,Kilpailu!C66,1))))-SMALL(C21:G21,1)-LARGE(C21:G21,1) -> 0
A22: 8. | B22: =IF(Kilpailu!$B$6 =Kilpailu!$A$79,Kilpailu!B37,IF(Kilpailu!$B$6 =Kilpailu!$A$80,Kilpailu!B52,IF(Kilpailu!$B$6 =Kilpailu!$A$81,Kilpailu!B67,""))) | F22: 0 | H22: =(SUM(C22:G22)*IF(Kilpailu!$B$6 =Kilpailu!$A$79,Kilpailu!C37,IF(Kilpailu!$B$6 =Kilpailu!$A$80,Kilpailu!C52,IF(Kilpailu!$B$6 =Kilpailu!$A$81,Kilpailu!C67,1))))-SMALL(C22:G22,1)-LARGE(C22:G22,1) -> 0
A23: 9. | B23: =IF(Kilpailu!$B$6 =Kilpailu!$A$79,Kilpailu!B38,IF(Kilpailu!$B$6 =Kilpailu!$A$80,Kilpailu!B53,IF(Kilpailu!$B$6 =Kilpailu!$A$81,Kilpailu!B68,""))) | F23: 0 | H23: =(SUM(C23:G23)*IF(Kilpailu!$B$6 =Kilpailu!$A$79,Kilpailu!C38,IF(Kilpailu!$B$6 =Kilpailu!$A$80,Kilpailu!C53,IF(Kilpailu!$B$6 =Kilpailu!$A$81,Kilpailu!C68,1))))-SMALL(C23:G23,1)-LARGE(C23:G23,1) -> 0
A24: 10. | B24: =IF(Kilpailu!$B$6 =Kilpailu!$A$79,Kilpailu!B39,IF(Kilpailu!$B$6 =Kilpailu!$A$80,Kilpailu!B54,IF(Kilpailu!$B$6 =Kilpailu!$A$81,Kilpailu!B69,""))) | F24: 0 | H24: =(SUM(C24:G24)*IF(Kilpailu!$B$6 =Kilpailu!$A$79,Kilpailu!C39,IF(Kilpailu!$B$6 =Kilpailu!$A$80,Kilpailu!C54,IF(Kilpailu!$B$6 =Kilpailu!$A$81,Kilpailu!C69,1))))-SMALL(C24:G24,1)-LARGE(C24:G24,1) -> 0
A25: 11. | B25: =IF(Kilpailu!$B$6 =Kilpailu!$A$79,Kilpailu!B40,IF(Kilpailu!$B$6 =Kilpailu!$A$80,Kilpailu!B55,IF(Kilpailu!$B$6 =Kilpailu!$A$81,Kilpailu!B70,""))) | F25: 0 | H25: =(SUM(C25:G25)*IF(Kilpailu!$B$6 =Kilpailu!$A$79,Kilpailu!C40,IF(Kilpailu!$B$6 =Kilpailu!$A$80,Kilpailu!C55,IF(Kilpailu!$B$6 =Kilpailu!$A$81,Kilpailu!C70,1))))-SMALL(C25:G25,1)-LARGE(C25:G25,1) -> 0
B26: Yht. | C26: =SUM(C15:C25) -> 35 | D26: =SUM(D15:D25) -> 36 | E26: =SUM(E15:E25) -> 41 | F26: =SUM(F15:F25) -> 0 | G26: =SUM(G15:G25) -> 60
A30: Kierros 2: | C30: Tuomari 1 | D30: Tuomari 2 | E30: Tuomari 3 | F30: Tuomari 4 | G30: Tuomari 5 | H30: yht.
A31: 1. | B31: =IF(Kilpailu!$B$6 =Kilpailu!$A$79,Kilpailu!B30,IF(Kilpailu!$B$6 =Kilpailu!$A$80,Kilpailu!B45,IF(Kilpailu!$B$6 =Kilpailu!$A$81,Kilpailu!B60,""))) -> Leijunta-M | C31: 7 | D31: 7 | E31: 8 | F31: 0 | G31: 10 | H31: =(SUM(C31:G31)*IF(Kilpailu!$B$6 =Kilpailu!$A$79,Kilpailu!C30,IF(Kilpailu!$B$6 =Kilpailu!$A$80,Kilpailu!C45,IF(Kilpailu!$B$6 =Kilpailu!$A$81,Kilpailu!C60,1))))-SMALL(C31:G31,1)-LARGE(C31:G31,1) -> 22
A32: 2. | B32: =IF(Kilpailu!$B$6 =Kilpailu!$A$79,Kilpailu!B31,IF(Kilpailu!$B$6 =Kilpailu!$A$80,Kilpailu!B46,IF(Kilpailu!$B$6 =Kilpailu!$A$81,Kilpailu!B61,""))) -> Leijunta TopHat | C32: 6 | D32: 6 | E32: 6 | F32: 0 | G32: 10 | H32: =(SUM(C32:G32)*IF(Kilpailu!$B$6 =Kilpailu!$A$79,Kilpailu!C31,IF(Kilpailu!$B$6 =Kilpailu!$A$80,Kilpailu!C46,IF(Kilpailu!$B$6 =Kilpailu!$A$81,Kilpailu!C61,1))))-SMALL(C32:G32,1)-LARGE(C32:G32,1) -> 18
A33: 3. | B33: =IF(Kilpailu!$B$6 =Kilpailu!$A$79,Kilpailu!B32,IF(Kilpailu!$B$6 =Kilpailu!$A$80,Kilpailu!B47,IF(Kilpailu!$B$6 =Kilpailu!$A$81,Kilpailu!B62,""))) -> Cobra | C33: 7 | D33: 7 | E33: 7 | F33: 0 | G33: 10 | H33: =(SUM(C33:G33)*IF(Kilpailu!$B$6 =Kilpailu!$A$79,Kilpailu!C32,IF(Kilpailu!$B$6 =Kilpailu!$A$80,Kilpailu!C47,IF(Kilpailu!$B$6 =Kilpailu!$A$81,Kilpailu!C62,1))))-SMALL(C33:G33,1)-LARGE(C33:G33,1) -> 21
A34: 4. | B34: =IF(Kilpailu!$B$6 =Kilpailu!$A$79,Kilpailu!B33,IF(Kilpailu!$B$6 =Kilpailu!$A$80,Kilpailu!B48,IF(Kilpailu!$B$6 =Kilpailu!$A$81,Kilpailu!B63,""))) -> Suora ohilento | C34: 9 | D34: 8 | E34: 8 | F34: 0 | G34: 10 | H34: =(SUM(C34:G34)*IF(Kilpailu!$B$6 =Kilpailu!$A$79,Kilpailu!C33,IF(Kilpailu!$B$6 =Kilpailu!$A$80,Kilpailu!C48,IF(Kilpailu!$B$6 =Kilpailu!$A$81,Kilpailu!C63,1))))-SMALL(C34:G34,1)-LARGE(C34:G34,1) -> 25
A35: 5. | B35: =IF(Kilpailu!$B$6 =Kilpailu!$A$79,Kilpailu!B34,IF(Kilpailu!$B$6 =Kilpailu!$A$80,Kilpailu!B49,IF(Kilpailu!$B$6 =Kilpailu!$A$81,Kilpailu!B64,""))) -> Nouseva 180 asteen käännös | C35: 7 | D35: 7 | E35: 8 | F35: 0 | G35: 10 | H35: =(SUM(C35:G35)*IF(Kilpailu!$B$6 =Kilpailu!$A$79,Kilpailu!C34,IF(Kilpailu!$B$6 =Kilpailu!$A$80,Kilpailu!C49,IF(Kilpailu!$B$6 =Kilpailu!$A$81,Kilpailu!C64,1))))-SMALL(C35:G35,1)-LARGE(C35:G35,1) -> 22
A36: 6. | B36: =IF(Kilpailu!$B$6 =Kilpailu!$A$79,Kilpailu!B35,IF(Kilpailu!$B$6 =Kilpailu!$A$80,Kilpailu!B50,IF(Kilpailu!$B$6 =Kilpailu!$A$81,Kilpailu!B65,""))) -> 45 asteen moottorilasku | C36: 9 | D36: 9 | E36: 8 | F36: 0 | G36: 10 | H36: =(SUM(C36:G36)*IF(Kilpailu!$B$6 =Kilpailu!$A$79,Kilpailu!C35,IF(Kilpailu!$B$6 =Kilpailu!$A$80,Kilpailu!C50,IF(Kilpailu!$B$6 =Kilpailu!$A$81,Kilpailu!C65,1))))-SMALL(C36:G36,1)-LARGE(C36:G36,1) -> 26
A37: 7. | B37: =IF(Kilpailu!$B$6 =Kilpailu!$A$79,Kilpailu!B36,IF(Kilpailu!$B$6 =Kilpailu!$A$80,Kilpailu!B51,IF(Kilpailu!$B$6 =Kilpailu!$A$81,Kilpailu!B66,""))) | F37: 0 | H37: =(SUM(C37:G37)*IF(Kilpailu!$B$6 =Kilpailu!$A$79,Kilpailu!C36,IF(Kilpailu!$B$6 =Kilpailu!$A$80,Kilpailu!C51,IF(Kilpailu!$B$6 =Kilpailu!$A$81,Kilpailu!C66,1))))-SMALL(C37:G37,1)-LARGE(C37:G37,1) -> 0
A38: 8. | B38: =IF(Kilpailu!$B$6 =Kilpailu!$A$79,Kilpailu!B37,IF(Kilpailu!$B$6 =Kilpailu!$A$80,Kilpailu!B52,IF(Kilpailu!$B$6 =Kilpailu!$A$81,Kilpailu!B67,""))) | F38: 0 | H38: =(SUM(C38:G38)*IF(Kilpailu!$B$6 =Kilpailu!$A$79,Kilpailu!C37,IF(Kilpailu!$B$6 =Kilpailu!$A$80,Kilpailu!C52,IF(Kilpailu!$B$6 =Kilpailu!$A$81,Kilpailu!C67,1))))-SMALL(C38:G38,1)-LARGE(C38:G38,1) -> 0
A39: 9. | B39: =IF(Kilpailu!$B$6 =Kilpailu!$A$79,Kilpailu!B38,IF(Kilpailu!$B$6 =Kilpailu!$A$80,Kilpailu!B53,IF(Kilpailu!$B$6 =Kilpailu!$A$81,Kilpailu!B68,""))) | F39: 0 | H39: =(SUM(C39:G39)*IF(Kilpailu!$B$6 =Kilpailu!$A$79,Kilpailu!C38,IF(Kilpailu!$B$6 =Kilpailu!$A$80,Kilpailu!C53,IF(Kilpailu!$B$6 =Kilpailu!$A$81,Kilpailu!C68,1))))-SMALL(C39:G39,1)-LARGE(C39:G39,1) -> 0
A40: 10. | B40: =IF(Kilpailu!$B$6 =Kilpailu!$A$79,Kilpailu!B39,IF(Kilpailu!$B$6 =Kilpailu!$A$80,Kilpailu!B54,IF(Kilpailu!$B$6 =Kilpailu!$A$81,Kilpailu!B69,""))) | F40: 0 | H40: =(SUM(C40:G40)*IF(Kilpailu!$B$6 =Kilpailu!$A$79,Kilpailu!C39,IF(Kilpailu!$B$6 =Kilpailu!$A$80,Kilpailu!C54,IF(Kilpailu!$B$6 =Kilpailu!$A$81,Kilpailu!C69,1))))-SMALL(C40:G40,1)-LARGE(C40:G40,1) -> 0
A41: 11. | B41: =IF(Kilpailu!$B$6 =Kilpailu!$A$79,Kilpailu!B40,IF(Kilpailu!$B$6 =Kilpailu!$A$80,Kilpailu!B55,IF(Kilpailu!$B$6 =Kilpailu!$A$81,Kilpailu!B70,""))) | F41: 0 | H41: =(SUM(C41:G41)*IF(Kilpailu!$B$6 =Kilpailu!$A$79,Kilpailu!C40,IF(Kilpailu!$B$6 =Kilpailu!$A$80,Kilpailu!C55,IF(Kilpailu!$B$6 =Kilpailu!$A$81,Kilpailu!C70,1))))-SMALL(C41:G41,1)-LARGE(C41:G41,1) -> 0
B42: Yht. | C42: =SUM(C31:C41) -> 45 | D42: =SUM(D31:D41) -> 44 | E42: =SUM(E31:E41) -> 45 | F42: =SUM(F31:F41) -> 0 | G42: =SUM(G31:G41) -> 60
A46: Kierros 3: | C46: Tuomari 1 | D46: Tuomari 2 | E46: Tuomari 3 | F46: Tuomari 4 | G46: Tuomari 5 | H46: yht.
A47: 1. | B47: =IF(Kilpailu!$B$6 =Kilpailu!$A$79,Kilpailu!B30,IF(Kilpailu!$B$6 =Kilpailu!$A$80,Kilpailu!B45,IF(Kilpailu!$B$6 =Kilpailu!$A$81,Kilpailu!B60,""))) -> Leijunta-M | C47: 6 | D47: 6 | E47: 8 | F47: 0 | G47: 10 | H47: =(SUM(C47:G47)*IF(Kilpailu!$B$6 =Kilpailu!$A$79,Kilpailu!C30,IF(Kilpailu!$B$6 =Kilpailu!$A$80,Kilpailu!C45,IF(Kilpailu!$B$6 =Kilpailu!$A$81,Kilpailu!C60,1))))-SMALL(C47:G47,1)-LARGE(C47:G47,1) -> 20
A48: 2. | B48: =IF(Kilpailu!$B$6 =Kilpailu!$A$79,Kilpailu!B31,IF(Kilpailu!$B$6 =Kilpailu!$A$80,Kilpailu!B46,IF(Kilpailu!$B$6 =Kilpailu!$A$81,Kilpailu!B61,""))) -> Leijunta TopHat | C48: 7 | D48: 7 | E48: 9 | F48: 0 | G48: 10 | H48: =(SUM(C48:G48)*IF(Kilpailu!$B$6 =Kilpailu!$A$79,Kilpailu!C31,IF(Kilpailu!$B$6 =Kilpailu!$A$80,Kilpailu!C46,IF(Kilpailu!$B$6 =Kilpailu!$A$81,Kilpailu!C61,1))))-SMALL(C48:G48,1)-LARGE(C48:G48,1) -> 23
A49: 3. | B49: =IF(Kilpailu!$B$6 =Kilpailu!$A$79,Kilpailu!B32,IF(Kilpailu!$B$6 =Kilpailu!$A$80,Kilpailu!B47,IF(Kilpailu!$B$6 =Kilpailu!$A$81,Kilpailu!B62,""))) -> Cobra | C49: 7 | D49: 8 | E49: 9 | F49: 0 | G49: 10 | H49: =(SUM(C49:G49)*IF(Kilpailu!$B$6 =Kilpailu!$A$79,Kilpailu!C32,IF(Kilpailu!$B$6 =Kilpailu!$A$80,Kilpailu!C47,IF(Kilpailu!$B$6 =Kilpailu!$A$81,Kilpailu!C62,1))))-SMALL(C49:G49,1)-LARGE(C49:G49,1) -> 24
A50: 4. | B50: =IF(Kilpailu!$B$6 =Kilpailu!$A$79,Kilpailu!B33,IF(Kilpailu!$B$6 =Kilpailu!$A$80,Kilpailu!B48,IF(Kilpailu!$B$6 =Kilpailu!$A$81,Kilpailu!B63,""))) -> Suora ohilento | C50: 9 | D50: 9 | E50: 8 | F50: 0 | G50: 10 | H50: =(SUM(C50:G50)*IF(Kilpailu!$B$6 =Kilpailu!$A$79,Kilpailu!C33,IF(Kilpailu!$B$6 =Kilpailu!$A$80,Kilpailu!C48,IF(Kilpailu!$B$6 =Kilpailu!$A$81,Kilpailu!C63,1))))-SMALL(C50:G50,1)-LARGE(C50:G50,1) -> 26
A51: 5. | B51: =IF(Kilpailu!$B$6 =Kilpailu!$A$79,Kilpailu!B34,IF(Kilpailu!$B$6 =Kilpailu!$A$80,Kilpailu!B49,IF(Kilpailu!$B$6 =Kilpailu!$A$81,Kilpailu!B64,""))) -> Nouseva 180 asteen käännös | C51: 9 | D51: 9 | E51: 9 | F51: 0 | G51: 10 | H51: =(SUM(C51:G51)*IF(Kilpailu!$B$6 =Kilpailu!$A$79,Kilpailu!C34,IF(Kilpailu!$B$6 =Kilpailu!$A$80,Kilpailu!C49,IF(Kilpailu!$B$6 =Kilpailu!$A$81,Kilpailu!C64,1))))-SMALL(C51:G51,1)-LARGE(C51:G51,1) -> 27
A52: 6. | B52: =IF(Kilpailu!$B$6 =Kilpailu!$A$79,Kilpailu!B35,IF(Kilpailu!$B$6 =Kilpailu!$A$80,Kilpailu!B50,IF(Kilpailu!$B$6 =Kilpailu!$A$81,Kilpailu!B65,""))) -> 45 asteen moottorilasku | C52: 8 | D52: 8 | E52: 9 | F52: 0 | G52: 10 | H52: =(SUM(C52:G52)*IF(Kilpailu!$B$6 =Kilpailu!$A$79,Kilpailu!C35,IF(Kilpailu!$B$6 =Kilpailu!$A$80,Kilpailu!C50,IF(Kilpailu!$B$6 =Kilpailu!$A$81,Kilpailu!C65,1))))-SMALL(C52:G52,1)-LARGE(C52:G52,1) -> 25
A53: 7. | B53: =IF(Kilpailu!$B$6 =Kilpailu!$A$79,Kilpailu!B36,IF(Kilpailu!$B$6 =Kilpailu!$A$80,Kilpailu!B51,IF(Kilpailu!$B$6 =Kilpailu!$A$81,Kilpailu!B66,""))) | F53: 0 | H53: =(SUM(C53:G53)*IF(Kilpailu!$B$6 =Kilpailu!$A$79,Kilpailu!C36,IF(Kilpailu!$B$6 =Kilpailu!$A$80,Kilpailu!C51,IF(Kilpailu!$B$6 =Kilpailu!$A$81,Kilpailu!C66,1))))-SMALL(C53:G53,1)-LARGE(C53:G53,1) -> 0
A54: 8. | B54: =IF(Kilpailu!$B$6 =Kilpailu!$A$79,Kilpailu!B37,IF(Kilpailu!$B$6 =Kilpailu!$A$80,Kilpailu!B52,IF(Kilpailu!$B$6 =Kilpailu!$A$81,Kilpailu!B67,""))) | F54: 0 | H54: =(SUM(C54:G54)*IF(Kilpailu!$B$6 =Kilpailu!$A$79,Kilpailu!C37,IF(Kilpailu!$B$6 =Kilpailu!$A$80,Kilpailu!C52,IF(Kilpailu!$B$6 =Kilpailu!$A$81,Kilpailu!C67,1))))-SMALL(C54:G54,1)-LARGE(C54:G54,1) -> 0
A55: 9. | B55: =IF(Kilpailu!$B$6 =Kilpailu!$A$79,Kilpailu!B38,IF(Kilpailu!$B$6 =Kilpailu!$A$80,Kilpailu!B53,IF(Kilpailu!$B$6 =Kilpailu!$A$81,Kilpailu!B68,""))) | F55: 0 | H55: =(SUM(C55:G55)*IF(Kilpailu!$B$6 =Kilpailu!$A$79,Kilpailu!C38,IF(Kilpailu!$B$6 =Kilpailu!$A$80,Kilpailu!C53,IF(Kilpailu!$B$6 =Kilpailu!$A$81,Kilpailu!C68,1))))-SMALL(C55:G55,1)-LARGE(C55:G55,1) -> 0
A56: 10. | B56: =IF(Kilpailu!$B$6 =Kilpailu!$A$79,Kilpailu!B39,IF(Kilpailu!$B$6 =Kilpailu!$A$80,Kilpailu!B54,IF(Kilpailu!$B$6 =Kilpailu!$A$81,Kilpailu!B69,""))) | F56: 0 | H56: =(SUM(C56:G56)*IF(Kilpailu!$B$6 =Kilpailu!$A$79,Kilpailu!C39,IF(Kilpailu!$B$6 =Kilpailu!$A$80,Kilpailu!C54,IF(Kilpailu!$B$6 =Kilpailu!$A$81,Kilpailu!C69,1))))-SMALL(C56:G56,1)-LARGE(C56:G56,1) -> 0
A57: 11. | B57: =IF(Kilpailu!$B$6 =Kilpailu!$A$79,Kilpailu!B40,IF(Kilpailu!$B$6 =Kilpailu!$A$80,Kilpailu!B55,IF(Kilpailu!$B$6 =Kilpailu!$A$81,Kilpailu!B70,""))) | F57: 0 | H57: =(SUM(C57:G57)*IF(Kilpailu!$B$6 =Kilpailu!$A$79,Kilpailu!C40,IF(Kilpailu!$B$6 =Kilpailu!$A$80,Kilpailu!C55,IF(Kilpailu!$B$6 =Kilpailu!$A$81,Kilpailu!C70,1))))-SMALL(C57:G57,1)-LARGE(C57:G57,1) -> 0
B58: Yht. | C58: =SUM(C47:C57) -> 46 | D58: =SUM(D47:D57) -> 47 | E58: =SUM(E47:E57) -> 52 | F58: =SUM(F47:F57) -> 0 | G58: =SUM(G47:G57) -> 60

Sheet 6
D4: Pisteet | E4: Suht…
A5: Nimi: | B5: =Kilpailu!B15 -> Pekka | C5: Kierros 1. | D5: =SUM(C26:G26)-LARGE(C26:G26,1)-SMALL(C26:G26,1) -> 117 | E5: =Tulokset!D33 -> 966.94215
C6: Kierros 2. | D6: =SUM(C42:G42)-LARGE(C42:G42,1)-SMALL(C42:G42,1) -> 124 | E6: =Tulokset!D53 -> 925.37313
A7: Paikka: | B7: =Kilpailu!B4 -> Vesivehmaa | C7: Kierros 3. | D7: =SUM(C58:G58)-LARGE(C58:G58,1)-SMALL(C58:G58,1) -> 114 | E7: =Tulokset!D73 -> 786.2069
A8: Päivä: | B8: =Kilpailu!B5 -> 42217
A9: Ohjelma: | B9: =Kilpailu!B6 -> Popular | C9: yhteensä: | D9: =SUM(D5:D7) -> 355 | E9: =SUM(E5:E7) -> 2678.5222
C10: pois: | D10: =SMALL(D5:D7,1) -> 114 | E10: =SMALL(E5:E7,1) -> 786.2069
C11: 2 parasta: | D11: =SUM(D5:D7)-D10 -> 241 | E11: =SUM(E5:E7)-E10 -> 1892.3153
A14: Kierros 1: | C14: Tuomari 1 | D14: Tuomari 2 | E14: Tuomari 3 | F14: Tuomari 4 | G14: Tuomari 5 | H14: yht.
A15: 1. | B15: =IF(Kilpailu!$B$6 =Kilpailu!$A$79,Kilpailu!B30,IF(Kilpailu!$B$6 =Kilpailu!$A$80,Kilpailu!B45,IF(Kilpailu!$B$6 =Kilpailu!$A$81,Kilpailu!B60,""))) -> Leijunta-M | C15: 3 | D15: 6 | E15: 7 | F15: 0 | G15: 10 | H15: =(SUM(C15:G15)*IF(Kilpailu!$B$6 =Kilpailu!$A$79,Kilpailu!C30,IF(Kilpailu!$B$6 =Kilpailu!$A$80,Kilpailu!C45,IF(Kilpailu!$B$6 =Kilpailu!$A$81,Kilpailu!C60,1))))-SMALL(C15:G15,1)-LARGE(C15:G15,1) -> 16
A16: 2. | B16: =IF(Kilpailu!$B$6 =Kilpailu!$A$79,Kilpailu!B31,IF(Kilpailu!$B$6 =Kilpailu!$A$80,Kilpailu!B46,IF(Kilpailu!$B$6 =Kilpailu!$A$81,Kilpailu!B61,""))) -> Leijunta TopHat | C16: 3 | D16: 4 | E16: 7 | F16: 0 | G16: 10 | H16: =(SUM(C16:G16)*IF(Kilpailu!$B$6 =Kilpailu!$A$79,Kilpailu!C31,IF(Kilpailu!$B$6 =Kilpailu!$A$80,Kilpailu!C46,IF(Kilpailu!$B$6 =Kilpailu!$A$81,Kilpailu!C61,1))))-SMALL(C16:G16,1)-LARGE(C16:G16,1) -> 14
A17: 3. | B17: =IF(Kilpailu!$B$6 =Kilpailu!$A$79,Kilpailu!B32,IF(Kilpailu!$B$6 =Kilpailu!$A$80,Kilpailu!B47,IF(Kilpailu!$B$6 =Kilpailu!$A$81,Kilpailu!B62,""))) -> Cobra | C17: 6 | D17: 7 | E17: 8 | F17: 0 | G17: 10 | H17: =(SUM(C17:G17)*IF(Kilpailu!$B$6 =Kilpailu!$A$79,Kilpailu!C32,IF(Kilpailu!$B$6 =Kilpailu!$A$80,Kilpailu!C47,IF(Kilpailu!$B$6 =Kilpailu!$A$81,Kilpailu!C62,1))))-SMALL(C17:G17,1)-LARGE(C17:G17,1) -> 21
A18: 4. | B18: =IF(Kilpailu!$B$6 =Kilpailu!$A$79,Kilpailu!B33,IF(Kilpailu!$B$6 =Kilpailu!$A$80,Kilpailu!B48,IF(Kilpailu!$B$6 =Kilpailu!$A$81,Kilpailu!B63,""))) -> Suora ohilento | C18: 8 | D18: 7 | E18: 8 | F18: 0 | G18: 10 | H18: =(SUM(C18:G18)*IF(Kilpailu!$B$6 =Kilpailu!$A$79,Kilpailu!C33,IF(Kilpailu!$B$6 =Kilpailu!$A$80,Kilpailu!C48,IF(Kilpailu!$B$6 =Kilpailu!$A$81,Kilpailu!C63,1))))-SMALL(C18:G18,1)-LARGE(C18:G18,1) -> 23
A19: 5. | B19: =IF(Kilpailu!$B$6 =Kilpailu!$A$79,Kilpailu!B34,IF(Kilpailu!$B$6 =Kilpailu!$A$80,Kilpailu!B49,IF(Kilpailu!$B$6 =Kilpailu!$A$81,Kilpailu!B64,""))) -> Nouseva 180 asteen käännös | C19: 6 | D19: 7 | E19: 7 | F19: 0 | G19: 10 | H19: =(SUM(C19:G19)*IF(Kilpailu!$B$6 =Kilpailu!$A$79,Kilpailu!C34,IF(Kilpailu!$B$6 =Kilpailu!$A$80,Kilpailu!C49,IF(Kilpailu!$B$6 =Kilpailu!$A$81,Kilpailu!C64,1))))-SMALL(C19:G19,1)-LARGE(C19:G19,1) -> 20
A20: 6. | B20: =IF(Kilpailu!$B$6 =Kilpailu!$A$79,Kilpailu!B35,IF(Kilpailu!$B$6 =Kilpailu!$A$80,Kilpailu!B50,IF(Kilpailu!$B$6 =Kilpailu!$A$81,Kilpailu!B65,""))) -> 45 asteen moottorilasku | C20: 8 | D20: 7 | E20: 8 | F20: 0 | G20: 10 | H20: =(SUM(C20:G20)*IF(Kilpailu!$B$6 =Kilpailu!$A$79,Kilpailu!C35,IF(Kilpailu!$B$6 =Kilpailu!$A$80,Kilpailu!C50,IF(Kilpailu!$B$6 =Kilpailu!$A$81,Kilpailu!C65,1))))-SMALL(C20:G20,1)-LARGE(C20:G20,1) -> 23
A21: 7. | B21: =IF(Kilpailu!$B$6 =Kilpailu!$A$79,Kilpailu!B36,IF(Kilpailu!$B$6 =Kilpailu!$A$80,Kilpailu!B51,IF(Kilpailu!$B$6 =Kilpailu!$A$81,Kilpailu!B66,""))) | F21: 0 | H21: =(SUM(C21:G21)*IF(Kilpailu!$B$6 =Kilpailu!$A$79,Kilpailu!C36,IF(Kilpailu!$B$6 =Kilpailu!$A$80,Kilpailu!C51,IF(Kilpailu!$B$6 =Kilpailu!$A$81,Kilpailu!C66,1))))-SMALL(C21:G21,1)-LARGE(C21:G21,1) -> 0
A22: 8. | B22: =IF(Kilpailu!$B$6 =Kilpailu!$A$79,Kilpailu!B37,IF(Kilpailu!$B$6 =Kilpailu!$A$80,Kilpailu!B52,IF(Kilpailu!$B$6 =Kilpailu!$A$81,Kilpailu!B67,""))) | F22: 0 | H22: =(SUM(C22:G22)*IF(Kilpailu!$B$6 =Kilpailu!$A$79,Kilpailu!C37,IF(Kilpailu!$B$6 =Kilpailu!$A$80,Kilpailu!C52,IF(Kilpailu!$B$6 =Kilpailu!$A$81,Kilpailu!C67,1))))-SMALL(C22:G22,1)-LARGE(C22:G22,1) -> 0
A23: 9. | B23: =IF(Kilpailu!$B$6 =Kilpailu!$A$79,Kilpailu!B38,IF(Kilpailu!$B$6 =Kilpailu!$A$80,Kilpailu!B53,IF(Kilpailu!$B$6 =Kilpailu!$A$81,Kilpailu!B68,""))) | F23: 0 | H23: =(SUM(C23:G23)*IF(Kilpailu!$B$6 =Kilpailu!$A$79,Kilpailu!C38,IF(Kilpailu!$B$6 =Kilpailu!$A$80,Kilpailu!C53,IF(Kilpailu!$B$6 =Kilpailu!$A$81,Kilpailu!C68,1))))-SMALL(C23:G23,1)-LARGE(C23:G23,1) -> 0
A24: 10. | B24: =IF(Kilpailu!$B$6 =Kilpailu!$A$79,Kilpailu!B39,IF(Kilpailu!$B$6 =Kilpailu!$A$80,Kilpailu!B54,IF(Kilpailu!$B$6 =Kilpailu!$A$81,Kilpailu!B69,""))) | F24: 0 | H24: =(SUM(C24:G24)*IF(Kilpailu!$B$6 =Kilpailu!$A$79,Kilpailu!C39,IF(Kilpailu!$B$6 =Kilpailu!$A$80,Kilpailu!C54,IF(Kilpailu!$B$6 =Kilpailu!$A$81,Kilpailu!C69,1))))-SMALL(C24:G24,1)-LARGE(C24:G24,1) -> 0
A25: 11. | B25: =IF(Kilpailu!$B$6 =Kilpailu!$A$79,Kilpailu!B40,IF(Kilpailu!$B$6 =Kilpailu!$A$80,Kilpailu!B55,IF(Kilpailu!$B$6 =Kilpailu!$A$81,Kilpailu!B70,""))) | F25: 0 | G25: 0 | H25: =(SUM(C25:G25)*IF(Kilpailu!$B$6 =Kilpailu!$A$79,Kilpailu!C40,IF(Kilpailu!$B$6 =Kilpailu!$A$80,Kilpailu!C55,IF(Kilpailu!$B$6 =Kilpailu!$A$81,Kilpailu!C70,1))))-SMALL(C25:G25,1)-LARGE(C25:G25,1) -> 0
B26: Yht. | C26: =SUM(C15:C25) -> 34 | D26: =SUM(D15:D25) -> 38 | E26: =SUM(E15:E25) -> 45 | F26: 0 | G26: =SUM(G15:G25) -> 60
A30: Kierros 2: | C30: Tuomari 1 | D30: Tuomari 2 | E30: Tuomari 3 | F30: Tuomari 4 | G30: Tuomari 5 | H30: yht.
A31: 1. | B31: =IF(Kilpailu!$B$6 =Kilpailu!$A$79,Kilpailu!B30,IF(Kilpailu!$B$6 =Kilpailu!$A$80,Kilpailu!B45,IF(Kilpailu!$B$6 =Kilpailu!$A$81,Kilpailu!B60,""))) -> Leijunta-M | C31: 5 | D31: 6 | E31: 8 | F31: 0 | G31: 10 | H31: =(SUM(C31:G31)*IF(Kilpailu!$B$6 =Kilpailu!$A$79,Kilpailu!C30,IF(Kilpailu!$B$6 =Kilpailu!$A$80,Kilpailu!C45,IF(Kilpailu!$B$6 =Kilpailu!$A$81,Kilpailu!C60,1))))-SMALL(C31:G31,1)-LARGE(C31:G31,1) -> 19
A32: 2. | B32: =IF(Kilpailu!$B$6 =Kilpailu!$A$79,Kilpailu!B31,IF(Kilpailu!$B$6 =Kilpailu!$A$80,Kilpailu!B46,IF(Kilpailu!$B$6 =Kilpailu!$A$81,Kilpailu!B61,""))) -> Leijunta TopHat | C32: 5 | D32: 5 | E32: 7 | F32: 0 | G32: 10 | H32: =(SUM(C32:G32)*IF(Kilpailu!$B$6 =Kilpailu!$A$79,Kilpailu!C31,IF(Kilpailu!$B$6 =Kilpailu!$A$80,Kilpailu!C46,IF(Kilpailu!$B$6 =Kilpailu!$A$81,Kilpailu!C61,1))))-SMALL(C32:G32,1)-LARGE(C32:G32,1) -> 17
A33: 3. | B33: =IF(Kilpailu!$B$6 =Kilpailu!$A$79,Kilpailu!B32,IF(Kilpailu!$B$6 =Kilpailu!$A$80,Kilpailu!B47,IF(Kilpailu!$B$6 =Kilpailu!$A$81,Kilpailu!B62,""))) -> Cobra | C33: 6 | D33: 7 | E33: 8 | F33: 0 | G33: 10 | H33: =(SUM(C33:G33)*IF(Kilpailu!$B$6 =Kilpailu!$A$79,Kilpailu!C32,IF(Kilpailu!$B$6 =Kilpailu!$A$80,Kilpailu!C47,IF(Kilpailu!$B$6 =Kilpailu!$A$81,Kilpailu!C62,1))))-SMALL(C33:G33,1)-LARGE(C33:G33,1) -> 21
A34: 4. | B34: =IF(Kilpailu!$B$6 =Kilpailu!$A$79,Kilpailu!B33,IF(Kilpailu!$B$6 =Kilpailu!$A$80,Kilpailu!B48,IF(Kilpailu!$B$6 =Kilpailu!$A$81,Kilpailu!B63,""))) -> Suora ohilento | C34: 8 | D34: 8 | E34: 8 | F34: 0 | G34: 10 | H34: =(SUM(C34:G34)*IF(Kilpailu!$B$6 =Kilpailu!$A$79,Kilpailu!C33,IF(Kilpailu!$B$6 =Kilpailu!$A$80,Kilpailu!C48,IF(Kilpailu!$B$6 =Kilpailu!$A$81,Kilpailu!C63,1))))-SMALL(C34:G34,1)-LARGE(C34:G34,1) -> 24
A35: 5. | B35: =IF(Kilpailu!$B$6 =Kilpailu!$A$79,Kilpailu!B34,IF(Kilpailu!$B$6 =Kilpailu!$A$80,Kilpailu!B49,IF(Kilpailu!$B$6 =Kilpailu!$A$81,Kilpailu!B64,""))) -> Nouseva 180 asteen käännös | C35: 7 | D35: 7 | E35: 8 | F35: 0 | G35: 10 | H35: =(SUM(C35:G35)*IF(Kilpailu!$B$6 =Kilpailu!$A$79,Kilpailu!C34,IF(Kilpailu!$B$6 =Kilpailu!$A$80,Kilpailu!C49,IF(Kilpailu!$B$6 =Kilpailu!$A$81,Kilpailu!C64,1))))-SMALL(C35:G35,1)-LARGE(C35:G35,1) -> 22
A36: 6. | B36: =IF(Kilpailu!$B$6 =Kilpailu!$A$79,Kilpailu!B35,IF(Kilpailu!$B$6 =Kilpailu!$A$80,Kilpailu!B50,IF(Kilpailu!$B$6 =Kilpailu!$A$81,Kilpailu!B65,""))) -> 45 asteen moottorilasku | C36: 6 | D36: 6 | E36: 9 | F36: 0 | G36: 10 | H36: =(SUM(C36:G36)*IF(Kilpailu!$B$6 =Kilpailu!$A$79,Kilpailu!C35,IF(Kilpailu!$B$6 =Kilpailu!$A$80,Kilpailu!C50,IF(Kilpailu!$B$6 =Kilpailu!$A$81,Kilpailu!C65,1))))-SMALL(C36:G36,1)-LARGE(C36:G36,1) -> 21
A37: 7. | B37: =IF(Kilpailu!$B$6 =Kilpailu!$A$79,Kilpailu!B36,IF(Kilpailu!$B$6 =Kilpailu!$A$80,Kilpailu!B51,IF(Kilpailu!$B$6 =Kilpailu!$A$81,Kilpailu!B66,""))) | F37: 0 | H37: =(SUM(C37:G37)*IF(Kilpailu!$B$6 =Kilpailu!$A$79,Kilpailu!C36,IF(Kilpailu!$B$6 =Kilpailu!$A$80,Kilpailu!C51,IF(Kilpailu!$B$6 =Kilpailu!$A$81,Kilpailu!C66,1))))-SMALL(C37:G37,1)-LARGE(C37:G37,1) -> 0
A38: 8. | B38: =IF(Kilpailu!$B$6 =Kilpailu!$A$79,Kilpailu!B37,IF(Kilpailu!$B$6 =Kilpailu!$A$80,Kilpailu!B52,IF(Kilpailu!$B$6 =Kilpailu!$A$81,Kilpailu!B67,""))) | F38: 0 | H38: =(SUM(C38:G38)*IF(Kilpailu!$B$6 =Kilpailu!$A$79,Kilpailu!C37,IF(Kilpailu!$B$6 =Kilpailu!$A$80,Kilpailu!C52,IF(Kilpailu!$B$6 =Kilpailu!$A$81,Kilpailu!C67,1))))-SMALL(C38:G38,1)-LARGE(C38:G38,1) -> 0
A39: 9. | B39: =IF(Kilpailu!$B$6 =Kilpailu!$A$79,Kilpailu!B38,IF(Kilpailu!$B$6 =Kilpailu!$A$80,Kilpailu!B53,IF(Kilpailu!$B$6 =Kilpailu!$A$81,Kilpailu!B68,""))) | F39: 0 | H39: =(SUM(C39:G39)*IF(Kilpailu!$B$6 =Kilpailu!$A$79,Kilpailu!C38,IF(Kilpailu!$B$6 =Kilpailu!$A$80,Kilpailu!C53,IF(Kilpailu!$B$6 =Kilpailu!$A$81,Kilpailu!C68,1))))-SMALL(C39:G39,1)-LARGE(C39:G39,1) -> 0
A40: 10. | B40: =IF(Kilpailu!$B$6 =Kilpailu!$A$79,Kilpailu!B39,IF(Kilpailu!$B$6 =Kilpailu!$A$80,Kilpailu!B54,IF(Kilpailu!$B$6 =Kilpailu!$A$81,Kilpailu!B69,""))) | F40: 0 | H40: =(SUM(C40:G40)*IF(Kilpailu!$B$6 =Kilpailu!$A$79,Kilpailu!C39,IF(Kilpailu!$B$6 =Kilpailu!$A$80,Kilpailu!C54,IF(Kilpailu!$B$6 =Kilpailu!$A$81,Kilpailu!C69,1))))-SMALL(C40:G40,1)-LARGE(C40:G40,1) -> 0
A41: 11. | B41: =IF(Kilpailu!$B$6 =Kilpailu!$A$79,Kilpailu!B40,IF(Kilpailu!$B$6 =Kilpailu!$A$80,Kilpailu!B55,IF(Kilpailu!$B$6 =Kilpailu!$A$81,Kilpailu!B70,""))) | G41: 0 | H41: =(SUM(C41:G41)*IF(Kilpailu!$B$6 =Kilpailu!$A$79,Kilpailu!C40,IF(Kilpailu!$B$6 =Kilpailu!$A$80,Kilpailu!C55,IF(Kilpailu!$B$6 =Kilpailu!$A$81,Kilpailu!C70,1))))-SMALL(C41:G41,1)-LARGE(C41:G41,1) -> 0
B42: Yht. | C42: =SUM(C31:C41) -> 37 | D42: =SUM(D31:D41) -> 39 | E42: =SUM(E31:E41) -> 48 | F42: =SUM(F31:F41) -> 0 | G42: =SUM(G31:G41) -> 60
A46: Kierros 3: | C46: Tuomari 1 | D46: Tuomari 2 | E46: Tuomari 3 | F46: Tuomari 4 | G46: Tuomari 5 | H46: yht.
A47: 1. | B47: =IF(Kilpailu!$B$6 =Kilpailu!$A$79,Kilpailu!B30,IF(Kilpailu!$B$6 =Kilpailu!$A$80,Kilpailu!B45,IF(Kilpailu!$B$6 =Kilpailu!$A$81,Kilpailu!B60,""))) -> Leijunta-M | C47: 5 | D47: 5 | E47: 5 | F47: 0 | G47: 10 | H47: =(SUM(C47:G47)*IF(Kilpailu!$B$6 =Kilpailu!$A$79,Kilpailu!C30,IF(Kilpailu!$B$6 =Kilpailu!$A$80,Kilpailu!C45,IF(Kilpailu!$B$6 =Kilpailu!$A$81,Kilpailu!C60,1))))-SMALL(C47:G47,1)-LARGE(C47:G47,1) -> 15
A48: 2. | B48: =IF(Kilpailu!$B$6 =Kilpailu!$A$79,Kilpailu!B31,IF(Kilpailu!$B$6 =Kilpailu!$A$80,Kilpailu!B46,IF(Kilpailu!$B$6 =Kilpailu!$A$81,Kilpailu!B61,""))) -> Leijunta TopHat | C48: 5 | D48: 5 | E48: 7 | F48: 0 | G48: 10 | H48: =(SUM(C48:G48)*IF(Kilpailu!$B$6 =Kilpailu!$A$79,Kilpailu!C31,IF(Kilpailu!$B$6 =Kilpailu!$A$80,Kilpailu!C46,IF(Kilpailu!$B$6 =Kilpailu!$A$81,Kilpailu!C61,1))))-SMALL(C48:G48,1)-LARGE(C48:G48,1) -> 17
A49: 3. | B49: =IF(Kilpailu!$B$6 =Kilpailu!$A$79,Kilpailu!B32,IF(Kilpailu!$B$6 =Kilpailu!$A$80,Kilpailu!B47,IF(Kilpailu!$B$6 =Kilpailu!$A$81,Kilpailu!B62,""))) -> Cobra | C49: 6 | D49: 5 | E49: 6 | F49: 0 | G49: 10 | H49: =(SUM(C49:G49)*IF(Kilpailu!$B$6 =Kilpailu!$A$79,Kilpailu!C32,IF(Kilpailu!$B$6 =Kilpailu!$A$80,Kilpailu!C47,IF(Kilpailu!$B$6 =Kilpailu!$A$81,Kilpailu!C62,1))))-SMALL(C49:G49,1)-LARGE(C49:G49,1) -> 17
A50: 4. | B50: =IF(Kilpailu!$B$6 =Kilpailu!$A$79,Kilpailu!B33,IF(Kilpailu!$B$6 =Kilpailu!$A$80,Kilpailu!B48,IF(Kilpailu!$B$6 =Kilpailu!$A$81,Kilpailu!B63,""))) -> Suora ohilento | C50: 8 | D50: 8 | E50: 8 | F50: 0 | G50: 10 | H50: =(SUM(C50:G50)*IF(Kilpailu!$B$6 =Kilpailu!$A$79,Kilpailu!C33,IF(Kilpailu!$B$6 =Kilpailu!$A$80,Kilpailu!C48,IF(Kilpailu!$B$6 =Kilpailu!$A$81,Kilpailu!C63,1))))-SMALL(C50:G50,1)-LARGE(C50:G50,1) -> 24
A51: 5. | B51: =IF(Kilpailu!$B$6 =Kilpailu!$A$79,Kilpailu!B34,IF(Kilpailu!$B$6 =Kilpailu!$A$80,Kilpailu!B49,IF(Kilpailu!$B$6 =Kilpailu!$A$81,Kilpailu!B64,""))) -> Nouseva 180 asteen käännös | C51: 7 | D51: 7 | E51: 8 | F51: 0 | G51: 10 | H51: =(SUM(C51:G51)*IF(Kilpailu!$B$6 =Kilpailu!$A$79,Kilpailu!C34,IF(Kilpailu!$B$6 =Kilpailu!$A$80,Kilpailu!C49,IF(Kilpailu!$B$6 =Kilpailu!$A$81,Kilpailu!C64,1))))-SMALL(C51:G51,1)-LARGE(C51:G51,1) -> 22
A52: 6. | B52: =IF(Kilpailu!$B$6 =Kilpailu!$A$79,Kilpailu!B35,IF(Kilpailu!$B$6 =Kilpailu!$A$80,Kilpailu!B50,IF(Kilpailu!$B$6 =Kilpailu!$A$81,Kilpailu!B65,""))) -> 45 asteen moottorilasku | C52: 6 | D52: 6 | E52: 7 | F52: 0 | G52: 10 | H52: =(SUM(C52:G52)*IF(Kilpailu!$B$6 =Kilpailu!$A$79,Kilpailu!C35,IF(Kilpailu!$B$6 =Kilpailu!$A$80,Kilpailu!C50,IF(Kilpailu!$B$6 =Kilpailu!$A$81,Kilpailu!C65,1))))-SMALL(C52:G52,1)-LARGE(C52:G52,1) -> 19
A53: 7. | B53: =IF(Kilpailu!$B$6 =Kilpailu!$A$79,Kilpailu!B36,IF(Kilpailu!$B$6 =Kilpailu!$A$80,Kilpailu!B51,IF(Kilpailu!$B$6 =Kilpailu!$A$81,Kilpailu!B66,""))) | F53: 0 | H53: =(SUM(C53:G53)*IF(Kilpailu!$B$6 =Kilpailu!$A$79,Kilpailu!C36,IF(Kilpailu!$B$6 =Kilpailu!$A$80,Kilpailu!C51,IF(Kilpailu!$B$6 =Kilpailu!$A$81,Kilpailu!C66,1))))-SMALL(C53:G53,1)-LARGE(C53:G53,1) -> 0
A54: 8. | B54: =IF(Kilpailu!$B$6 =Kilpailu!$A$79,Kilpailu!B37,IF(Kilpailu!$B$6 =Kilpailu!$A$80,Kilpailu!B52,IF(Kilpailu!$B$6 =Kilpailu!$A$81,Kilpailu!B67,""))) | F54: 0 | H54: =(SUM(C54:G54)*IF(Kilpailu!$B$6 =Kilpailu!$A$79,Kilpailu!C37,IF(Kilpailu!$B$6 =Kilpailu!$A$80,Kilpailu!C52,IF(Kilpailu!$B$6 =Kilpailu!$A$81,Kilpailu!C67,1))))-SMALL(C54:G54,1)-LARGE(C54:G54,1) -> 0
A55: 9. | B55: =IF(Kilpailu!$B$6 =Kilpailu!$A$79,Kilpailu!B38,IF(Kilpailu!$B$6 =Kilpailu!$A$80,Kilpailu!B53,IF(Kilpailu!$B$6 =Kilpailu!$A$81,Kilpailu!B68,""))) | F55: 0 | H55: =(SUM(C55:G55)*IF(Kilpailu!$B$6 =Kilpailu!$A$79,Kilpailu!C38,IF(Kilpailu!$B$6 =Kilpailu!$A$80,Kilpailu!C53,IF(Kilpailu!$B$6 =Kilpailu!$A$81,Kilpailu!C68,1))))-SMALL(C55:G55,1)-LARGE(C55:G55,1) -> 0
A56: 10. | B56: =IF(Kilpailu!$B$6 =Kilpailu!$A$79,Kilpailu!B39,IF(Kilpailu!$B$6 =Kilpailu!$A$80,Kilpailu!B54,IF(Kilpailu!$B$6 =Kilpailu!$A$81,Kilpailu!B69,""))) | F56: 0 | H56: =(SUM(C56:G56)*IF(Kilpailu!$B$6 =Kilpailu!$A$79,Kilpailu!C39,IF(Kilpailu!$B$6 =Kilpailu!$A$80,Kilpailu!C54,IF(Kilpailu!$B$6 =Kilpailu!$A$81,Kilpailu!C69,1))))-SMALL(C56:G56,1)-LARGE(C56:G56,1) -> 0
A57: 11. | B57: =IF(Kilpailu!$B$6 =Kilpailu!$A$79,Kilpailu!B40,IF(Kilpailu!$B$6 =Kilpailu!$A$80,Kilpailu!B55,IF(Kilpailu!$B$6 =Kilpailu!$A$81,Kilpailu!B70,""))) | G57: 0 | H57: =(SUM(C57:G57)*IF(Kilpailu!$B$6 =Kilpailu!$A$79,Kilpailu!C40,IF(Kilpailu!$B$6 =Kilpailu!$A$80,Kilpailu!C55,IF(Kilpailu!$B$6 =Kilpailu!$A$81,Kilpailu!C70,1))))-SMALL(C57:G57,1)-LARGE(C57:G57,1) -> 0
B58: Yht. | C58: =SUM(C47:C57) -> 37 | D58: =SUM(D47:D57) -> 36 | E58: =SUM(E47:E57) -> 41 | F58: =SUM(F47:F57) -> 0 | G58: =SUM(G47:G57) -> 60

Sheet 7
D4: Pisteet | E4: Suht…
A5: Nimi: | B5: =Kilpailu!B16 -> Sami | C5: Kierros 1. | D5: =SUM(C26:G26)-LARGE(C26:G26,1)-SMALL(C26:G26,1) -> 80 | E5: =Tulokset!D34 -> 661.15702
C6: Kierros 2. | D6: =SUM(C42:G42)-LARGE(C42:G42,1)-SMALL(C42:G42,1) -> 79 | E6: =Tulokset!D54 -> 589.55224
A7: Paikka: | B7: =Kilpailu!B4 -> Vesivehmaa | C7: Kierros 3. | D7: =SUM(C58:G58)-LARGE(C58:G58,1)-SMALL(C58:G58,1) -> 81 | E7: =Tulokset!D74 -> 558.62069
A8: Päivä: | B8: =Kilpailu!B5 -> 42217
A9: Ohjelma: | B9: =Kilpailu!B6 -> Popular | C9: yhteensä: | D9: =SUM(D5:D7) -> 240 | E9: =SUM(E5:E7) -> 1809.33
C10: pois: | D10: =SMALL(D5:D7,1) -> 79 | E10: =SMALL(E5:E7,1) -> 558.62069
C11: 2 parasta: | D11: =SUM(D5:D7)-D10 -> 161 | E11: =SUM(E5:E7)-E10 -> 1250.7093
A14: Kierros 1: | C14: Tuomari 1 | D14: Tuomari 2 | E14: Tuomari 3 | F14: Tuomari 4 | G14: Tuomari 5 | H14: yht.
A15: 1. | B15: =IF(Kilpailu!$B$6 =Kilpailu!$A$79,Kilpailu!B30,IF(Kilpailu!$B$6 =Kilpailu!$A$80,Kilpailu!B45,IF(Kilpailu!$B$6 =Kilpailu!$A$81,Kilpailu!B60,""))) -> Leijunta-M | C15: 2 | D15: 2 | E15: 3 | F15: 0 | G15: 10 | H15: =(SUM(C15:G15)*IF(Kilpailu!$B$6 =Kilpailu!$A$79,Kilpailu!C30,IF(Kilpailu!$B$6 =Kilpailu!$A$80,Kilpailu!C45,IF(Kilpailu!$B$6 =Kilpailu!$A$81,Kilpailu!C60,1))))-SMALL(C15:G15,1)-LARGE(C15:G15,1) -> 7
A16: 2. | B16: =IF(Kilpailu!$B$6 =Kilpailu!$A$79,Kilpailu!B31,IF(Kilpailu!$B$6 =Kilpailu!$A$80,Kilpailu!B46,IF(Kilpailu!$B$6 =Kilpailu!$A$81,Kilpailu!B61,""))) -> Leijunta TopHat | C16: 3 | D16: 3 | E16: 5 | F16: 0 | G16: 10 | H16: =(SUM(C16:G16)*IF(Kilpailu!$B$6 =Kilpailu!$A$79,Kilpailu!C31,IF(Kilpailu!$B$6 =Kilpailu!$A$80,Kilpailu!C46,IF(Kilpailu!$B$6 =Kilpailu!$A$81,Kilpailu!C61,1))))-SMALL(C16:G16,1)-LARGE(C16:G16,1) -> 11
A17: 3. | B17: =IF(Kilpailu!$B$6 =Kilpailu!$A$79,Kilpailu!B32,IF(Kilpailu!$B$6 =Kilpailu!$A$80,Kilpailu!B47,IF(Kilpailu!$B$6 =Kilpailu!$A$81,Kilpailu!B62,""))) -> Cobra | C17: 3 | D17: 3 | E17: 4 | F17: 0 | G17: 10 | H17: =(SUM(C17:G17)*IF(Kilpailu!$B$6 =Kilpailu!$A$79,Kilpailu!C32,IF(Kilpailu!$B$6 =Kilpailu!$A$80,Kilpailu!C47,IF(Kilpailu!$B$6 =Kilpailu!$A$81,Kilpailu!C62,1))))-SMALL(C17:G17,1)-LARGE(C17:G17,1) -> 10
A18: 4. | B18: =IF(Kilpailu!$B$6 =Kilpailu!$A$79,Kilpailu!B33,IF(Kilpailu!$B$6 =Kilpailu!$A$80,Kilpailu!B48,IF(Kilpailu!$B$6 =Kilpailu!$A$81,Kilpailu!B63,""))) -> Suora ohilento | C18: 7 | D18: 8 | E18: 7 | F18: 0 | G18: 10 | H18: =(SUM(C18:G18)*IF(Kilpailu!$B$6 =Kilpailu!$A$79,Kilpailu!C33,IF(Kilpailu!$B$6 =Kilpailu!$A$80,Kilpailu!C48,IF(Kilpailu!$B$6 =Kilpailu!$A$81,Kilpailu!C63,1))))-SMALL(C18:G18,1)-LARGE(C18:G18,1) -> 22
A19: 5. | B19: =IF(Kilpailu!$B$6 =Kilpailu!$A$79,Kilpailu!B34,IF(Kilpailu!$B$6 =Kilpailu!$A$80,Kilpailu!B49,IF(Kilpailu!$B$6 =Kilpailu!$A$81,Kilpailu!B64,""))) -> Nouseva 180 asteen käännös | C19: 6 | D19: 7 | E19: 7 | F19: 0 | G19: 10 | H19: =(SUM(C19:G19)*IF(Kilpailu!$B$6 =Kilpailu!$A$79,Kilpailu!C34,IF(Kilpailu!$B$6 =Kilpailu!$A$80,Kilpailu!C49,IF(Kilpailu!$B$6 =Kilpailu!$A$81,Kilpailu!C64,1))))-SMALL(C19:G19,1)-LARGE(C19:G19,1) -> 20
A20: 6. | B20: =IF(Kilpailu!$B$6 =Kilpailu!$A$79,Kilpailu!B35,IF(Kilpailu!$B$6 =Kilpailu!$A$80,Kilpailu!B50,IF(Kilpailu!$B$6 =Kilpailu!$A$81,Kilpailu!B65,""))) -> 45 asteen moottorilasku | C20: 3 | D20: 3 | E20: 4 | F20: 0 | G20: 10 | H20: =(SUM(C20:G20)*IF(Kilpailu!$B$6 =Kilpailu!$A$79,Kilpailu!C35,IF(Kilpailu!$B$6 =Kilpailu!$A$80,Kilpailu!C50,IF(Kilpailu!$B$6 =Kilpailu!$A$81,Kilpailu!C65,1))))-SMALL(C20:G20,1)-LARGE(C20:G20,1) -> 10
A21: 7. | B21: =IF(Kilpailu!$B$6 =Kilpailu!$A$79,Kilpailu!B36,IF(Kilpailu!$B$6 =Kilpailu!$A$80,Kilpailu!B51,IF(Kilpailu!$B$6 =Kilpailu!$A$81,Kilpailu!B66,""))) | F21: 0 | G21: 10 | H21: =(SUM(C21:G21)*IF(Kilpailu!$B$6 =Kilpailu!$A$79,Kilpailu!C36,IF(Kilpailu!$B$6 =Kilpailu!$A$80,Kilpailu!C51,IF(Kilpailu!$B$6 =Kilpailu!$A$81,Kilpailu!C66,1))))-SMALL(C21:G21,1)-LARGE(C21:G21,1) -> 0
A22: 8. | B22: =IF(Kilpailu!$B$6 =Kilpailu!$A$79,Kilpailu!B37,IF(Kilpailu!$B$6 =Kilpailu!$A$80,Kilpailu!B52,IF(Kilpailu!$B$6 =Kilpailu!$A$81,Kilpailu!B67,""))) | F22: 0 | G22: 10 | H22: =(SUM(C22:G22)*IF(Kilpailu!$B$6 =Kilpailu!$A$79,Kilpailu!C37,IF(Kilpailu!$B$6 =Kilpailu!$A$80,Kilpailu!C52,IF(Kilpailu!$B$6 =Kilpailu!$A$81,Kilpailu!C67,1))))-SMALL(C22:G22,1)-LARGE(C22:G22,1) -> 0
A23: 9. | B23: =IF(Kilpailu!$B$6 =Kilpailu!$A$79,Kilpailu!B38,IF(Kilpailu!$B$6 =Kilpailu!$A$80,Kilpailu!B53,IF(Kilpailu!$B$6 =Kilpailu!$A$81,Kilpailu!B68,""))) | F23: 0 | G23: 10 | H23: =(SUM(C23:G23)*IF(Kilpailu!$B$6 =Kilpailu!$A$79,Kilpailu!C38,IF(Kilpailu!$B$6 =Kilpailu!$A$80,Kilpailu!C53,IF(Kilpailu!$B$6 =Kilpailu!$A$81,Kilpailu!C68,1))))-SMALL(C23:G23,1)-LARGE(C23:G23,1) -> 0
A24: 10. | B24: =IF(Kilpailu!$B$6 =Kilpailu!$A$79,Kilpailu!B39,IF(Kilpailu!$B$6 =Kilpailu!$A$80,Kilpailu!B54,IF(Kilpailu!$B$6 =Kilpailu!$A$81,Kilpailu!B69,""))) | F24: 0 | G24: 10 | H24: =(SUM(C24:G24)*IF(Kilpailu!$B$6 =Kilpailu!$A$79,Kilpailu!C39,IF(Kilpailu!$B$6 =Kilpailu!$A$80,Kilpailu!C54,IF(Kilpailu!$B$6 =Kilpailu!$A$81,Kilpailu!C69,1))))-SMALL(C24:G24,1)-LARGE(C24:G24,1) -> 0
A25: 11. | B25: =IF(Kilpailu!$B$6 =Kilpailu!$A$79,Kilpailu!B40,IF(Kilpailu!$B$6 =Kilpailu!$A$80,Kilpailu!B55,IF(Kilpailu!$B$6 =Kilpailu!$A$81,Kilpailu!B70,""))) | G25: 0 | H25: =(SUM(C25:G25)*IF(Kilpailu!$B$6 =Kilpailu!$A$79,Kilpailu!C40,IF(Kilpailu!$B$6 =Kilpailu!$A$80,Kilpailu!C55,IF(Kilpailu!$B$6 =Kilpailu!$A$81,Kilpailu!C70,1))))-SMALL(C25:G25,1)-LARGE(C25:G25,1) -> 0
B26: Yht. | C26: =SUM(C15:C25) -> 24 | D26: =SUM(D15:D25) -> 26 | E26: =SUM(E15:E25) -> 30 | F26: =SUM(F15:F25) -> 0 | G26: =SUM(G15:G25) -> 100
A30: Kierros 2: | C30: Tuomari 1 | D30: Tuomari 2 | E30: Tuomari 3 | F30: Tuomari 4 | G30: Tuomari 5 | H30: yht.
A31: 1. | B31: =IF(Kilpailu!$B$6 =Kilpailu!$A$79,Kilpailu!B30,IF(Kilpailu!$B$6 =Kilpailu!$A$80,Kilpailu!B45,IF(Kilpailu!$B$6 =Kilpailu!$A$81,Kilpailu!B60,""))) -> Leijunta-M | C31: 3 | D31: 3 | E31: 6 | F31: 0 | G31: 10 | H31: =(SUM(C31:G31)*IF(Kilpailu!$B$6 =Kilpailu!$A$79,Kilpailu!C30,IF(Kilpailu!$B$6 =Kilpailu!$A$80,Kilpailu!C45,IF(Kilpailu!$B$6 =Kilpailu!$A$81,Kilpailu!C60,1))))-SMALL(C31:G31,1)-LARGE(C31:G31,1) -> 12
A32: 2. | B32: =IF(Kilpailu!$B$6 =Kilpailu!$A$79,Kilpailu!B31,IF(Kilpailu!$B$6 =Kilpailu!$A$80,Kilpailu!B46,IF(Kilpailu!$B$6 =Kilpailu!$A$81,Kilpailu!B61,""))) -> Leijunta TopHat | C32: 4 | D32: 4 | E32: 7 | F32: 0 | G32: 10 | H32: =(SUM(C32:G32)*IF(Kilpailu!$B$6 =Kilpailu!$A$79,Kilpailu!C31,IF(Kilpailu!$B$6 =Kilpailu!$A$80,Kilpailu!C46,IF(Kilpailu!$B$6 =Kilpailu!$A$81,Kilpailu!C61,1))))-SMALL(C32:G32,1)-LARGE(C32:G32,1) -> 15
A33: 3. | B33: =IF(Kilpailu!$B$6 =Kilpailu!$A$79,Kilpailu!B32,IF(Kilpailu!$B$6 =Kilpailu!$A$80,Kilpailu!B47,IF(Kilpailu!$B$6 =Kilpailu!$A$81,Kilpailu!B62,""))) -> Cobra | C33: 4 | D33: 4 | E33: 5 | F33: 0 | G33: 10 | H33: =(SUM(C33:G33)*IF(Kilpailu!$B$6 =Kilpailu!$A$79,Kilpailu!C32,IF(Kilpailu!$B$6 =Kilpailu!$A$80,Kilpailu!C47,IF(Kilpailu!$B$6 =Kilpailu!$A$81,Kilpailu!C62,1))))-SMALL(C33:G33,1)-LARGE(C33:G33,1) -> 13
A34: 4. | B34: =IF(Kilpailu!$B$6 =Kilpailu!$A$79,Kilpailu!B33,IF(Kilpailu!$B$6 =Kilpailu!$A$80,Kilpailu!B48,IF(Kilpailu!$B$6 =Kilpailu!$A$81,Kilpailu!B63,""))) -> Suora ohilento | C34: 7 | D34: 8 | E34: 7 | F34: 0 | G34: 10 | H34: =(SUM(C34:G34)*IF(Kilpailu!$B$6 =Kilpailu!$A$79,Kilpailu!C33,IF(Kilpailu!$B$6 =Kilpailu!$A$80,Kilpailu!C48,IF(Kilpailu!$B$6 =Kilpailu!$A$81,Kilpailu!C63,1))))-SMALL(C34:G34,1)-LARGE(C34:G34,1) -> 22
A35: 5. | B35: =IF(Kilpailu!$B$6 =Kilpailu!$A$79,Kilpailu!B34,IF(Kilpailu!$B$6 =Kilpailu!$A$80,Kilpailu!B49,IF(Kilpailu!$B$6 =Kilpailu!$A$81,Kilpailu!B64,""))) -> Nouseva 180 asteen käännös | C35: 4 | D35: 4 | E35: 4 | F35: 0 | G35: 10 | H35: =(SUM(C35:G35)*IF(Kilpailu!$B$6 =Kilpailu!$A$79,Kilpailu!C34,IF(Kilpailu!$B$6 =Kilpailu!$A$80,Kilpailu!C49,IF(Kilpailu!$B$6 =Kilpailu!$A$81,Kilpailu!C64,1))))-SMALL(C35:G35,1)-LARGE(C35:G35,1) -> 12
A36: 6. | B36: =IF(Kilpailu!$B$6 =Kilpailu!$A$79,Kilpailu!B35,IF(Kilpailu!$B$6 =Kilpailu!$A$80,Kilpailu!B50,IF(Kilpailu!$B$6 =Kilpailu!$A$81,Kilpailu!B65,""))) -> 45 asteen moottorilasku | C36: 1 | D36: 1 | E36: 3 | F36: 0 | G36: 10 | H36: =(SUM(C36:G36)*IF(Kilpailu!$B$6 =Kilpailu!$A$79,Kilpailu!C35,IF(Kilpailu!$B$6 =Kilpailu!$A$80,Kilpailu!C50,IF(Kilpailu!$B$6 =Kilpailu!$A$81,Kilpailu!C65,1))))-SMALL(C36:G36,1)-LARGE(C36:G36,1) -> 5
A37: 7. | B37: =IF(Kilpailu!$B$6 =Kilpailu!$A$79,Kilpailu!B36,IF(Kilpailu!$B$6 =Kilpailu!$A$80,Kilpailu!B51,IF(Kilpailu!$B$6 =Kilpailu!$A$81,Kilpailu!B66,""))) | F37: 0 | G37: 10 | H37: =(SUM(C37:G37)*IF(Kilpailu!$B$6 =Kilpailu!$A$79,Kilpailu!C36,IF(Kilpailu!$B$6 =Kilpailu!$A$80,Kilpailu!C51,IF(Kilpailu!$B$6 =Kilpailu!$A$81,Kilpailu!C66,1))))-SMALL(C37:G37,1)-LARGE(C37:G37,1) -> 0
A38: 8. | B38: =IF(Kilpailu!$B$6 =Kilpailu!$A$79,Kilpailu!B37,IF(Kilpailu!$B$6 =Kilpailu!$A$80,Kilpailu!B52,IF(Kilpailu!$B$6 =Kilpailu!$A$81,Kilpailu!B67,""))) | F38: 0 | G38: 10 | H38: =(SUM(C38:G38)*IF(Kilpailu!$B$6 =Kilpailu!$A$79,Kilpailu!C37,IF(Kilpailu!$B$6 =Kilpailu!$A$80,Kilpailu!C52,IF(Kilpailu!$B$6 =Kilpailu!$A$81,Kilpailu!C67,1))))-SMALL(C38:G38,1)-LARGE(C38:G38,1) -> 0
A39: 9. | B39: =IF(Kilpailu!$B$6 =Kilpailu!$A$79,Kilpailu!B38,IF(Kilpailu!$B$6 =Kilpailu!$A$80,Kilpailu!B53,IF(Kilpailu!$B$6 =Kilpailu!$A$81,Kilpailu!B68,""))) | F39: 0 | G39: 10 | H39: =(SUM(C39:G39)*IF(Kilpailu!$B$6 =Kilpailu!$A$79,Kilpailu!C38,IF(Kilpailu!$B$6 =Kilpailu!$A$80,Kilpailu!C53,IF(Kilpailu!$B$6 =Kilpailu!$A$81,Kilpailu!C68,1))))-SMALL(C39:G39,1)-LARGE(C39:G39,1) -> 0
A40: 10. | B40: =IF(Kilpailu!$B$6 =Kilpailu!$A$79,Kilpailu!B39,IF(Kilpailu!$B$6 =Kilpailu!$A$80,Kilpailu!B54,IF(Kilpailu!$B$6 =Kilpailu!$A$81,Kilpailu!B69,""))) | F40: 0 | G40: 10 | H40: =(SUM(C40:G40)*IF(Kilpailu!$B$6 =Kilpailu!$A$79,Kilpailu!C39,IF(Kilpailu!$B$6 =Kilpailu!$A$80,Kilpailu!C54,IF(Kilpailu!$B$6 =Kilpailu!$A$81,Kilpailu!C69,1))))-SMALL(C40:G40,1)-LARGE(C40:G40,1) -> 0
A41: 11. | B41: =IF(Kilpailu!$B$6 =Kilpailu!$A$79,Kilpailu!B40,IF(Kilpailu!$B$6 =Kilpailu!$A$80,Kilpailu!B55,IF(Kilpailu!$B$6 =Kilpailu!$A$81,Kilpailu!B70,""))) | G41: 0 | H41: =(SUM(C41:G41)*IF(Kilpailu!$B$6 =Kilpailu!$A$79,Kilpailu!C40,IF(Kilpailu!$B$6 =Kilpailu!$A$80,Kilpailu!C55,IF(Kilpailu!$B$6 =Kilpailu!$A$81,Kilpailu!C70,1))))-SMALL(C41:G41,1)-LARGE(C41:G41,1) -> 0
B42: Yht. | C42: =SUM(C31:C41) -> 23 | D42: =SUM(D31:D41) -> 24 | E42: =SUM(E31:E41) -> 32 | F42: =SUM(F31:F41) -> 0 | G42: =SUM(G31:G41) -> 100
A46: Kierros 3: | C46: Tuomari 1 | D46: Tuomari 2 | E46: Tuomari 3 | F46: Tuomari 4 | G46: Tuomari 5 | H46: yht.
A47: 1. | B47: =IF(Kilpailu!$B$6 =Kilpailu!$A$79,Kilpailu!B30,IF(Kilpailu!$B$6 =Kilpailu!$A$80,Kilpailu!B45,IF(Kilpailu!$B$6 =Kilpailu!$A$81,Kilpailu!B60,""))) -> Leijunta-M | C47: 1 | D47: 1 | E47: 2 | F47: 0 | G47: 10 | H47: =(SUM(C47:G47)*IF(Kilpailu!$B$6 =Kilpailu!$A$79,Kilpailu!C30,IF(Kilpailu!$B$6 =Kilpailu!$A$80,Kilpailu!C45,IF(Kilpailu!$B$6 =Kilpailu!$A$81,Kilpailu!C60,1))))-SMALL(C47:G47,1)-LARGE(C47:G47,1) -> 4
A48: 2. | B48: =IF(Kilpailu!$B$6 =Kilpailu!$A$79,Kilpailu!B31,IF(Kilpailu!$B$6 =Kilpailu!$A$80,Kilpailu!B46,IF(Kilpailu!$B$6 =Kilpailu!$A$81,Kilpailu!B61,""))) -> Leijunta TopHat | C48: 3 | D48: 3 | E48: 6 | F48: 0 | G48: 10 | H48: =(SUM(C48:G48)*IF(Kilpailu!$B$6 =Kilpailu!$A$79,Kilpailu!C31,IF(Kilpailu!$B$6 =Kilpailu!$A$80,Kilpailu!C46,IF(Kilpailu!$B$6 =Kilpailu!$A$81,Kilpailu!C61,1))))-SMALL(C48:G48,1)-LARGE(C48:G48,1) -> 12
A49: 3. | B49: =IF(Kilpailu!$B$6 =Kilpailu!$A$79,Kilpailu!B32,IF(Kilpailu!$B$6 =Kilpailu!$A$80,Kilpailu!B47,IF(Kilpailu!$B$6 =Kilpailu!$A$81,Kilpailu!B62,""))) -> Cobra | C49: 2 | D49: 2 | E49: 3 | F49: 0 | G49: 10 | H49: =(SUM(C49:G49)*IF(Kilpailu!$B$6 =Kilpailu!$A$79,Kilpailu!C32,IF(Kilpailu!$B$6 =Kilpailu!$A$80,Kilpailu!C47,IF(Kilpailu!$B$6 =Kilpailu!$A$81,Kilpailu!C62,1))))-SMALL(C49:G49,1)-LARGE(C49:G49,1) -> 7
A50: 4. | B50: =IF(Kilpailu!$B$6 =Kilpailu!$A$79,Kilpailu!B33,IF(Kilpailu!$B$6 =Kilpailu!$A$80,Kilpailu!B48,IF(Kilpailu!$B$6 =Kilpailu!$A$81,Kilpailu!B63,""))) -> Suora ohilento | C50: 8 | D50: 8 | E50: 7 | F50: 0 | G50: 10 | H50: =(SUM(C50:G50)*IF(Kilpailu!$B$6 =Kilpailu!$A$79,Kilpailu!C33,IF(Kilpailu!$B$6 =Kilpailu!$A$80,Kilpailu!C48,IF(Kilpailu!$B$6 =Kilpailu!$A$81,Kilpailu!C63,1))))-SMALL(C50:G50,1)-LARGE(C50:G50,1) -> 23
A51: 5. | B51: =IF(Kilpailu!$B$6 =Kilpailu!$A$79,Kilpailu!B34,IF(Kilpailu!$B$6 =Kilpailu!$A$80,Kilpailu!B49,IF(Kilpailu!$B$6 =Kilpailu!$A$81,Kilpailu!B64,""))) -> Nouseva 180 asteen käännös | C51: 6 | D51: 6 | E51: 7 | F51: 0 | G51: 10 | H51: =(SUM(C51:G51)*IF(Kilpailu!$B$6 =Kilpailu!$A$79,Kilpailu!C34,IF(Kilpailu!$B$6 =Kilpailu!$A$80,Kilpailu!C49,IF(Kilpailu!$B$6 =Kilpailu!$A$81,Kilpailu!C64,1))))-SMALL(C51:G51,1)-LARGE(C51:G51,1) -> 19
A52: 6. | B52: =IF(Kilpailu!$B$6 =Kilpailu!$A$79,Kilpailu!B35,IF(Kilpailu!$B$6 =Kilpailu!$A$80,Kilpailu!B50,IF(Kilpailu!$B$6 =Kilpailu!$A$81,Kilpailu!B65,""))) -> 45 asteen moottorilasku | C52: 5 | D52: 5 | E52: 6 | F52: 0 | G52: 10 | H52: =(SUM(C52:G52)*IF(Kilpailu!$B$6 =Kilpailu!$A$79,Kilpailu!C35,IF(Kilpailu!$B$6 =Kilpailu!$A$80,Kilpailu!C50,IF(Kilpailu!$B$6 =Kilpailu!$A$81,Kilpailu!C65,1))))-SMALL(C52:G52,1)-LARGE(C52:G52,1) -> 16
A53: 7. | B53: =IF(Kilpailu!$B$6 =Kilpailu!$A$79,Kilpailu!B36,IF(Kilpailu!$B$6 =Kilpailu!$A$80,Kilpailu!B51,IF(Kilpailu!$B$6 =Kilpailu!$A$81,Kilpailu!B66,""))) | F53: 0 | G53: 10 | H53: =(SUM(C53:G53)*IF(Kilpailu!$B$6 =Kilpailu!$A$79,Kilpailu!C36,IF(Kilpailu!$B$6 =Kilpailu!$A$80,Kilpailu!C51,IF(Kilpailu!$B$6 =Kilpailu!$A$81,Kilpailu!C66,1))))-SMALL(C53:G53,1)-LARGE(C53:G53,1) -> 0
A54: 8. | B54: =IF(Kilpailu!$B$6 =Kilpailu!$A$79,Kilpailu!B37,IF(Kilpailu!$B$6 =Kilpailu!$A$80,Kilpailu!B52,IF(Kilpailu!$B$6 =Kilpailu!$A$81,Kilpailu!B67,""))) | F54: 0 | G54: 10 | H54: =(SUM(C54:G54)*IF(Kilpailu!$B$6 =Kilpailu!$A$79,Kilpailu!C37,IF(Kilpailu!$B$6 =Kilpailu!$A$80,Kilpailu!C52,IF(Kilpailu!$B$6 =Kilpailu!$A$81,Kilpailu!C67,1))))-SMALL(C54:G54,1)-LARGE(C54:G54,1) -> 0
A55: 9. | B55: =IF(Kilpailu!$B$6 =Kilpailu!$A$79,Kilpailu!B38,IF(Kilpailu!$B$6 =Kilpailu!$A$80,Kilpailu!B53,IF(Kilpailu!$B$6 =Kilpailu!$A$81,Kilpailu!B68,""))) | F55: 0 | G55: 10 | H55: =(SUM(C55:G55)*IF(Kilpailu!$B$6 =Kilpailu!$A$79,Kilpailu!C38,IF(Kilpailu!$B$6 =Kilpailu!$A$80,Kilpailu!C53,IF(Kilpailu!$B$6 =Kilpailu!$A$81,Kilpailu!C68,1))))-SMALL(C55:G55,1)-LARGE(C55:G55,1) -> 0
A56: 10. | B56: =IF(Kilpailu!$B$6 =Kilpailu!$A$79,Kilpailu!B39,IF(Kilpailu!$B$6 =Kilpailu!$A$80,Kilpailu!B54,IF(Kilpailu!$B$6 =Kilpailu!$A$81,Kilpailu!B69,""))) | F56: 0 | G56: 10 | H56: =(SUM(C56:G56)*IF(Kilpailu!$B$6 =Kilpailu!$A$79,Kilpailu!C39,IF(Kilpailu!$B$6 =Kilpailu!$A$80,Kilpailu!C54,IF(Kilpailu!$B$6 =Kilpailu!$A$81,Kilpailu!C69,1))))-SMALL(C56:G56,1)-LARGE(C56:G56,1) -> 0
A57: 11. | B57: =IF(Kilpailu!$B$6 =Kilpailu!$A$79,Kilpailu!B40,IF(Kilpailu!$B$6 =Kilpailu!$A$80,Kilpailu!B55,IF(Kilpailu!$B$6 =Kilpailu!$A$81,Kilpailu!B70,""))) | G57: 0 | H57: =(SUM(C57:G57)*IF(Kilpailu!$B$6 =Kilpailu!$A$79,Kilpailu!C40,IF(Kilpailu!$B$6 =Kilpailu!$A$80,Kilpailu!C55,IF(Kilpailu!$B$6 =Kilpailu!$A$81,Kilpailu!C70,1))))-SMALL(C57:G57,1)-LARGE(C57:G57,1) -> 0
B58: Yht. | C58: =SUM(C47:C57) -> 25 | D58: =SUM(D47:D57) -> 25 | E58: =SUM(E47:E57) -> 31 | F58: =SUM(F47:F57) -> 0 | G58: =SUM(G47:G57) -> 100

Sheet 8
D4: Pisteet | E4: Suht…
A5: Nimi: | B5: =Kilpailu!B17 -> 0 | C5: Kierros 1. | D5: =SUM(C26:G26)-LARGE(C26:G26,1)-SMALL(C26:G26,1) -> 0 | E5: =Tulokset!D35 -> 0
C6: Kierros 2. | D6: =SUM(C42:G42)-LARGE(C42:G42,1)-SMALL(C42:G42,1) -> 0 | E6: =Tulokset!D55 -> 0
A7: Paikka: | B7: =Kilpailu!B4 -> Vesivehmaa | C7: Kierros 3. | D7: =SUM(C58:G58)-LARGE(C58:G58,1)-SMALL(C58:G58,1) -> 0 | E7: =Tulokset!D75 -> 0
A8: Päivä: | B8: =Kilpailu!B5 -> 42217
A9: Ohjelma: | B9: =Kilpailu!B6 -> Popular | C9: yhteensä: | D9: =SUM(D5:D7) -> 0 | E9: =SUM(E5:E7) -> 0
C10: pois: | D10: =SMALL(D5:D7,1) -> 0 | E10: =SMALL(E5:E7,1) -> 0
C11: 2 parasta: | D11: =SUM(D5:D7)-D10 -> 0 | E11: =SUM(E5:E7)-E10 -> 0
A14: Kierros 1: | C14: Tuomari 1 | D14: Tuomari 2 | E14: Tuomari 3 | F14: Tuomari 4 | G14: Tuomari 5 | H14: yht.
A15: 1. | B15: =IF(Kilpailu!$B$6 =Kilpailu!$A$79,Kilpailu!B30,IF(Kilpailu!$B$6 =Kilpailu!$A$80,Kilpailu!B45,IF(Kilpailu!$B$6 =Kilpailu!$A$81,Kilpailu!B60,""))) -> Leijunta-M | F15: 0 | G15: 10 | H15: =(SUM(C15:G15)*IF(Kilpailu!$B$6 =Kilpailu!$A$79,Kilpailu!C30,IF(Kilpailu!$B$6 =Kilpailu!$A$80,Kilpailu!C45,IF(Kilpailu!$B$6 =Kilpailu!$A$81,Kilpailu!C60,1))))-SMALL(C15:G15,1)-LARGE(C15:G15,1) -> 0
A16: 2. | B16: =IF(Kilpailu!$B$6 =Kilpailu!$A$79,Kilpailu!B31,IF(Kilpailu!$B$6 =Kilpailu!$A$80,Kilpailu!B46,IF(Kilpailu!$B$6 =Kilpailu!$A$81,Kilpailu!B61,""))) -> Leijunta TopHat | F16: 0 | G16: 10 | H16: =(SUM(C16:G16)*IF(Kilpailu!$B$6 =Kilpailu!$A$79,Kilpailu!C31,IF(Kilpailu!$B$6 =Kilpailu!$A$80,Kilpailu!C46,IF(Kilpailu!$B$6 =Kilpailu!$A$81,Kilpailu!C61,1))))-SMALL(C16:G16,1)-LARGE(C16:G16,1) -> 0
A17: 3. | B17: =IF(Kilpailu!$B$6 =Kilpailu!$A$79,Kilpailu!B32,IF(Kilpailu!$B$6 =Kilpailu!$A$80,Kilpailu!B47,IF(Kilpailu!$B$6 =Kilpailu!$A$81,Kilpailu!B62,""))) -> Cobra | F17: 0 | G17: 10 | H17: =(SUM(C17:G17)*IF(Kilpailu!$B$6 =Kilpailu!$A$79,Kilpailu!C32,IF(Kilpailu!$B$6 =Kilpailu!$A$80,Kilpailu!C47,IF(Kilpailu!$B$6 =Kilpailu!$A$81,Kilpailu!C62,1))))-SMALL(C17:G17,1)-LARGE(C17:G17,1) -> 0
A18: 4. | B18: =IF(Kilpailu!$B$6 =Kilpailu!$A$79,Kilpailu!B33,IF(Kilpailu!$B$6 =Kilpailu!$A$80,Kilpailu!B48,IF(Kilpailu!$B$6 =Kilpailu!$A$81,Kilpailu!B63,""))) -> Suora ohilento | F18: 0 | G18: 10 | H18: =(SUM(C18:G18)*IF(Kilpailu!$B$6 =Kilpailu!$A$79,Kilpailu!C33,IF(Kilpailu!$B$6 =Kilpailu!$A$80,Kilpailu!C48,IF(Kilpailu!$B$6 =Kilpailu!$A$81,Kilpailu!C63,1))))-SMALL(C18:G18,1)-LARGE(C18:G18,1) -> 0
A19: 5. | B19: =IF(Kilpailu!$B$6 =Kilpailu!$A$79,Kilpailu!B34,IF(Kilpailu!$B$6 =Kilpailu!$A$80,Kilpailu!B49,IF(Kilpailu!$B$6 =Kilpailu!$A$81,Kilpailu!B64,""))) -> Nouseva 180 asteen käännös | F19: 0 | G19: 10 | H19: =(SUM(C19:G19)*IF(Kilpailu!$B$6 =Kilpailu!$A$79,Kilpailu!C34,IF(Kilpailu!$B$6 =Kilpailu!$A$80,Kilpailu!C49,IF(Kilpailu!$B$6 =Kilpailu!$A$81,Kilpailu!C64,1))))-SMALL(C19:G19,1)-LARGE(C19:G19,1) -> 0
A20: 6. | B20: =IF(Kilpailu!$B$6 =Kilpailu!$A$79,Kilpailu!B35,IF(Kilpailu!$B$6 =Kilpailu!$A$80,Kilpailu!B50,IF(Kilpailu!$B$6 =Kilpailu!$A$81,Kilpailu!B65,""))) -> 45 asteen moottorilasku | F20: 0 | G20: 10 | H20: =(SUM(C20:G20)*IF(Kilpailu!$B$6 =Kilpailu!$A$79,Kilpailu!C35,IF(Kilpailu!$B$6 =Kilpailu!$A$80,Kilpailu!C50,IF(Kilpailu!$B$6 =Kilpailu!$A$81,Kilpailu!C65,1))))-SMALL(C20:G20,1)-LARGE(C20:G20,1) -> 0
A21: 7. | B21: =IF(Kilpailu!$B$6 =Kilpailu!$A$79,Kilpailu!B36,IF(Kilpailu!$B$6 =Kilpailu!$A$80,Kilpailu!B51,IF(Kilpailu!$B$6 =Kilpailu!$A$81,Kilpailu!B66,""))) | F21: 0 | G21: 10 | H21: =(SUM(C21:G21)*IF(Kilpailu!$B$6 =Kilpailu!$A$79,Kilpailu!C36,IF(Kilpailu!$B$6 =Kilpailu!$A$80,Kilpailu!C51,IF(Kilpailu!$B$6 =Kilpailu!$A$81,Kilpailu!C66,1))))-SMALL(C21:G21,1)-LARGE(C21:G21,1) -> 0
A22: 8. | B22: =IF(Kilpailu!$B$6 =Kilpailu!$A$79,Kilpailu!B37,IF(Kilpailu!$B$6 =Kilpailu!$A$80,Kilpailu!B52,IF(Kilpailu!$B$6 =Kilpailu!$A$81,Kilpailu!B67,""))) | F22: 0 | G22: 10 | H22: =(SUM(C22:G22)*IF(Kilpailu!$B$6 =Kilpailu!$A$79,Kilpailu!C37,IF(Kilpailu!$B$6 =Kilpailu!$A$80,Kilpailu!C52,IF(Kilpailu!$B$6 =Kilpailu!$A$81,Kilpailu!C67,1))))-SMALL(C22:G22,1)-LARGE(C22:G22,1) -> 0
A23: 9. | B23: =IF(Kilpailu!$B$6 =Kilpailu!$A$79,Kilpailu!B38,IF(Kilpailu!$B$6 =Kilpailu!$A$80,Kilpailu!B53,IF(Kilpailu!$B$6 =Kilpailu!$A$81,Kilpailu!B68,""))) | F23: 0 | G23: 10 | H23: =(SUM(C23:G23)*IF(Kilpailu!$B$6 =Kilpailu!$A$79,Kilpailu!C38,IF(Kilpailu!$B$6 =Kilpailu!$A$80,Kilpailu!C53,IF(Kilpailu!$B$6 =Kilpailu!$A$81,Kilpailu!C68,1))))-SMALL(C23:G23,1)-LARGE(C23:G23,1) -> 0
A24: 10. | B24: =IF(Kilpailu!$B$6 =Kilpailu!$A$79,Kilpailu!B39,IF(Kilpailu!$B$6 =Kilpailu!$A$80,Kilpailu!B54,IF(Kilpailu!$B$6 =Kilpailu!$A$81,Kilpailu!B69,""))) | F24: 0 | G24: 10 | H24: =(SUM(C24:G24)*IF(Kilpailu!$B$6 =Kilpailu!$A$79,Kilpailu!C39,IF(Kilpailu!$B$6 =Kilpailu!$A$80,Kilpailu!C54,IF(Kilpailu!$B$6 =Kilpailu!$A$81,Kilpailu!C69,1))))-SMALL(C24:G24,1)-LARGE(C24:G24,1) -> 0
A25: 11. | B25: =IF(Kilpailu!$B$6 =Kilpailu!$A$79,Kilpailu!B40,IF(Kilpailu!$B$6 =Kilpailu!$A$80,Kilpailu!B55,IF(Kilpailu!$B$6 =Kilpailu!$A$81,Kilpailu!B70,""))) | F25: 0 | G25: 0 | H25: =(SUM(C25:G25)*IF(Kilpailu!$B$6 =Kilpailu!$A$79,Kilpailu!C40,IF(Kilpailu!$B$6 =Kilpailu!$A$80,Kilpailu!C55,IF(Kilpailu!$B$6 =Kilpailu!$A$81,Kilpailu!C70,1))))-SMALL(C25:G25,1)-LARGE(C25:G25,1) -> 0
B26: Yht. | C26: =SUM(C15:C25) -> 0 | D26: =SUM(D15:D25) -> 0 | E26: =SUM(E15:E25) -> 0 | F26: =SUM(F15:F25) -> 0 | G26: =SUM(G15:G25) -> 100
A30: Kierros 2: | C30: Tuomari 1 | D30: Tuomari 2 | E30: Tuomari 3 | F30: Tuomari 4 | G30: Tuomari 5 | H30: yht.
A31: 1. | B31: =IF(Kilpailu!$B$6 =Kilpailu!$A$79,Kilpailu!B30,IF(Kilpailu!$B$6 =Kilpailu!$A$80,Kilpailu!B45,IF(Kilpailu!$B$6 =Kilpailu!$A$81,Kilpailu!B60,""))) -> Leijunta-M | F31: 0 | G31: 10 | H31: =(SUM(C31:G31)*IF(Kilpailu!$B$6 =Kilpailu!$A$79,Kilpailu!C30,IF(Kilpailu!$B$6 =Kilpailu!$A$80,Kilpailu!C45,IF(Kilpailu!$B$6 =Kilpailu!$A$81,Kilpailu!C60,1))))-SMALL(C31:G31,1)-LARGE(C31:G31,1) -> 0
A32: 2. | B32: =IF(Kilpailu!$B$6 =Kilpailu!$A$79,Kilpailu!B31,IF(Kilpailu!$B$6 =Kilpailu!$A$80,Kilpailu!B46,IF(Kilpailu!$B$6 =Kilpailu!$A$81,Kilpailu!B61,""))) -> Leijunta TopHat | F32: 0 | G32: 10 | H32: =(SUM(C32:G32)*IF(Kilpailu!$B$6 =Kilpailu!$A$79,Kilpailu!C31,IF(Kilpailu!$B$6 =Kilpailu!$A$80,Kilpailu!C46,IF(Kilpailu!$B$6 =Kilpailu!$A$81,Kilpailu!C61,1))))-SMALL(C32:G32,1)-LARGE(C32:G32,1) -> 0
A33: 3. | B33: =IF(Kilpailu!$B$6 =Kilpailu!$A$79,Kilpailu!B32,IF(Kilpailu!$B$6 =Kilpailu!$A$80,Kilpailu!B47,IF(Kilpailu!$B$6 =Kilpailu!$A$81,Kilpailu!B62,""))) -> Cobra | F33: 0 | G33: 10 | H33: =(SUM(C33:G33)*IF(Kilpailu!$B$6 =Kilpailu!$A$79,Kilpailu!C32,IF(Kilpailu!$B$6 =Kilpailu!$A$80,Kilpailu!C47,IF(Kilpailu!$B$6 =Kilpailu!$A$81,Kilpailu!C62,1))))-SMALL(C33:G33,1)-LARGE(C33:G33,1) -> 0
A34: 4. | B34: =IF(Kilpailu!$B$6 =Kilpailu!$A$79,Kilpailu!B33,IF(Kilpailu!$B$6 =Kilpailu!$A$80,Kilpailu!B48,IF(Kilpailu!$B$6 =Kilpailu!$A$81,Kilpailu!B63,""))) -> Suora ohilento | F34: 0 | G34: 10 | H34: =(SUM(C34:G34)*IF(Kilpailu!$B$6 =Kilpailu!$A$79,Kilpailu!C33,IF(Kilpailu!$B$6 =Kilpailu!$A$80,Kilpailu!C48,IF(Kilpailu!$B$6 =Kilpailu!$A$81,Kilpailu!C63,1))))-SMALL(C34:G34,1)-LARGE(C34:G34,1) -> 0
A35: 5. | B35: =IF(Kilpailu!$B$6 =Kilpailu!$A$79,Kilpailu!B34,IF(Kilpailu!$B$6 =Kilpailu!$A$80,Kilpailu!B49,IF(Kilpailu!$B$6 =Kilpailu!$A$81,Kilpailu!B64,""))) -> Nouseva 180 asteen käännös | F35: 0 | G35: 10 | H35: =(SUM(C35:G35)*IF(Kilpailu!$B$6 =Kilpailu!$A$79,Kilpailu!C34,IF(Kilpailu!$B$6 =Kilpailu!$A$80,Kilpailu!C49,IF(Kilpailu!$B$6 =Kilpailu!$A$81,Kilpailu!C64,1))))-SMALL(C35:G35,1)-LARGE(C35:G35,1) -> 0
A36: 6. | B36: =IF(Kilpailu!$B$6 =Kilpailu!$A$79,Kilpailu!B35,IF(Kilpailu!$B$6 =Kilpailu!$A$80,Kilpailu!B50,IF(Kilpailu!$B$6 =Kilpailu!$A$81,Kilpailu!B65,""))) -> 45 asteen moottorilasku | F36: 0 | G36: 10 | H36: =(SUM(C36:G36)*IF(Kilpailu!$B$6 =Kilpailu!$A$79,Kilpailu!C35,IF(Kilpailu!$B$6 =Kilpailu!$A$80,Kilpailu!C50,IF(Kilpailu!$B$6 =Kilpailu!$A$81,Kilpailu!C65,1))))-SMALL(C36:G36,1)-LARGE(C36:G36,1) -> 0
A37: 7. | B37: =IF(Kilpailu!$B$6 =Kilpailu!$A$79,Kilpailu!B36,IF(Kilpailu!$B$6 =Kilpailu!$A$80,Kilpailu!B51,IF(Kilpailu!$B$6 =Kilpailu!$A$81,Kilpailu!B66,""))) | F37: 0 | G37: 10 | H37: =(SUM(C37:G37)*IF(Kilpailu!$B$6 =Kilpailu!$A$79,Kilpailu!C36,IF(Kilpailu!$B$6 =Kilpailu!$A$80,Kilpailu!C51,IF(Kilpailu!$B$6 =Kilpailu!$A$81,Kilpailu!C66,1))))-SMALL(C37:G37,1)-LARGE(C37:G37,1) -> 0
A38: 8. | B38: =IF(Kilpailu!$B$6 =Kilpailu!$A$79,Kilpailu!B37,IF(Kilpailu!$B$6 =Kilpailu!$A$80,Kilpailu!B52,IF(Kilpailu!$B$6 =Kilpailu!$A$81,Kilpailu!B67,""))) | F38: 0 | G38: 10 | H38: =(SUM(C38:G38)*IF(Kilpailu!$B$6 =Kilpailu!$A$79,Kilpailu!C37,IF(Kilpailu!$B$6 =Kilpailu!$A$80,Kilpailu!C52,IF(Kilpailu!$B$6 =Kilpailu!$A$81,Kilpailu!C67,1))))-SMALL(C38:G38,1)-LARGE(C38:G38,1) -> 0
A39: 9. | B39: =IF(Kilpailu!$B$6 =Kilpailu!$A$79,Kilpailu!B38,IF(Kilpailu!$B$6 =Kilpailu!$A$80,Kilpailu!B53,IF(Kilpailu!$B$6 =Kilpailu!$A$81,Kilpailu!B68,""))) | F39: 0 | G39: 10 | H39: =(SUM(C39:G39)*IF(Kilpailu!$B$6 =Kilpailu!$A$79,Kilpailu!C38,IF(Kilpailu!$B$6 =Kilpailu!$A$80,Kilpailu!C53,IF(Kilpailu!$B$6 =Kilpailu!$A$81,Kilpailu!C68,1))))-SMALL(C39:G39,1)-LARGE(C39:G39,1) -> 0
A40: 10. | B40: =IF(Kilpailu!$B$6 =Kilpailu!$A$79,Kilpailu!B39,IF(Kilpailu!$B$6 =Kilpailu!$A$80,Kilpailu!B54,IF(Kilpailu!$B$6 =Kilpailu!$A$81,Kilpailu!B69,""))) | F40: 0 | G40: 10 | H40: =(SUM(C40:G40)*IF(Kilpailu!$B$6 =Kilpailu!$A$79,Kilpailu!C39,IF(Kilpailu!$B$6 =Kilpailu!$A$80,Kilpailu!C54,IF(Kilpailu!$B$6 =Kilpailu!$A$81,Kilpailu!C69,1))))-SMALL(C40:G40,1)-LARGE(C40:G40,1) -> 0
A41: 11. | B41: =IF(Kilpailu!$B$6 =Kilpailu!$A$79,Kilpailu!B40,IF(Kilpailu!$B$6 =Kilpailu!$A$80,Kilpailu!B55,IF(Kilpailu!$B$6 =Kilpailu!$A$81,Kilpailu!B70,""))) | F41: 0 | H41: =(SUM(C41:G41)*IF(Kilpailu!$B$6 =Kilpailu!$A$79,Kilpailu!C40,IF(Kilpailu!$B$6 =Kilpailu!$A$80,Kilpailu!C55,IF(Kilpailu!$B$6 =Kilpailu!$A$81,Kilpailu!C70,1))))-SMALL(C41:G41,1)-LARGE(C41:G41,1) -> 0
B42: Yht. | C42: =SUM(C31:C41) -> 0 | D42: =SUM(D31:D41) -> 0 | E42: =SUM(E31:E41) -> 0 | F42: =SUM(F31:F41) -> 0 | G42: =SUM(G31:G41) -> 100
A46: Kierros 3: | C46: Tuomari 1 | D46: Tuomari 2 | E46: Tuomari 3 | F46: Tuomari 4 | G46: Tuomari 5 | H46: yht.
A47: 1. | B47: =IF(Kilpailu!$B$6 =Kilpailu!$A$79,Kilpailu!B30,IF(Kilpailu!$B$6 =Kilpailu!$A$80,Kilpailu!B45,IF(Kilpailu!$B$6 =Kilpailu!$A$81,Kilpailu!B60,""))) -> Leijunta-M | F47: 0 | G47: 10 | H47: =(SUM(C47:G47)*IF(Kilpailu!$B$6 =Kilpailu!$A$79,Kilpailu!C30,IF(Kilpailu!$B$6 =Kilpailu!$A$80,Kilpailu!C45,IF(Kilpailu!$B$6 =Kilpailu!$A$81,Kilpailu!C60,1))))-SMALL(C47:G47,1)-LARGE(C47:G47,1) -> 0
A48: 2. | B48: =IF(Kilpailu!$B$6 =Kilpailu!$A$79,Kilpailu!B31,IF(Kilpailu!$B$6 =Kilpailu!$A$80,Kilpailu!B46,IF(Kilpailu!$B$6 =Kilpailu!$A$81,Kilpailu!B61,""))) -> Leijunta TopHat | F48: 0 | G48: 10 | H48: =(SUM(C48:G48)*IF(Kilpailu!$B$6 =Kilpailu!$A$79,Kilpailu!C31,IF(Kilpailu!$B$6 =Kilpailu!$A$80,Kilpailu!C46,IF(Kilpailu!$B$6 =Kilpailu!$A$81,Kilpailu!C61,1))))-SMALL(C48:G48,1)-LARGE(C48:G48,1) -> 0
A49: 3. | B49: =IF(Kilpailu!$B$6 =Kilpailu!$A$79,Kilpailu!B32,IF(Kilpailu!$B$6 =Kilpailu!$A$80,Kilpailu!B47,IF(Kilpailu!$B$6 =Kilpailu!$A$81,Kilpailu!B62,""))) -> Cobra | F49: 0 | G49: 10 | H49: =(SUM(C49:G49)*IF(Kilpailu!$B$6 =Kilpailu!$A$79,Kilpailu!C32,IF(Kilpailu!$B$6 =Kilpailu!$A$80,Kilpailu!C47,IF(Kilpailu!$B$6 =Kilpailu!$A$81,Kilpailu!C62,1))))-SMALL(C49:G49,1)-LARGE(C49:G49,1) -> 0
A50: 4. | B50: =IF(Kilpailu!$B$6 =Kilpailu!$A$79,Kilpailu!B33,IF(Kilpailu!$B$6 =Kilpailu!$A$80,Kilpailu!B48,IF(Kilpailu!$B$6 =Kilpailu!$A$81,Kilpailu!B63,""))) -> Suora ohilento | F50: 0 | G50: 10 | H50: =(SUM(C50:G50)*IF(Kilpailu!$B$6 =Kilpailu!$A$79,Kilpailu!C33,IF(Kilpailu!$B$6 =Kilpailu!$A$80,Kilpailu!C48,IF(Kilpailu!$B$6 =Kilpailu!$A$81,Kilpailu!C63,1))))-SMALL(C50:G50,1)-LARGE(C50:G50,1) -> 0
A51: 5. | B51: =IF(Kilpailu!$B$6 =Kilpailu!$A$79,Kilpailu!B34,IF(Kilpailu!$B$6 =Kilpailu!$A$80,Kilpailu!B49,IF(Kilpailu!$B$6 =Kilpailu!$A$81,Kilpailu!B64,""))) -> Nouseva 180 asteen käännös | F51: 0 | G51: 10 | H51: =(SUM(C51:G51)*IF(Kilpailu!$B$6 =Kilpailu!$A$79,Kilpailu!C34,IF(Kilpailu!$B$6 =Kilpailu!$A$80,Kilpailu!C49,IF(Kilpailu!$B$6 =Kilpailu!$A$81,Kilpailu!C64,1))))-SMALL(C51:G51,1)-LARGE(C51:G51,1) -> 0
A52: 6. | B52: =IF(Kilpailu!$B$6 =Kilpailu!$A$79,Kilpailu!B35,IF(Kilpailu!$B$6 =Kilpailu!$A$80,Kilpailu!B50,IF(Kilpailu!$B$6 =Kilpailu!$A$81,Kilpailu!B65,""))) -> 45 asteen moottorilasku | F52: 0 | G52: 10 | H52: =(SUM(C52:G52)*IF(Kilpailu!$B$6 =Kilpailu!$A$79,Kilpailu!C35,IF(Kilpailu!$B$6 =Kilpailu!$A$80,Kilpailu!C50,IF(Kilpailu!$B$6 =Kilpailu!$A$81,Kilpailu!C65,1))))-SMALL(C52:G52,1)-LARGE(C52:G52,1) -> 0
A53: 7. | B53: =IF(Kilpailu!$B$6 =Kilpailu!$A$79,Kilpailu!B36,IF(Kilpailu!$B$6 =Kilpailu!$A$80,Kilpailu!B51,IF(Kilpailu!$B$6 =Kilpailu!$A$81,Kilpailu!B66,""))) | F53: 0 | G53: 10 | H53: =(SUM(C53:G53)*IF(Kilpailu!$B$6 =Kilpailu!$A$79,Kilpailu!C36,IF(Kilpailu!$B$6 =Kilpailu!$A$80,Kilpailu!C51,IF(Kilpailu!$B$6 =Kilpailu!$A$81,Kilpailu!C66,1))))-SMALL(C53:G53,1)-LARGE(C53:G53,1) -> 0
A54: 8. | B54: =IF(Kilpailu!$B$6 =Kilpailu!$A$79,Kilpailu!B37,IF(Kilpailu!$B$6 =Kilpailu!$A$80,Kilpailu!B52,IF(Kilpailu!$B$6 =Kilpailu!$A$81,Kilpailu!B67,""))) | F54: 0 | G54: 10 | H54: =(SUM(C54:G54)*IF(Kilpailu!$B$6 =Kilpailu!$A$79,Kilpailu!C37,IF(Kilpailu!$B$6 =Kilpailu!$A$80,Kilpailu!C52,IF(Kilpailu!$B$6 =Kilpailu!$A$81,Kilpailu!C67,1))))-SMALL(C54:G54,1)-LARGE(C54:G54,1) -> 0
A55: 9. | B55: =IF(Kilpailu!$B$6 =Kilpailu!$A$79,Kilpailu!B38,IF(Kilpailu!$B$6 =Kilpailu!$A$80,Kilpailu!B53,IF(Kilpailu!$B$6 =Kilpailu!$A$81,Kilpailu!B68,""))) | F55: 0 | G55: 10 | H55: =(SUM(C55:G55)*IF(Kilpailu!$B$6 =Kilpailu!$A$79,Kilpailu!C38,IF(Kilpailu!$B$6 =Kilpailu!$A$80,Kilpailu!C53,IF(Kilpailu!$B$6 =Kilpailu!$A$81,Kilpailu!C68,1))))-SMALL(C55:G55,1)-LARGE(C55:G55,1) -> 0
A56: 10. | B56: =IF(Kilpailu!$B$6 =Kilpailu!$A$79,Kilpailu!B39,IF(Kilpailu!$B$6 =Kilpailu!$A$80,Kilpailu!B54,IF(Kilpailu!$B$6 =Kilpailu!$A$81,Kilpailu!B69,""))) | F56: 0 | G56: 10 | H56: =(SUM(C56:G56)*IF(Kilpailu!$B$6 =Kilpailu!$A$79,Kilpailu!C39,IF(Kilpailu!$B$6 =Kilpailu!$A$80,Kilpailu!C54,IF(Kilpailu!$B$6 =Kilpailu!$A$81,Kilpailu!C69,1))))-SMALL(C56:G56,1)-LARGE(C56:G56,1) -> 0
A57: 11. | B57: =IF(Kilpailu!$B$6 =Kilpailu!$A$79,Kilpailu!B40,IF(Kilpailu!$B$6 =Kilpailu!$A$80,Kilpailu!B55,IF(Kilpailu!$B$6 =Kilpailu!$A$81,Kilpailu!B70,""))) | F57: 0 | H57: =(SUM(C57:G57)*IF(Kilpailu!$B$6 =Kilpailu!$A$79,Kilpailu!C40,IF(Kilpailu!$B$6 =Kilpailu!$A$80,Kilpailu!C55,IF(Kilpailu!$B$6 =Kilpailu!$A$81,Kilpailu!C70,1))))-SMALL(C57:G57,1)-LARGE(C57:G57,1) -> 0
B58: Yht. | C58: =SUM(C47:C57) -> 0 | D58: =SUM(D47:D57) -> 0 | E58: =SUM(E47:E57) -> 0 | F58: =SUM(F47:F57) -> 0 | G58: =SUM(G47:G57) -> 100

Sheet 9
D4: Pisteet | E4: Suht…
A5: Nimi: | B5: =Kilpailu!B18 -> 0 | C5: Kierros 1. | D5: =SUM(C26:G26)-LARGE(C26:G26,1)-SMALL(C26:G26,1) -> 0 | E5: =Tulokset!D36 -> 0
C6: Kierros 2. | D6: =SUM(C42:G42)-LARGE(C42:G42,1)-SMALL(C42:G42,1) -> 0 | E6: =Tulokset!D56 -> 0
A7: Paikka: | B7: =Kilpailu!B4 -> Vesivehmaa | C7: Kierros 3. | D7: =SUM(C58:G58)-LARGE(C58:G58,1)-SMALL(C58:G58,1) -> 0 | E7: =Tulokset!D76 -> 0
A8: Päivä: | B8: =Kilpailu!B5 -> 42217
A9: Ohjelma: | B9: =Kilpailu!B6 -> Popular | C9: yhteensä: | D9: =SUM(D5:D7) -> 0 | E9: =SUM(E5:E7) -> 0
C10: pois: | D10: =SMALL(D5:D7,1) -> 0 | E10: =SMALL(E5:E7,1) -> 0
C11: 2 parasta: | D11: =SUM(D5:D7)-D10 -> 0 | E11: =SUM(E5:E7)-E10 -> 0
A14: Kierros 1: | C14: Tuomari 1 | D14: Tuomari 2 | E14: Tuomari 3 | F14: Tuomari 4 | G14: Tuomari 5 | H14: yht.
A15: 1. | B15: =IF(Kilpailu!$B$6 =Kilpailu!$A$79,Kilpailu!B30,IF(Kilpailu!$B$6 =Kilpailu!$A$80,Kilpailu!B45,IF(Kilpailu!$B$6 =Kilpailu!$A$81,Kilpailu!B60,""))) -> Leijunta-M | F15: 0 | G15: 10 | H15: =(SUM(C15:G15)*IF(Kilpailu!$B$6 =Kilpailu!$A$79,Kilpailu!C30,IF(Kilpailu!$B$6 =Kilpailu!$A$80,Kilpailu!C45,IF(Kilpailu!$B$6 =Kilpailu!$A$81,Kilpailu!C60,1))))-SMALL(C15:G15,1)-LARGE(C15:G15,1) -> 0
A16: 2. | B16: =IF(Kilpailu!$B$6 =Kilpailu!$A$79,Kilpailu!B31,IF(Kilpailu!$B$6 =Kilpailu!$A$80,Kilpailu!B46,IF(Kilpailu!$B$6 =Kilpailu!$A$81,Kilpailu!B61,""))) -> Leijunta TopHat | F16: 0 | G16: 10 | H16: =(SUM(C16:G16)*IF(Kilpailu!$B$6 =Kilpailu!$A$79,Kilpailu!C31,IF(Kilpailu!$B$6 =Kilpailu!$A$80,Kilpailu!C46,IF(Kilpailu!$B$6 =Kilpailu!$A$81,Kilpailu!C61,1))))-SMALL(C16:G16,1)-LARGE(C16:G16,1) -> 0
A17: 3. | B17: =IF(Kilpailu!$B$6 =Kilpailu!$A$79,Kilpailu!B32,IF(Kilpailu!$B$6 =Kilpailu!$A$80,Kilpailu!B47,IF(Kilpailu!$B$6 =Kilpailu!$A$81,Kilpailu!B62,""))) -> Cobra | F17: 0 | G17: 10 | H17: =(SUM(C17:G17)*IF(Kilpailu!$B$6 =Kilpailu!$A$79,Kilpailu!C32,IF(Kilpailu!$B$6 =Kilpailu!$A$80,Kilpailu!C47,IF(Kilpailu!$B$6 =Kilpailu!$A$81,Kilpailu!C62,1))))-SMALL(C17:G17,1)-LARGE(C17:G17,1) -> 0
A18: 4. | B18: =IF(Kilpailu!$B$6 =Kilpailu!$A$79,Kilpailu!B33,IF(Kilpailu!$B$6 =Kilpailu!$A$80,Kilpailu!B48,IF(Kilpailu!$B$6 =Kilpailu!$A$81,Kilpailu!B63,""))) -> Suora ohilento | F18: 0 | G18: 10 | H18: =(SUM(C18:G18)*IF(Kilpailu!$B$6 =Kilpailu!$A$79,Kilpailu!C33,IF(Kilpailu!$B$6 =Kilpailu!$A$80,Kilpailu!C48,IF(Kilpailu!$B$6 =Kilpailu!$A$81,Kilpailu!C63,1))))-SMALL(C18:G18,1)-LARGE(C18:G18,1) -> 0
A19: 5. | B19: =IF(Kilpailu!$B$6 =Kilpailu!$A$79,Kilpailu!B34,IF(Kilpailu!$B$6 =Kilpailu!$A$80,Kilpailu!B49,IF(Kilpailu!$B$6 =Kilpailu!$A$81,Kilpailu!B64,""))) -> Nouseva 180 asteen käännös | F19: 0 | G19: 10 | H19: =(SUM(C19:G19)*IF(Kilpailu!$B$6 =Kilpailu!$A$79,Kilpailu!C34,IF(Kilpailu!$B$6 =Kilpailu!$A$80,Kilpailu!C49,IF(Kilpailu!$B$6 =Kilpailu!$A$81,Kilpailu!C64,1))))-SMALL(C19:G19,1)-LARGE(C19:G19,1) -> 0
A20: 6. | B20: =IF(Kilpailu!$B$6 =Kilpailu!$A$79,Kilpailu!B35,IF(Kilpailu!$B$6 =Kilpailu!$A$80,Kilpailu!B50,IF(Kilpailu!$B$6 =Kilpailu!$A$81,Kilpailu!B65,""))) -> 45 asteen moottorilasku | F20: 0 | G20: 10 | H20: =(SUM(C20:G20)*IF(Kilpailu!$B$6 =Kilpailu!$A$79,Kilpailu!C35,IF(Kilpailu!$B$6 =Kilpailu!$A$80,Kilpailu!C50,IF(Kilpailu!$B$6 =Kilpailu!$A$81,Kilpailu!C65,1))))-SMALL(C20:G20,1)-LARGE(C20:G20,1) -> 0
A21: 7. | B21: =IF(Kilpailu!$B$6 =Kilpailu!$A$79,Kilpailu!B36,IF(Kilpailu!$B$6 =Kilpailu!$A$80,Kilpailu!B51,IF(Kilpailu!$B$6 =Kilpailu!$A$81,Kilpailu!B66,""))) | F21: 0 | G21: 10 | H21: =(SUM(C21:G21)*IF(Kilpailu!$B$6 =Kilpailu!$A$79,Kilpailu!C36,IF(Kilpailu!$B$6 =Kilpailu!$A$80,Kilpailu!C51,IF(Kilpailu!$B$6 =Kilpailu!$A$81,Kilpailu!C66,1))))-SMALL(C21:G21,1)-LARGE(C21:G21,1) -> 0
A22: 8. | B22: =IF(Kilpailu!$B$6 =Kilpailu!$A$79,Kilpailu!B37,IF(Kilpailu!$B$6 =Kilpailu!$A$80,Kilpailu!B52,IF(Kilpailu!$B$6 =Kilpailu!$A$81,Kilpailu!B67,""))) | F22: 0 | G22: 10 | H22: =(SUM(C22:G22)*IF(Kilpailu!$B$6 =Kilpailu!$A$79,Kilpailu!C37,IF(Kilpailu!$B$6 =Kilpailu!$A$80,Kilpailu!C52,IF(Kilpailu!$B$6 =Kilpailu!$A$81,Kilpailu!C67,1))))-SMALL(C22:G22,1)-LARGE(C22:G22,1) -> 0
A23: 9. | B23: =IF(Kilpailu!$B$6 =Kilpailu!$A$79,Kilpailu!B38,IF(Kilpailu!$B$6 =Kilpailu!$A$80,Kilpailu!B53,IF(Kilpailu!$B$6 =Kilpailu!$A$81,Kilpailu!B68,""))) | F23: 0 | G23: 10 | H23: =(SUM(C23:G23)*IF(Kilpailu!$B$6 =Kilpailu!$A$79,Kilpailu!C38,IF(Kilpailu!$B$6 =Kilpailu!$A$80,Kilpailu!C53,IF(Kilpailu!$B$6 =Kilpailu!$A$81,Kilpailu!C68,1))))-SMALL(C23:G23,1)-LARGE(C23:G23,1) -> 0
A24: 10. | B24: =IF(Kilpailu!$B$6 =Kilpailu!$A$79,Kilpailu!B39,IF(Kilpailu!$B$6 =Kilpailu!$A$80,Kilpailu!B54,IF(Kilpailu!$B$6 =Kilpailu!$A$81,Kilpailu!B69,""))) | F24: 0 | G24: 10 | H24: =(SUM(C24:G24)*IF(Kilpailu!$B$6 =Kilpailu!$A$79,Kilpailu!C39,IF(Kilpailu!$B$6 =Kilpailu!$A$80,Kilpailu!C54,IF(Kilpailu!$B$6 =Kilpailu!$A$81,Kilpailu!C69,1))))-SMALL(C24:G24,1)-LARGE(C24:G24,1) -> 0
A25: 11. | B25: =IF(Kilpailu!$B$6 =Kilpailu!$A$79,Kilpailu!B40,IF(Kilpailu!$B$6 =Kilpailu!$A$80,Kilpailu!B55,IF(Kilpailu!$B$6 =Kilpailu!$A$81,Kilpailu!B70,""))) | F25: 0 | G25: 0 | H25: =(SUM(C25:G25)*IF(Kilpailu!$B$6 =Kilpailu!$A$79,Kilpailu!C40,IF(Kilpailu!$B$6 =Kilpailu!$A$80,Kilpailu!C55,IF(Kilpailu!$B$6 =Kilpailu!$A$81,Kilpailu!C70,1))))-SMALL(C25:G25,1)-LARGE(C25:G25,1) -> 0
B26: Yht. | C26: =SUM(C15:C25) -> 0 | D26: =SUM(D15:D25) -> 0 | E26: =SUM(E15:E25) -> 0 | F26: =SUM(F15:F25) -> 0 | G26: =SUM(G15:G25) -> 100
A30: Kierros 2: | C30: Tuomari 1 | D30: Tuomari 2 | E30: Tuomari 3 | F30: Tuomari 4 | G30: Tuomari 5 | H30: yht.
A31: 1. | B31: =IF(Kilpailu!$B$6 =Kilpailu!$A$79,Kilpailu!B30,IF(Kilpailu!$B$6 =Kilpailu!$A$80,Kilpailu!B45,IF(Kilpailu!$B$6 =Kilpailu!$A$81,Kilpailu!B60,""))) -> Leijunta-M | F31: 0 | G31: 10 | H31: =(SUM(C31:G31)*IF(Kilpailu!$B$6 =Kilpailu!$A$79,Kilpailu!C30,IF(Kilpailu!$B$6 =Kilpailu!$A$80,Kilpailu!C45,IF(Kilpailu!$B$6 =Kilpailu!$A$81,Kilpailu!C60,1))))-SMALL(C31:G31,1)-LARGE(C31:G31,1) -> 0
A32: 2. | B32: =IF(Kilpailu!$B$6 =Kilpailu!$A$79,Kilpailu!B31,IF(Kilpailu!$B$6 =Kilpailu!$A$80,Kilpailu!B46,IF(Kilpailu!$B$6 =Kilpailu!$A$81,Kilpailu!B61,""))) -> Leijunta TopHat | F32: 0 | G32: 10 | H32: =(SUM(C32:G32)*IF(Kilpailu!$B$6 =Kilpailu!$A$79,Kilpailu!C31,IF(Kilpailu!$B$6 =Kilpailu!$A$80,Kilpailu!C46,IF(Kilpailu!$B$6 =Kilpailu!$A$81,Kilpailu!C61,1))))-SMALL(C32:G32,1)-LARGE(C32:G32,1) -> 0
A33: 3. | B33: =IF(Kilpailu!$B$6 =Kilpailu!$A$79,Kilpailu!B32,IF(Kilpailu!$B$6 =Kilpailu!$A$80,Kilpailu!B47,IF(Kilpailu!$B$6 =Kilpailu!$A$81,Kilpailu!B62,""))) -> Cobra | F33: 0 | G33: 10 | H33: =(SUM(C33:G33)*IF(Kilpailu!$B$6 =Kilpailu!$A$79,Kilpailu!C32,IF(Kilpailu!$B$6 =Kilpailu!$A$80,Kilpailu!C47,IF(Kilpailu!$B$6 =Kilpailu!$A$81,Kilpailu!C62,1))))-SMALL(C33:G33,1)-LARGE(C33:G33,1) -> 0
A34: 4. | B34: =IF(Kilpailu!$B$6 =Kilpailu!$A$79,Kilpailu!B33,IF(Kilpailu!$B$6 =Kilpailu!$A$80,Kilpailu!B48,IF(Kilpailu!$B$6 =Kilpailu!$A$81,Kilpailu!B63,""))) -> Suora ohilento | F34: 0 | G34: 10 | H34: =(SUM(C34:G34)*IF(Kilpailu!$B$6 =Kilpailu!$A$79,Kilpailu!C33,IF(Kilpailu!$B$6 =Kilpailu!$A$80,Kilpailu!C48,IF(Kilpailu!$B$6 =Kilpailu!$A$81,Kilpailu!C63,1))))-SMALL(C34:G34,1)-LARGE(C34:G34,1) -> 0
A35: 5. | B35: =IF(Kilpailu!$B$6 =Kilpailu!$A$79,Kilpailu!B34,IF(Kilpailu!$B$6 =Kilpailu!$A$80,Kilpailu!B49,IF(Kilpailu!$B$6 =Kilpailu!$A$81,Kilpailu!B64,""))) -> Nouseva 180 asteen käännös | F35: 0 | G35: 10 | H35: =(SUM(C35:G35)*IF(Kilpailu!$B$6 =Kilpailu!$A$79,Kilpailu!C34,IF(Kilpailu!$B$6 =Kilpailu!$A$80,Kilpailu!C49,IF(Kilpailu!$B$6 =Kilpailu!$A$81,Kilpailu!C64,1))))-SMALL(C35:G35,1)-LARGE(C35:G35,1) -> 0
A36: 6. | B36: =IF(Kilpailu!$B$6 =Kilpailu!$A$79,Kilpailu!B35,IF(Kilpailu!$B$6 =Kilpailu!$A$80,Kilpailu!B50,IF(Kilpailu!$B$6 =Kilpailu!$A$81,Kilpailu!B65,""))) -> 45 asteen moottorilasku | F36: 0 | G36: 10 | H36: =(SUM(C36:G36)*IF(Kilpailu!$B$6 =Kilpailu!$A$79,Kilpailu!C35,IF(Kilpailu!$B$6 =Kilpailu!$A$80,Kilpailu!C50,IF(Kilpailu!$B$6 =Kilpailu!$A$81,Kilpailu!C65,1))))-SMALL(C36:G36,1)-LARGE(C36:G36,1) -> 0
A37: 7. | B37: =IF(Kilpailu!$B$6 =Kilpailu!$A$79,Kilpailu!B36,IF(Kilpailu!$B$6 =Kilpailu!$A$80,Kilpailu!B51,IF(Kilpailu!$B$6 =Kilpailu!$A$81,Kilpailu!B66,""))) | F37: 0 | G37: 10 | H37: =(SUM(C37:G37)*IF(Kilpailu!$B$6 =Kilpailu!$A$79,Kilpailu!C36,IF(Kilpailu!$B$6 =Kilpailu!$A$80,Kilpailu!C51,IF(Kilpailu!$B$6 =Kilpailu!$A$81,Kilpailu!C66,1))))-SMALL(C37:G37,1)-LARGE(C37:G37,1) -> 0
A38: 8. | B38: =IF(Kilpailu!$B$6 =Kilpailu!$A$79,Kilpailu!B37,IF(Kilpailu!$B$6 =Kilpailu!$A$80,Kilpailu!B52,IF(Kilpailu!$B$6 =Kilpailu!$A$81,Kilpailu!B67,""))) | F38: 0 | G38: 10 | H38: =(SUM(C38:G38)*IF(Kilpailu!$B$6 =Kilpailu!$A$79,Kilpailu!C37,IF(Kilpailu!$B$6 =Kilpailu!$A$80,Kilpailu!C52,IF(Kilpailu!$B$6 =Kilpailu!$A$81,Kilpailu!C67,1))))-SMALL(C38:G38,1)-LARGE(C38:G38,1) -> 0
A39: 9. | B39: =IF(Kilpailu!$B$6 =Kilpailu!$A$79,Kilpailu!B38,IF(Kilpailu!$B$6 =Kilpailu!$A$80,Kilpailu!B53,IF(Kilpailu!$B$6 =Kilpailu!$A$81,Kilpailu!B68,""))) | F39: 0 | G39: 10 | H39: =(SUM(C39:G39)*IF(Kilpailu!$B$6 =Kilpailu!$A$79,Kilpailu!C38,IF(Kilpailu!$B$6 =Kilpailu!$A$80,Kilpailu!C53,IF(Kilpailu!$B$6 =Kilpailu!$A$81,Kilpailu!C68,1))))-SMALL(C39:G39,1)-LARGE(C39:G39,1) -> 0
A40: 10. | B40: =IF(Kilpailu!$B$6 =Kilpailu!$A$79,Kilpailu!B39,IF(Kilpailu!$B$6 =Kilpailu!$A$80,Kilpailu!B54,IF(Kilpailu!$B$6 =Kilpailu!$A$81,Kilpailu!B69,""))) | F40: 0 | G40: 10 | H40: =(SUM(C40:G40)*IF(Kilpailu!$B$6 =Kilpailu!$A$79,Kilpailu!C39,IF(Kilpailu!$B$6 =Kilpailu!$A$80,Kilpailu!C54,IF(Kilpailu!$B$6 =Kilpailu!$A$81,Kilpailu!C69,1))))-SMALL(C40:G40,1)-LARGE(C40:G40,1) -> 0
A41: 11. | B41: =IF(Kilpailu!$B$6 =Kilpailu!$A$79,Kilpailu!B40,IF(Kilpailu!$B$6 =Kilpailu!$A$80,Kilpailu!B55,IF(Kilpailu!$B$6 =Kilpailu!$A$81,Kilpailu!B70,""))) | F41: 0 | H41: =(SUM(C41:G41)*IF(Kilpailu!$B$6 =Kilpailu!$A$79,Kilpailu!C40,IF(Kilpailu!$B$6 =Kilpailu!$A$80,Kilpailu!C55,IF(Kilpailu!$B$6 =Kilpailu!$A$81,Kilpailu!C70,1))))-SMALL(C41:G41,1)-LARGE(C41:G41,1) -> 0
B42: Yht. | C42: =SUM(C31:C41) -> 0 | D42: =SUM(D31:D41) -> 0 | E42: =SUM(E31:E41) -> 0 | F42: =SUM(F31:F41) -> 0 | G42: =SUM(G31:G41) -> 100
A46: Kierros 3: | C46: Tuomari 1 | D46: Tuomari 2 | E46: Tuomari 3 | F46: Tuomari 4 | G46: Tuomari 5 | H46: yht.
A47: 1. | B47: =IF(Kilpailu!$B$6 =Kilpailu!$A$79,Kilpailu!B30,IF(Kilpailu!$B$6 =Kilpailu!$A$80,Kilpailu!B45,IF(Kilpailu!$B$6 =Kilpailu!$A$81,Kilpailu!B60,""))) -> Leijunta-M | F47: 0 | G47: 10 | H47: =(SUM(C47:G47)*IF(Kilpailu!$B$6 =Kilpailu!$A$79,Kilpailu!C30,IF(Kilpailu!$B$6 =Kilpailu!$A$80,Kilpailu!C45,IF(Kilpailu!$B$6 =Kilpailu!$A$81,Kilpailu!C60,1))))-SMALL(C47:G47,1)-LARGE(C47:G47,1) -> 0
A48: 2. | B48: =IF(Kilpailu!$B$6 =Kilpailu!$A$79,Kilpailu!B31,IF(Kilpailu!$B$6 =Kilpailu!$A$80,Kilpailu!B46,IF(Kilpailu!$B$6 =Kilpailu!$A$81,Kilpailu!B61,""))) -> Leijunta TopHat | F48: 0 | G48: 10 | H48: =(SUM(C48:G48)*IF(Kilpailu!$B$6 =Kilpailu!$A$79,Kilpailu!C31,IF(Kilpailu!$B$6 =Kilpailu!$A$80,Kilpailu!C46,IF(Kilpailu!$B$6 =Kilpailu!$A$81,Kilpailu!C61,1))))-SMALL(C48:G48,1)-LARGE(C48:G48,1) -> 0
A49: 3. | B49: =IF(Kilpailu!$B$6 =Kilpailu!$A$79,Kilpailu!B32,IF(Kilpailu!$B$6 =Kilpailu!$A$80,Kilpailu!B47,IF(Kilpailu!$B$6 =Kilpailu!$A$81,Kilpailu!B62,""))) -> Cobra | F49: 0 | G49: 10 | H49: =(SUM(C49:G49)*IF(Kilpailu!$B$6 =Kilpailu!$A$79,Kilpailu!C32,IF(Kilpailu!$B$6 =Kilpailu!$A$80,Kilpailu!C47,IF(Kilpailu!$B$6 =Kilpailu!$A$81,Kilpailu!C62,1))))-SMALL(C49:G49,1)-LARGE(C49:G49,1) -> 0
A50: 4. | B50: =IF(Kilpailu!$B$6 =Kilpailu!$A$79,Kilpailu!B33,IF(Kilpailu!$B$6 =Kilpailu!$A$80,Kilpailu!B48,IF(Kilpailu!$B$6 =Kilpailu!$A$81,Kilpailu!B63,""))) -> Suora ohilento | F50: 0 | G50: 10 | H50: =(SUM(C50:G50)*IF(Kilpailu!$B$6 =Kilpailu!$A$79,Kilpailu!C33,IF(Kilpailu!$B$6 =Kilpailu!$A$80,Kilpailu!C48,IF(Kilpailu!$B$6 =Kilpailu!$A$81,Kilpailu!C63,1))))-SMALL(C50:G50,1)-LARGE(C50:G50,1) -> 0
A51: 5. | B51: =IF(Kilpailu!$B$6 =Kilpailu!$A$79,Kilpailu!B34,IF(Kilpailu!$B$6 =Kilpailu!$A$80,Kilpailu!B49,IF(Kilpailu!$B$6 =Kilpailu!$A$81,Kilpailu!B64,""))) -> Nouseva 180 asteen käännös | F51: 0 | G51: 10 | H51: =(SUM(C51:G51)*IF(Kilpailu!$B$6 =Kilpailu!$A$79,Kilpailu!C34,IF(Kilpailu!$B$6 =Kilpailu!$A$80,Kilpailu!C49,IF(Kilpailu!$B$6 =Kilpailu!$A$81,Kilpailu!C64,1))))-SMALL(C51:G51,1)-LARGE(C51:G51,1) -> 0
A52: 6. | B52: =IF(Kilpailu!$B$6 =Kilpailu!$A$79,Kilpailu!B35,IF(Kilpailu!$B$6 =Kilpailu!$A$80,Kilpailu!B50,IF(Kilpailu!$B$6 =Kilpailu!$A$81,Kilpailu!B65,""))) -> 45 asteen moottorilasku | F52: 0 | G52: 10 | H52: =(SUM(C52:G52)*IF(Kilpailu!$B$6 =Kilpailu!$A$79,Kilpailu!C35,IF(Kilpailu!$B$6 =Kilpailu!$A$80,Kilpailu!C50,IF(Kilpailu!$B$6 =Kilpailu!$A$81,Kilpailu!C65,1))))-SMALL(C52:G52,1)-LARGE(C52:G52,1) -> 0
A53: 7. | B53: =IF(Kilpailu!$B$6 =Kilpailu!$A$79,Kilpailu!B36,IF(Kilpailu!$B$6 =Kilpailu!$A$80,Kilpailu!B51,IF(Kilpailu!$B$6 =Kilpailu!$A$81,Kilpailu!B66,""))) | F53: 0 | G53: 10 | H53: =(SUM(C53:G53)*IF(Kilpailu!$B$6 =Kilpailu!$A$79,Kilpailu!C36,IF(Kilpailu!$B$6 =Kilpailu!$A$80,Kilpailu!C51,IF(Kilpailu!$B$6 =Kilpailu!$A$81,Kilpailu!C66,1))))-SMALL(C53:G53,1)-LARGE(C53:G53,1) -> 0
A54: 8. | B54: =IF(Kilpailu!$B$6 =Kilpailu!$A$79,Kilpailu!B37,IF(Kilpailu!$B$6 =Kilpailu!$A$80,Kilpailu!B52,IF(Kilpailu!$B$6 =Kilpailu!$A$81,Kilpailu!B67,""))) | F54: 0 | G54: 10 | H54: =(SUM(C54:G54)*IF(Kilpailu!$B$6 =Kilpailu!$A$79,Kilpailu!C37,IF(Kilpailu!$B$6 =Kilpailu!$A$80,Kilpailu!C52,IF(Kilpailu!$B$6 =Kilpailu!$A$81,Kilpailu!C67,1))))-SMALL(C54:G54,1)-LARGE(C54:G54,1) -> 0
A55: 9. | B55: =IF(Kilpailu!$B$6 =Kilpailu!$A$79,Kilpailu!B38,IF(Kilpailu!$B$6 =Kilpailu!$A$80,Kilpailu!B53,IF(Kilpailu!$B$6 =Kilpailu!$A$81,Kilpailu!B68,""))) | F55: 0 | G55: 10 | H55: =(SUM(C55:G55)*IF(Kilpailu!$B$6 =Kilpailu!$A$79,Kilpailu!C38,IF(Kilpailu!$B$6 =Kilpailu!$A$80,Kilpailu!C53,IF(Kilpailu!$B$6 =Kilpailu!$A$81,Kilpailu!C68,1))))-SMALL(C55:G55,1)-LARGE(C55:G55,1) -> 0
A56: 10. | B56: =IF(Kilpailu!$B$6 =Kilpailu!$A$79,Kilpailu!B39,IF(Kilpailu!$B$6 =Kilpailu!$A$80,Kilpailu!B54,IF(Kilpailu!$B$6 =Kilpailu!$A$81,Kilpailu!B69,""))) | F56: 0 | G56: 10 | H56: =(SUM(C56:G56)*IF(Kilpailu!$B$6 =Kilpailu!$A$79,Kilpailu!C39,IF(Kilpailu!$B$6 =Kilpailu!$A$80,Kilpailu!C54,IF(Kilpailu!$B$6 =Kilpailu!$A$81,Kilpailu!C69,1))))-SMALL(C56:G56,1)-LARGE(C56:G56,1) -> 0
A57: 11. | B57: =IF(Kilpailu!$B$6 =Kilpailu!$A$79,Kilpailu!B40,IF(Kilpailu!$B$6 =Kilpailu!$A$80,Kilpailu!B55,IF(Kilpailu!$B$6 =Kilpailu!$A$81,Kilpailu!B70,""))) | F57: 0 | H57: =(SUM(C57:G57)*IF(Kilpailu!$B$6 =Kilpailu!$A$79,Kilpailu!C40,IF(Kilpailu!$B$6 =Kilpailu!$A$80,Kilpailu!C55,IF(Kilpailu!$B$6 =Kilpailu!$A$81,Kilpailu!C70,1))))-SMALL(C57:G57,1)-LARGE(C57:G57,1) -> 0
B58: Yht. | C58: =SUM(C47:C57) -> 0 | D58: =SUM(D47:D57) -> 0 | E58: =SUM(E47:E57) -> 0 | F58: =SUM(F47:F57) -> 0 | G58: =SUM(G47:G57) -> 100

Sheet 10
D4: Pisteet | E4: Suht…
A5: Nimi: | C5: Kierros 1. | D5: =SUM(C26:G26)-LARGE(C26:G26,1)-SMALL(C26:G26,1) -> 0 | E5: =Tulokset!D37 -> 0
C6: Kierros 2. | D6: =SUM(C42:G42)-LARGE(C42:G42,1)-SMALL(C42:G42,1) -> 0 | E6: =Tulokset!D57 -> 0
A7: Paikka: | B7: =Kilpailu!B4 -> Vesivehmaa | C7: Kierros 3. | D7: =SUM(C58:G58)-LARGE(C58:G58,1)-SMALL(C58:G58,1) -> 0 | E7: =Tulokset!D77 -> 0
A8: Päivä: | B8: =Kilpailu!B5 -> 42217
A9: Ohjelma: | B9: =Kilpailu!B6 -> Popular | C9: yhteensä: | D9: =SUM(D5:D7) -> 0 | E9: =SUM(E5:E7) -> 0
C10: pois: | D10: =SMALL(D5:D7,1) -> 0 | E10: =SMALL(E5:E7,1) -> 0
C11: 2 parasta: | D11: =SUM(D5:D7)-D10 -> 0 | E11: =SUM(E5:E7)-E10 -> 0
A14: Kierros 1: | C14: Tuomari 1 | D14: Tuomari 2 | E14: Tuomari 3 | F14: Tuomari 4 | G14: Tuomari 5 | H14: yht.
A15: 1. | B15: =IF(Kilpailu!$B$6 =Kilpailu!$A$79,Kilpailu!B30,IF(Kilpailu!$B$6 =Kilpailu!$A$80,Kilpailu!B45,IF(Kilpailu!$B$6 =Kilpailu!$A$81,Kilpailu!B60,""))) -> Leijunta-M | H15: =(SUM(C15:G15)*IF(Kilpailu!$B$6 =Kilpailu!$A$79,Kilpailu!C30,IF(Kilpailu!$B$6 =Kilpailu!$A$80,Kilpailu!C45,IF(Kilpailu!$B$6 =Kilpailu!$A$81,Kilpailu!C60,1))))-SMALL(C15:G15,1)-LARGE(C15:G15,1) -> #NUM!
A16: 2. | B16: =IF(Kilpailu!$B$6 =Kilpailu!$A$79,Kilpailu!B31,IF(Kilpailu!$B$6 =Kilpailu!$A$80,Kilpailu!B46,IF(Kilpailu!$B$6 =Kilpailu!$A$81,Kilpailu!B61,""))) -> Leijunta TopHat | H16: =(SUM(C16:G16)*IF(Kilpailu!$B$6 =Kilpailu!$A$79,Kilpailu!C31,IF(Kilpailu!$B$6 =Kilpailu!$A$80,Kilpailu!C46,IF(Kilpailu!$B$6 =Kilpailu!$A$81,Kilpailu!C61,1))))-SMALL(C16:G16,1)-LARGE(C16:G16,1) -> #NUM!
A17: 3. | B17: =IF(Kilpailu!$B$6 =Kilpailu!$A$79,Kilpailu!B32,IF(Kilpailu!$B$6 =Kilpailu!$A$80,Kilpailu!B47,IF(Kilpailu!$B$6 =Kilpailu!$A$81,Kilpailu!B62,""))) -> Cobra | H17: =(SUM(C17:G17)*IF(Kilpailu!$B$6 =Kilpailu!$A$79,Kilpailu!C32,IF(Kilpailu!$B$6 =Kilpailu!$A$80,Kilpailu!C47,IF(Kilpailu!$B$6 =Kilpailu!$A$81,Kilpailu!C62,1))))-SMALL(C17:G17,1)-LARGE(C17:G17,1) -> #NUM!
A18: 4. | B18: =IF(Kilpailu!$B$6 =Kilpailu!$A$79,Kilpailu!B33,IF(Kilpailu!$B$6 =Kilpailu!$A$80,Kilpailu!B48,IF(Kilpailu!$B$6 =Kilpailu!$A$81,Kilpailu!B63,""))) -> Suora ohilento | H18: =(SUM(C18:G18)*IF(Kilpailu!$B$6 =Kilpailu!$A$79,Kilpailu!C33,IF(Kilpailu!$B$6 =Kilpailu!$A$80,Kilpailu!C48,IF(Kilpailu!$B$6 =Kilpailu!$A$81,Kilpailu!C63,1))))-SMALL(C18:G18,1)-LARGE(C18:G18,1) -> #NUM!
A19: 5. | B19: =IF(Kilpailu!$B$6 =Kilpailu!$A$79,Kilpailu!B34,IF(Kilpailu!$B$6 =Kilpailu!$A$80,Kilpailu!B49,IF(Kilpailu!$B$6 =Kilpailu!$A$81,Kilpailu!B64,""))) -> Nouseva 180 asteen käännös | H19: =(SUM(C19:G19)*IF(Kilpailu!$B$6 =Kilpailu!$A$79,Kilpailu!C34,IF(Kilpailu!$B$6 =Kilpailu!$A$80,Kilpailu!C49,IF(Kilpailu!$B$6 =Kilpailu!$A$81,Kilpailu!C64,1))))-SMALL(C19:G19,1)-LARGE(C19:G19,1) -> #NUM!
A20: 6. | B20: =IF(Kilpailu!$B$6 =Kilpailu!$A$79,Kilpailu!B35,IF(Kilpailu!$B$6 =Kilpailu!$A$80,Kilpailu!B50,IF(Kilpailu!$B$6 =Kilpailu!$A$81,Kilpailu!B65,""))) -> 45 asteen moottorilasku | H20: =(SUM(C20:G20)*IF(Kilpailu!$B$6 =Kilpailu!$A$79,Kilpailu!C35,IF(Kilpailu!$B$6 =Kilpailu!$A$80,Kilpailu!C50,IF(Kilpailu!$B$6 =Kilpailu!$A$81,Kilpailu!C65,1))))-SMALL(C20:G20,1)-LARGE(C20:G20,1) -> #NUM!
A21: 7. | B21: =IF(Kilpailu!$B$6 =Kilpailu!$A$79,Kilpailu!B36,IF(Kilpailu!$B$6 =Kilpailu!$A$80,Kilpailu!B51,IF(Kilpailu!$B$6 =Kilpailu!$A$81,Kilpailu!B66,""))) | H21: =(SUM(C21:G21)*IF(Kilpailu!$B$6 =Kilpailu!$A$79,Kilpailu!C36,IF(Kilpailu!$B$6 =Kilpailu!$A$80,Kilpailu!C51,IF(Kilpailu!$B$6 =Kilpailu!$A$81,Kilpailu!C66,1))))-SMALL(C21:G21,1)-LARGE(C21:G21,1) -> #NUM!
A22: 8. | B22: =IF(Kilpailu!$B$6 =Kilpailu!$A$79,Kilpailu!B37,IF(Kilpailu!$B$6 =Kilpailu!$A$80,Kilpailu!B52,IF(Kilpailu!$B$6 =Kilpailu!$A$81,Kilpailu!B67,""))) | H22: =(SUM(C22:G22)*IF(Kilpailu!$B$6 =Kilpailu!$A$79,Kilpailu!C37,IF(Kilpailu!$B$6 =Kilpailu!$A$80,Kilpailu!C52,IF(Kilpailu!$B$6 =Kilpailu!$A$81,Kilpailu!C67,1))))-SMALL(C22:G22,1)-LARGE(C22:G22,1) -> #NUM!
A23: 9. | B23: =IF(Kilpailu!$B$6 =Kilpailu!$A$79,Kilpailu!B38,IF(Kilpailu!$B$6 =Kilpailu!$A$80,Kilpailu!B53,IF(Kilpailu!$B$6 =Kilpailu!$A$81,Kilpailu!B68,""))) | H23: =(SUM(C23:G23)*IF(Kilpailu!$B$6 =Kilpailu!$A$79,Kilpailu!C38,IF(Kilpailu!$B$6 =Kilpailu!$A$80,Kilpailu!C53,IF(Kilpailu!$B$6 =Kilpailu!$A$81,Kilpailu!C68,1))))-SMALL(C23:G23,1)-LARGE(C23:G23,1) -> #NUM!
A24: 10. | B24: =IF(Kilpailu!$B$6 =Kilpailu!$A$79,Kilpailu!B39,IF(Kilpailu!$B$6 =Kilpailu!$A$80,Kilpailu!B54,IF(Kilpailu!$B$6 =Kilpailu!$A$81,Kilpailu!B69,""))) | H24: =(SUM(C24:G24)*IF(Kilpailu!$B$6 =Kilpailu!$A$79,Kilpailu!C39,IF(Kilpailu!$B$6 =Kilpailu!$A$80,Kilpailu!C54,IF(Kilpailu!$B$6 =Kilpailu!$A$81,Kilpailu!C69,1))))-SMALL(C24:G24,1)-LARGE(C24:G24,1) -> #NUM!
A25: 11. | B25: =IF(Kilpailu!$B$6 =Kilpailu!$A$79,Kilpailu!B40,IF(Kilpailu!$B$6 =Kilpailu!$A$80,Kilpailu!B55,IF(Kilpailu!$B$6 =Kilpailu!$A$81,Kilpailu!B70,""))) | H25: =(SUM(C25:G25)*IF(Kilpailu!$B$6 =Kilpailu!$A$79,Kilpailu!C40,IF(Kilpailu!$B$6 =Kilpailu!$A$80,Kilpailu!C55,IF(Kilpailu!$B$6 =Kilpailu!$A$81,Kilpailu!C70,1))))-SMALL(C25:G25,1)-LARGE(C25:G25,1) -> #NUM!
B26: Yht. | C26: =SUM(C15:C25) -> 0 | D26: =SUM(D15:D25) -> 0 | E26: =SUM(E15:E25) -> 0 | F26: =SUM(F15:F25) -> 0 | G26: =SUM(G15:G25) -> 0
A30: Kierros 2: | C30: Tuomari 1 | D30: Tuomari 2 | E30: Tuomari 3 | F30: Tuomari 4 | G30: Tuomari 5 | H30: yht.
A31: 1. | B31: =IF(Kilpailu!$B$6 =Kilpailu!$A$79,Kilpailu!B30,IF(Kilpailu!$B$6 =Kilpailu!$A$80,Kilpailu!B45,IF(Kilpailu!$B$6 =Kilpailu!$A$81,Kilpailu!B60,""))) -> Leijunta-M | H31: =(SUM(C31:G31)*IF(Kilpailu!$B$6 =Kilpailu!$A$79,Kilpailu!C30,IF(Kilpailu!$B$6 =Kilpailu!$A$80,Kilpailu!C45,IF(Kilpailu!$B$6 =Kilpailu!$A$81,Kilpailu!C60,1))))-SMALL(C31:G31,1)-LARGE(C31:G31,1) -> #NUM!
A32: 2. | B32: =IF(Kilpailu!$B$6 =Kilpailu!$A$79,Kilpailu!B31,IF(Kilpailu!$B$6 =Kilpailu!$A$80,Kilpailu!B46,IF(Kilpailu!$B$6 =Kilpailu!$A$81,Kilpailu!B61,""))) -> Leijunta TopHat | H32: =(SUM(C32:G32)*IF(Kilpailu!$B$6 =Kilpailu!$A$79,Kilpailu!C31,IF(Kilpailu!$B$6 =Kilpailu!$A$80,Kilpailu!C46,IF(Kilpailu!$B$6 =Kilpailu!$A$81,Kilpailu!C61,1))))-SMALL(C32:G32,1)-LARGE(C32:G32,1) -> #NUM!
A33: 3. | B33: =IF(Kilpailu!$B$6 =Kilpailu!$A$79,Kilpailu!B32,IF(Kilpailu!$B$6 =Kilpailu!$A$80,Kilpailu!B47,IF(Kilpailu!$B$6 =Kilpailu!$A$81,Kilpailu!B62,""))) -> Cobra | H33: =(SUM(C33:G33)*IF(Kilpailu!$B$6 =Kilpailu!$A$79,Kilpailu!C32,IF(Kilpailu!$B$6 =Kilpailu!$A$80,Kilpailu!C47,IF(Kilpailu!$B$6 =Kilpailu!$A$81,Kilpailu!C62,1))))-SMALL(C33:G33,1)-LARGE(C33:G33,1) -> #NUM!
A34: 4. | B34: =IF(Kilpailu!$B$6 =Kilpailu!$A$79,Kilpailu!B33,IF(Kilpailu!$B$6 =Kilpailu!$A$80,Kilpailu!B48,IF(Kilpailu!$B$6 =Kilpailu!$A$81,Kilpailu!B63,""))) -> Suora ohilento | H34: =(SUM(C34:G34)*IF(Kilpailu!$B$6 =Kilpailu!$A$79,Kilpailu!C33,IF(Kilpailu!$B$6 =Kilpailu!$A$80,Kilpailu!C48,IF(Kilpailu!$B$6 =Kilpailu!$A$81,Kilpailu!C63,1))))-SMALL(C34:G34,1)-LARGE(C34:G34,1) -> #NUM!
A35: 5. | B35: =IF(Kilpailu!$B$6 =Kilpailu!$A$79,Kilpailu!B34,IF(Kilpailu!$B$6 =Kilpailu!$A$80,Kilpailu!B49,IF(Kilpailu!$B$6 =Kilpailu!$A$81,Kilpailu!B64,""))) -> Nouseva 180 asteen käännös | H35: =(SUM(C35:G35)*IF(Kilpailu!$B$6 =Kilpailu!$A$79,Kilpailu!C34,IF(Kilpailu!$B$6 =Kilpailu!$A$80,Kilpailu!C49,IF(Kilpailu!$B$6 =Kilpailu!$A$81,Kilpailu!C64,1))))-SMALL(C35:G35,1)-LARGE(C35:G35,1) -> #NUM!
A36: 6. | B36: =IF(Kilpailu!$B$6 =Kilpailu!$A$79,Kilpailu!B35,IF(Kilpailu!$B$6 =Kilpailu!$A$80,Kilpailu!B50,IF(Kilpailu!$B$6 =Kilpailu!$A$81,Kilpailu!B65,""))) -> 45 asteen moottorilasku | H36: =(SUM(C36:G36)*IF(Kilpailu!$B$6 =Kilpailu!$A$79,Kilpailu!C35,IF(Kilpailu!$B$6 =Kilpailu!$A$80,Kilpailu!C50,IF(Kilpailu!$B$6 =Kilpailu!$A$81,Kilpailu!C65,1))))-SMALL(C36:G36,1)-LARGE(C36:G36,1) -> #NUM!
A37: 7. | B37: =IF(Kilpailu!$B$6 =Kilpailu!$A$79,Kilpailu!B36,IF(Kilpailu!$B$6 =Kilpailu!$A$80,Kilpailu!B51,IF(Kilpailu!$B$6 =Kilpailu!$A$81,Kilpailu!B66,""))) | H37: =(SUM(C37:G37)*IF(Kilpailu!$B$6 =Kilpailu!$A$79,Kilpailu!C36,IF(Kilpailu!$B$6 =Kilpailu!$A$80,Kilpailu!C51,IF(Kilpailu!$B$6 =Kilpailu!$A$81,Kilpailu!C66,1))))-SMALL(C37:G37,1)-LARGE(C37:G37,1) -> #NUM!
A38: 8. | B38: =IF(Kilpailu!$B$6 =Kilpailu!$A$79,Kilpailu!B37,IF(Kilpailu!$B$6 =Kilpailu!$A$80,Kilpailu!B52,IF(Kilpailu!$B$6 =Kilpailu!$A$81,Kilpailu!B67,""))) | H38: =(SUM(C38:G38)*IF(Kilpailu!$B$6 =Kilpailu!$A$79,Kilpailu!C37,IF(Kilpailu!$B$6 =Kilpailu!$A$80,Kilpailu!C52,IF(Kilpailu!$B$6 =Kilpailu!$A$81,Kilpailu!C67,1))))-SMALL(C38:G38,1)-LARGE(C38:G38,1) -> #NUM!
A39: 9. | B39: =IF(Kilpailu!$B$6 =Kilpailu!$A$79,Kilpailu!B38,IF(Kilpailu!$B$6 =Kilpailu!$A$80,Kilpailu!B53,IF(Kilpailu!$B$6 =Kilpailu!$A$81,Kilpailu!B68,""))) | H39: =(SUM(C39:G39)*IF(Kilpailu!$B$6 =Kilpailu!$A$79,Kilpailu!C38,IF(Kilpailu!$B$6 =Kilpailu!$A$80,Kilpailu!C53,IF(Kilpailu!$B$6 =Kilpailu!$A$81,Kilpailu!C68,1))))-SMALL(C39:G39,1)-LARGE(C39:G39,1) -> #NUM!
A40: 10. | B40: =IF(Kilpailu!$B$6 =Kilpailu!$A$79,Kilpailu!B39,IF(Kilpailu!$B$6 =Kilpailu!$A$80,Kilpailu!B54,IF(Kilpailu!$B$6 =Kilpailu!$A$81,Kilpailu!B69,""))) | H40: =(SUM(C40:G40)*IF(Kilpailu!$B$6 =Kilpailu!$A$79,Kilpailu!C39,IF(Kilpailu!$B$6 =Kilpailu!$A$80,Kilpailu!C54,IF(Kilpailu!$B$6 =Kilpailu!$A$81,Kilpailu!C69,1))))-SMALL(C40:G40,1)-LARGE(C40:G40,1) -> #NUM!
A41: 11. | B41: =IF(Kilpailu!$B$6 =Kilpailu!$A$79,Kilpailu!B40,IF(Kilpailu!$B$6 =Kilpailu!$A$80,Kilpailu!B55,IF(Kilpailu!$B$6 =Kilpailu!$A$81,Kilpailu!B70,""))) | H41: =(SUM(C41:G41)*IF(Kilpailu!$B$6 =Kilpailu!$A$79,Kilpailu!C40,IF(Kilpailu!$B$6 =Kilpailu!$A$80,Kilpailu!C55,IF(Kilpailu!$B$6 =Kilpailu!$A$81,Kilpailu!C70,1))))-SMALL(C41:G41,1)-LARGE(C41:G41,1) -> #NUM!
B42: Yht. | C42: =SUM(C31:C41) -> 0 | D42: =SUM(D31:D41) -> 0 | E42: =SUM(E31:E41) -> 0 | F42: =SUM(F31:F41) -> 0 | G42: =SUM(G31:G41) -> 0
A46: Kierros 3: | C46: Tuomari 1 | D46: Tuomari 2 | E46: Tuomari 3 | F46: Tuomari 4 | G46: Tuomari 5 | H46: yht.
A47: 1. | B47: =IF(Kilpailu!$B$6 =Kilpailu!$A$79,Kilpailu!B30,IF(Kilpailu!$B$6 =Kilpailu!$A$80,Kilpailu!B45,IF(Kilpailu!$B$6 =Kilpailu!$A$81,Kilpailu!B60,""))) -> Leijunta-M | H47: =(SUM(C47:G47)*IF(Kilpailu!$B$6 =Kilpailu!$A$79,Kilpailu!C30,IF(Kilpailu!$B$6 =Kilpailu!$A$80,Kilpailu!C45,IF(Kilpailu!$B$6 =Kilpailu!$A$81,Kilpailu!C60,1))))-SMALL(C47:G47,1)-LARGE(C47:G47,1) -> #NUM!
A48: 2. | B48: =IF(Kilpailu!$B$6 =Kilpailu!$A$79,Kilpailu!B31,IF(Kilpailu!$B$6 =Kilpailu!$A$80,Kilpailu!B46,IF(Kilpailu!$B$6 =Kilpailu!$A$81,Kilpailu!B61,""))) -> Leijunta TopHat | H48: =(SUM(C48:G48)*IF(Kilpailu!$B$6 =Kilpailu!$A$79,Kilpailu!C31,IF(Kilpailu!$B$6 =Kilpailu!$A$80,Kilpailu!C46,IF(Kilpailu!$B$6 =Kilpailu!$A$81,Kilpailu!C61,1))))-SMALL(C48:G48,1)-LARGE(C48:G48,1) -> #NUM!
A49: 3. | B49: =IF(Kilpailu!$B$6 =Kilpailu!$A$79,Kilpailu!B32,IF(Kilpailu!$B$6 =Kilpailu!$A$80,Kilpailu!B47,IF(Kilpailu!$B$6 =Kilpailu!$A$81,Kilpailu!B62,""))) -> Cobra | H49: =(SUM(C49:G49)*IF(Kilpailu!$B$6 =Kilpailu!$A$79,Kilpailu!C32,IF(Kilpailu!$B$6 =Kilpailu!$A$80,Kilpailu!C47,IF(Kilpailu!$B$6 =Kilpailu!$A$81,Kilpailu!C62,1))))-SMALL(C49:G49,1)-LARGE(C49:G49,1) -> #NUM!
A50: 4. | B50: =IF(Kilpailu!$B$6 =Kilpailu!$A$79,Kilpailu!B33,IF(Kilpailu!$B$6 =Kilpailu!$A$80,Kilpailu!B48,IF(Kilpailu!$B$6 =Kilpailu!$A$81,Kilpailu!B63,""))) -> Suora ohilento | H50: =(SUM(C50:G50)*IF(Kilpailu!$B$6 =Kilpailu!$A$79,Kilpailu!C33,IF(Kilpailu!$B$6 =Kilpailu!$A$80,Kilpailu!C48,IF(Kilpailu!$B$6 =Kilpailu!$A$81,Kilpailu!C63,1))))-SMALL(C50:G50,1)-LARGE(C50:G50,1) -> #NUM!
A51: 5. | B51: =IF(Kilpailu!$B$6 =Kilpailu!$A$79,Kilpailu!B34,IF(Kilpailu!$B$6 =Kilpailu!$A$80,Kilpailu!B49,IF(Kilpailu!$B$6 =Kilpailu!$A$81,Kilpailu!B64,""))) -> Nouseva 180 asteen käännös | H51: =(SUM(C51:G51)*IF(Kilpailu!$B$6 =Kilpailu!$A$79,Kilpailu!C34,IF(Kilpailu!$B$6 =Kilpailu!$A$80,Kilpailu!C49,IF(Kilpailu!$B$6 =Kilpailu!$A$81,Kilpailu!C64,1))))-SMALL(C51:G51,1)-LARGE(C51:G51,1) -> #NUM!
A52: 6. | B52: =IF(Kilpailu!$B$6 =Kilpailu!$A$79,Kilpailu!B35,IF(Kilpailu!$B$6 =Kilpailu!$A$80,Kilpailu!B50,IF(Kilpailu!$B$6 =Kilpailu!$A$81,Kilpailu!B65,""))) -> 45 asteen moottorilasku | H52: =(SUM(C52:G52)*IF(Kilpailu!$B$6 =Kilpailu!$A$79,Kilpailu!C35,IF(Kilpailu!$B$6 =Kilpailu!$A$80,Kilpailu!C50,IF(Kilpailu!$B$6 =Kilpailu!$A$81,Kilpailu!C65,1))))-SMALL(C52:G52,1)-LARGE(C52:G52,1) -> #NUM!
A53: 7. | B53: =IF(Kilpailu!$B$6 =Kilpailu!$A$79,Kilpailu!B36,IF(Kilpailu!$B$6 =Kilpailu!$A$80,Kilpailu!B51,IF(Kilpailu!$B$6 =Kilpailu!$A$81,Kilpailu!B66,""))) | H53: =(SUM(C53:G53)*IF(Kilpailu!$B$6 =Kilpailu!$A$79,Kilpailu!C36,IF(Kilpailu!$B$6 =Kilpailu!$A$80,Kilpailu!C51,IF(Kilpailu!$B$6 =Kilpailu!$A$81,Kilpailu!C66,1))))-SMALL(C53:G53,1)-LARGE(C53:G53,1) -> #NUM!
A54: 8. | B54: =IF(Kilpailu!$B$6 =Kilpailu!$A$79,Kilpailu!B37,IF(Kilpailu!$B$6 =Kilpailu!$A$80,Kilpailu!B52,IF(Kilpailu!$B$6 =Kilpailu!$A$81,Kilpailu!B67,""))) | H54: =(SUM(C54:G54)*IF(Kilpailu!$B$6 =Kilpailu!$A$79,Kilpailu!C37,IF(Kilpailu!$B$6 =Kilpailu!$A$80,Kilpailu!C52,IF(Kilpailu!$B$6 =Kilpailu!$A$81,Kilpailu!C67,1))))-SMALL(C54:G54,1)-LARGE(C54:G54,1) -> #NUM!
A55: 9. | B55: =IF(Kilpailu!$B$6 =Kilpailu!$A$79,Kilpailu!B38,IF(Kilpailu!$B$6 =Kilpailu!$A$80,Kilpailu!B53,IF(Kilpailu!$B$6 =Kilpailu!$A$81,Kilpailu!B68,""))) | H55: =(SUM(C55:G55)*IF(Kilpailu!$B$6 =Kilpailu!$A$79,Kilpailu!C38,IF(Kilpailu!$B$6 =Kilpailu!$A$80,Kilpailu!C53,IF(Kilpailu!$B$6 =Kilpailu!$A$81,Kilpailu!C68,1))))-SMALL(C55:G55,1)-LARGE(C55:G55,1) -> #NUM!
A56: 10. | B56: =IF(Kilpailu!$B$6 =Kilpailu!$A$79,Kilpailu!B39,IF(Kilpailu!$B$6 =Kilpailu!$A$80,Kilpailu!B54,IF(Kilpailu!$B$6 =Kilpailu!$A$81,Kilpailu!B69,""))) | H56: =(SUM(C56:G56)*IF(Kilpailu!$B$6 =Kilpailu!$A$79,Kilpailu!C39,IF(Kilpailu!$B$6 =Kilpailu!$A$80,Kilpailu!C54,IF(Kilpailu!$B$6 =Kilpailu!$A$81,Kilpailu!C69,1))))-SMALL(C56:G56,1)-LARGE(C56:G56,1) -> #NUM!
A57: 11. | B57: =IF(Kilpailu!$B$6 =Kilpailu!$A$79,Kilpailu!B40,IF(Kilpailu!$B$6 =Kilpailu!$A$80,Kilpailu!B55,IF(Kilpailu!$B$6 =Kilpailu!$A$81,Kilpailu!B70,""))) | H57: =(SUM(C57:G57)*IF(Kilpailu!$B$6 =Kilpailu!$A$79,Kilpailu!C40,IF(Kilpailu!$B$6 =Kilpailu!$A$80,Kilpailu!C55,IF(Kilpailu!$B$6 =Kilpailu!$A$81,Kilpailu!C70,1))))-SMALL(C57:G57,1)-LARGE(C57:G57,1) -> #NUM!
B58: Yht. | C58: =SUM(C47:C57) -> 0 | D58: =SUM(D47:D57) -> 0 | E58: =SUM(E47:E57) -> 0 | F58: =SUM(F47:F57) -> 0 | G58: =SUM(G47:G57) -> 0

Sheet 11
D4: Pisteet | E4: Suht…
A5: Nimi: | C5: Kierros 1. | D5: =SUM(C26:G26)-LARGE(C26:G26,1)-SMALL(C26:G26,1) -> 0 | E5: =Tulokset!D38 -> 0
C6: Kierros 2. | D6: =SUM(C42:G42)-LARGE(C42:G42,1)-SMALL(C42:G42,1) -> 0 | E6: =Tulokset!D58 -> 0
A7: Paikka: | B7: =Kilpailu!B4 -> Vesivehmaa | C7: Kierros 3. | D7: =SUM(C58:G58)-LARGE(C58:G58,1)-SMALL(C58:G58,1) -> 0 | E7: =Tulokset!D78 -> 0
A8: Päivä: | B8: =Kilpailu!B5 -> 42217
A9: Ohjelma: | B9: =Kilpailu!B6 -> Popular | C9: yhteensä: | D9: =SUM(D5:D7) -> 0 | E9: =SUM(E5:E7) -> 0
C10: pois: | D10: =SMALL(D5:D7,1) -> 0 | E10: =SMALL(E5:E7,1) -> 0
C11: 2 parasta: | D11: =SUM(D5:D7)-D10 -> 0 | E11: =SUM(E5:E7)-E10 -> 0
A14: Kierros 1: | C14: Tuomari 1 | D14: Tuomari 2 | E14: Tuomari 3 | F14: Tuomari 4 | G14: Tuomari 5 | H14: yht.
A15: 1. | B15: =IF(Kilpailu!$B$6 =Kilpailu!$A$79,Kilpailu!B30,IF(Kilpailu!$B$6 =Kilpailu!$A$80,Kilpailu!B45,IF(Kilpailu!$B$6 =Kilpailu!$A$81,Kilpailu!B60,""))) -> Leijunta-M | H15: =(SUM(C15:G15)*IF(Kilpailu!$B$6 =Kilpailu!$A$79,Kilpailu!C30,IF(Kilpailu!$B$6 =Kilpailu!$A$80,Kilpailu!C45,IF(Kilpailu!$B$6 =Kilpailu!$A$81,Kilpailu!C60,1))))-SMALL(C15:G15,1)-LARGE(C15:G15,1) -> #NUM!
A16: 2. | B16: =IF(Kilpailu!$B$6 =Kilpailu!$A$79,Kilpailu!B31,IF(Kilpailu!$B$6 =Kilpailu!$A$80,Kilpailu!B46,IF(Kilpailu!$B$6 =Kilpailu!$A$81,Kilpailu!B61,""))) -> Leijunta TopHat | H16: =(SUM(C16:G16)*IF(Kilpailu!$B$6 =Kilpailu!$A$79,Kilpailu!C31,IF(Kilpailu!$B$6 =Kilpailu!$A$80,Kilpailu!C46,IF(Kilpailu!$B$6 =Kilpailu!$A$81,Kilpailu!C61,1))))-SMALL(C16:G16,1)-LARGE(C16:G16,1) -> #NUM!
A17: 3. | B17: =IF(Kilpailu!$B$6 =Kilpailu!$A$79,Kilpailu!B32,IF(Kilpailu!$B$6 =Kilpailu!$A$80,Kilpailu!B47,IF(Kilpailu!$B$6 =Kilpailu!$A$81,Kilpailu!B62,""))) -> Cobra | H17: =(SUM(C17:G17)*IF(Kilpailu!$B$6 =Kilpailu!$A$79,Kilpailu!C32,IF(Kilpailu!$B$6 =Kilpailu!$A$80,Kilpailu!C47,IF(Kilpailu!$B$6 =Kilpailu!$A$81,Kilpailu!C62,1))))-SMALL(C17:G17,1)-LARGE(C17:G17,1) -> #NUM!
A18: 4. | B18: =IF(Kilpailu!$B$6 =Kilpailu!$A$79,Kilpailu!B33,IF(Kilpailu!$B$6 =Kilpailu!$A$80,Kilpailu!B48,IF(Kilpailu!$B$6 =Kilpailu!$A$81,Kilpailu!B63,""))) -> Suora ohilento | H18: =(SUM(C18:G18)*IF(Kilpailu!$B$6 =Kilpailu!$A$79,Kilpailu!C33,IF(Kilpailu!$B$6 =Kilpailu!$A$80,Kilpailu!C48,IF(Kilpailu!$B$6 =Kilpailu!$A$81,Kilpailu!C63,1))))-SMALL(C18:G18,1)-LARGE(C18:G18,1) -> #NUM!
A19: 5. | B19: =IF(Kilpailu!$B$6 =Kilpailu!$A$79,Kilpailu!B34,IF(Kilpailu!$B$6 =Kilpailu!$A$80,Kilpailu!B49,IF(Kilpailu!$B$6 =Kilpailu!$A$81,Kilpailu!B64,""))) -> Nouseva 180 asteen käännös | H19: =(SUM(C19:G19)*IF(Kilpailu!$B$6 =Kilpailu!$A$79,Kilpailu!C34,IF(Kilpailu!$B$6 =Kilpailu!$A$80,Kilpailu!C49,IF(Kilpailu!$B$6 =Kilpailu!$A$81,Kilpailu!C64,1))))-SMALL(C19:G19,1)-LARGE(C19:G19,1) -> #NUM!
A20: 6. | B20: =IF(Kilpailu!$B$6 =Kilpailu!$A$79,Kilpailu!B35,IF(Kilpailu!$B$6 =Kilpailu!$A$80,Kilpailu!B50,IF(Kilpailu!$B$6 =Kilpailu!$A$81,Kilpailu!B65,""))) -> 45 asteen moottorilasku | H20: =(SUM(C20:G20)*IF(Kilpailu!$B$6 =Kilpailu!$A$79,Kilpailu!C35,IF(Kilpailu!$B$6 =Kilpailu!$A$80,Kilpailu!C50,IF(Kilpailu!$B$6 =Kilpailu!$A$81,Kilpailu!C65,1))))-SMALL(C20:G20,1)-LARGE(C20:G20,1) -> #NUM!
A21: 7. | B21: =IF(Kilpailu!$B$6 =Kilpailu!$A$79,Kilpailu!B36,IF(Kilpailu!$B$6 =Kilpailu!$A$80,Kilpailu!B51,IF(Kilpailu!$B$6 =Kilpailu!$A$81,Kilpailu!B66,""))) | H21: =(SUM(C21:G21)*IF(Kilpailu!$B$6 =Kilpailu!$A$79,Kilpailu!C36,IF(Kilpailu!$B$6 =Kilpailu!$A$80,Kilpailu!C51,IF(Kilpailu!$B$6 =Kilpailu!$A$81,Kilpailu!C66,1))))-SMALL(C21:G21,1)-LARGE(C21:G21,1) -> #NUM!
A22: 8. | B22: =IF(Kilpailu!$B$6 =Kilpailu!$A$79,Kilpailu!B37,IF(Kilpailu!$B$6 =Kilpailu!$A$80,Kilpailu!B52,IF(Kilpailu!$B$6 =Kilpailu!$A$81,Kilpailu!B67,""))) | H22: =(SUM(C22:G22)*IF(Kilpailu!$B$6 =Kilpailu!$A$79,Kilpailu!C37,IF(Kilpailu!$B$6 =Kilpailu!$A$80,Kilpailu!C52,IF(Kilpailu!$B$6 =Kilpailu!$A$81,Kilpailu!C67,1))))-SMALL(C22:G22,1)-LARGE(C22:G22,1) -> #NUM!
A23: 9. | B23: =IF(Kilpailu!$B$6 =Kilpailu!$A$79,Kilpailu!B38,IF(Kilpailu!$B$6 =Kilpailu!$A$80,Kilpailu!B53,IF(Kilpailu!$B$6 =Kilpailu!$A$81,Kilpailu!B68,""))) | H23: =(SUM(C23:G23)*IF(Kilpailu!$B$6 =Kilpailu!$A$79,Kilpailu!C38,IF(Kilpailu!$B$6 =Kilpailu!$A$80,Kilpailu!C53,IF(Kilpailu!$B$6 =Kilpailu!$A$81,Kilpailu!C68,1))))-SMALL(C23:G23,1)-LARGE(C23:G23,1) -> #NUM!
A24: 10. | B24: =IF(Kilpailu!$B$6 =Kilpailu!$A$79,Kilpailu!B39,IF(Kilpailu!$B$6 =Kilpailu!$A$80,Kilpailu!B54,IF(Kilpailu!$B$6 =Kilpailu!$A$81,Kilpailu!B69,""))) | H24: =(SUM(C24:G24)*IF(Kilpailu!$B$6 =Kilpailu!$A$79,Kilpailu!C39,IF(Kilpailu!$B$6 =Kilpailu!$A$80,Kilpailu!C54,IF(Kilpailu!$B$6 =Kilpailu!$A$81,Kilpailu!C69,1))))-SMALL(C24:G24,1)-LARGE(C24:G24,1) -> #NUM!
A25: 11. | B25: =IF(Kilpailu!$B$6 =Kilpailu!$A$79,Kilpailu!B40,IF(Kilpailu!$B$6 =Kilpailu!$A$80,Kilpailu!B55,IF(Kilpailu!$B$6 =Kilpailu!$A$81,Kilpailu!B70,""))) | H25: =(SUM(C25:G25)*IF(Kilpailu!$B$6 =Kilpailu!$A$79,Kilpailu!C40,IF(Kilpailu!$B$6 =Kilpailu!$A$80,Kilpailu!C55,IF(Kilpailu!$B$6 =Kilpailu!$A$81,Kilpailu!C70,1))))-SMALL(C25:G25,1)-LARGE(C25:G25,1) -> #NUM!
B26: Yht. | C26: =SUM(C15:C25) -> 0 | D26: =SUM(D15:D25) -> 0 | E26: =SUM(E15:E25) -> 0 | F26: =SUM(F15:F25) -> 0 | G26: =SUM(G15:G25) -> 0
A30: Kierros 2: | C30: Tuomari 1 | D30: Tuomari 2 | E30: Tuomari 3 | F30: Tuomari 4 | G30: Tuomari 5 | H30: yht.
A31: 1. | B31: =IF(Kilpailu!$B$6 =Kilpailu!$A$79,Kilpailu!B30,IF(Kilpailu!$B$6 =Kilpailu!$A$80,Kilpailu!B45,IF(Kilpailu!$B$6 =Kilpailu!$A$81,Kilpailu!B60,""))) -> Leijunta-M | H31: =(SUM(C31:G31)*IF(Kilpailu!$B$6 =Kilpailu!$A$79,Kilpailu!C30,IF(Kilpailu!$B$6 =Kilpailu!$A$80,Kilpailu!C45,IF(Kilpailu!$B$6 =Kilpailu!$A$81,Kilpailu!C60,1))))-SMALL(C31:G31,1)-LARGE(C31:G31,1) -> #NUM!
A32: 2. | B32: =IF(Kilpailu!$B$6 =Kilpailu!$A$79,Kilpailu!B31,IF(Kilpailu!$B$6 =Kilpailu!$A$80,Kilpailu!B46,IF(Kilpailu!$B$6 =Kilpailu!$A$81,Kilpailu!B61,""))) -> Leijunta TopHat | H32: =(SUM(C32:G32)*IF(Kilpailu!$B$6 =Kilpailu!$A$79,Kilpailu!C31,IF(Kilpailu!$B$6 =Kilpailu!$A$80,Kilpailu!C46,IF(Kilpailu!$B$6 =Kilpailu!$A$81,Kilpailu!C61,1))))-SMALL(C32:G32,1)-LARGE(C32:G32,1) -> #NUM!
A33: 3. | B33: =IF(Kilpailu!$B$6 =Kilpailu!$A$79,Kilpailu!B32,IF(Kilpailu!$B$6 =Kilpailu!$A$80,Kilpailu!B47,IF(Kilpailu!$B$6 =Kilpailu!$A$81,Kilpailu!B62,""))) -> Cobra | H33: =(SUM(C33:G33)*IF(Kilpailu!$B$6 =Kilpailu!$A$79,Kilpailu!C32,IF(Kilpailu!$B$6 =Kilpailu!$A$80,Kilpailu!C47,IF(Kilpailu!$B$6 =Kilpailu!$A$81,Kilpailu!C62,1))))-SMALL(C33:G33,1)-LARGE(C33:G33,1) -> #NUM!
A34: 4. | B34: =IF(Kilpailu!$B$6 =Kilpailu!$A$79,Kilpailu!B33,IF(Kilpailu!$B$6 =Kilpailu!$A$80,Kilpailu!B48,IF(Kilpailu!$B$6 =Kilpailu!$A$81,Kilpailu!B63,""))) -> Suora ohilento | H34: =(SUM(C34:G34)*IF(Kilpailu!$B$6 =Kilpailu!$A$79,Kilpailu!C33,IF(Kilpailu!$B$6 =Kilpailu!$A$80,Kilpailu!C48,IF(Kilpailu!$B$6 =Kilpailu!$A$81,Kilpailu!C63,1))))-SMALL(C34:G34,1)-LARGE(C34:G34,1) -> #NUM!
A35: 5. | B35: =IF(Kilpailu!$B$6 =Kilpailu!$A$79,Kilpailu!B34,IF(Kilpailu!$B$6 =Kilpailu!$A$80,Kilpailu!B49,IF(Kilpailu!$B$6 =Kilpailu!$A$81,Kilpailu!B64,""))) -> Nouseva 180 asteen käännös | H35: =(SUM(C35:G35)*IF(Kilpailu!$B$6 =Kilpailu!$A$79,Kilpailu!C34,IF(Kilpailu!$B$6 =Kilpailu!$A$80,Kilpailu!C49,IF(Kilpailu!$B$6 =Kilpailu!$A$81,Kilpailu!C64,1))))-SMALL(C35:G35,1)-LARGE(C35:G35,1) -> #NUM!
A36: 6. | B36: =IF(Kilpailu!$B$6 =Kilpailu!$A$79,Kilpailu!B35,IF(Kilpailu!$B$6 =Kilpailu!$A$80,Kilpailu!B50,IF(Kilpailu!$B$6 =Kilpailu!$A$81,Kilpailu!B65,""))) -> 45 asteen moottorilasku | H36: =(SUM(C36:G36)*IF(Kilpailu!$B$6 =Kilpailu!$A$79,Kilpailu!C35,IF(Kilpailu!$B$6 =Kilpailu!$A$80,Kilpailu!C50,IF(Kilpailu!$B$6 =Kilpailu!$A$81,Kilpailu!C65,1))))-SMALL(C36:G36,1)-LARGE(C36:G36,1) -> #NUM!
A37: 7. | B37: =IF(Kilpailu!$B$6 =Kilpailu!$A$79,Kilpailu!B36,IF(Kilpailu!$B$6 =Kilpailu!$A$80,Kilpailu!B51,IF(Kilpailu!$B$6 =Kilpailu!$A$81,Kilpailu!B66,""))) | H37: =(SUM(C37:G37)*IF(Kilpailu!$B$6 =Kilpailu!$A$79,Kilpailu!C36,IF(Kilpailu!$B$6 =Kilpailu!$A$80,Kilpailu!C51,IF(Kilpailu!$B$6 =Kilpailu!$A$81,Kilpailu!C66,1))))-SMALL(C37:G37,1)-LARGE(C37:G37,1) -> #NUM!
A38: 8. | B38: =IF(Kilpailu!$B$6 =Kilpailu!$A$79,Kilpailu!B37,IF(Kilpailu!$B$6 =Kilpailu!$A$80,Kilpailu!B52,IF(Kilpailu!$B$6 =Kilpailu!$A$81,Kilpailu!B67,""))) | H38: =(SUM(C38:G38)*IF(Kilpailu!$B$6 =Kilpailu!$A$79,Kilpailu!C37,IF(Kilpailu!$B$6 =Kilpailu!$A$80,Kilpailu!C52,IF(Kilpailu!$B$6 =Kilpailu!$A$81,Kilpailu!C67,1))))-SMALL(C38:G38,1)-LARGE(C38:G38,1) -> #NUM!
A39: 9. | B39: =IF(Kilpailu!$B$6 =Kilpailu!$A$79,Kilpailu!B38,IF(Kilpailu!$B$6 =Kilpailu!$A$80,Kilpailu!B53,IF(Kilpailu!$B$6 =Kilpailu!$A$81,Kilpailu!B68,""))) | H39: =(SUM(C39:G39)*IF(Kilpailu!$B$6 =Kilpailu!$A$79,Kilpailu!C38,IF(Kilpailu!$B$6 =Kilpailu!$A$80,Kilpailu!C53,IF(Kilpailu!$B$6 =Kilpailu!$A$81,Kilpailu!C68,1))))-SMALL(C39:G39,1)-LARGE(C39:G39,1) -> #NUM!
A40: 10. | B40: =IF(Kilpailu!$B$6 =Kilpailu!$A$79,Kilpailu!B39,IF(Kilpailu!$B$6 =Kilpailu!$A$80,Kilpailu!B54,IF(Kilpailu!$B$6 =Kilpailu!$A$81,Kilpailu!B69,""))) | H40: =(SUM(C40:G40)*IF(Kilpailu!$B$6 =Kilpailu!$A$79,Kilpailu!C39,IF(Kilpailu!$B$6 =Kilpailu!$A$80,Kilpailu!C54,IF(Kilpailu!$B$6 =Kilpailu!$A$81,Kilpailu!C69,1))))-SMALL(C40:G40,1)-LARGE(C40:G40,1) -> #NUM!
A41: 11. | B41: =IF(Kilpailu!$B$6 =Kilpailu!$A$79,Kilpailu!B40,IF(Kilpailu!$B$6 =Kilpailu!$A$80,Kilpailu!B55,IF(Kilpailu!$B$6 =Kilpailu!$A$81,Kilpailu!B70,""))) | H41: =(SUM(C41:G41)*IF(Kilpailu!$B$6 =Kilpailu!$A$79,Kilpailu!C40,IF(Kilpailu!$B$6 =Kilpailu!$A$80,Kilpailu!C55,IF(Kilpailu!$B$6 =Kilpailu!$A$81,Kilpailu!C70,1))))-SMALL(C41:G41,1)-LARGE(C41:G41,1) -> #NUM!
B42: Yht. | C42: =SUM(C31:C41) -> 0 | D42: =SUM(D31:D41) -> 0 | E42: =SUM(E31:E41) -> 0 | F42: =SUM(F31:F41) -> 0 | G42: =SUM(G31:G41) -> 0
A46: Kierros 3: | C46: Tuomari 1 | D46: Tuomari 2 | E46: Tuomari 3 | F46: Tuomari 4 | G46: Tuomari 5 | H46: yht.
A47: 1. | B47: =IF(Kilpailu!$B$6 =Kilpailu!$A$79,Kilpailu!B30,IF(Kilpailu!$B$6 =Kilpailu!$A$80,Kilpailu!B45,IF(Kilpailu!$B$6 =Kilpailu!$A$81,Kilpailu!B60,""))) -> Leijunta-M | H47: =(SUM(C47:G47)*IF(Kilpailu!$B$6 =Kilpailu!$A$79,Kilpailu!C30,IF(Kilpailu!$B$6 =Kilpailu!$A$80,Kilpailu!C45,IF(Kilpailu!$B$6 =Kilpailu!$A$81,Kilpailu!C60,1))))-SMALL(C47:G47,1)-LARGE(C47:G47,1) -> #NUM!
A48: 2. | B48: =IF(Kilpailu!$B$6 =Kilpailu!$A$79,Kilpailu!B31,IF(Kilpailu!$B$6 =Kilpailu!$A$80,Kilpailu!B46,IF(Kilpailu!$B$6 =Kilpailu!$A$81,Kilpailu!B61,""))) -> Leijunta TopHat | H48: =(SUM(C48:G48)*IF(Kilpailu!$B$6 =Kilpailu!$A$79,Kilpailu!C31,IF(Kilpailu!$B$6 =Kilpailu!$A$80,Kilpailu!C46,IF(Kilpailu!$B$6 =Kilpailu!$A$81,Kilpailu!C61,1))))-SMALL(C48:G48,1)-LARGE(C48:G48,1) -> #NUM!
A49: 3. | B49: =IF(Kilpailu!$B$6 =Kilpailu!$A$79,Kilpailu!B32,IF(Kilpailu!$B$6 =Kilpailu!$A$80,Kilpailu!B47,IF(Kilpailu!$B$6 =Kilpailu!$A$81,Kilpailu!B62,""))) -> Cobra | H49: =(SUM(C49:G49)*IF(Kilpailu!$B$6 =Kilpailu!$A$79,Kilpailu!C32,IF(Kilpailu!$B$6 =Kilpailu!$A$80,Kilpailu!C47,IF(Kilpailu!$B$6 =Kilpailu!$A$81,Kilpailu!C62,1))))-SMALL(C49:G49,1)-LARGE(C49:G49,1) -> #NUM!
A50: 4. | B50: =IF(Kilpailu!$B$6 =Kilpailu!$A$79,Kilpailu!B33,IF(Kilpailu!$B$6 =Kilpailu!$A$80,Kilpailu!B48,IF(Kilpailu!$B$6 =Kilpailu!$A$81,Kilpailu!B63,""))) -> Suora ohilento | H50: =(SUM(C50:G50)*IF(Kilpailu!$B$6 =Kilpailu!$A$79,Kilpailu!C33,IF(Kilpailu!$B$6 =Kilpailu!$A$80,Kilpailu!C48,IF(Kilpailu!$B$6 =Kilpailu!$A$81,Kilpailu!C63,1))))-SMALL(C50:G50,1)-LARGE(C50:G50,1) -> #NUM!
A51: 5. | B51: =IF(Kilpailu!$B$6 =Kilpailu!$A$79,Kilpailu!B34,IF(Kilpailu!$B$6 =Kilpailu!$A$80,Kilpailu!B49,IF(Kilpailu!$B$6 =Kilpailu!$A$81,Kilpailu!B64,""))) -> Nouseva 180 asteen käännös | H51: =(SUM(C51:G51)*IF(Kilpailu!$B$6 =Kilpailu!$A$79,Kilpailu!C34,IF(Kilpailu!$B$6 =Kilpailu!$A$80,Kilpailu!C49,IF(Kilpailu!$B$6 =Kilpailu!$A$81,Kilpailu!C64,1))))-SMALL(C51:G51,1)-LARGE(C51:G51,1) -> #NUM!
A52: 6. | B52: =IF(Kilpailu!$B$6 =Kilpailu!$A$79,Kilpailu!B35,IF(Kilpailu!$B$6 =Kilpailu!$A$80,Kilpailu!B50,IF(Kilpailu!$B$6 =Kilpailu!$A$81,Kilpailu!B65,""))) -> 45 asteen moottorilasku | H52: =(SUM(C52:G52)*IF(Kilpailu!$B$6 =Kilpailu!$A$79,Kilpailu!C35,IF(Kilpailu!$B$6 =Kilpailu!$A$80,Kilpailu!C50,IF(Kilpailu!$B$6 =Kilpailu!$A$81,Kilpailu!C65,1))))-SMALL(C52:G52,1)-LARGE(C52:G52,1) -> #NUM!
A53: 7. | B53: =IF(Kilpailu!$B$6 =Kilpailu!$A$79,Kilpailu!B36,IF(Kilpailu!$B$6 =Kilpailu!$A$80,Kilpailu!B51,IF(Kilpailu!$B$6 =Kilpailu!$A$81,Kilpailu!B66,""))) | H53: =(SUM(C53:G53)*IF(Kilpailu!$B$6 =Kilpailu!$A$79,Kilpailu!C36,IF(Kilpailu!$B$6 =Kilpailu!$A$80,Kilpailu!C51,IF(Kilpailu!$B$6 =Kilpailu!$A$81,Kilpailu!C66,1))))-SMALL(C53:G53,1)-LARGE(C53:G53,1) -> #NUM!
A54: 8. | B54: =IF(Kilpailu!$B$6 =Kilpailu!$A$79,Kilpailu!B37,IF(Kilpailu!$B$6 =Kilpailu!$A$80,Kilpailu!B52,IF(Kilpailu!$B$6 =Kilpailu!$A$81,Kilpailu!B67,""))) | H54: =(SUM(C54:G54)*IF(Kilpailu!$B$6 =Kilpailu!$A$79,Kilpailu!C37,IF(Kilpailu!$B$6 =Kilpailu!$A$80,Kilpailu!C52,IF(Kilpailu!$B$6 =Kilpailu!$A$81,Kilpailu!C67,1))))-SMALL(C54:G54,1)-LARGE(C54:G54,1) -> #NUM!
A55: 9. | B55: =IF(Kilpailu!$B$6 =Kilpailu!$A$79,Kilpailu!B38,IF(Kilpailu!$B$6 =Kilpailu!$A$80,Kilpailu!B53,IF(Kilpailu!$B$6 =Kilpailu!$A$81,Kilpailu!B68,""))) | H55: =(SUM(C55:G55)*IF(Kilpailu!$B$6 =Kilpailu!$A$79,Kilpailu!C38,IF(Kilpailu!$B$6 =Kilpailu!$A$80,Kilpailu!C53,IF(Kilpailu!$B$6 =Kilpailu!$A$81,Kilpailu!C68,1))))-SMALL(C55:G55,1)-LARGE(C55:G55,1) -> #NUM!
A56: 10. | B56: =IF(Kilpailu!$B$6 =Kilpailu!$A$79,Kilpailu!B39,IF(Kilpailu!$B$6 =Kilpailu!$A$80,Kilpailu!B54,IF(Kilpailu!$B$6 =Kilpailu!$A$81,Kilpailu!B69,""))) | H56: =(SUM(C56:G56)*IF(Kilpailu!$B$6 =Kilpailu!$A$79,Kilpailu!C39,IF(Kilpailu!$B$6 =Kilpailu!$A$80,Kilpailu!C54,IF(Kilpailu!$B$6 =Kilpailu!$A$81,Kilpailu!C69,1))))-SMALL(C56:G56,1)-LARGE(C56:G56,1) -> #NUM!
A57: 11. | B57: =IF(Kilpailu!$B$6 =Kilpailu!$A$79,Kilpailu!B40,IF(Kilpailu!$B$6 =Kilpailu!$A$80,Kilpailu!B55,IF(Kilpailu!$B$6 =Kilpailu!$A$81,Kilpailu!B70,""))) | H57: =(SUM(C57:G57)*IF(Kilpailu!$B$6 =Kilpailu!$A$79,Kilpailu!C40,IF(Kilpailu!$B$6 =Kilpailu!$A$80,Kilpailu!C55,IF(Kilpailu!$B$6 =Kilpailu!$A$81,Kilpailu!C70,1))))-SMALL(C57:G57,1)-LARGE(C57:G57,1) -> #NUM!
B58: Yht. | C58: =SUM(C47:C57) -> 0 | D58: =SUM(D47:D57) -> 0 | E58: =SUM(E47:E57) -> 0 | F58: =SUM(F47:F57) -> 0 | G58: =SUM(G47:G57) -> 0

Sheet 12
D4: Pisteet | E4: Suht…
A5: Nimi: | C5: Kierros 1. | D5: =SUM(C26:G26)-LARGE(C26:G26,1)-SMALL(C26:G26,1) -> 0 | E5: =Tulokset!D39 -> 0
C6: Kierros 2. | D6: =SUM(C42:G42)-LARGE(C42:G42,1)-SMALL(C42:G42,1) -> 0 | E6: =Tulokset!D59 -> 0
A7: Paikka: | B7: =Kilpailu!B4 -> Vesivehmaa | C7: Kierros 3. | D7: =SUM(C58:G58)-LARGE(C58:G58,1)-SMALL(C58:G58,1) -> 0 | E7: =Tulokset!D79 -> 0
A8: Päivä: | B8: =Kilpailu!B5 -> 42217
A9: Ohjelma: | B9: =Kilpailu!B6 -> Popular | C9: yhteensä: | D9: =SUM(D5:D7) -> 0 | E9: =SUM(E5:E7) -> 0
C10: pois: | D10: =SMALL(D5:D7,1) -> 0 | E10: =SMALL(E5:E7,1) -> 0
C11: 2 parasta: | D11: =SUM(D5:D7)-D10 -> 0 | E11: =SUM(E5:E7)-E10 -> 0
A14: Kierros 1: | C14: Tuomari 1 | D14: Tuomari 2 | E14: Tuomari 3 | F14: Tuomari 4 | G14: Tuomari 5 | H14: yht.
A15: 1. | B15: =IF(Kilpailu!$B$6 =Kilpailu!$A$79,Kilpailu!B30,IF(Kilpailu!$B$6 =Kilpailu!$A$80,Kilpailu!B45,IF(Kilpailu!$B$6 =Kilpailu!$A$81,Kilpailu!B60,""))) -> Leijunta-M | H15: =(SUM(C15:G15)*IF(Kilpailu!$B$6 =Kilpailu!$A$79,Kilpailu!C30,IF(Kilpailu!$B$6 =Kilpailu!$A$80,Kilpailu!C45,IF(Kilpailu!$B$6 =Kilpailu!$A$81,Kilpailu!C60,1))))-SMALL(C15:G15,1)-LARGE(C15:G15,1) -> #NUM!
A16: 2. | B16: =IF(Kilpailu!$B$6 =Kilpailu!$A$79,Kilpailu!B31,IF(Kilpailu!$B$6 =Kilpailu!$A$80,Kilpailu!B46,IF(Kilpailu!$B$6 =Kilpailu!$A$81,Kilpailu!B61,""))) -> Leijunta TopHat | H16: =(SUM(C16:G16)*IF(Kilpailu!$B$6 =Kilpailu!$A$79,Kilpailu!C31,IF(Kilpailu!$B$6 =Kilpailu!$A$80,Kilpailu!C46,IF(Kilpailu!$B$6 =Kilpailu!$A$81,Kilpailu!C61,1))))-SMALL(C16:G16,1)-LARGE(C16:G16,1) -> #NUM!
A17: 3. | B17: =IF(Kilpailu!$B$6 =Kilpailu!$A$79,Kilpailu!B32,IF(Kilpailu!$B$6 =Kilpailu!$A$80,Kilpailu!B47,IF(Kilpailu!$B$6 =Kilpailu!$A$81,Kilpailu!B62,""))) -> Cobra | H17: =(SUM(C17:G17)*IF(Kilpailu!$B$6 =Kilpailu!$A$79,Kilpailu!C32,IF(Kilpailu!$B$6 =Kilpailu!$A$80,Kilpailu!C47,IF(Kilpailu!$B$6 =Kilpailu!$A$81,Kilpailu!C62,1))))-SMALL(C17:G17,1)-LARGE(C17:G17,1) -> #NUM!
A18: 4. | B18: =IF(Kilpailu!$B$6 =Kilpailu!$A$79,Kilpailu!B33,IF(Kilpailu!$B$6 =Kilpailu!$A$80,Kilpailu!B48,IF(Kilpailu!$B$6 =Kilpailu!$A$81,Kilpailu!B63,""))) -> Suora ohilento | H18: =(SUM(C18:G18)*IF(Kilpailu!$B$6 =Kilpailu!$A$79,Kilpailu!C33,IF(Kilpailu!$B$6 =Kilpailu!$A$80,Kilpailu!C48,IF(Kilpailu!$B$6 =Kilpailu!$A$81,Kilpailu!C63,1))))-SMALL(C18:G18,1)-LARGE(C18:G18,1) -> #NUM!
A19: 5. | B19: =IF(Kilpailu!$B$6 =Kilpailu!$A$79,Kilpailu!B34,IF(Kilpailu!$B$6 =Kilpailu!$A$80,Kilpailu!B49,IF(Kilpailu!$B$6 =Kilpailu!$A$81,Kilpailu!B64,""))) -> Nouseva 180 asteen käännös | H19: =(SUM(C19:G19)*IF(Kilpailu!$B$6 =Kilpailu!$A$79,Kilpailu!C34,IF(Kilpailu!$B$6 =Kilpailu!$A$80,Kilpailu!C49,IF(Kilpailu!$B$6 =Kilpailu!$A$81,Kilpailu!C64,1))))-SMALL(C19:G19,1)-LARGE(C19:G19,1) -> #NUM!
A20: 6. | B20: =IF(Kilpailu!$B$6 =Kilpailu!$A$79,Kilpailu!B35,IF(Kilpailu!$B$6 =Kilpailu!$A$80,Kilpailu!B50,IF(Kilpailu!$B$6 =Kilpailu!$A$81,Kilpailu!B65,""))) -> 45 asteen moottorilasku | H20: =(SUM(C20:G20)*IF(Kilpailu!$B$6 =Kilpailu!$A$79,Kilpailu!C35,IF(Kilpailu!$B$6 =Kilpailu!$A$80,Kilpailu!C50,IF(Kilpailu!$B$6 =Kilpailu!$A$81,Kilpailu!C65,1))))-SMALL(C20:G20,1)-LARGE(C20:G20,1) -> #NUM!
A21: 7. | B21: =IF(Kilpailu!$B$6 =Kilpailu!$A$79,Kilpailu!B36,IF(Kilpailu!$B$6 =Kilpailu!$A$80,Kilpailu!B51,IF(Kilpailu!$B$6 =Kilpailu!$A$81,Kilpailu!B66,""))) | H21: =(SUM(C21:G21)*IF(Kilpailu!$B$6 =Kilpailu!$A$79,Kilpailu!C36,IF(Kilpailu!$B$6 =Kilpailu!$A$80,Kilpailu!C51,IF(Kilpailu!$B$6 =Kilpailu!$A$81,Kilpailu!C66,1))))-SMALL(C21:G21,1)-LARGE(C21:G21,1) -> #NUM!
A22: 8. | B22: =IF(Kilpailu!$B$6 =Kilpailu!$A$79,Kilpailu!B37,IF(Kilpailu!$B$6 =Kilpailu!$A$80,Kilpailu!B52,IF(Kilpailu!$B$6 =Kilpailu!$A$81,Kilpailu!B67,""))) | H22: =(SUM(C22:G22)*IF(Kilpailu!$B$6 =Kilpailu!$A$79,Kilpailu!C37,IF(Kilpailu!$B$6 =Kilpailu!$A$80,Kilpailu!C52,IF(Kilpailu!$B$6 =Kilpailu!$A$81,Kilpailu!C67,1))))-SMALL(C22:G22,1)-LARGE(C22:G22,1) -> #NUM!
A23: 9. | B23: =IF(Kilpailu!$B$6 =Kilpailu!$A$79,Kilpailu!B38,IF(Kilpailu!$B$6 =Kilpailu!$A$80,Kilpailu!B53,IF(Kilpailu!$B$6 =Kilpailu!$A$81,Kilpailu!B68,""))) | H23: =(SUM(C23:G23)*IF(Kilpailu!$B$6 =Kilpailu!$A$79,Kilpailu!C38,IF(Kilpailu!$B$6 =Kilpailu!$A$80,Kilpailu!C53,IF(Kilpailu!$B$6 =Kilpailu!$A$81,Kilpailu!C68,1))))-SMALL(C23:G23,1)-LARGE(C23:G23,1) -> #NUM!
A24: 10. | B24: =IF(Kilpailu!$B$6 =Kilpailu!$A$79,Kilpailu!B39,IF(Kilpailu!$B$6 =Kilpailu!$A$80,Kilpailu!B54,IF(Kilpailu!$B$6 =Kilpailu!$A$81,Kilpailu!B69,""))) | H24: =(SUM(C24:G24)*IF(Kilpailu!$B$6 =Kilpailu!$A$79,Kilpailu!C39,IF(Kilpailu!$B$6 =Kilpailu!$A$80,Kilpailu!C54,IF(Kilpailu!$B$6 =Kilpailu!$A$81,Kilpailu!C69,1))))-SMALL(C24:G24,1)-LARGE(C24:G24,1) -> #NUM!
A25: 11. | B25: =IF(Kilpailu!$B$6 =Kilpailu!$A$79,Kilpailu!B40,IF(Kilpailu!$B$6 =Kilpailu!$A$80,Kilpailu!B55,IF(Kilpailu!$B$6 =Kilpailu!$A$81,Kilpailu!B70,""))) | H25: =(SUM(C25:G25)*IF(Kilpailu!$B$6 =Kilpailu!$A$79,Kilpailu!C40,IF(Kilpailu!$B$6 =Kilpailu!$A$80,Kilpailu!C55,IF(Kilpailu!$B$6 =Kilpailu!$A$81,Kilpailu!C70,1))))-SMALL(C25:G25,1)-LARGE(C25:G25,1) -> #NUM!
B26: Yht. | C26: =SUM(C15:C25) -> 0 | D26: =SUM(D15:D25) -> 0 | E26: =SUM(E15:E25) -> 0 | F26: =SUM(F15:F25) -> 0 | G26: =SUM(G15:G25) -> 0
A30: Kierros 2: | C30: Tuomari 1 | D30: Tuomari 2 | E30: Tuomari 3 | F30: Tuomari 4 | G30: Tuomari 5 | H30: yht.
A31: 1. | B31: =IF(Kilpailu!$B$6 =Kilpailu!$A$79,Kilpailu!B30,IF(Kilpailu!$B$6 =Kilpailu!$A$80,Kilpailu!B45,IF(Kilpailu!$B$6 =Kilpailu!$A$81,Kilpailu!B60,""))) -> Leijunta-M | H31: =(SUM(C31:G31)*IF(Kilpailu!$B$6 =Kilpailu!$A$79,Kilpailu!C30,IF(Kilpailu!$B$6 =Kilpailu!$A$80,Kilpailu!C45,IF(Kilpailu!$B$6 =Kilpailu!$A$81,Kilpailu!C60,1))))-SMALL(C31:G31,1)-LARGE(C31:G31,1) -> #NUM!
A32: 2. | B32: =IF(Kilpailu!$B$6 =Kilpailu!$A$79,Kilpailu!B31,IF(Kilpailu!$B$6 =Kilpailu!$A$80,Kilpailu!B46,IF(Kilpailu!$B$6 =Kilpailu!$A$81,Kilpailu!B61,""))) -> Leijunta TopHat | H32: =(SUM(C32:G32)*IF(Kilpailu!$B$6 =Kilpailu!$A$79,Kilpailu!C31,IF(Kilpailu!$B$6 =Kilpailu!$A$80,Kilpailu!C46,IF(Kilpailu!$B$6 =Kilpailu!$A$81,Kilpailu!C61,1))))-SMALL(C32:G32,1)-LARGE(C32:G32,1) -> #NUM!
A33: 3. | B33: =IF(Kilpailu!$B$6 =Kilpailu!$A$79,Kilpailu!B32,IF(Kilpailu!$B$6 =Kilpailu!$A$80,Kilpailu!B47,IF(Kilpailu!$B$6 =Kilpailu!$A$81,Kilpailu!B62,""))) -> Cobra | H33: =(SUM(C33:G33)*IF(Kilpailu!$B$6 =Kilpailu!$A$79,Kilpailu!C32,IF(Kilpailu!$B$6 =Kilpailu!$A$80,Kilpailu!C47,IF(Kilpailu!$B$6 =Kilpailu!$A$81,Kilpailu!C62,1))))-SMALL(C33:G33,1)-LARGE(C33:G33,1) -> #NUM!
A34: 4. | B34: =IF(Kilpailu!$B$6 =Kilpailu!$A$79,Kilpailu!B33,IF(Kilpailu!$B$6 =Kilpailu!$A$80,Kilpailu!B48,IF(Kilpailu!$B$6 =Kilpailu!$A$81,Kilpailu!B63,""))) -> Suora ohilento | H34: =(SUM(C34:G34)*IF(Kilpailu!$B$6 =Kilpailu!$A$79,Kilpailu!C33,IF(Kilpailu!$B$6 =Kilpailu!$A$80,Kilpailu!C48,IF(Kilpailu!$B$6 =Kilpailu!$A$81,Kilpailu!C63,1))))-SMALL(C34:G34,1)-LARGE(C34:G34,1) -> #NUM!
A35: 5. | B35: =IF(Kilpailu!$B$6 =Kilpailu!$A$79,Kilpailu!B34,IF(Kilpailu!$B$6 =Kilpailu!$A$80,Kilpailu!B49,IF(Kilpailu!$B$6 =Kilpailu!$A$81,Kilpailu!B64,""))) -> Nouseva 180 asteen käännös | H35: =(SUM(C35:G35)*IF(Kilpailu!$B$6 =Kilpailu!$A$79,Kilpailu!C34,IF(Kilpailu!$B$6 =Kilpailu!$A$80,Kilpailu!C49,IF(Kilpailu!$B$6 =Kilpailu!$A$81,Kilpailu!C64,1))))-SMALL(C35:G35,1)-LARGE(C35:G35,1) -> #NUM!
A36: 6. | B36: =IF(Kilpailu!$B$6 =Kilpailu!$A$79,Kilpailu!B35,IF(Kilpailu!$B$6 =Kilpailu!$A$80,Kilpailu!B50,IF(Kilpailu!$B$6 =Kilpailu!$A$81,Kilpailu!B65,""))) -> 45 asteen moottorilasku | H36: =(SUM(C36:G36)*IF(Kilpailu!$B$6 =Kilpailu!$A$79,Kilpailu!C35,IF(Kilpailu!$B$6 =Kilpailu!$A$80,Kilpailu!C50,IF(Kilpailu!$B$6 =Kilpailu!$A$81,Kilpailu!C65,1))))-SMALL(C36:G36,1)-LARGE(C36:G36,1) -> #NUM!
A37: 7. | B37: =IF(Kilpailu!$B$6 =Kilpailu!$A$79,Kilpailu!B36,IF(Kilpailu!$B$6 =Kilpailu!$A$80,Kilpailu!B51,IF(Kilpailu!$B$6 =Kilpailu!$A$81,Kilpailu!B66,""))) | H37: =(SUM(C37:G37)*IF(Kilpailu!$B$6 =Kilpailu!$A$79,Kilpailu!C36,IF(Kilpailu!$B$6 =Kilpailu!$A$80,Kilpailu!C51,IF(Kilpailu!$B$6 =Kilpailu!$A$81,Kilpailu!C66,1))))-SMALL(C37:G37,1)-LARGE(C37:G37,1) -> #NUM!
A38: 8. | B38: =IF(Kilpailu!$B$6 =Kilpailu!$A$79,Kilpailu!B37,IF(Kilpailu!$B$6 =Kilpailu!$A$80,Kilpailu!B52,IF(Kilpailu!$B$6 =Kilpailu!$A$81,Kilpailu!B67,""))) | H38: =(SUM(C38:G38)*IF(Kilpailu!$B$6 =Kilpailu!$A$79,Kilpailu!C37,IF(Kilpailu!$B$6 =Kilpailu!$A$80,Kilpailu!C52,IF(Kilpailu!$B$6 =Kilpailu!$A$81,Kilpailu!C67,1))))-SMALL(C38:G38,1)-LARGE(C38:G38,1) -> #NUM!
A39: 9. | B39: =IF(Kilpailu!$B$6 =Kilpailu!$A$79,Kilpailu!B38,IF(Kilpailu!$B$6 =Kilpailu!$A$80,Kilpailu!B53,IF(Kilpailu!$B$6 =Kilpailu!$A$81,Kilpailu!B68,""))) | H39: =(SUM(C39:G39)*IF(Kilpailu!$B$6 =Kilpailu!$A$79,Kilpailu!C38,IF(Kilpailu!$B$6 =Kilpailu!$A$80,Kilpailu!C53,IF(Kilpailu!$B$6 =Kilpailu!$A$81,Kilpailu!C68,1))))-SMALL(C39:G39,1)-LARGE(C39:G39,1) -> #NUM!
A40: 10. | B40: =IF(Kilpailu!$B$6 =Kilpailu!$A$79,Kilpailu!B39,IF(Kilpailu!$B$6 =Kilpailu!$A$80,Kilpailu!B54,IF(Kilpailu!$B$6 =Kilpailu!$A$81,Kilpailu!B69,""))) | H40: =(SUM(C40:G40)*IF(Kilpailu!$B$6 =Kilpailu!$A$79,Kilpailu!C39,IF(Kilpailu!$B$6 =Kilpailu!$A$80,Kilpailu!C54,IF(Kilpailu!$B$6 =Kilpailu!$A$81,Kilpailu!C69,1))))-SMALL(C40:G40,1)-LARGE(C40:G40,1) -> #NUM!
A41: 11. | B41: =IF(Kilpailu!$B$6 =Kilpailu!$A$79,Kilpailu!B40,IF(Kilpailu!$B$6 =Kilpailu!$A$80,Kilpailu!B55,IF(Kilpailu!$B$6 =Kilpailu!$A$81,Kilpailu!B70,""))) | H41: =(SUM(C41:G41)*IF(Kilpailu!$B$6 =Kilpailu!$A$79,Kilpailu!C40,IF(Kilpailu!$B$6 =Kilpailu!$A$80,Kilpailu!C55,IF(Kilpailu!$B$6 =Kilpailu!$A$81,Kilpailu!C70,1))))-SMALL(C41:G41,1)-LARGE(C41:G41,1) -> #NUM!
B42: Yht. | C42: =SUM(C31:C41) -> 0 | D42: =SUM(D31:D41) -> 0 | E42: =SUM(E31:E41) -> 0 | F42: =SUM(F31:F41) -> 0 | G42: =SUM(G31:G41) -> 0
A46: Kierros 3: | C46: Tuomari 1 | D46: Tuomari 2 | E46: Tuomari 3 | F46: Tuomari 4 | G46: Tuomari 5 | H46: yht.
A47: 1. | B47: =IF(Kilpailu!$B$6 =Kilpailu!$A$79,Kilpailu!B30,IF(Kilpailu!$B$6 =Kilpailu!$A$80,Kilpailu!B45,IF(Kilpailu!$B$6 =Kilpailu!$A$81,Kilpailu!B60,""))) -> Leijunta-M | H47: =(SUM(C47:G47)*IF(Kilpailu!$B$6 =Kilpailu!$A$79,Kilpailu!C30,IF(Kilpailu!$B$6 =Kilpailu!$A$80,Kilpailu!C45,IF(Kilpailu!$B$6 =Kilpailu!$A$81,Kilpailu!C60,1))))-SMALL(C47:G47,1)-LARGE(C47:G47,1) -> #NUM!
A48: 2. | B48: =IF(Kilpailu!$B$6 =Kilpailu!$A$79,Kilpailu!B31,IF(Kilpailu!$B$6 =Kilpailu!$A$80,Kilpailu!B46,IF(Kilpailu!$B$6 =Kilpailu!$A$81,Kilpailu!B61,""))) -> Leijunta TopHat | H48: =(SUM(C48:G48)*IF(Kilpailu!$B$6 =Kilpailu!$A$79,Kilpailu!C31,IF(Kilpailu!$B$6 =Kilpailu!$A$80,Kilpailu!C46,IF(Kilpailu!$B$6 =Kilpailu!$A$81,Kilpailu!C61,1))))-SMALL(C48:G48,1)-LARGE(C48:G48,1) -> #NUM!
A49: 3. | B49: =IF(Kilpailu!$B$6 =Kilpailu!$A$79,Kilpailu!B32,IF(Kilpailu!$B$6 =Kilpailu!$A$80,Kilpailu!B47,IF(Kilpailu!$B$6 =Kilpailu!$A$81,Kilpailu!B62,""))) -> Cobra | H49: =(SUM(C49:G49)*IF(Kilpailu!$B$6 =Kilpailu!$A$79,Kilpailu!C32,IF(Kilpailu!$B$6 =Kilpailu!$A$80,Kilpailu!C47,IF(Kilpailu!$B$6 =Kilpailu!$A$81,Kilpailu!C62,1))))-SMALL(C49:G49,1)-LARGE(C49:G49,1) -> #NUM!
A50: 4. | B50: =IF(Kilpailu!$B$6 =Kilpailu!$A$79,Kilpailu!B33,IF(Kilpailu!$B$6 =Kilpailu!$A$80,Kilpailu!B48,IF(Kilpailu!$B$6 =Kilpailu!$A$81,Kilpailu!B63,""))) -> Suora ohilento | H50: =(SUM(C50:G50)*IF(Kilpailu!$B$6 =Kilpailu!$A$79,Kilpailu!C33,IF(Kilpailu!$B$6 =Kilpailu!$A$80,Kilpailu!C48,IF(Kilpailu!$B$6 =Kilpailu!$A$81,Kilpailu!C63,1))))-SMALL(C50:G50,1)-LARGE(C50:G50,1) -> #NUM!
A51: 5. | B51: =IF(Kilpailu!$B$6 =Kilpailu!$A$79,Kilpailu!B34,IF(Kilpailu!$B$6 =Kilpailu!$A$80,Kilpailu!B49,IF(Kilpailu!$B$6 =Kilpailu!$A$81,Kilpailu!B64,""))) -> Nouseva 180 asteen käännös | H51: =(SUM(C51:G51)*IF(Kilpailu!$B$6 =Kilpailu!$A$79,Kilpailu!C34,IF(Kilpailu!$B$6 =Kilpailu!$A$80,Kilpailu!C49,IF(Kilpailu!$B$6 =Kilpailu!$A$81,Kilpailu!C64,1))))-SMALL(C51:G51,1)-LARGE(C51:G51,1) -> #NUM!
A52: 6. | B52: =IF(Kilpailu!$B$6 =Kilpailu!$A$79,Kilpailu!B35,IF(Kilpailu!$B$6 =Kilpailu!$A$80,Kilpailu!B50,IF(Kilpailu!$B$6 =Kilpailu!$A$81,Kilpailu!B65,""))) -> 45 asteen moottorilasku | H52: =(SUM(C52:G52)*IF(Kilpailu!$B$6 =Kilpailu!$A$79,Kilpailu!C35,IF(Kilpailu!$B$6 =Kilpailu!$A$80,Kilpailu!C50,IF(Kilpailu!$B$6 =Kilpailu!$A$81,Kilpailu!C65,1))))-SMALL(C52:G52,1)-LARGE(C52:G52,1) -> #NUM!
A53: 7. | B53: =IF(Kilpailu!$B$6 =Kilpailu!$A$79,Kilpailu!B36,IF(Kilpailu!$B$6 =Kilpailu!$A$80,Kilpailu!B51,IF(Kilpailu!$B$6 =Kilpailu!$A$81,Kilpailu!B66,""))) | H53: =(SUM(C53:G53)*IF(Kilpailu!$B$6 =Kilpailu!$A$79,Kilpailu!C36,IF(Kilpailu!$B$6 =Kilpailu!$A$80,Kilpailu!C51,IF(Kilpailu!$B$6 =Kilpailu!$A$81,Kilpailu!C66,1))))-SMALL(C53:G53,1)-LARGE(C53:G53,1) -> #NUM!
A54: 8. | B54: =IF(Kilpailu!$B$6 =Kilpailu!$A$79,Kilpailu!B37,IF(Kilpailu!$B$6 =Kilpailu!$A$80,Kilpailu!B52,IF(Kilpailu!$B$6 =Kilpailu!$A$81,Kilpailu!B67,""))) | H54: =(SUM(C54:G54)*IF(Kilpailu!$B$6 =Kilpailu!$A$79,Kilpailu!C37,IF(Kilpailu!$B$6 =Kilpailu!$A$80,Kilpailu!C52,IF(Kilpailu!$B$6 =Kilpailu!$A$81,Kilpailu!C67,1))))-SMALL(C54:G54,1)-LARGE(C54:G54,1) -> #NUM!
A55: 9. | B55: =IF(Kilpailu!$B$6 =Kilpailu!$A$79,Kilpailu!B38,IF(Kilpailu!$B$6 =Kilpailu!$A$80,Kilpailu!B53,IF(Kilpailu!$B$6 =Kilpailu!$A$81,Kilpailu!B68,""))) | H55: =(SUM(C55:G55)*IF(Kilpailu!$B$6 =Kilpailu!$A$79,Kilpailu!C38,IF(Kilpailu!$B$6 =Kilpailu!$A$80,Kilpailu!C53,IF(Kilpailu!$B$6 =Kilpailu!$A$81,Kilpailu!C68,1))))-SMALL(C55:G55,1)-LARGE(C55:G55,1) -> #NUM!
A56: 10. | B56: =IF(Kilpailu!$B$6 =Kilpailu!$A$79,Kilpailu!B39,IF(Kilpailu!$B$6 =Kilpailu!$A$80,Kilpailu!B54,IF(Kilpailu!$B$6 =Kilpailu!$A$81,Kilpailu!B69,""))) | H56: =(SUM(C56:G56)*IF(Kilpailu!$B$6 =Kilpailu!$A$79,Kilpailu!C39,IF(Kilpailu!$B$6 =Kilpailu!$A$80,Kilpailu!C54,IF(Kilpailu!$B$6 =Kilpailu!$A$81,Kilpailu!C69,1))))-SMALL(C56:G56,1)-LARGE(C56:G56,1) -> #NUM!
A57: 11. | B57: =IF(Kilpailu!$B$6 =Kilpailu!$A$79,Kilpailu!B40,IF(Kilpailu!$B$6 =Kilpailu!$A$80,Kilpailu!B55,IF(Kilpailu!$B$6 =Kilpailu!$A$81,Kilpailu!B70,""))) | H57: =(SUM(C57:G57)*IF(Kilpailu!$B$6 =Kilpailu!$A$79,Kilpailu!C40,IF(Kilpailu!$B$6 =Kilpailu!$A$80,Kilpailu!C55,IF(Kilpailu!$B$6 =Kilpailu!$A$81,Kilpailu!C70,1))))-SMALL(C57:G57,1)-LARGE(C57:G57,1) -> #NUM!
B58: Yht. | C58: =SUM(C47:C57) -> 0 | D58: =SUM(D47:D57) -> 0 | E58: =SUM(E47:E57) -> 0 | F58: =SUM(F47:F57) -> 0 | G58: =SUM(G47:G57) -> 0

Sheet 13
D4: Pisteet | E4: Suht…
A5: Nimi: | C5: Kierros 1. | D5: =SUM(C26:G26)-LARGE(C26:G26,1)-SMALL(C26:G26,1) -> 0 | E5: =Tulokset!D40 -> 0
C6: Kierros 2. | D6: =SUM(C42:G42)-LARGE(C42:G42,1)-SMALL(C42:G42,1) -> 0 | E6: =Tulokset!D60 -> 0
A7: Paikka: | B7: =Kilpailu!B4 -> Vesivehmaa | C7: Kierros 3. | D7: =SUM(C58:G58)-LARGE(C58:G58,1)-SMALL(C58:G58,1) -> 0 | E7: =Tulokset!D80 -> 0
A8: Päivä: | B8: =Kilpailu!B5 -> 42217
A9: Ohjelma: | B9: =Kilpailu!B6 -> Popular | C9: yhteensä: | D9: =SUM(D5:D7) -> 0 | E9: =SUM(E5:E7) -> 0
C10: pois: | D10: =SMALL(D5:D7,1) -> 0 | E10: =SMALL(E5:E7,1) -> 0
C11: 2 parasta: | D11: =SUM(D5:D7)-D10 -> 0 | E11: =SUM(E5:E7)-E10 -> 0
A14: Kierros 1: | C14: Tuomari 1 | D14: Tuomari 2 | E14: Tuomari 3 | F14: Tuomari 4 | G14: Tuomari 5 | H14: yht.
A15: 1. | B15: =IF(Kilpailu!$B$6 =Kilpailu!$A$79,Kilpailu!B30,IF(Kilpailu!$B$6 =Kilpailu!$A$80,Kilpailu!B45,IF(Kilpailu!$B$6 =Kilpailu!$A$81,Kilpailu!B60,""))) -> Leijunta-M | H15: =(SUM(C15:G15)*IF(Kilpailu!$B$6 =Kilpailu!$A$79,Kilpailu!C30,IF(Kilpailu!$B$6 =Kilpailu!$A$80,Kilpailu!C45,IF(Kilpailu!$B$6 =Kilpailu!$A$81,Kilpailu!C60,1))))-SMALL(C15:G15,1)-LARGE(C15:G15,1) -> #NUM!
A16: 2. | B16: =IF(Kilpailu!$B$6 =Kilpailu!$A$79,Kilpailu!B31,IF(Kilpailu!$B$6 =Kilpailu!$A$80,Kilpailu!B46,IF(Kilpailu!$B$6 =Kilpailu!$A$81,Kilpailu!B61,""))) -> Leijunta TopHat | H16: =(SUM(C16:G16)*IF(Kilpailu!$B$6 =Kilpailu!$A$79,Kilpailu!C31,IF(Kilpailu!$B$6 =Kilpailu!$A$80,Kilpailu!C46,IF(Kilpailu!$B$6 =Kilpailu!$A$81,Kilpailu!C61,1))))-SMALL(C16:G16,1)-LARGE(C16:G16,1) -> #NUM!
A17: 3. | B17: =IF(Kilpailu!$B$6 =Kilpailu!$A$79,Kilpailu!B32,IF(Kilpailu!$B$6 =Kilpailu!$A$80,Kilpailu!B47,IF(Kilpailu!$B$6 =Kilpailu!$A$81,Kilpailu!B62,""))) -> Cobra | H17: =(SUM(C17:G17)*IF(Kilpailu!$B$6 =Kilpailu!$A$79,Kilpailu!C32,IF(Kilpailu!$B$6 =Kilpailu!$A$80,Kilpailu!C47,IF(Kilpailu!$B$6 =Kilpailu!$A$81,Kilpailu!C62,1))))-SMALL(C17:G17,1)-LARGE(C17:G17,1) -> #NUM!
A18: 4. | B18: =IF(Kilpailu!$B$6 =Kilpailu!$A$79,Kilpailu!B33,IF(Kilpailu!$B$6 =Kilpailu!$A$80,Kilpailu!B48,IF(Kilpailu!$B$6 =Kilpailu!$A$81,Kilpailu!B63,""))) -> Suora ohilento | H18: =(SUM(C18:G18)*IF(Kilpailu!$B$6 =Kilpailu!$A$79,Kilpailu!C33,IF(Kilpailu!$B$6 =Kilpailu!$A$80,Kilpailu!C48,IF(Kilpailu!$B$6 =Kilpailu!$A$81,Kilpailu!C63,1))))-SMALL(C18:G18,1)-LARGE(C18:G18,1) -> #NUM!
A19: 5. | B19: =IF(Kilpailu!$B$6 =Kilpailu!$A$79,Kilpailu!B34,IF(Kilpailu!$B$6 =Kilpailu!$A$80,Kilpailu!B49,IF(Kilpailu!$B$6 =Kilpailu!$A$81,Kilpailu!B64,""))) -> Nouseva 180 asteen käännös | H19: =(SUM(C19:G19)*IF(Kilpailu!$B$6 =Kilpailu!$A$79,Kilpailu!C34,IF(Kilpailu!$B$6 =Kilpailu!$A$80,Kilpailu!C49,IF(Kilpailu!$B$6 =Kilpailu!$A$81,Kilpailu!C64,1))))-SMALL(C19:G19,1)-LARGE(C19:G19,1) -> #NUM!
A20: 6. | B20: =IF(Kilpailu!$B$6 =Kilpailu!$A$79,Kilpailu!B35,IF(Kilpailu!$B$6 =Kilpailu!$A$80,Kilpailu!B50,IF(Kilpailu!$B$6 =Kilpailu!$A$81,Kilpailu!B65,""))) -> 45 asteen moottorilasku | H20: =(SUM(C20:G20)*IF(Kilpailu!$B$6 =Kilpailu!$A$79,Kilpailu!C35,IF(Kilpailu!$B$6 =Kilpailu!$A$80,Kilpailu!C50,IF(Kilpailu!$B$6 =Kilpailu!$A$81,Kilpailu!C65,1))))-SMALL(C20:G20,1)-LARGE(C20:G20,1) -> #NUM!
A21: 7. | B21: =IF(Kilpailu!$B$6 =Kilpailu!$A$79,Kilpailu!B36,IF(Kilpailu!$B$6 =Kilpailu!$A$80,Kilpailu!B51,IF(Kilpailu!$B$6 =Kilpailu!$A$81,Kilpailu!B66,""))) | H21: =(SUM(C21:G21)*IF(Kilpailu!$B$6 =Kilpailu!$A$79,Kilpailu!C36,IF(Kilpailu!$B$6 =Kilpailu!$A$80,Kilpailu!C51,IF(Kilpailu!$B$6 =Kilpailu!$A$81,Kilpailu!C66,1))))-SMALL(C21:G21,1)-LARGE(C21:G21,1) -> #NUM!
A22: 8. | B22: =IF(Kilpailu!$B$6 =Kilpailu!$A$79,Kilpailu!B37,IF(Kilpailu!$B$6 =Kilpailu!$A$80,Kilpailu!B52,IF(Kilpailu!$B$6 =Kilpailu!$A$81,Kilpailu!B67,""))) | H22: =(SUM(C22:G22)*IF(Kilpailu!$B$6 =Kilpailu!$A$79,Kilpailu!C37,IF(Kilpailu!$B$6 =Kilpailu!$A$80,Kilpailu!C52,IF(Kilpailu!$B$6 =Kilpailu!$A$81,Kilpailu!C67,1))))-SMALL(C22:G22,1)-LARGE(C22:G22,1) -> #NUM!
A23: 9. | B23: =IF(Kilpailu!$B$6 =Kilpailu!$A$79,Kilpailu!B38,IF(Kilpailu!$B$6 =Kilpailu!$A$80,Kilpailu!B53,IF(Kilpailu!$B$6 =Kilpailu!$A$81,Kilpailu!B68,""))) | H23: =(SUM(C23:G23)*IF(Kilpailu!$B$6 =Kilpailu!$A$79,Kilpailu!C38,IF(Kilpailu!$B$6 =Kilpailu!$A$80,Kilpailu!C53,IF(Kilpailu!$B$6 =Kilpailu!$A$81,Kilpailu!C68,1))))-SMALL(C23:G23,1)-LARGE(C23:G23,1) -> #NUM!
A24: 10. | B24: =IF(Kilpailu!$B$6 =Kilpailu!$A$79,Kilpailu!B39,IF(Kilpailu!$B$6 =Kilpailu!$A$80,Kilpailu!B54,IF(Kilpailu!$B$6 =Kilpailu!$A$81,Kilpailu!B69,""))) | H24: =(SUM(C24:G24)*IF(Kilpailu!$B$6 =Kilpailu!$A$79,Kilpailu!C39,IF(Kilpailu!$B$6 =Kilpailu!$A$80,Kilpailu!C54,IF(Kilpailu!$B$6 =Kilpailu!$A$81,Kilpailu!C69,1))))-SMALL(C24:G24,1)-LARGE(C24:G24,1) -> #NUM!
A25: 11. | B25: =IF(Kilpailu!$B$6 =Kilpailu!$A$79,Kilpailu!B40,IF(Kilpailu!$B$6 =Kilpailu!$A$80,Kilpailu!B55,IF(Kilpailu!$B$6 =Kilpailu!$A$81,Kilpailu!B70,""))) | H25: =(SUM(C25:G25)*IF(Kilpailu!$B$6 =Kilpailu!$A$79,Kilpailu!C40,IF(Kilpailu!$B$6 =Kilpailu!$A$80,Kilpailu!C55,IF(Kilpailu!$B$6 =Kilpailu!$A$81,Kilpailu!C70,1))))-SMALL(C25:G25,1)-LARGE(C25:G25,1) -> #NUM!
B26: Yht. | C26: =SUM(C15:C25) -> 0 | D26: =SUM(D15:D25) -> 0 | E26: =SUM(E15:E25) -> 0 | F26: =SUM(F15:F25) -> 0 | G26: =SUM(G15:G25) -> 0
A30: Kierros 2: | C30: Tuomari 1 | D30: Tuomari 2 | E30: Tuomari 3 | F30: Tuomari 4 | G30: Tuomari 5 | H30: yht.
A31: 1. | B31: =IF(Kilpailu!$B$6 =Kilpailu!$A$79,Kilpailu!B30,IF(Kilpailu!$B$6 =Kilpailu!$A$80,Kilpailu!B45,IF(Kilpailu!$B$6 =Kilpailu!$A$81,Kilpailu!B60,""))) -> Leijunta-M | H31: =(SUM(C31:G31)*IF(Kilpailu!$B$6 =Kilpailu!$A$79,Kilpailu!C30,IF(Kilpailu!$B$6 =Kilpailu!$A$80,Kilpailu!C45,IF(Kilpailu!$B$6 =Kilpailu!$A$81,Kilpailu!C60,1))))-SMALL(C31:G31,1)-LARGE(C31:G31,1) -> #NUM!
