Workbook

Sheet Kilpailu
A5: Paikka: | B5: Nummela
A6: Päivämäärä: | B6: 41111
A7: Ohjelma: | B7: F3N
D8: SetM… | E8: FrSt… | F8: F2M
A9: Suhteutettujen pisteiden painotus: | D9: 1 | E9: 1 | F9: 1 | G9: =SUM(D9:F9) -> 3
D12: Lentojärjestys:
A13: Kilpailijat: | B13: Nimi | D13: Kierros 1 | E13: Kierros 2 | F13: Kierros 3 | H13: Tuomarit | I13: Nimi
A14: 1. | B14: Mikko Kielinen | D14: 1 | E14: 1 | F14: 1 | H14: T1 | I14: Frits Van Laar
A15: 2. | B15: Miika Rajakallio | D15: 3 | E15: 3 | F15: 3 | H15: T2 | I15: Jussi Palssa
A16: 3. | B16: Santtu Koskinen | D16: 2 | E16: 2 | F16: 2 | H16: T3 | I16: Toni
A17: 4.
A18: 5.
A19: 6.
A20: 7.
A21: 8.

Sheet Tulokset
C1: Paikka: | D1: =Kilpailu!B5 -> Nummela
C2: PVM: | D2: =Kilpailu!B6 -> 41111
B6: Kokonaistulokset | C6: Set maneuvers | F6: Freestyle | I6: Flight to music | L6: Yhteensä | O6: Ero kärkeen | Q6: Set maneuvers | W6: Freestyle | AC6: Flight to music | AI6: Set maneuvers
A7: Kilpailija | B7: Nimi | C7: Pisteet | D7: Suhteutetut | F7: Pisteet | G7: Suhteutetut | I7: Pisteet | J7: Suhteutetut | L7: Pisteet | M7: Suhteutetut | O7: Suhteutetut | Q7: T1 | R7: T2 | S7: T3 | T7: T4 | U7: T5 | W7: T1 | X7: T2 | Y7: T3 | Z7: T4 | AA7: T5 | AC7: T1 | AD7: T2 | AE7: T3 | AF7: T4 | AG7: T5 | AI7: K AVG | AJ7: P AVG1 | AK7: P AVG2
A8: =Kilpailu!A14 -> 1. | B8: =IF(Kilpailu!B14<>"",Kilpailu!B14,"") -> Mikko Kielinen | C8: =IF(B8="","",'1'!K8) -> 5336.5 | D8: =IF(C8="","",'1'!L8) -> 2898 | F8: =IF('1'!O8="",0,'1'!O8) -> 655 | G8: =IF('1'!P8="",0,'1'!P8) -> 1791 | I8: =IF('1'!U3="",0,'1'!U3) -> 401 | J8: =IF('1'!V3="",0,'1'!V8) -> 2000 | L8: =IF(B8="","",C8+F8+I8) -> 6392.5 | M8: =IF(B8="","",D8+G8+J8) -> 6689 | O8: =IF(M8="","",LARGE($M$8:$M$15,1)-M8) -> 0 | Q8: =IF($B8="","",Q22+Q36+Q50) -> 328 | R8: =IF($B8="","",R22+R36+R50) -> 315 | S8: =IF($B8="","",S22+S36+S50) -> 330 | T8: =IF($B8="","",T22+T36+T50) -> 0 | U8: =IF($B8="","",U22+U36+U50) -> 0 | W8: =IF($B8="","",W22+W36+W50) -> 216 | X8: =IF($B8="","",X22+X36+X50) -> 222 | Y8: =IF($B8="","",Y22+Y36+Y50) -> 217 | Z8: =IF($B8="","",Z22+Z36+Z50) -> 0 | AA8: =IF($B8="","",AA22+AA36+AA50) -> 0 | AC8: =IF($B8="","",AC22+AC36+AC50) -> 282 | AD8: =IF($B8="","",AD22+AD36+AD50) -> 262 | AE8: =IF($B8="","",AE22+AE36+AE50) -> 255 | AF8: =IF($B8="","",AF22+AF36+AF50) -> 0 | AG8: =IF($B8="","",AG22+AG36+AG50) -> 0 | AI8: =IF(B8="","",AVERAGE('1'!$C$21:$C$28)) -> 8.0625 | AJ8: =IF(B8="","",AVERAGE('1'!$E$21:$I$28)) -> 12.958333 | AK8: =IF(B8="","",AVERAGE('1'!$Q$21:$U$28)) -> 13.625
A9: =Kilpailu!A15 -> 2. | B9: =IF(Kilpailu!B15<>"",Kilpailu!B15,"") -> Miika Rajakallio | C9: =IF(B9="","",'2'!K8) -> 5475.5 | D9: =IF(C9="","",'2'!L8) -> 3000 | F9: =IF('2'!O8="",0,'2'!O8) -> 730 | G9: =IF('2'!P8="",0,'2'!P8) -> 2000 | I9: =IF('2'!U3="",0,'2'!U3) -> 303 | J9: =IF('2'!V3="",0,'2'!V8) -> 1630 | L9: =IF(B9="","",C9+F9+I9) -> 6508.5 | M9: =IF(B9="","",D9+G9+J9) -> 6630 | O9: =IF(M9="","",LARGE($M$8:$M$15,1)-M9) -> 59 | Q9: =IF($B9="","",Q23+Q37+Q51) -> 312 | R9: =IF($B9="","",R23+R37+R51) -> 328 | S9: =IF($B9="","",S23+S37+S51) -> 320 | T9: =IF($B9="","",T23+T37+T51) -> 0 | U9: =IF($B9="","",U23+U37+U51) -> 0 | W9: =IF($B9="","",W23+W37+W51) -> 254 | X9: =IF($B9="","",X23+X37+X51) -> 245 | Y9: =IF($B9="","",Y23+Y37+Y51) -> 231 | Z9: =IF($B9="","",Z23+Z37+Z51) -> 0 | AA9: =IF($B9="","",AA23+AA37+AA51) -> 0 | AC9: =IF($B9="","",AC23+AC37+AC51) -> 211 | AD9: =IF($B9="","",AD23+AD37+AD51) -> 206 | AE9: =IF($B9="","",AE23+AE37+AE51) -> 234 | AF9: =IF($B9="","",AF23+AF37+AF51) -> 0 | AG9: =IF($B9="","",AG23+AG37+AG51) -> 0 | AI9: =IF(B9="","",AVERAGE('2'!$C$21:$C$28)) -> 8.5 | AJ9: =IF(B9="","",AVERAGE('2'!$E$21:$I$28)) -> 13.083333 | AK9: =IF(B9="","",AVERAGE('2'!$Q$21:$U$28)) -> 13.375
A10: =Kilpailu!A16 -> 3. | B10: =IF(Kilpailu!B16<>"",Kilpailu!B16,"") -> Santtu Koskinen | C10: =IF(B10="","",'3'!K8) -> 4838 | D10: =IF(C10="","",'3'!L8) -> 2641 | F10: ='3'!O8 -> 708 | G10: =IF('3'!P8="",0,'3'!P8) -> 1942 | I10: =IF('3'!U3="",0,'3'!U3) -> 384 | J10: =IF('3'!V3="",0,'3'!V8) -> 1832 | L10: =IF(B10="","",C10+F10+I10) -> 5930 | M10: =IF(B10="","",D10+G10+J10) -> 6415 | O10: =IF(M10="","",LARGE($M$8:$M$15,1)-M10) -> 274 | Q10: =IF($B10="","",Q24+Q38+Q52) -> 321 | R10: =IF($B10="","",R24+R38+R52) -> 323 | S10: =IF($B10="","",S24+S38+S52) -> 345 | T10: =IF($B10="","",T24+T38+T52) -> 0 | U10: =IF($B10="","",U24+U38+U52) -> 0 | W10: =IF($B10="","",W24+W38+W52) -> 224 | X10: =IF($B10="","",X24+X38+X52) -> 213 | Y10: =IF($B10="","",Y24+Y38+Y52) -> 271 | Z10: =IF($B10="","",Z24+Z38+Z52) -> 0 | AA10: =IF($B10="","",AA24+AA38+AA52) -> 0 | AC10: =IF($B10="","",AC24+AC38+AC52) -> 228 | AD10: =IF($B10="","",AD24+AD38+AD52) -> 248 | AE10: =IF($B10="","",AE24+AE38+AE52) -> 256 | AF10: =IF($B10="","",AF24+AF38+AF52) -> 0 | AG10: =IF($B10="","",AG24+AG38+AG52) -> 0 | AI10: =IF(B10="","",AVERAGE('3'!$C$21:$C$28)) -> 7.25 | AJ10: =IF(B10="","",AVERAGE('3'!$E$21:$I$28)) -> 13.375 | AK10: =IF(B10="","",AVERAGE('3'!$Q$21:$U$28)) -> 13.708333
A11: =Kilpailu!A17 -> 4. | B11: =IF(Kilpailu!B17<>"",Kilpailu!B17,"") | C11: =IF(B11="","",'4'!K8) | D11: =IF(C11="","",'4'!L8) | F11: ='4'!O8 -> 0 | G11: =IF('4'!P8="",0,'4'!P8) -> 0 | I11: =IF('4'!U3="",0,'4'!U3) -> 0 | J11: =IF('4'!U3="",0,'4'!V3) -> 0 | L11: =IF(B11="","",C11+F11+I11) | M11: =IF(B11="","",D11+G11+J11) | O11: =IF(M11="","",LARGE($M$8:$M$15,1)-M11) | Q11: =IF($B11="","",Q25+Q39+Q53) | R11: =IF($B11="","",R25+R39+R53) | S11: =IF($B11="","",S25+S39+S53) | T11: =IF($B11="","",T25+T39+T53) | U11: =IF($B11="","",U25+U39+U53) | W11: =IF($B11="","",W25+W39+W53) | X11: =IF($B11="","",X25+X39+X53) | Y11: =IF($B11="","",Y25+Y39+Y53) | Z11: =IF($B11="","",Z25+Z39+Z53) | AA11: =IF($B11="","",AA25+AA39+AA53) | AC11: =IF($B11="","",AC25+AC39+AC53) | AD11: =IF($B11="","",AD25+AD39+AD53) | AE11: =IF($B11="","",AE25+AE39+AE53) | AF11: =IF($B11="","",AF25+AF39+AF53) | AG11: =IF($B11="","",AG25+AG39+AG53) | AI11: =IF(B11="","",AVERAGE('4'!$C$21:$C$28)) | AJ11: =IF(B11="","",AVERAGE('4'!$E$21:$I$28)) | AK11: =IF(B11="","",AVERAGE('4'!$Q$21:$U$28))
A12: =Kilpailu!A18 -> 5. | B12: =IF(Kilpailu!B18<>"",Kilpailu!B18,"") | C12: =IF(B12="","",'5'!K8) | D12: =IF(C12="","",'5'!L8) | F12: =IF('5'!O8="",0,'5'!O8) -> 0 | G12: =IF('5'!P8="",0,'5'!P8) -> 0 | I12: =IF('5'!U3="",0,'5'!U3) -> 0 | J12: =IF('5'!U3="",0,'5'!V3) -> 0 | L12: =IF(B12="","",C12+F12+I12) | M12: =IF(B12="","",D12+G12+J12) | O12: =IF(M12="","",LARGE($M$8:$M$15,1)-M12) | Q12: =IF($B12="","",Q26+Q40+Q54) | R12: =IF($B12="","",R26+R40+R54) | S12: =IF($B12="","",S26+S40+S54) | T12: =IF($B12="","",T26+T40+T54) | U12: =IF($B12="","",U26+U40+U54) | W12: =IF($B12="","",W26+W40+W54) | X12: =IF($B12="","",X26+X40+X54) | Y12: =IF($B12="","",Y26+Y40+Y54) | Z12: =IF($B12="","",Z26+Z40+Z54) | AA12: =IF($B12="","",AA26+AA40+AA54) | AC12: =IF($B12="","",AC26+AC40+AC54) | AD12: =IF($B12="","",AD26+AD40+AD54) | AE12: =IF($B12="","",AE26+AE40+AE54) | AF12: =IF($B12="","",AF26+AF40+AF54) | AG12: =IF($B12="","",AG26+AG40+AG54) | AI12: =IF(B12="","",AVERAGE('5'!$C$21:$C$28)) | AJ12: =IF(B12="","",AVERAGE('5'!$E$21:$I$28)) | AK12: =IF(B12="","",AVERAGE('5'!$Q$21:$U$28))
A13: =Kilpailu!A19 -> 6. | B13: =IF(Kilpailu!B19<>"",Kilpailu!B19,"") | C13: =IF(B13="","",'6'!K8) | D13: =IF(C13="","",'6'!L8) | F13: =IF('6'!O8="",0,'6'!O8) -> 0 | G13: =IF('6'!P8="",0,'6'!P8) -> 0 | I13: =IF('6'!U3="",0,'6'!U3) -> 0 | J13: =IF('6'!U3="",0,'6'!V3) -> 0 | L13: =IF(B13="","",C13+F13+I13) | M13: =IF(B13="","",D13+G13+J13) | O13: =IF(M13="","",LARGE($M$8:$M$15,1)-M13) | Q13: =IF($B13="","",Q27+Q41+Q55) | R13: =IF($B13="","",R27+R41+R55) | S13: =IF($B13="","",S27+S41+S55) | T13: =IF($B13="","",T27+T41+T55) | U13: =IF($B13="","",U27+U41+U55) | W13: =IF($B13="","",W27+W41+W55) | X13: =IF($B13="","",X27+X41+X55) | Y13: =IF($B13="","",Y27+Y41+Y55) | Z13: =IF($B13="","",Z27+Z41+Z55) | AA13: =IF($B13="","",AA27+AA41+AA55) | AC13: =IF($B13="","",AC27+AC41+AC55) | AD13: =IF($B13="","",AD27+AD41+AD55) | AE13: =IF($B13="","",AE27+AE41+AE55) | AF13: =IF($B13="","",AF27+AF41+AF55) | AG13: =IF($B13="","",AG27+AG41+AG55) | AI13: =IF(B13="","",AVERAGE('6'!$C$21:$C$28)) | AJ13: =IF(B13="","",AVERAGE('6'!$E$21:$I$28)) | AK13: =IF(B13="","",AVERAGE('6'!$Q$21:$U$28))
A14: =Kilpailu!A20 -> 7. | B14: =IF(Kilpailu!B20<>"",Kilpailu!B20,"") | C14: =IF(B14="","",'7'!K8) | D14: =IF(C14="","",'7'!L8) | F14: =IF('7'!O8="",0,'7'!O8) -> 0 | G14: =IF('7'!P8="",0,'7'!P8) -> 0 | I14: =IF('7'!U3="",0,'7'!U3) -> 0 | J14: =IF('7'!U3="",0,'7'!V3) -> 0 | L14: =IF(B14="","",C14+F14+I14) | M14: =IF(B14="","",D14+G14+J14) | O14: =IF(M14="","",LARGE($M$8:$M$15,1)-M14) | Q14: =IF($B14="","",Q28+Q42+Q56) | R14: =IF($B14="","",R28+R42+R56) | S14: =IF($B14="","",S28+S42+S56) | T14: =IF($B14="","",T28+T42+T56) | U14: =IF($B14="","",U28+U42+U56) | W14: =IF($B14="","",W28+W42+W56) | X14: =IF($B14="","",X28+X42+X56) | Y14: =IF($B14="","",Y28+Y42+Y56) | Z14: =IF($B14="","",Z28+Z42+Z56) | AA14: =IF($B14="","",AA28+AA42+AA56) | AC14: =IF($B14="","",AC28+AC42+AC56) | AD14: =IF($B14="","",AD28+AD42+AD56) | AE14: =IF($B14="","",AE28+AE42+AE56) | AF14: =IF($B14="","",AF28+AF42+AF56) | AG14: =IF($B14="","",AG28+AG42+AG56) | AI14: =IF(B14="","",AVERAGE('7'!$C$21:$C$28)) | AJ14: =IF(B14="","",AVERAGE('6'!$E$21:$I$28)) | AK14: =IF(B14="","",AVERAGE('7'!$Q$21:$U$28))
A15: =Kilpailu!A21 -> 8. | B15: =IF(Kilpailu!B21<>"",Kilpailu!B21,"") | C15: =IF(B15="","",'8'!K8) | D15: =IF(C15="","",'8'!L8) | F15: =IF('8'!O8="",0,'8'!O8) -> 0 | G15: =IF('8'!P8="",0,'8'!P8) -> 0 | I15: =IF('8'!U3="",0,'8'!U3) -> 0 | J15: =IF('8'!U3="",0,'8'!V3) -> 0 | L15: =IF(B15="","",C15+F15+I15) | M15: =IF(B15="","",D15+G15+J15) | O15: =IF(M15="","",LARGE($M$8:$M$15,1)-M15) | Q15: =IF($B15="","",Q29+Q43+Q57) | R15: =IF($B15="","",R29+R43+R57) | S15: =IF($B15="","",S29+S43+S57) | T15: =IF($B15="","",T29+T43+T57) | U15: =IF($B15="","",U29+U43+U57) | W15: =IF($B15="","",W29+W43+W57) | X15: =IF($B15="","",X29+X43+X57) | Y15: =IF($B15="","",Y29+Y43+Y57) | Z15: =IF($B15="","",Z29+Z43+Z57) | AA15: =IF($B15="","",AA29+AA43+AA57) | AC15: =IF($B15="","",AC29+AC43+AC57) | AD15: =IF($B15="","",AD29+AD43+AD57) | AE15: =IF($B15="","",AE29+AE43+AE57) | AF15: =IF($B15="","",AF29+AF43+AF57) | AG15: =IF($B15="","",AG29+AG43+AG57) | AI15: =IF(B15="","",AVERAGE('8'!$C$21:$C$28)) | AJ15: =IF(B15="","",AVERAGE('8'!$E$21:$I$28)) | AK15: =IF(B15="","",AVERAGE('8'!$Q$21:$U$28))
B20: Kierros 1 | C20: Set maneuvers | F20: Freestyle | I20: Flight to music | L20: Yhteensä | O20: Ero kärkeen | Q20: Set maneuvers | W20: Freestyle | AC20: Flight to music
A21: Kilpailija | B21: Nimi | C21: Pisteet | D21: Suhteutetut | F21: Pisteet | G21: Suhteutetut | I21: Pisteet | J21: Suhteutetut | L21: Pisteet | M21: Suhteutetut | O21: Suhteutetut | Q21: T1 | R21: T2 | S21: T3 | T21: T4 | U21: T5 | W21: T1 | X21: T2 | Y21: T3 | Z21: T4 | AA21: T5 | AC21: T1 | AD21: T2 | AE21: T3 | AF21: T4 | AG21: T5
A22: =Kilpailu!A14 -> 1. | B22: =IF(Kilpailu!B14="","",Kilpailu!B14) -> Mikko Kielinen | C22: =IF(B22<>"",'1'!$K$3,"") -> 2514 | D22: =IF(B22="","",(ROUND(C22/LARGE($C$22:$C$29,1)*1000,0))*Kilpailu!$D$9) -> 949 | F22: =IF(B22<>"",'1'!$O$3,"") -> 296 | G22: =IF(B22="","",(ROUND(F22/LARGE($F$22:$F$29,1)*1000,0))*Kilpailu!$E$9) -> 851 | I22: =IF(B22="","",IF('1'!$U$3="",0,'1'!$U$3)) -> 401 | J22: =IF(B22="","",IF(I22=0,0,(ROUND(I22/LARGE($I$22:$I$29,1)*1000,0))*Kilpailu!$F$9)) -> 1000 | L22: =IF(B22="","",C22+F22+I22) -> 3211 | M22: =IF(B22="","",D22+G22+J22) -> 2800 | O22: =IF(M22="","",LARGE($M$22:$M$29,1)-M22) -> 25 | Q22: =IF($B22="","",'1'!E$30) -> 104 | R22: =IF($B$22="","",'1'!F$30) -> 95 | S22: =IF($B$22="","",'1'!G$30) -> 112 | T22: =IF($B$22="","",'1'!H$30) -> 0 | U22: =IF($B$22="","",'1'!I$30) -> 0 | W22: =IF($B22="","",'1'!E$12) -> 100 | X22: =IF($B$22="","",'1'!F$12) -> 106 | Y22: =IF($B$22="","",'1'!G$12) -> 90 | Z22: =IF($B$22="","",'1'!H$12) -> 0 | AA22: =IF($B$22="","",'1'!I$12) -> 0 | AC22: =IF($B22="","",'1'!Q$12) -> 146 | AD22: =IF($B22="","",'1'!R$12) -> 134 | AE22: =IF($B22="","",'1'!S$12) -> 121 | AF22: =IF($B22="","",'1'!T$12) -> 0 | AG22: =IF($B22="","",'1'!U$12) -> 0
A23: =Kilpailu!A15 -> 2. | B23: =IF(Kilpailu!B15="","",Kilpailu!B15) -> Miika Rajakallio | C23: =IF(B23<>"",'2'!$K$3,"") -> 2649.5 | D23: =IF(B23="","",(ROUND(C23/LARGE($C$22:$C$29,1)*1000,0))*Kilpailu!$D$9) -> 1000 | F23: =IF(B23<>"",'2'!$O$3,"") -> 348 | G23: =IF(B23="","",(ROUND(F23/LARGE($F$22:$F$29,1)*1000,0))*Kilpailu!$E$9) -> 1000 | I23: =IF(B23="","",IF('2'!$U$3="",0,'2'!$U$3)) -> 303 | J23: =IF(B23="","",IF(I23=0,0,(ROUND(I23/LARGE($I$22:$I$29,1)*1000,0))*Kilpailu!$F$9)) -> 756 | L23: =IF(B23="","",C23+F23+I23) -> 3300.5 | M23: =IF(B23="","",D23+G23+J23) -> 2756 | O23: =IF(M23="","",LARGE($M$22:$M$29,1)-M23) -> 69 | Q23: =IF($B23="","",'2'!E$30) -> 98 | R23: =IF($B23="","",'2'!F$30) -> 110 | S23: =IF($B23="","",'2'!G$30) -> 106 | T23: =IF($B23="","",'2'!H$30) -> 0 | U23: =IF($B23="","",'2'!I$30) -> 0 | W23: =IF($B23="","",'2'!E$12) -> 116 | X23: =IF($B23="","",'2'!F$12) -> 123 | Y23: =IF($B23="","",'2'!G$12) -> 109 | Z23: =IF($B23="","",'2'!H$12) -> 0 | AA23: =IF($B23="","",'2'!I$12) -> 0 | AC23: =IF($B23="","",'2'!Q$12) -> 95 | AD23: =IF($B23="","",'2'!R$12) -> 94 | AE23: =IF($B23="","",'2'!S$12) -> 114 | AF23: =IF($B23="","",'2'!T$12) -> 0 | AG23: =IF($B23="","",'2'!U$12) -> 0
A24: =Kilpailu!A16 -> 3. | B24: =IF(Kilpailu!B16="","",Kilpailu!B16) -> Santtu Koskinen | C24: =IF(B24<>"",'3'!$K$3,"") -> 2314 | D24: =IF(B24="","",(ROUND(C24/LARGE($C$22:$C$29,1)*1000,0))*Kilpailu!$D$9) -> 873 | F24: =IF(B24<>"",'3'!$O$3,"") -> 346 | G24: =IF(B24="","",(ROUND(F24/LARGE($F$22:$F$29,1)*1000,0))*Kilpailu!$E$9) -> 994 | I24: =IF(B24="","",IF('3'!$U$3="",0,'3'!$U$3)) -> 384 | J24: =IF(B24="","",IF(I24=0,0,(ROUND(I24/LARGE($I$22:$I$29,1)*1000,0))*Kilpailu!$F$9)) -> 958 | L24: =IF(B24="","",C24+F24+I24) -> 3044 | M24: =IF(B24="","",D24+G24+J24) -> 2825 | O24: =IF(M24="","",LARGE($M$22:$M$29,1)-M24) -> 0 | Q24: =IF($B24="","",'3'!E$30) -> 106 | R24: =IF($B24="","",'3'!F$30) -> 101 | S24: =IF($B24="","",'3'!G$30) -> 114 | T24: =IF($B24="","",'3'!H$30) -> 0 | U24: =IF($B24="","",'3'!I$30) -> 0 | W24: =IF($B24="","",'3'!E$12) -> 115 | X24: =IF($B24="","",'3'!F$12) -> 100 | Y24: =IF($B24="","",'3'!G$12) -> 131 | Z24: =IF($B24="","",'3'!H$12) -> 0 | AA24: =IF($B24="","",'3'!I$12) -> 0 | AC24: =IF($B24="","",'3'!Q$12) -> 129 | AD24: =IF($B24="","",'3'!R$12) -> 127 | AE24: =IF($B24="","",'3'!S$12) -> 128 | AF24: =IF($B24="","",'3'!T$12) -> 0 | AG24: =IF($B24="","",'3'!U$12) -> 0
A25: =Kilpailu!A17 -> 4. | B25: =IF(Kilpailu!B17="","",Kilpailu!B17) | C25: =IF(B25<>"",'4'!$K$3,"") | D25: =IF(B25="","",(ROUND(C25/LARGE($C$22:$C$29,1)*1000,0))*Kilpailu!$D$9) | F25: =IF(B25<>"",'4'!$O$3,"") | G25: =IF(B25="","",(ROUND(F25/LARGE($F$22:$F$29,1)*1000,0))*Kilpailu!$E$9) | I25: =IF(B25="","",IF('4'!$U$3="",0,'4'!$U$3)) | J25: =IF(B25="","",IF(I25=0,0,(ROUND(I25/LARGE($I$22:$I$29,1)*1000,0))*Kilpailu!$F$9)) | L25: =IF(B25="","",C25+F25+I25) | M25: =IF(B25="","",D25+G25+J25) | O25: =IF(M25="","",LARGE($M$22:$M$29,1)-M25) | Q25: =IF($B25="","",'4'!E$30) | R25: =IF($B25="","",'4'!F$30) | S25: =IF($B25="","",'4'!G$30) | T25: =IF($B25="","",'4'!H$30) | U25: =IF($B25="","",'4'!I$30) | W25: =IF($B25="","",'4'!E$12) | X25: =IF($B25="","",'4'!F$12) | Y25: =IF($B25="","",'4'!G$12) | Z25: =IF($B25="","",'4'!H$12) | AA25: =IF($B25="","",'4'!I$12) | AC25: =IF($B25="","",'4'!Q$12) | AD25: =IF($B25="","",'4'!R$12) | AE25: =IF($B25="","",'4'!S$12) | AF25: =IF($B25="","",'4'!T$12) | AG25: =IF($B25="","",'4'!U$12)
A26: =Kilpailu!A18 -> 5. | B26: =IF(Kilpailu!B18="","",Kilpailu!B18) | C26: =IF(B26<>"",'5'!$K$3,"") | D26: =IF(B26="","",(ROUND(C26/LARGE($C$22:$C$29,1)*1000,0))*Kilpailu!$D$9) | F26: =IF(B26<>"",'5'!$O$3,"") | G26: =IF(B26="","",(ROUND(F26/LARGE($F$22:$F$29,1)*1000,0))*Kilpailu!$E$9) | I26: =IF(B26="","",IF('5'!$U$3="",0,'5'!$U$3)) | J26: =IF(B26="","",IF(I26=0,0,(ROUND(I26/LARGE($I$22:$I$29,1)*1000,0))*Kilpailu!$F$9)) | L26: =IF(B26="","",C26+F26+I26) | M26: =IF(B26="","",D26+G26+J26) | O26: =IF(M26="","",LARGE($M$22:$M$29,1)-M26) | Q26: =IF($B26="","",'5'!E$30) | R26: =IF($B26="","",'5'!F$30) | S26: =IF($B26="","",'5'!G$30) | T26: =IF($B26="","",'5'!H$30) | U26: =IF($B26="","",'5'!I$30) | W26: =IF($B26="","",'5'!E$12) | X26: =IF($B26="","",'5'!F$12) | Y26: =IF($B26="","",'5'!G$12) | Z26: =IF($B26="","",'5'!H$12) | AA26: =IF($B26="","",'5'!I$12) | AC26: =IF($B26="","",'5'!Q$12) | AD26: =IF($B26="","",'5'!R$12) | AE26: =IF($B26="","",'5'!S$12) | AF26: =IF($B26="","",'5'!T$12) | AG26: =IF($B26="","",'5'!U$12)
A27: =Kilpailu!A19 -> 6. | B27: =IF(Kilpailu!B19="","",Kilpailu!B19) | C27: =IF(B27<>"",'1'!$K$3,"") | D27: =IF(B27="","",(ROUND(C27/LARGE($C$22:$C$29,1)*1000,0))*Kilpailu!$D$9) | F27: =IF(B27<>"",'6'!$O$3,"") | G27: =IF(B27="","",(ROUND(F27/LARGE($F$22:$F$29,1)*1000,0))*Kilpailu!$E$9) | I27: =IF(B27="","",IF('6'!$U$3="",0,'6'!$U$3)) | J27: =IF(B27="","",IF(I27=0,0,(ROUND(I27/LARGE($I$22:$I$29,1)*1000,0))*Kilpailu!$F$9)) | L27: =IF(B27="","",C27+F27+I27) | M27: =IF(B27="","",D27+G27+J27) | O27: =IF(M27="","",LARGE($M$22:$M$29,1)-M27) | Q27: =IF($B27="","",'6'!E$30) | R27: =IF($B27="","",'6'!F$30) | S27: =IF($B27="","",'6'!G$30) | T27: =IF($B27="","",'6'!H$30) | U27: =IF($B27="","",'6'!I$30) | W27: =IF($B27="","",'6'!E$12) | X27: =IF($B27="","",'6'!F$12) | Y27: =IF($B27="","",'6'!G$12) | Z27: =IF($B27="","",'6'!H$12) | AA27: =IF($B27="","",'6'!I$12) | AC27: =IF($B27="","",'6'!Q$12) | AD27: =IF($B27="","",'6'!R$12) | AE27: =IF($B27="","",'6'!S$12) | AF27: =IF($B27="","",'6'!T$12) | AG27: =IF($B27="","",'6'!U$12)
A28: =Kilpailu!A20 -> 7. | B28: =IF(Kilpailu!B20="","",Kilpailu!B20) | C28: =IF(B28<>"",'1'!$K$3,"") | D28: =IF(B28="","",(ROUND(C28/LARGE($C$22:$C$29,1)*1000,0))*Kilpailu!$D$9) | F28: =IF(B28<>"",'7'!$O$3,"") | G28: =IF(B28="","",(ROUND(F28/LARGE($F$22:$F$29,1)*1000,0))*Kilpailu!$E$9) | I28: =IF(B28="","",IF('7'!$U$3="",0,'7'!$U$3)) | J28: =IF(B28="","",IF(I28=0,0,(ROUND(I28/LARGE($I$22:$I$29,1)*1000,0))*Kilpailu!$F$9)) | L28: =IF(B28="","",C28+F28+I28) | M28: =IF(B28="","",D28+G28+J28) | O28: =IF(M28="","",LARGE($M$22:$M$29,1)-M28) | Q28: =IF($B28="","",'7'!E$30) | R28: =IF($B28="","",'7'!F$30) | S28: =IF($B28="","",'7'!G$30) | T28: =IF($B28="","",'7'!H$30) | U28: =IF($B28="","",'7'!I$30) | W28: =IF($B28="","",'7'!E$12) | X28: =IF($B28="","",'7'!F$12) | Y28: =IF($B28="","",'7'!G$12) | Z28: =IF($B28="","",'7'!H$12) | AA28: =IF($B28="","",'7'!I$12) | AC28: =IF($B28="","",'7'!Q$12) | AD28: =IF($B28="","",'7'!R$12) | AE28: =IF($B28="","",'7'!S$12) | AF28: =IF($B28="","",'7'!T$12) | AG28: =IF($B28="","",'7'!U$12)
A29: =Kilpailu!A21 -> 8. | B29: =IF(Kilpailu!B21="","",Kilpailu!B21) | C29: =IF(B29<>"",'1'!$K$3,"") | D29: =IF(B29="","",(ROUND(C29/LARGE($C$22:$C$29,1)*1000,0))*Kilpailu!$D$9) | F29: =IF(B29<>"",'8'!$O$3,"") | G29: =IF(B29="","",(ROUND(F29/LARGE($F$22:$F$29,1)*1000,0))*Kilpailu!$E$9) | I29: =IF(B29="","",IF('8'!$U$3="",0,'8'!$U$3)) | J29: =IF(B29="","",IF(I29=0,0,(ROUND(I29/LARGE($I$22:$I$29,1)*1000,0))*Kilpailu!$F$9)) | L29: =IF(B29="","",C29+F29+I29) | M29: =IF(B29="","",D29+G29+J29) | O29: =IF(M29="","",LARGE($M$22:$M$29,1)-M29) | Q29: =IF($B29="","",'8'!E$30) | R29: =IF($B29="","",'8'!F$30) | S29: =IF($B29="","",'8'!G$30) | T29: =IF($B29="","",'8'!H$30) | U29: =IF($B29="","",'8'!I$30) | W29: =IF($B29="","",'8'!E$12) | X29: =IF($B29="","",'8'!F$12) | Y29: =IF($B29="","",'8'!G$12) | Z29: =IF($B29="","",'8'!H$12) | AA29: =IF($B29="","",'8'!I$12) | AC29: =IF($B29="","",'8'!Q$12) | AD29: =IF($B29="","",'8'!R$12) | AE29: =IF($B29="","",'8'!S$12) | AF29: =IF($B29="","",'8'!T$12) | AG29: =IF($B29="","",'8'!U$12)
B34: Kierros 2 | C34: Set maneuvers | F34: Freestyle | I34: Flight to music | L34: Yhteensä | O34: Ero kärkeen | Q34: Set maneuvers | W34: Freestyle | AC34: Flight to music
A35: Kilpailija | B35: Nimi | C35: Pisteet | D35: Suhteutetut | F35: Pisteet | G35: Suhteutetut | I35: Pisteet | J35: Suhteutetut | L35: Pisteet | M35: Suhteutetut | O35: Suhteutetut | Q35: T1 | R35: T2 | S35: T3 | T35: T4 | U35: T5 | W35: T1 | X35: T2 | Y35: T3 | Z35: T4 | AA35: T5 | AC35: T1 | AD35: T2 | AE35: T3 | AF35: T4 | AG35: T5
A36: =Kilpailu!A14 -> 1. | B36: =IF(Kilpailu!B14<>"",Kilpailu!B14,"") -> Mikko Kielinen | C36: =IF(B36<>"",'1'!$K$4,"") -> 2634 | D36: =IF(B36="","",(IF(C36=0,0,ROUND(C36/LARGE($C$36:$C$43,1)*1000,0))*Kilpailu!$D$9)) -> 968 | F36: =IF(B36<>"",'1'!$O$4,"") -> 359 | G36: =IF(B36="","",(IF(F36=0,0,ROUND(F36/LARGE($F$36:$F$43,1)*1000,0))*Kilpailu!$E$9)) -> 940 | I36: =IF(B36="","",IF('1'!$U$4="",0,'1'!$U$4)) -> 398 | J36: =IF(B36="","",IF(I36=0,0,(ROUND(I36/LARGE($I$36:$I$43,1)*1000,0))*Kilpailu!$F$9)) -> 1000 | L36: =IF(B36="","",C36+F36+I36) -> 3391 | M36: =IF(B36="","",D36+G36+J36) -> 2908 | O36: =IF(M36="","",LARGE($M$36:$M$43,1)-M36) -> 0 | Q36: =IF($B36="","",'1'!Q$30) -> 113 | R36: =IF($B36="","",'1'!R$30) -> 108 | S36: =IF($B36="","",'1'!S$30) -> 106 | T36: =IF($B36="","",'1'!T$30) -> 0 | U36: =IF($B36="","",'1'!U$30) -> 0 | W36: =IF($B36="","",'1'!E$13) -> 116 | X36: =IF($B36="","",'1'!F$13) -> 116 | Y36: =IF($B36="","",'1'!G$13) -> 127 | Z36: =IF($B36="","",'1'!H$13) -> 0 | AA36: =IF($B36="","",'1'!I$13) -> 0 | AC36: =IF($B36="","",'1'!Q$13) -> 136 | AD36: =IF($B36="","",'1'!R$13) -> 128 | AE36: =IF($B36="","",'1'!S$13) -> 134 | AF36: =IF($B36="","",'1'!T$13) -> 0 | AG36: =IF($B36="","",'1'!U$13) -> 0
A37: =Kilpailu!A15 -> 2. | B37: =IF(Kilpailu!B15<>"",Kilpailu!B15,"") -> Miika Rajakallio | C37: =IF(B37<>"",'2'!$K$4,"") -> 2722 | D37: =IF(B37="","",(IF(C37=0,0,ROUND(C37/LARGE($C$36:$C$43,1)*1000,0))*Kilpailu!$D$9)) -> 1000 | F37: =IF(B37<>"",'2'!$O$4,"") -> 382 | G37: =IF(B37="","",(IF(F37=0,0,ROUND(F37/LARGE($F$36:$F$43,1)*1000,0))*Kilpailu!$E$9)) -> 1000 | I37: =IF(B37="","",IF('2'!$U$4="",0,'2'!$U$4)) -> 348 | J37: =IF(B37="","",IF(I37=0,0,(ROUND(I37/LARGE($I$36:$I$43,1)*1000,0))*Kilpailu!$F$9)) -> 874 | L37: =IF(B37="","",C37+F37+I37) -> 3452 | M37: =IF(B37="","",D37+G37+J37) -> 2874 | O37: =IF(M37="","",LARGE($M$36:$M$43,1)-M37) -> 34 | Q37: =IF($B37="","",'2'!Q$30) -> 105 | R37: =IF($B37="","",'2'!R$30) -> 107 | S37: =IF($B37="","",'2'!S$30) -> 109 | T37: =IF($B37="","",'2'!T$30) -> 0 | U37: =IF($B37="","",'2'!U$30) -> 0 | W37: =IF($B37="","",'2'!E$13) -> 138 | X37: =IF($B37="","",'2'!F$13) -> 122 | Y37: =IF($B37="","",'2'!G$13) -> 122 | Z37: =IF($B37="","",'2'!H$13) -> 0 | AA37: =IF($B37="","",'2'!I$13) -> 0 | AC37: =IF($B37="","",'2'!Q$13) -> 116 | AD37: =IF($B37="","",'2'!R$13) -> 112 | AE37: =IF($B37="","",'2'!S$13) -> 120 | AF37: =IF($B37="","",'2'!T$13) -> 0 | AG37: =IF($B37="","",'2'!U$13) -> 0
A38: =Kilpailu!A16 -> 3. | B38: =IF(Kilpailu!B16<>"",Kilpailu!B16,"") -> Santtu Koskinen | C38: =IF(B38<>"",'3'!$K$4,"") -> 2386 | D38: =IF(B38="","",(IF(C38=0,0,ROUND(C38/LARGE($C$36:$C$43,1)*1000,0))*Kilpailu!$D$9)) -> 877 | F38: =IF(B38<>"",'3'!$O$4,"") -> 362 | G38: =IF(B38="","",(IF(F38=0,0,ROUND(F38/LARGE($F$36:$F$43,1)*1000,0))*Kilpailu!$E$9)) -> 948 | I38: =IF(B38="","",IF('3'!$U$4="",0,'3'!$U$4)) -> 348 | J38: =IF(B38="","",IF(I38=0,0,(ROUND(I38/LARGE($I$36:$I$43,1)*1000,0))*Kilpailu!$F$9)) -> 874 | L38: =IF(B38="","",C38+F38+I38) -> 3096 | M38: =IF(B38="","",D38+G38+J38) -> 2699 | O38: =IF(M38="","",LARGE($M$36:$M$43,1)-M38) -> 209 | Q38: =IF($B38="","",'3'!Q$30) -> 107 | R38: =IF($B38="","",'3'!R$30) -> 108 | S38: =IF($B38="","",'3'!S$30) -> 114 | T38: =IF($B38="","",'3'!T$30) -> 0 | U38: =IF($B38="","",'3'!U$30) -> 0 | W38: =IF($B38="","",'3'!E$13) -> 109 | X38: =IF($B38="","",'3'!F$13) -> 113 | Y38: =IF($B38="","",'3'!G$13) -> 140 | Z38: =IF($B38="","",'3'!H$13) -> 0 | AA38: =IF($B38="","",'3'!I$13) -> 0 | AC38: =IF($B38="","",'3'!Q$13) -> 99 | AD38: =IF($B38="","",'3'!R$13) -> 121 | AE38: =IF($B38="","",'3'!S$13) -> 128 | AF38: =IF($B38="","",'3'!T$13) -> 0 | AG38: =IF($B38="","",'3'!U$13) -> 0
A39: =Kilpailu!A17 -> 4. | B39: =IF(Kilpailu!B17<>"",Kilpailu!B17,"") | C39: =IF(B39<>"",'4'!$K$4,"") | D39: =IF(B39="","",(IF(C39=0,0,ROUND(C39/LARGE($C$36:$C$43,1)*1000,0))*Kilpailu!$D$9)) | F39: =IF(B39<>"",'4'!$O$4,"") | G39: =IF(B39="","",(IF(F39=0,0,ROUND(F39/LARGE($F$36:$F$43,1)*1000,0))*Kilpailu!$E$9)) | I39: =IF(B39="","",IF('4'!$U$4="",0,'4'!$U$4)) | J39: =IF(B39="","",IF(I39=0,0,(ROUND(I39/LARGE($I$36:$I$43,1)*1000,0))*Kilpailu!$F$9)) | L39: =IF(B39="","",C39+F39+I39) | M39: =IF(B39="","",D39+G39+J39) | O39: =IF(M39="","",LARGE($M$36:$M$43,1)-M39) | Q39: =IF($B39="","",'4'!Q$30) | R39: =IF($B39="","",'4'!R$30) | S39: =IF($B39="","",'4'!S$30) | T39: =IF($B39="","",'4'!T$30) | U39: =IF($B39="","",'4'!U$30) | W39: =IF($B39="","",'4'!E$13) | X39: =IF($B39="","",'4'!F$13) | Y39: =IF($B39="","",'4'!G$13) | Z39: =IF($B39="","",'4'!H$13) | AA39: =IF($B39="","",'4'!I$13) | AC39: =IF($B39="","",'4'!Q$13) | AD39: =IF($B39="","",'4'!R$13) | AE39: =IF($B39="","",'4'!S$13) | AF39: =IF($B39="","",'4'!T$13) | AG39: =IF($B39="","",'4'!U$13)
A40: =Kilpailu!A18 -> 5. | B40: =IF(Kilpailu!B18<>"",Kilpailu!B18,"") | C40: =IF(B40<>"",'5'!$K$4,"") | D40: =IF(B40="","",(IF(C40=0,0,ROUND(C40/LARGE($C$36:$C$43,1)*1000,0))*Kilpailu!$D$9)) | F40: =IF(B40<>"",'5'!$O$4,"") | G40: =IF(B40="","",(IF(F40=0,0,ROUND(F40/LARGE($F$36:$F$43,1)*1000,0))*Kilpailu!$E$9)) | I40: =IF(B40="","",IF('5'!$U$4="",0,'5'!$U$4)) | J40: =IF(B40="","",IF(I40=0,0,(ROUND(I40/LARGE($I$36:$I$43,1)*1000,0))*Kilpailu!$F$9)) | L40: =IF(B40="","",C40+F40+I40) | M40: =IF(B40="","",D40+G40+J40) | O40: =IF(M40="","",LARGE($M$36:$M$43,1)-M40) | Q40: =IF($B40="","",'5'!Q$30) | R40: =IF($B40="","",'5'!R$30) | S40: =IF($B40="","",'5'!S$30) | T40: =IF($B40="","",'5'!T$30) | U40: =IF($B40="","",'5'!U$30) | W40: =IF($B40="","",'5'!E$13) | X40: =IF($B40="","",'5'!F$13) | Y40: =IF($B40="","",'5'!G$13) | Z40: =IF($B40="","",'5'!H$13) | AA40: =IF($B40="","",'5'!I$13) | AC40: =IF($B40="","",'5'!Q$13) | AD40: =IF($B40="","",'5'!R$13) | AE40: =IF($B40="","",'5'!S$13) | AF40: =IF($B40="","",'5'!T$13) | AG40: =IF($B40="","",'5'!U$13)
A41: =Kilpailu!A19 -> 6. | B41: =IF(Kilpailu!B19<>"",Kilpailu!B19,"") | C41: =IF(B41<>"",'6'!$K$4,"") | D41: =IF(B41="","",(IF(C41=0,0,ROUND(C41/LARGE($C$36:$C$43,1)*1000,0))*Kilpailu!$D$9)) | F41: =IF(B41<>"",'6'!$O$4,"") | G41: =IF(B41="","",(IF(F41=0,0,ROUND(F41/LARGE($F$36:$F$43,1)*1000,0))*Kilpailu!$E$9)) | I41: =IF(B41="","",IF('6'!$U$4="",0,'6'!$U$4)) | J41: =IF(B41="","",IF(I41=0,0,(ROUND(I41/LARGE($I$36:$I$43,1)*1000,0))*Kilpailu!$F$9)) | L41: =IF(B41="","",C41+F41+I41) | M41: =IF(B41="","",D41+G41+J41) | O41: =IF(M41="","",LARGE($M$36:$M$43,1)-M41) | Q41: =IF($B41="","",'6'!Q$30) | R41: =IF($B41="","",'6'!R$30) | S41: =IF($B41="","",'6'!S$30) | T41: =IF($B41="","",'6'!T$30) | U41: =IF($B41="","",'6'!U$30) | W41: =IF($B41="","",'6'!E$13) | X41: =IF($B41="","",'6'!F$13) | Y41: =IF($B41="","",'6'!G$13) | Z41: =IF($B41="","",'6'!H$13) | AA41: =IF($B41="","",'6'!I$13) | AC41: =IF($B41="","",'6'!Q$13) | AD41: =IF($B41="","",'6'!R$13) | AE41: =IF($B41="","",'6'!S$13) | AF41: =IF($B41="","",'6'!T$13) | AG41: =IF($B41="","",'6'!U$13)
A42: =Kilpailu!A20 -> 7. | B42: =IF(Kilpailu!B20<>"",Kilpailu!B20,"") | C42: =IF(B42<>"",'7'!$K$4,"") | D42: =IF(B42="","",(IF(C42=0,0,ROUND(C42/LARGE($C$36:$C$43,1)*1000,0))*Kilpailu!$D$9)) | F42: =IF(B42<>"",'7'!$O$4,"") | G42: =IF(B42="","",(IF(F42=0,0,ROUND(F42/LARGE($F$36:$F$43,1)*1000,0))*Kilpailu!$E$9)) | I42: =IF(B42="","",IF('7'!$U$4="",0,'7'!$U$4)) | J42: =IF(B42="","",IF(I42=0,0,(ROUND(I42/LARGE($I$36:$I$43,1)*1000,0))*Kilpailu!$F$9)) | L42: =IF(B42="","",C42+F42+I42) | M42: =IF(B42="","",D42+G42+J42) | O42: =IF(M42="","",LARGE($M$36:$M$43,1)-M42) | Q42: =IF($B42="","",'7'!Q$30) | R42: =IF($B42="","",'7'!R$30) | S42: =IF($B42="","",'7'!S$30) | T42: =IF($B42="","",'7'!T$30) | U42: =IF($B42="","",'7'!U$30) | W42: =IF($B42="","",'7'!E$13) | X42: =IF($B42="","",'7'!F$13) | Y42: =IF($B42="","",'7'!G$13) | Z42: =IF($B42="","",'7'!H$13) | AA42: =IF($B42="","",'7'!I$13) | AC42: =IF($B42="","",'7'!Q$13) | AD42: =IF($B42="","",'7'!R$13) | AE42: =IF($B42="","",'7'!S$13) | AF42: =IF($B42="","",'7'!T$13) | AG42: =IF($B42="","",'7'!U$13)
A43: =Kilpailu!A21 -> 8. | B43: =IF(Kilpailu!B21<>"",Kilpailu!B21,"") | C43: =IF(B43<>"",'8'!$K$4,"") | D43: =IF(B43="","",(IF(C43=0,0,ROUND(C43/LARGE($C$36:$C$43,1)*1000,0))*Kilpailu!$D$9)) | F43: =IF(B43<>"",'8'!$O$4,"") | G43: =IF(B43="","",(IF(F43=0,0,ROUND(F43/LARGE($F$36:$F$43,1)*1000,0))*Kilpailu!$E$9)) | I43: =IF(B43="","",IF('8'!$U$4="",0,'8'!$U$4)) | J43: =IF(B43="","",IF(I43=0,0,(ROUND(I43/LARGE($I$36:$I$43,1)*1000,0))*Kilpailu!$F$9)) | L43: =IF(B43="","",C43+F43+I43) | M43: =IF(B43="","",D43+G43+J43) | O43: =IF(M43="","",LARGE($M$36:$M$43,1)-M43) | Q43: =IF($B43="","",'8'!Q$30) | R43: =IF($B43="","",'8'!R$30) | S43: =IF($B43="","",'8'!S$30) | T43: =IF($B43="","",'8'!T$30) | U43: =IF($B43="","",'8'!U$30) | W43: =IF($B43="","",'8'!E$13) | X43: =IF($B43="","",'8'!F$13) | Y43: =IF($B43="","",'8'!G$13) | Z43: =IF($B43="","",'8'!H$13) | AA43: =IF($B43="","",'8'!I$13) | AC43: =IF($B43="","",'8'!Q$13) | AD43: =IF($B43="","",'8'!R$13) | AE43: =IF($B43="","",'8'!S$13) | AF43: =IF($B43="","",'8'!T$13) | AG43: =IF($B43="","",'8'!U$13)
B48: Kierros 3 | C48: Set maneuvers | F48: Freestyle | I48: Flight to music | L48: Yhteensä | O48: Ero kärkeen | Q48: Set maneuvers | W48: Freestyle | AC48: Flight to music
A49: Kilpailija | B49: Nimi | C49: Pisteet | D49: Suhteutetut | F49: Pisteet | G49: Suhteutetut | I49: Pisteet | J49: Suhteutetut | L49: Pisteet | M49: Suhteutetut | O49: Suhteutetut | Q49: T1 | R49: T2 | S49: T3 | T49: T4 | U49: T5 | W49: T1 | X49: T2 | Y49: T3 | Z49: T4 | AA49: T5 | AC49: T1 | AD49: T2 | AE49: T3 | AF49: T4 | AG49: T5
A50: =Kilpailu!A14 -> 1. | B50: =IF(Kilpailu!B14<>"",Kilpailu!B14,"") -> Mikko Kielinen | C50: =IF(B50<>"",'1'!$K$5,"") -> 2702.5 | D50: =IF(B50="","",IF(C50=0,0,(ROUND(C50/LARGE($C$50:$C$57,1)*1000,0))*Kilpailu!$D$9)) -> 981 | F50: =IF(B50="","",IF('1'!$O$5="",0,'1'!$O$5)) -> 0 | G50: =IF(B50="","",IF(F50=0,0,(ROUND(F50/LARGE($F$50:$F$57,1)*1000,0))*Kilpailu!$E$9)) -> 0 | I50: =IF(B50="","",IF('1'!$U$5="",0,'1'!$U$5)) -> 0 | J50: =IF(B50="","",IF(I50=0,0,(ROUND(I50/LARGE($I$50:$I$57,1)*1000,0))*Kilpailu!$F$9)) -> 0 | L50: =IF(B50="","",C50+F50+I50) -> 2702.5 | M50: =IF(B50="","",D50+G50+J50) -> 981 | O50: =IF(M50="","",LARGE($M$50:$M$57,1)-M50) -> 19 | Q50: =IF($B50="","",'1'!AB$30) -> 111 | R50: =IF($B50="","",'1'!AC$30) -> 112 | S50: =IF($B50="","",'1'!AD$30) -> 112 | T50: =IF($B50="","",'1'!AE$30) -> 0 | U50: =IF($B50="","",'1'!AF$30) -> 0 | W50: =IF($B50="","",'1'!E$14) -> 0 | X50: =IF($B50="","",'1'!F$14) -> 0 | Y50: =IF($B50="","",'1'!G$14) -> 0 | Z50: =IF($B50="","",'1'!H$14) -> 0 | AA50: =IF($B50="","",'1'!I$14) -> 0 | AC50: =IF($B50="","",'1'!Q$14) -> 0 | AD50: =IF($B50="","",'1'!R$14) -> 0 | AE50: =IF($B50="","",'1'!S$14) -> 0 | AF50: =IF($B50="","",'1'!T$14) -> 0 | AG50: =IF($B50="","",'1'!U$14) -> 0
A51: =Kilpailu!A15 -> 2. | B51: =IF(Kilpailu!B15<>"",Kilpailu!B15,"") -> Miika Rajakallio | C51: =IF(B51<>"",'2'!$K$5,"") -> 2753.5 | D51: =IF(B51="","",IF(C51=0,0,(ROUND(C51/LARGE($C$50:$C$57,1)*1000,0))*Kilpailu!$D$9)) -> 1000 | F51: =IF(B51="","",IF('2'!$O$5="",0,'2'!$O$5)) -> 0 | G51: =IF(B51="","",IF(F51=0,0,(ROUND(F51/LARGE($F$50:$F$57,1)*1000,0))*Kilpailu!$E$9)) -> 0 | I51: =IF(B51="","",IF('2'!$U$5="",0,'2'!$U$5)) -> 0 | J51: =IF(B51="","",IF(I51=0,0,(ROUND(I51/LARGE($I$50:$I$57,1)*1000,0))*Kilpailu!$F$9)) -> 0 | L51: =IF(B51="","",C51+F51+I51) -> 2753.5 | M51: =IF(B51="","",D51+G51+J51) -> 1000 | O51: =IF(M51="","",LARGE($M$50:$M$57,1)-M51) -> 0 | Q51: =IF($B51="","",'2'!AB$30) -> 109 | R51: =IF($B51="","",'2'!AC$30) -> 111 | S51: =IF($B51="","",'2'!AD$30) -> 105 | T51: =IF($B51="","",'2'!AE$30) -> 0 | U51: =IF($B51="","",'2'!AF$30) -> 0 | W51: =IF($B51="","",'2'!E$14) -> 0 | X51: =IF($B51="","",'2'!F$14) -> 0 | Y51: =IF($B51="","",'2'!G$14) -> 0 | Z51: =IF($B51="","",'2'!H$14) -> 0 | AA51: =IF($B51="","",'2'!I$14) -> 0 | AC51: =IF($B51="","",'2'!Q$14) -> 0 | AD51: =IF($B51="","",'2'!R$14) -> 0 | AE51: =IF($B51="","",'2'!S$14) -> 0 | AF51: =IF($B51="","",'2'!T$14) -> 0 | AG51: =IF($B51="","",'2'!U$14) -> 0
A52: =Kilpailu!A16 -> 3. | B52: =IF(Kilpailu!B16<>"",Kilpailu!B16,"") -> Santtu Koskinen | C52: =IF(B52<>"",'3'!$K$5,"") -> 2452 | D52: =IF(B52="","",IF(C52=0,0,(ROUND(C52/LARGE($C$50:$C$57,1)*1000,0))*Kilpailu!$D$9)) -> 891 | F52: =IF(B52="","",IF('3'!$O$5="",0,'3'!$O$5)) -> 0 | G52: =IF(B52="","",IF(F52=0,0,(ROUND(F52/LARGE($F$50:$F$57,1)*1000,0))*Kilpailu!$E$9)) -> 0 | I52: =IF(B52="","",IF('3'!$U$5="",0,'3'!$U$5)) -> 0 | J52: =IF(B52="","",IF(I52=0,0,(ROUND(I52/LARGE($I$50:$I$57,1)*1000,0))*Kilpailu!$F$9)) -> 0 | L52: =IF(B52="","",C52+F52+I52) -> 2452 | M52: =IF(B52="","",D52+G52+J52) -> 891 | O52: =IF(M52="","",LARGE($M$50:$M$57,1)-M52) -> 109 | Q52: =IF($B52="","",'3'!AB$30) -> 108 | R52: =IF($B52="","",'3'!AC$30) -> 114 | S52: =IF($B52="","",'3'!AD$30) -> 117 | T52: =IF($B52="","",'3'!AE$30) -> 0 | U52: =IF($B52="","",'3'!AF$30) -> 0 | W52: =IF($B52="","",'3'!E$14) -> 0 | X52: =IF($B52="","",'3'!F$14) -> 0 | Y52: =IF($B52="","",'3'!G$14) -> 0 | Z52: =IF($B52="","",'3'!H$14) -> 0 | AA52: =IF($B52="","",'3'!I$14) -> 0 | AC52: =IF($B52="","",'3'!Q$14) -> 0 | AD52: =IF($B52="","",'3'!R$14) -> 0 | AE52: =IF($B52="","",'3'!S$14) -> 0 | AF52: =IF($B52="","",'3'!T$14) -> 0 | AG52: =IF($B52="","",'3'!U$14) -> 0
A53: =Kilpailu!A17 -> 4. | B53: =IF(Kilpailu!B17<>"",Kilpailu!B17,"") | C53: =IF(B53<>"",'4'!$K$5,"") | D53: =IF(B53="","",IF(C53=0,0,(ROUND(C53/LARGE($C$50:$C$57,1)*1000,0))*Kilpailu!$D$9)) | F53: =IF(B53="","",IF('4'!$O$5="",0,'4'!$O$5)) | G53: =IF(B53="","",IF(F53=0,0,(ROUND(F53/LARGE($F$50:$F$57,1)*1000,0))*Kilpailu!$E$9)) | I53: =IF(B53="","",IF('4'!$U$5="",0,'4'!$U$5)) | J53: =IF(B53="","",IF(I53=0,0,(ROUND(I53/LARGE($I$50:$I$57,1)*1000,0))*Kilpailu!$F$9)) | L53: =IF(B53="","",C53+F53+I53) | M53: =IF(B53="","",D53+G53+J53) | O53: =IF(M53="","",LARGE($M$50:$M$57,1)-M53) | Q53: =IF($B53="","",'4'!AB$30) | R53: =IF($B53="","",'4'!AC$30) | S53: =IF($B53="","",'4'!AD$30) | T53: =IF($B53="","",'4'!AE$30) | U53: =IF($B53="","",'4'!AF$30) | W53: =IF($B53="","",'4'!E$14) | X53: =IF($B53="","",'4'!F$14) | Y53: =IF($B53="","",'4'!G$14) | Z53: =IF($B53="","",'4'!H$14) | AA53: =IF($B53="","",'4'!I$14) | AC53: =IF($B53="","",'4'!Q$14) | AD53: =IF($B53="","",'4'!R$14) | AE53: =IF($B53="","",'4'!S$14) | AF53: =IF($B53="","",'4'!T$14) | AG53: =IF($B53="","",'4'!U$14)
A54: =Kilpailu!A18 -> 5. | B54: =IF(Kilpailu!B18<>"",Kilpailu!B18,"") | C54: =IF(B54<>"",'1'!$K$5,"") | D54: =IF(B54="","",IF(C54=0,0,(ROUND(C54/LARGE($C$50:$C$57,1)*1000,0))*Kilpailu!$D$9)) | F54: =IF(B54="","",IF('5'!$O$5="",0,'5'!$O$5)) | G54: =IF(B54="","",IF(F54=0,0,(ROUND(F54/LARGE($F$50:$F$57,1)*1000,0))*Kilpailu!$E$9)) | I54: =IF(B54="","",IF('5'!$U$5="",0,'5'!$U$5)) | J54: =IF(B54="","",IF(I54=0,0,(ROUND(I54/LARGE($I$50:$I$57,1)*1000,0))*Kilpailu!$F$9)) | L54: =IF(B54="","",C54+F54+I54) | M54: =IF(B54="","",D54+G54+J54) | O54: =IF(M54="","",LARGE($M$50:$M$57,1)-M54) | Q54: =IF($B54="","",'5'!AB$30) | R54: =IF($B54="","",'5'!AC$30) | S54: =IF($B54="","",'5'!AD$30) | T54: =IF($B54="","",'5'!AE$30) | U54: =IF($B54="","",'5'!AF$30) | W54: =IF($B54="","",'5'!E$14) | X54: =IF($B54="","",'5'!F$14) | Y54: =IF($B54="","",'5'!G$14) | Z54: =IF($B54="","",'5'!H$14) | AA54: =IF($B54="","",'5'!I$14) | AC54: =IF($B54="","",'5'!Q$14) | AD54: =IF($B54="","",'5'!R$14) | AE54: =IF($B54="","",'5'!S$14) | AF54: =IF($B54="","",'5'!T$14) | AG54: =IF($B54="","",'5'!U$14)
A55: =Kilpailu!A19 -> 6. | B55: =IF(Kilpailu!B19<>"",Kilpailu!B19,"") | C55: =IF(B55<>"",'1'!$K$5,"") | D55: =IF(B55="","",IF(C55=0,0,(ROUND(C55/LARGE($C$50:$C$57,1)*1000,0))*Kilpailu!$D$9)) | F55: =IF(B55="","",IF('6'!$O$5="",0,'6'!$O$5)) | G55: =IF(B55="","",IF(F55=0,0,(ROUND(F55/LARGE($F$50:$F$57,1)*1000,0))*Kilpailu!$E$9)) | I55: =IF(B55="","",IF('6'!$U$5="",0,'6'!$U$5)) | J55: =IF(B55="","",IF(I55=0,0,(ROUND(I55/LARGE($I$50:$I$57,1)*1000,0))*Kilpailu!$F$9)) | L55: =IF(B55="","",C55+F55+I55) | M55: =IF(B55="","",D55+G55+J55) | O55: =IF(M55="","",LARGE($M$50:$M$57,1)-M55) | Q55: =IF($B55="","",'6'!AB$30) | R55: =IF($B55="","",'6'!AC$30) | S55: =IF($B55="","",'6'!AD$30) | T55: =IF($B55="","",'6'!AE$30) | U55: =IF($B55="","",'6'!AF$30) | W55: =IF($B55="","",'6'!E$14) | X55: =IF($B55="","",'6'!F$14) | Y55: =IF($B55="","",'6'!G$14) | Z55: =IF($B55="","",'6'!H$14) | AA55: =IF($B55="","",'6'!I$14) | AC55: =IF($B55="","",'6'!Q$14) | AD55: =IF($B55="","",'6'!R$14) | AE55: =IF($B55="","",'6'!S$14) | AF55: =IF($B55="","",'6'!T$14) | AG55: =IF($B55="","",'6'!U$14)
...

Sheet 1
B2: Kilpailija: | C2: =Kilpailu!B14 -> Mikko Kielinen | H2: Set maneuvers | L2: Suhteutetut | N2: Freestyle | P2: Suhteutetut | R2: Flight to music | V2: Suhteutetut
B3: PVM: | C3: =Kilpailu!B6 -> 41111 | H3: Kierros 1 | K3: =K30 -> 2514 | L3: =Tulokset!D22 -> 949 | N3: Kierros 1 | O3: =IF(K12="",0,K12) -> 296 | P3: =Tulokset!G22 -> 851 | R3: Kierros 1 | U3: =W12 -> 401 | V3: =Tulokset!J22 -> 1000
B4: Paikka: | C4: =Kilpailu!B5 -> Nummela | H4: Kierros 2 | K4: =W30 -> 2634 | L4: =Tulokset!D36 -> 968 | N4: Kierros 2 | O4: =IF(K13="",0,K13) -> 359 | P4: =Tulokset!G36 -> 940 | R4: Kierros 2 | U4: =W13 -> 398 | V4: =Tulokset!J36 -> 1000
H5: Kierros 3 | K5: =AH30 -> 2702.5 | L5: =Tulokset!D50 -> 981 | N5: Kierros 3 | O5: =IF(K14="",0,K14) -> 0 | P5: =Tulokset!G50 -> 0 | R5: Kierros 3 | U5: =W14 | V5: =Tulokset!J50 -> 0
H6: Yhteensä | K6: =SUM(K3:K5) -> 7850.5 | L6: =SUM(L3:L5) -> 2898 | N6: Yhteensä | O6: =SUM(O3:O5) -> 655 | P6: =SUM(P3:P5) -> 1791 | R6: Yhteensä | U6: =SUM(U3:U5) -> 799 | V6: =SUM(V3:V5) -> 2000
H7: Pois jäävä | K7: =IF(COUNT(K3:K5)=3,SMALL(K3:K5,1),0) -> 2514 | L7: =IF(COUNT(L3:L5)=3,SMALL(L3:L5,1),0) -> 949 | N7: Pois jäävä | O7: =IF(COUNT(O3:O5)=3,SMALL(O3:O5,1),0) -> 0 | P7: =IF(COUNT(P3:P5)=3,SMALL(P3:P5,1),0) -> 0 | R7: Pois jäävä | U7: =IF(COUNT(U3:U5)=3,SMALL(U3:U5,1),0) -> 0 | V7: =IF(COUNT(V3:V5)=3,SMALL(V3:V5,1),0) -> 0
H8: Lopullinen | K8: =K6-K7 -> 5336.5 | L8: =L6 -> 2898 | N8: Lopullinen | O8: =O6-O7 -> 655 | P8: =P6-P7 -> 1791 | R8: Lopullinen | U8: =U6-U7 -> 799 | V8: =V6-V7 -> 2000
E10: Tuomaripisteet | Q10: Tuomaripisteet
E11: T1 | F11: T2 | G11: T3 | H11: T4 | I11: T5 | K11: Yht. | Q11: T1 | R11: T2 | S11: T3 | T11: T4 | U11: T5 | W11: Yht.
B12: Freestyle kierros 1 | E12: 100 | F12: 106 | G12: 90 | K12: =IF(COUNT(E12:I12)=3,SUM(E12:I12),IF(COUNT(E12:I12)=4,SUM(E12:I12)-SMALL(E12:I12,1),IF(COUNT(E12:I12)=5,SUM(E12:I12)-LARGE(E12:I12,1)-SMALL(E12:I12,1),""))) -> 296 | N12: Flight to music kierros 1 | Q12: 146 | R12: 134 | S12: 121 | W12: =IF(COUNT(Q12:U12)=3,SUM(Q12:U12),IF(COUNT(Q12:U12)=4,SUM(Q12:U12)-SMALL(Q12:U12,1),IF(COUNT(Q12:U12)=5,SUM(Q12:U12)-LARGE(Q12:U12,1)-SMALL(Q12:U12,1),""))) -> 401
B13: Freestyle kierros 2 | E13: 116 | F13: 116 | G13: 127 | K13: =IF(COUNT(E13:I13)=3,SUM(E13:I13),IF(COUNT(E13:I13)=4,SUM(E13:I13)-SMALL(E13:I13,1),IF(COUNT(E13:I13)=5,SUM(E13:I13)-LARGE(E13:I13,1)-SMALL(E13:I13,1),""))) -> 359 | N13: Flight to music kierros 2 | Q13: 136 | R13: 128 | S13: 134 | W13: =IF(COUNT(Q13:U13)=3,SUM(Q13:U13),IF(COUNT(Q13:U13)=4,SUM(Q13:U13)-SMALL(Q13:U13,1),IF(COUNT(Q13:U13)=5,SUM(Q13:U13)-LARGE(Q13:U13,1)-SMALL(Q13:U13,1),""))) -> 398
B14: Freestyle kierros 3 | K14: =IF(COUNT(E14:I14)=3,SUM(E14:I14),IF(COUNT(E14:I14)=4,SUM(E14:I14)-SMALL(E14:I14,1),IF(COUNT(E14:I14)=5,SUM(E14:I14)-LARGE(E14:I14,1)-SMALL(E14:I14,1),""))) | N14: Flight to music kierros 3 | W14: =IF(COUNT(Q14:U14)=3,SUM(Q14:U14),IF(COUNT(Q14:U14)=4,SUM(Q14:U14)-SMALL(Q14:U14,1),IF(COUNT(Q14:U14)=5,SUM(Q14:U14)-LARGE(Q14:U14,1)-SMALL(Q14:U14,1),"")))
B16: Yhteensä | E16: =SUM(E12:E14) -> 216 | F16: =SUM(F12:F14) -> 222 | G16: =SUM(G12:G14) -> 217 | H16: =SUM(H12:H14) -> 0 | I16: =SUM(I12:I14) -> 0 | K16: =SUM(K12:K14) -> 655 | N16: Yhteensä | Q16: =SUM(Q12:Q14) -> 282 | R16: =SUM(R12:R14) -> 262 | S16: =SUM(S12:S14) -> 255 | T16: =SUM(T12:T14) -> 0 | U16: =SUM(U12:U14) -> 0 | W16: =SUM(W12:W14) -> 799
B19: Kierros | C19: 1 | E19: Tuomaripisteet | N19: Kierros | O19: 3 | Q19: Tuomaripisteet | Y19: Kierros | Z19: 4 | AB19: Tuomaripisteet
B20: Liike Nro | C20: Kerroin | E20: T1 | F20: T2 | G20: T3 | H20: T4 | I20: T5 | K20: Yht. | N20: Liike Nro | O20: Kerroin | Q20: T1 | R20: T2 | S20: T3 | T20: T4 | U20: T5 | W20: Yht. | Y20: Liike Nro | Z20: Kerroin | AB20: T1 | AC20: T2 | AD20: T3 | AE20: T4 | AF20: T5 | AH20: Yht.
B21: 17 | C21: =INDEX(Liikkeet!D:D,MATCH(B21,Liikkeet!B:B,0)) -> 7.5 | E21: 14 | F21: 14 | G21: 16 | K21: =IF(SUM(E21:I21)=0,"",(IF(COUNT(E21:I21)=3,SUM(E21:I21),IF(COUNT(E21:I21)=4,SUM(E21:I21)-SMALL(E21:I21,1),IF(COUNT(E21:I21)=5,SUM(E21:I21)-LARGE(E21:I21,1)-SMALL(E21:I21,1),""))))*C21) -> 330 | N21: =B21 -> 17 | O21: =INDEX(Liikkeet!D:D,MATCH(N21,Liikkeet!B:B,0)) -> 7.5 | Q21: 16 | R21: 13 | S21: 12 | W21: =IF(SUM(Q21:U21)=0,"",(IF(COUNT(Q21:U21)=3,SUM(Q21:U21),IF(COUNT(Q21:U21)=4,SUM(Q21:U21)-SMALL(Q21:U21,1),IF(COUNT(Q21:U21)=5,SUM(Q21:U21)-LARGE(Q21:U21,1)-SMALL(Q21:U21,1),""))))*O21) -> 307.5 | Y21: =B21 -> 17 | Z21: =INDEX(Liikkeet!D:D,MATCH(Y21,Liikkeet!B:B,0)) -> 7.5 | AB21: 16 | AC21: 14 | AD21: 14 | AH21: =IF(SUM(AB21:AF21)=0,"",(IF(COUNT(AB21:AF21)=3,SUM(AB21:AF21),IF(COUNT(AB21:AF21)=4,SUM(AB21:AF21)-SMALL(AB21:AF21,1),IF(COUNT(AB21:AF21)=5,SUM(AB21:AF21)-LARGE(AB21:AF21,1)-SMALL(AB21:AF21,1),""))))*Z21) -> 330
B22: 18 | C22: =INDEX(Liikkeet!D:D,MATCH(B22,Liikkeet!B:B,0)) -> 7.5 | E22: 16 | F22: 13 | G22: 15 | K22: =IF(SUM(E22:I22)=0,"",(IF(COUNT(E22:I22)=3,SUM(E22:I22),IF(COUNT(E22:I22)=4,SUM(E22:I22)-SMALL(E22:I22,1),IF(COUNT(E22:I22)=5,SUM(E22:I22)-LARGE(E22:I22,1)-SMALL(E22:I22,1),""))))*C22) -> 330 | N22: =B22 -> 18 | O22: =INDEX(Liikkeet!D:D,MATCH(N22,Liikkeet!B:B,0)) -> 7.5 | Q22: 17 | R22: 16 | S22: 14 | W22: =IF(SUM(Q22:U22)=0,"",(IF(COUNT(Q22:U22)=3,SUM(Q22:U22),IF(COUNT(Q22:U22)=4,SUM(Q22:U22)-SMALL(Q22:U22,1),IF(COUNT(Q22:U22)=5,SUM(Q22:U22)-LARGE(Q22:U22,1)-SMALL(Q22:U22,1),""))))*O22) -> 352.5 | Y22: =B22 -> 18 | Z22: =INDEX(Liikkeet!D:D,MATCH(Y22,Liikkeet!B:B,0)) -> 7.5 | AB22: 17 | AC22: 14 | AD22: 14 | AH22: =IF(SUM(AB22:AF22)=0,"",(IF(COUNT(AB22:AF22)=3,SUM(AB22:AF22),IF(COUNT(AB22:AF22)=4,SUM(AB22:AF22)-SMALL(AB22:AF22,1),IF(COUNT(AB22:AF22)=5,SUM(AB22:AF22)-LARGE(AB22:AF22,1)-SMALL(AB22:AF22,1),""))))*Z22) -> 337.5
B23: 19 | C23: =INDEX(Liikkeet!D:D,MATCH(B23,Liikkeet!B:B,0)) -> 8 | E23: 12 | F23: 13 | G23: 16 | K23: =IF(SUM(E23:I23)=0,"",(IF(COUNT(E23:I23)=3,SUM(E23:I23),IF(COUNT(E23:I23)=4,SUM(E23:I23)-SMALL(E23:I23,1),IF(COUNT(E23:I23)=5,SUM(E23:I23)-LARGE(E23:I23,1)-SMALL(E23:I23,1),""))))*C23) -> 328 | N23: =B23 -> 19 | O23: =INDEX(Liikkeet!D:D,MATCH(N23,Liikkeet!B:B,0)) -> 8 | Q23: 17 | R23: 14 | S23: 13 | W23: =IF(SUM(Q23:U23)=0,"",(IF(COUNT(Q23:U23)=3,SUM(Q23:U23),IF(COUNT(Q23:U23)=4,SUM(Q23:U23)-SMALL(Q23:U23,1),IF(COUNT(Q23:U23)=5,SUM(Q23:U23)-LARGE(Q23:U23,1)-SMALL(Q23:U23,1),""))))*O23) -> 352 | Y23: =B23 -> 19 | Z23: =INDEX(Liikkeet!D:D,MATCH(Y23,Liikkeet!B:B,0)) -> 8 | AB23: 16 | AC23: 16 | AD23: 15 | AH23: =IF(SUM(AB23:AF23)=0,"",(IF(COUNT(AB23:AF23)=3,SUM(AB23:AF23),IF(COUNT(AB23:AF23)=4,SUM(AB23:AF23)-SMALL(AB23:AF23,1),IF(COUNT(AB23:AF23)=5,SUM(AB23:AF23)-LARGE(AB23:AF23,1)-SMALL(AB23:AF23,1),""))))*Z23) -> 376
B24: 20 | C24: =INDEX(Liikkeet!D:D,MATCH(B24,Liikkeet!B:B,0)) -> 8 | E24: 14 | F24: 11 | G24: 14 | K24: =IF(SUM(E24:I24)=0,"",(IF(COUNT(E24:I24)=3,SUM(E24:I24),IF(COUNT(E24:I24)=4,SUM(E24:I24)-SMALL(E24:I24,1),IF(COUNT(E24:I24)=5,SUM(E24:I24)-LARGE(E24:I24,1)-SMALL(E24:I24,1),""))))*C24) -> 312 | N24: =B24 -> 20 | O24: =INDEX(Liikkeet!D:D,MATCH(N24,Liikkeet!B:B,0)) -> 8 | Q24: 12 | R24: 13 | S24: 13 | W24: =IF(SUM(Q24:U24)=0,"",(IF(COUNT(Q24:U24)=3,SUM(Q24:U24),IF(COUNT(Q24:U24)=4,SUM(Q24:U24)-SMALL(Q24:U24,1),IF(COUNT(Q24:U24)=5,SUM(Q24:U24)-LARGE(Q24:U24,1)-SMALL(Q24:U24,1),""))))*O24) -> 304 | Y24: =B24 -> 20 | Z24: =INDEX(Liikkeet!D:D,MATCH(Y24,Liikkeet!B:B,0)) -> 8 | AB24: 12 | AC24: 10 | AD24: 10 | AH24: =IF(SUM(AB24:AF24)=0,"",(IF(COUNT(AB24:AF24)=3,SUM(AB24:AF24),IF(COUNT(AB24:AF24)=4,SUM(AB24:AF24)-SMALL(AB24:AF24,1),IF(COUNT(AB24:AF24)=5,SUM(AB24:AF24)-LARGE(AB24:AF24,1)-SMALL(AB24:AF24,1),""))))*Z24) -> 256
B25: 24 | C25: =INDEX(Liikkeet!D:D,MATCH(B25,Liikkeet!B:B,0)) -> 8.5 | E25: 14 | F25: 13 | G25: 15 | K25: =IF(SUM(E25:I25)=0,"",(IF(COUNT(E25:I25)=3,SUM(E25:I25),IF(COUNT(E25:I25)=4,SUM(E25:I25)-SMALL(E25:I25,1),IF(COUNT(E25:I25)=5,SUM(E25:I25)-LARGE(E25:I25,1)-SMALL(E25:I25,1),""))))*C25) -> 357 | N25: =B25 -> 24 | O25: =INDEX(Liikkeet!D:D,MATCH(N25,Liikkeet!B:B,0)) -> 8.5 | Q25: 14 | R25: 14 | S25: 14 | W25: =IF(SUM(Q25:U25)=0,"",(IF(COUNT(Q25:U25)=3,SUM(Q25:U25),IF(COUNT(Q25:U25)=4,SUM(Q25:U25)-SMALL(Q25:U25,1),IF(COUNT(Q25:U25)=5,SUM(Q25:U25)-LARGE(Q25:U25,1)-SMALL(Q25:U25,1),""))))*O25) -> 357 | Y25: =B25 -> 24 | Z25: =INDEX(Liikkeet!D:D,MATCH(Y25,Liikkeet!B:B,0)) -> 8.5 | AB25: 13 | AC25: 13 | AD25: 14 | AH25: =IF(SUM(AB25:AF25)=0,"",(IF(COUNT(AB25:AF25)=3,SUM(AB25:AF25),IF(COUNT(AB25:AF25)=4,SUM(AB25:AF25)-SMALL(AB25:AF25,1),IF(COUNT(AB25:AF25)=5,SUM(AB25:AF25)-LARGE(AB25:AF25,1)-SMALL(AB25:AF25,1),""))))*Z25) -> 340
B26: 25 | C26: =INDEX(Liikkeet!D:D,MATCH(B26,Liikkeet!B:B,0)) -> 9 | E26: 12 | F26: 13 | G26: 17 | K26: =IF(SUM(E26:I26)=0,"",(IF(COUNT(E26:I26)=3,SUM(E26:I26),IF(COUNT(E26:I26)=4,SUM(E26:I26)-SMALL(E26:I26,1),IF(COUNT(E26:I26)=5,SUM(E26:I26)-LARGE(E26:I26,1)-SMALL(E26:I26,1),""))))*C26) -> 378 | N26: =B26 -> 25 | O26: =INDEX(Liikkeet!D:D,MATCH(N26,Liikkeet!B:B,0)) -> 9 | Q26: 13 | R26: 13 | S26: 16 | W26: =IF(SUM(Q26:U26)=0,"",(IF(COUNT(Q26:U26)=3,SUM(Q26:U26),IF(COUNT(Q26:U26)=4,SUM(Q26:U26)-SMALL(Q26:U26,1),IF(COUNT(Q26:U26)=5,SUM(Q26:U26)-LARGE(Q26:U26,1)-SMALL(Q26:U26,1),""))))*O26) -> 378 | Y26: =B26 -> 25 | Z26: =INDEX(Liikkeet!D:D,MATCH(Y26,Liikkeet!B:B,0)) -> 9 | AB26: 14 | AC26: 15 | AD26: 16 | AH26: =IF(SUM(AB26:AF26)=0,"",(IF(COUNT(AB26:AF26)=3,SUM(AB26:AF26),IF(COUNT(AB26:AF26)=4,SUM(AB26:AF26)-SMALL(AB26:AF26,1),IF(COUNT(AB26:AF26)=5,SUM(AB26:AF26)-LARGE(AB26:AF26,1)-SMALL(AB26:AF26,1),""))))*Z26) -> 405
B27: 26 | C27: =INDEX(Liikkeet!D:D,MATCH(B27,Liikkeet!B:B,0)) -> 9 | E27: 12 | F27: 11 | G27: 10 | K27: =IF(SUM(E27:I27)=0,"",(IF(COUNT(E27:I27)=3,SUM(E27:I27),IF(COUNT(E27:I27)=4,SUM(E27:I27)-SMALL(E27:I27,1),IF(COUNT(E27:I27)=5,SUM(E27:I27)-LARGE(E27:I27,1)-SMALL(E27:I27,1),""))))*C27) -> 297 | N27: =B27 -> 26 | O27: =INDEX(Liikkeet!D:D,MATCH(N27,Liikkeet!B:B,0)) -> 9 | Q27: 12 | R27: 12 | S27: 12 | W27: =IF(SUM(Q27:U27)=0,"",(IF(COUNT(Q27:U27)=3,SUM(Q27:U27),IF(COUNT(Q27:U27)=4,SUM(Q27:U27)-SMALL(Q27:U27,1),IF(COUNT(Q27:U27)=5,SUM(Q27:U27)-LARGE(Q27:U27,1)-SMALL(Q27:U27,1),""))))*O27) -> 324 | Y27: =B27 -> 26 | Z27: =INDEX(Liikkeet!D:D,MATCH(Y27,Liikkeet!B:B,0)) -> 9 | AB27: 12 | AC27: 15 | AD27: 15 | AH27: =IF(SUM(AB27:AF27)=0,"",(IF(COUNT(AB27:AF27)=3,SUM(AB27:AF27),IF(COUNT(AB27:AF27)=4,SUM(AB27:AF27)-SMALL(AB27:AF27,1),IF(COUNT(AB27:AF27)=5,SUM(AB27:AF27)-LARGE(AB27:AF27,1)-SMALL(AB27:AF27,1),""))))*Z27) -> 378
B28: 15 | C28: =INDEX(Liikkeet!D:D,MATCH(B28,Liikkeet!B:B,0)) -> 7 | E28: 10 | F28: 7 | G28: 9 | K28: =IF(SUM(E28:I28)=0,"",(IF(COUNT(E28:I28)=3,SUM(E28:I28),IF(COUNT(E28:I28)=4,SUM(E28:I28)-SMALL(E28:I28,1),IF(COUNT(E28:I28)=5,SUM(E28:I28)-LARGE(E28:I28,1)-SMALL(E28:I28,1),""))))*C28) -> 182 | N28: =B28 -> 15 | O28: =INDEX(Liikkeet!D:D,MATCH(N28,Liikkeet!B:B,0)) -> 7 | Q28: 12 | R28: 13 | S28: 12 | W28: =IF(SUM(Q28:U28)=0,"",(IF(COUNT(Q28:U28)=3,SUM(Q28:U28),IF(COUNT(Q28:U28)=4,SUM(Q28:U28)-SMALL(Q28:U28,1),IF(COUNT(Q28:U28)=5,SUM(Q28:U28)-LARGE(Q28:U28,1)-SMALL(Q28:U28,1),""))))*O28) -> 259 | Y28: =B28 -> 15 | Z28: =INDEX(Liikkeet!D:D,MATCH(Y28,Liikkeet!B:B,0)) -> 7 | AB28: 11 | AC28: 15 | AD28: 14 | AH28: =IF(SUM(AB28:AF28)=0,"",(IF(COUNT(AB28:AF28)=3,SUM(AB28:AF28),IF(COUNT(AB28:AF28)=4,SUM(AB28:AF28)-SMALL(AB28:AF28,1),IF(COUNT(AB28:AF28)=5,SUM(AB28:AF28)-LARGE(AB28:AF28,1)-SMALL(AB28:AF28,1),""))))*Z28) -> 280
B30: Yhteensä | E30: =SUM(E21:E28) -> 104 | F30: =SUM(F21:F28) -> 95 | G30: =SUM(G21:G28) -> 112 | H30: =SUM(H21:H28) -> 0 | I30: =SUM(I21:I28) -> 0 | K30: =SUM(K21:K28) -> 2514 | N30: Yhteensä | Q30: =SUM(Q21:Q28) -> 113 | R30: =SUM(R21:R28) -> 108 | S30: =SUM(S21:S28) -> 106 | T30: =SUM(T21:T28) -> 0 | U30: =SUM(U21:U28) -> 0 | W30: =SUM(W21:W28) -> 2634 | Y30: Yhteensä | AB30: =SUM(AB21:AB28) -> 111 | AC30: =SUM(AC21:AC28) -> 112 | AD30: =SUM(AD21:AD28) -> 112 | AE30: =SUM(AE21:AE28) -> 0 | AF30: =SUM(AF21:AF28) -> 0 | AH30: =SUM(AH21:AH28) -> 2702.5

Sheet 2
B2: Kilpailija: | C2: =Kilpailu!B15 -> Miika Rajakallio | H2: Set maneuvers | L2: Suhteutetut | N2: Freestyle | P2: Suhteutetut | R2: Flight to music | V2: Suhteutetut
B3: PVM: | C3: =Kilpailu!B6 -> 41111 | H3: Kierros 1 | K3: =K30 -> 2649.5 | L3: =Tulokset!D23 -> 1000 | N3: Kierros 1 | O3: =K12 -> 348 | P3: =Tulokset!G23 -> 1000 | R3: Kierros 1 | U3: =W12 -> 303 | V3: =Tulokset!J23 -> 756
B4: Paikka: | C4: =Kilpailu!B5 -> Nummela | H4: Kierros 2 | K4: =W30 -> 2722 | L4: =Tulokset!D37 -> 1000 | N4: Kierros 2 | O4: =IF(K13="",0,K13) -> 382 | P4: =Tulokset!G37 -> 1000 | R4: Kierros 2 | U4: =W13 -> 348 | V4: =Tulokset!J37 -> 874
H5: Kierros 3 | K5: =AH30 -> 2753.5 | L5: =Tulokset!D51 -> 1000 | N5: Kierros 3 | O5: =IF(K14="",0,K14) -> 0 | P5: =Tulokset!G51 -> 0 | R5: Kierros 3 | U5: =W14 | V5: =Tulokset!J51 -> 0
H6: Yhteensä | K6: =SUM(K3:K5) -> 8125 | L6: =SUM(L3:L5) -> 3000 | N6: Yhteensä | O6: =SUM(O3:O5) -> 730 | P6: =SUM(P3:P5) -> 2000 | R6: Yhteensä | U6: =SUM(U3:U5) -> 651 | V6: =SUM(V3:V5) -> 1630
H7: Pois jäävä | K7: =IF(COUNT(K3:K5)=3,SMALL(K3:K5,1),0) -> 2649.5 | L7: =IF(COUNT(L3:L5)=3,SMALL(L3:L5,1),0) -> 1000 | N7: Pois jäävä | O7: =IF(COUNT(O3:O5)=3,SMALL(O3:O5,1),0) -> 0 | P7: =IF(COUNT(P3:P5)=3,SMALL(P3:P5,1),0) -> 0 | R7: Pois jäävä | U7: =IF(COUNT(U3:U5)=3,SMALL(U3:U5,1),0) -> 0 | V7: =IF(COUNT(V3:V5)=3,SMALL(V3:V5,1),0) -> 0
H8: Lopullinen | K8: =K6-K7 -> 5475.5 | L8: =L6 -> 3000 | N8: Lopullinen | O8: =O6-O7 -> 730 | P8: =P6-P7 -> 2000 | R8: Lopullinen | U8: =U6-U7 -> 651 | V8: =V6-V7 -> 1630
E10: Tuomaripisteet | Q10: Tuomaripisteet
E11: T1 | F11: T2 | G11: T3 | H11: T4 | I11: T5 | K11: Yht. | Q11: T1 | R11: T2 | S11: T3 | T11: T4 | U11: T5 | W11: Yht.
B12: Freestyle kierros 1 | E12: 116 | F12: 123 | G12: 109 | K12: =IF(COUNT(E12:I12)=3,SUM(E12:I12),IF(COUNT(E12:I12)=4,SUM(E12:I12)-SMALL(E12:I12,1),IF(COUNT(E12:I12)=5,SUM(E12:I12)-LARGE(E12:I12,1)-SMALL(E12:I12,1),""))) -> 348 | N12: Flight to music kierros 1 | Q12: 95 | R12: 94 | S12: 114 | W12: =IF(COUNT(Q12:U12)=3,SUM(Q12:U12),IF(COUNT(Q12:U12)=4,SUM(Q12:U12)-SMALL(Q12:U12,1),IF(COUNT(Q12:U12)=5,SUM(Q12:U12)-LARGE(Q12:U12,1)-SMALL(Q12:U12,1),""))) -> 303
B13: Freestyle kierros 2 | E13: 138 | F13: 122 | G13: 122 | K13: =IF(COUNT(E13:I13)=3,SUM(E13:I13),IF(COUNT(E13:I13)=4,SUM(E13:I13)-SMALL(E13:I13,1),IF(COUNT(E13:I13)=5,SUM(E13:I13)-LARGE(E13:I13,1)-SMALL(E13:I13,1),""))) -> 382 | N13: Flight to music kierros 2 | Q13: 116 | R13: 112 | S13: 120 | W13: =IF(COUNT(Q13:U13)=3,SUM(Q13:U13),IF(COUNT(Q13:U13)=4,SUM(Q13:U13)-SMALL(Q13:U13,1),IF(COUNT(Q13:U13)=5,SUM(Q13:U13)-LARGE(Q13:U13,1)-SMALL(Q13:U13,1),""))) -> 348
B14: Freestyle kierros 3 | K14: =IF(COUNT(E14:I14)=3,SUM(E14:I14),IF(COUNT(E14:I14)=4,SUM(E14:I14)-SMALL(E14:I14,1),IF(COUNT(E14:I14)=5,SUM(E14:I14)-LARGE(E14:I14,1)-SMALL(E14:I14,1),""))) | N14: Flight to music kierros 3 | W14: =IF(COUNT(Q14:U14)=3,SUM(Q14:U14),IF(COUNT(Q14:U14)=4,SUM(Q14:U14)-SMALL(Q14:U14,1),IF(COUNT(Q14:U14)=5,SUM(Q14:U14)-LARGE(Q14:U14,1)-SMALL(Q14:U14,1),"")))
B16: Yhteensä | E16: =SUM(E12:E14) -> 254 | F16: =SUM(F12:F14) -> 245 | G16: =SUM(G12:G14) -> 231 | H16: =SUM(H12:H14) -> 0 | I16: =SUM(I12:I14) -> 0 | K16: =SUM(K12:K14) -> 730 | N16: Yhteensä | Q16: =SUM(Q12:Q14) -> 211 | R16: =SUM(R12:R14) -> 206 | S16: =SUM(S12:S14) -> 234 | T16: =SUM(T12:T14) -> 0 | U16: =SUM(U12:U14) -> 0 | W16: =SUM(W12:W14) -> 651
B19: Kierros | C19: 2 | E19: Tuomaripisteet | N19: Kierros | O19: 3 | Q19: Tuomaripisteet | Y19: Kierros | Z19: 4 | AB19: Tuomaripisteet
B20: Liike Nro | C20: Kerroin | E20: T1 | F20: T2 | G20: T3 | H20: T4 | I20: T5 | K20: Yht. | N20: Liike Nro | O20: Kerroin | Q20: T1 | R20: T2 | S20: T3 | T20: T4 | U20: T5 | W20: Yht. | Y20: Liike Nro | Z20: Kerroin | AB20: T1 | AC20: T2 | AD20: T3 | AE20: T4 | AF20: T5 | AH20: Yht.
B21: 18 | C21: =INDEX(Liikkeet!D:D,MATCH(B21,Liikkeet!B:B,0)) -> 7.5 | E21: 12 | F21: 13 | G21: 14 | K21: =IF(SUM(E21:I21)=0,"",(IF(COUNT(E21:I21)=3,SUM(E21:I21),IF(COUNT(E21:I21)=4,SUM(E21:I21)-SMALL(E21:I21,1),IF(COUNT(E21:I21)=5,SUM(E21:I21)-LARGE(E21:I21,1)-SMALL(E21:I21,1),""))))*C21) -> 292.5 | N21: =B21 -> 18 | O21: =INDEX(Liikkeet!D:D,MATCH(N21,Liikkeet!B:B,0)) -> 7.5 | Q21: 15 | R21: 15 | S21: 15 | W21: =IF(SUM(Q21:U21)=0,"",(IF(COUNT(Q21:U21)=3,SUM(Q21:U21),IF(COUNT(Q21:U21)=4,SUM(Q21:U21)-SMALL(Q21:U21,1),IF(COUNT(Q21:U21)=5,SUM(Q21:U21)-LARGE(Q21:U21,1)-SMALL(Q21:U21,1),""))))*O21) -> 337.5 | Y21: =B21 -> 18 | Z21: =INDEX(Liikkeet!D:D,MATCH(Y21,Liikkeet!B:B,0)) -> 7.5 | AB21: 13 | AC21: 15 | AD21: 14 | AH21: =IF(SUM(AB21:AF21)=0,"",(IF(COUNT(AB21:AF21)=3,SUM(AB21:AF21),IF(COUNT(AB21:AF21)=4,SUM(AB21:AF21)-SMALL(AB21:AF21,1),IF(COUNT(AB21:AF21)=5,SUM(AB21:AF21)-LARGE(AB21:AF21,1)-SMALL(AB21:AF21,1),""))))*Z21) -> 315
B22: B2 | C22: =INDEX(Liikkeet!D:D,MATCH(B22,Liikkeet!B:B,0)) -> 7 | E22: 14 | F22: 15 | G22: 15 | K22: =IF(SUM(E22:I22)=0,"",(IF(COUNT(E22:I22)=3,SUM(E22:I22),IF(COUNT(E22:I22)=4,SUM(E22:I22)-SMALL(E22:I22,1),IF(COUNT(E22:I22)=5,SUM(E22:I22)-LARGE(E22:I22,1)-SMALL(E22:I22,1),""))))*C22) -> 308 | N22: =B22 -> B2 | O22: =INDEX(Liikkeet!D:D,MATCH(N22,Liikkeet!B:B,0)) -> 7 | Q22: 14 | R22: 16 | S22: 14 | W22: =IF(SUM(Q22:U22)=0,"",(IF(COUNT(Q22:U22)=3,SUM(Q22:U22),IF(COUNT(Q22:U22)=4,SUM(Q22:U22)-SMALL(Q22:U22,1),IF(COUNT(Q22:U22)=5,SUM(Q22:U22)-LARGE(Q22:U22,1)-SMALL(Q22:U22,1),""))))*O22) -> 308 | Y22: =B22 -> B2 | Z22: =INDEX(Liikkeet!D:D,MATCH(Y22,Liikkeet!B:B,0)) -> 7 | AB22: 14 | AC22: 13 | AD22: 15 | AH22: =IF(SUM(AB22:AF22)=0,"",(IF(COUNT(AB22:AF22)=3,SUM(AB22:AF22),IF(COUNT(AB22:AF22)=4,SUM(AB22:AF22)-SMALL(AB22:AF22,1),IF(COUNT(AB22:AF22)=5,SUM(AB22:AF22)-LARGE(AB22:AF22,1)-SMALL(AB22:AF22,1),""))))*Z22) -> 294
B23: 26 | C23: =INDEX(Liikkeet!D:D,MATCH(B23,Liikkeet!B:B,0)) -> 9 | E23: 11 | F23: 14 | G23: 11 | K23: =IF(SUM(E23:I23)=0,"",(IF(COUNT(E23:I23)=3,SUM(E23:I23),IF(COUNT(E23:I23)=4,SUM(E23:I23)-SMALL(E23:I23,1),IF(COUNT(E23:I23)=5,SUM(E23:I23)-LARGE(E23:I23,1)-SMALL(E23:I23,1),""))))*C23) -> 324 | N23: =B23 -> 26 | O23: =INDEX(Liikkeet!D:D,MATCH(N23,Liikkeet!B:B,0)) -> 9 | Q23: 13 | R23: 13 | S23: 15 | W23: =IF(SUM(Q23:U23)=0,"",(IF(COUNT(Q23:U23)=3,SUM(Q23:U23),IF(COUNT(Q23:U23)=4,SUM(Q23:U23)-SMALL(Q23:U23,1),IF(COUNT(Q23:U23)=5,SUM(Q23:U23)-LARGE(Q23:U23,1)-SMALL(Q23:U23,1),""))))*O23) -> 369 | Y23: =B23 -> 26 | Z23: =INDEX(Liikkeet!D:D,MATCH(Y23,Liikkeet!B:B,0)) -> 9 | AB23: 14 | AC23: 14 | AD23: 11 | AH23: =IF(SUM(AB23:AF23)=0,"",(IF(COUNT(AB23:AF23)=3,SUM(AB23:AF23),IF(COUNT(AB23:AF23)=4,SUM(AB23:AF23)-SMALL(AB23:AF23,1),IF(COUNT(AB23:AF23)=5,SUM(AB23:AF23)-LARGE(AB23:AF23,1)-SMALL(AB23:AF23,1),""))))*Z23) -> 351
B24: 19 | C24: =INDEX(Liikkeet!D:D,MATCH(B24,Liikkeet!B:B,0)) -> 8 | E24: 16 | F24: 14 | G24: 15 | K24: =IF(SUM(E24:I24)=0,"",(IF(COUNT(E24:I24)=3,SUM(E24:I24),IF(COUNT(E24:I24)=4,SUM(E24:I24)-SMALL(E24:I24,1),IF(COUNT(E24:I24)=5,SUM(E24:I24)-LARGE(E24:I24,1)-SMALL(E24:I24,1),""))))*C24) -> 360 | N24: =B24 -> 19 | O24: =INDEX(Liikkeet!D:D,MATCH(N24,Liikkeet!B:B,0)) -> 8 | Q24: 12 | R24: 8 | S24: 8 | W24: =IF(SUM(Q24:U24)=0,"",(IF(COUNT(Q24:U24)=3,SUM(Q24:U24),IF(COUNT(Q24:U24)=4,SUM(Q24:U24)-SMALL(Q24:U24,1),IF(COUNT(Q24:U24)=5,SUM(Q24:U24)-LARGE(Q24:U24,1)-SMALL(Q24:U24,1),""))))*O24) -> 224 | Y24: =B24 -> 19 | Z24: =INDEX(Liikkeet!D:D,MATCH(Y24,Liikkeet!B:B,0)) -> 8 | AB24: 16 | AC24: 14 | AD24: 13 | AH24: =IF(SUM(AB24:AF24)=0,"",(IF(COUNT(AB24:AF24)=3,SUM(AB24:AF24),IF(COUNT(AB24:AF24)=4,SUM(AB24:AF24)-SMALL(AB24:AF24,1),IF(COUNT(AB24:AF24)=5,SUM(AB24:AF24)-LARGE(AB24:AF24,1)-SMALL(AB24:AF24,1),""))))*Z24) -> 344
B25: 27 | C25: =INDEX(Liikkeet!D:D,MATCH(B25,Liikkeet!B:B,0)) -> 9.5 | E25: 10 | F25: 12 | G25: 12 | K25: =IF(SUM(E25:I25)=0,"",(IF(COUNT(E25:I25)=3,SUM(E25:I25),IF(COUNT(E25:I25)=4,SUM(E25:I25)-SMALL(E25:I25,1),IF(COUNT(E25:I25)=5,SUM(E25:I25)-LARGE(E25:I25,1)-SMALL(E25:I25,1),""))))*C25) -> 323 | N25: =B25 -> 27 | O25: =INDEX(Liikkeet!D:D,MATCH(N25,Liikkeet!B:B,0)) -> 9.5 | Q25: 12 | R25: 12 | S25: 15 | W25: =IF(SUM(Q25:U25)=0,"",(IF(COUNT(Q25:U25)=3,SUM(Q25:U25),IF(COUNT(Q25:U25)=4,SUM(Q25:U25)-SMALL(Q25:U25,1),IF(COUNT(Q25:U25)=5,SUM(Q25:U25)-LARGE(Q25:U25,1)-SMALL(Q25:U25,1),""))))*O25) -> 370.5 | Y25: =B25 -> 27 | Z25: =INDEX(Liikkeet!D:D,MATCH(Y25,Liikkeet!B:B,0)) -> 9.5 | AB25: 12 | AC25: 14 | AD25: 13 | AH25: =IF(SUM(AB25:AF25)=0,"",(IF(COUNT(AB25:AF25)=3,SUM(AB25:AF25),IF(COUNT(AB25:AF25)=4,SUM(AB25:AF25)-SMALL(AB25:AF25,1),IF(COUNT(AB25:AF25)=5,SUM(AB25:AF25)-LARGE(AB25:AF25,1)-SMALL(AB25:AF25,1),""))))*Z25) -> 370.5
B26: 20 | C26: =INDEX(Liikkeet!D:D,MATCH(B26,Liikkeet!B:B,0)) -> 8 | E26: 12 | F26: 16 | G26: 14 | K26: =IF(SUM(E26:I26)=0,"",(IF(COUNT(E26:I26)=3,SUM(E26:I26),IF(COUNT(E26:I26)=4,SUM(E26:I26)-SMALL(E26:I26,1),IF(COUNT(E26:I26)=5,SUM(E26:I26)-LARGE(E26:I26,1)-SMALL(E26:I26,1),""))))*C26) -> 336 | N26: =B26 -> 20 | O26: =INDEX(Liikkeet!D:D,MATCH(N26,Liikkeet!B:B,0)) -> 8 | Q26: 14 | R26: 16 | S26: 14 | W26: =IF(SUM(Q26:U26)=0,"",(IF(COUNT(Q26:U26)=3,SUM(Q26:U26),IF(COUNT(Q26:U26)=4,SUM(Q26:U26)-SMALL(Q26:U26,1),IF(COUNT(Q26:U26)=5,SUM(Q26:U26)-LARGE(Q26:U26,1)-SMALL(Q26:U26,1),""))))*O26) -> 352 | Y26: =B26 -> 20 | Z26: =INDEX(Liikkeet!D:D,MATCH(Y26,Liikkeet!B:B,0)) -> 8 | AB26: 13 | AC26: 15 | AD26: 15 | AH26: =IF(SUM(AB26:AF26)=0,"",(IF(COUNT(AB26:AF26)=3,SUM(AB26:AF26),IF(COUNT(AB26:AF26)=4,SUM(AB26:AF26)-SMALL(AB26:AF26,1),IF(COUNT(AB26:AF26)=5,SUM(AB26:AF26)-LARGE(AB26:AF26,1)-SMALL(AB26:AF26,1),""))))*Z26) -> 344
B27: 29 | C27: =INDEX(Liikkeet!D:D,MATCH(B27,Liikkeet!B:B,0)) -> 10 | E27: 12 | F27: 15 | G27: 13 | K27: =IF(SUM(E27:I27)=0,"",(IF(COUNT(E27:I27)=3,SUM(E27:I27),IF(COUNT(E27:I27)=4,SUM(E27:I27)-SMALL(E27:I27,1),IF(COUNT(E27:I27)=5,SUM(E27:I27)-LARGE(E27:I27,1)-SMALL(E27:I27,1),""))))*C27) -> 400 | N27: =B27 -> 29 | O27: =INDEX(Liikkeet!D:D,MATCH(N27,Liikkeet!B:B,0)) -> 10 | Q27: 12 | R27: 14 | S27: 15 | W27: =IF(SUM(Q27:U27)=0,"",(IF(COUNT(Q27:U27)=3,SUM(Q27:U27),IF(COUNT(Q27:U27)=4,SUM(Q27:U27)-SMALL(Q27:U27,1),IF(COUNT(Q27:U27)=5,SUM(Q27:U27)-LARGE(Q27:U27,1)-SMALL(Q27:U27,1),""))))*O27) -> 410 | Y27: =B27 -> 29 | Z27: =INDEX(Liikkeet!D:D,MATCH(Y27,Liikkeet!B:B,0)) -> 10 | AB27: 15 | AC27: 14 | AD27: 13 | AH27: =IF(SUM(AB27:AF27)=0,"",(IF(COUNT(AB27:AF27)=3,SUM(AB27:AF27),IF(COUNT(AB27:AF27)=4,SUM(AB27:AF27)-SMALL(AB27:AF27,1),IF(COUNT(AB27:AF27)=5,SUM(AB27:AF27)-LARGE(AB27:AF27,1)-SMALL(AB27:AF27,1),""))))*Z27) -> 420
B28: 25 | C28: =INDEX(Liikkeet!D:D,MATCH(B28,Liikkeet!B:B,0)) -> 9 | E28: 11 | F28: 11 | G28: 12 | K28: =IF(SUM(E28:I28)=0,"",(IF(COUNT(E28:I28)=3,SUM(E28:I28),IF(COUNT(E28:I28)=4,SUM(E28:I28)-SMALL(E28:I28,1),IF(COUNT(E28:I28)=5,SUM(E28:I28)-LARGE(E28:I28,1)-SMALL(E28:I28,1),""))))*C28) -> 306 | N28: =B28 -> 25 | O28: =INDEX(Liikkeet!D:D,MATCH(N28,Liikkeet!B:B,0)) -> 9 | Q28: 13 | R28: 13 | S28: 13 | W28: =IF(SUM(Q28:U28)=0,"",(IF(COUNT(Q28:U28)=3,SUM(Q28:U28),IF(COUNT(Q28:U28)=4,SUM(Q28:U28)-SMALL(Q28:U28,1),IF(COUNT(Q28:U28)=5,SUM(Q28:U28)-LARGE(Q28:U28,1)-SMALL(Q28:U28,1),""))))*O28) -> 351 | Y28: =B28 -> 25 | Z28: =INDEX(Liikkeet!D:D,MATCH(Y28,Liikkeet!B:B,0)) -> 9 | AB28: 12 | AC28: 12 | AD28: 11 | AH28: =IF(SUM(AB28:AF28)=0,"",(IF(COUNT(AB28:AF28)=3,SUM(AB28:AF28),IF(COUNT(AB28:AF28)=4,SUM(AB28:AF28)-SMALL(AB28:AF28,1),IF(COUNT(AB28:AF28)=5,SUM(AB28:AF28)-LARGE(AB28:AF28,1)-SMALL(AB28:AF28,1),""))))*Z28) -> 315
