Workbook

Sheet Tulokset
G2: Suhteutetut
A3: Kilpailija | B3: Set Man 1 | C3: Set man 2 | D3: Freestyle 1 | E3: Freestyle 2 | G3: Set man 1 | H3: Set man 2 | I3: Freestyle 1 | J3: Freestyle 2
A4: Olli-Pekka | B4: ='1'!G$3 -> 2243.5 | C4: ='1'!G$4 -> 2668 | D4: ='1'!H$3 -> 47 | E4: ='1'!H$4 -> 53 | G4: =B4/LARGE(B$4:B$9,1)*1000 -> 1000 | H4: =C4/LARGE(C$4:C$9,1)*1000 -> 1000 | I4: =D4/LARGE(D$4:D$9,1)*1000 -> 1000 | J4: =E4/LARGE(E$4:E$9,1)*1000 -> 1000
A5: Maikko | B5: ='2'!G$3 -> 1947 | C5: ='2'!G$4 -> 1958.5 | D5: ='2'!H$3 -> 36 | E5: ='2'!H$4 -> 42 | G5: =B5/LARGE(B$4:B$9,1)*1000 -> 867.84043 | H5: =C5/LARGE(C$4:C$9,1)*1000 -> 734.07046 | I5: =D5/LARGE(D$4:D$9,1)*1000 -> 765.95745 | J5: =E5/LARGE(E$4:E$9,1)*1000 -> 792.45283
A6: Anssi | B6: ='3'!G$3 -> 1128.5 | C6: ='3'!G$4 -> 1121 | D6: ='3'!H$3 -> 20 | E6: ='3'!H$4 -> 0 | G6: =B6/LARGE(B$4:B$9,1)*1000 -> 503.00869 | H6: =C6/LARGE(C$4:C$9,1)*1000 -> 420.16492 | I6: =D6/LARGE(D$4:D$9,1)*1000 -> 425.53191 | J6: =E6/LARGE(E$4:E$9,1)*1000 -> 0
A7: Markus | B7: ='4'!G$3 -> 1935.5 | C7: ='4'!G$4 -> 1916 | D7: ='4'!H$3 -> 36 | E7: ='4'!H$4 -> 35 | G7: =B7/LARGE(B$4:B$9,1)*1000 -> 862.71451 | H7: =C7/LARGE(C$4:C$9,1)*1000 -> 718.14093 | I7: =D7/LARGE(D$4:D$9,1)*1000 -> 765.95745 | J7: =E7/LARGE(E$4:E$9,1)*1000 -> 660.37736
A8: Timo | B8: ='5'!G$3 -> 1278 | C8: ='5'!G$4 -> 1287.5 | D8: ='5'!H$3 -> 24 | E8: ='5'!H$4 -> 17 | G8: =B8/LARGE(B$4:B$9,1)*1000 -> 569.64564 | H8: =C8/LARGE(C$4:C$9,1)*1000 -> 482.57121 | I8: =D8/LARGE(D$4:D$9,1)*1000 -> 510.6383 | J8: =E8/LARGE(E$4:E$9,1)*1000 -> 320.75472
A9: Juho | B9: ='6'!G$3 -> 1366.5 | C9: ='6'!G$4 -> 1469.5 | D9: ='6'!H$3 -> 33 | E9: ='6'!H$4 -> 36 | G9: =B9/LARGE(B$4:B$9,1)*1000 -> 609.09294 | H9: =C9/LARGE(C$4:C$9,1)*1000 -> 550.78711 | I9: =D9/LARGE(D$4:D$9,1)*1000 -> 702.12766 | J9: =E9/LARGE(E$4:E$9,1)*1000 -> 679.24528
A14: Parempi tulos | B14: Set man | C14: Freestyle | D14: Yhteensä | G14: Lopputulokset
A15: =A4 -> Olli-Pekka | B15: =LARGE(G4:H4,1) -> 1000 | C15: =LARGE(I4:J4,1) -> 1000 | D15: =SUM(B15:C15) -> 2000 | G15: Olli-Pekka | H15: 2000
A16: =A5 -> Maikko | B16: =LARGE(G5:H5,1) -> 867.84043 | C16: =LARGE(I5:J5,1) -> 792.45283 | D16: =SUM(B16:C16) -> 1660.2933 | G16: Maikko | H16: 1660.2933
A17: =A6 -> Anssi | B17: =LARGE(G6:H6,1) -> 503.00869 | C17: =LARGE(I6:J6,1) -> 425.53191 | D17: =SUM(B17:C17) -> 928.54061 | G17: Markus | H17: 1628.672
A18: =A7 -> Markus | B18: =LARGE(G7:H7,1) -> 862.71451 | C18: =LARGE(I7:J7,1) -> 765.95745 | D18: =SUM(B18:C18) -> 1628.672 | G18: Juho | H18: 1311.2206
A19: =A8 -> Timo | B19: =LARGE(G8:H8,1) -> 569.64564 | C19: =LARGE(I8:J8,1) -> 510.6383 | D19: =SUM(B19:C19) -> 1080.2839 | G19: Timo | H19: 1080.2839
A20: =A9 -> Juho | B20: =LARGE(G9:H9,1) -> 609.09294 | C20: =LARGE(I9:J9,1) -> 702.12766 | D20: =SUM(B20:C20) -> 1311.2206 | G20: Anssi | H20: 928.54061

Sheet 1
A2: Nimi | B2: =Tulokset!A4 -> Olli-Pekka | G2: Set Man | H2: Freestyle
F3: Kierros 1 | G3: =G20 -> 2243.5 | H3: =J14 -> 47
F4: Kierros 2 | G4: =G35 -> 2668 | H4: =J29 -> 53
B9: Kierros 1
A10: nro. | B10: Liike | C10: K Factror | D10: Tuomari 1 | E10: Tuomari 2 | F10: Tuomari 3 | G10: yhteensä | I10: Freestyle tm 1 | J10: 16
A11: 1 | B11: 33. Double 4-point Tic-toc (Metronome) | C11: 9 | D11: 11 | E11: 16 | F11: 14 | G11: =SUM(D11:F11)*C11 -> 369 | I11: Freestyle tm 2 | J11: 15
A12: 2 | B12: 39. Pirouetting tic-toc (Metronome) | C12: 10 | D12: 13 | E12: 14 | F12: 13 | G12: =SUM(D12:F12)*C12 -> 400 | I12: Freestyle tm 3 | J12: 16
A13: 3 | B13: 36. Pirouetting funnel | C13: 9.5 | D13: 12 | E13: 16 | F13: 12 | G13: =SUM(D13:F13)*C13 -> 380
A14: 4 | B14: 30. Cuban eight backwards | C14: 8.5 | D14: 0 | E14: 0 | F14: 0 | G14: =SUM(D14:F14)*C14 -> 0 | I14: Yhteensä: | J14: =SUM(J10:J12) -> 47
A15: 5 | B15: 28. Triple pirouetting flip | C15: 8 | D15: 12 | E15: 13 | F15: 15 | G15: =SUM(D15:F15)*C15 -> 320
A16: 6 | B16: 25. Funnel | C16: 7.5 | D16: 12 | E16: 11 | F16: 15 | G16: =SUM(D16:F16)*C16 -> 285
A17: 7 | B17: 20. Backward 4-point roll | C17: 6.5 | D17: 8 | E17: 10 | F17: 10 | G17: =SUM(D17:F17)*C17 -> 182
A18: 8 | B18: 23. Rolling circle | C18: 7.5 | D18: 14 | E18: 12 | F18: 15 | G18: =SUM(D18:F18)*C18 -> 307.5
E20: yhteensä | G20: =SUM(G11:G18) -> 2243.5
B24: Kierros 2
A25: nro. | B25: Liike | C25: K Factror | D25: Tuomari 1 | E25: Tuomari 2 | F25: Tuomari 3 | G25: yhteensä | I25: Freestyle tm 1 | J25: 18
A26: 1 | B26: 33. Double 4-point Tic-toc (Metronome) | C26: 9 | D26: 12 | E26: 14 | F26: 14 | G26: =SUM(D26:F26)*C26 -> 360 | I26: Freestyle tm 2 | J26: 17
A27: 2 | B27: 39. Pirouetting tic-toc (Metronome) | C27: 10 | D27: 13 | E27: 12 | F27: 15 | G27: =SUM(D27:F27)*C27 -> 400 | I27: Freestyle tm 3 | J27: 18
A28: 3 | B28: 36. Pirouetting funnel | C28: 9.5 | D28: 12 | E28: 13 | F28: 11 | G28: =SUM(D28:F28)*C28 -> 342
A29: 4 | B29: 30. Cuban eight backwards | C29: 8.5 | D29: 12 | E29: 10 | F29: 12 | G29: =SUM(D29:F29)*C29 -> 289 | I29: Yhteensä: | J29: =SUM(J25:J27) -> 53
A30: 5 | B30: 28. Triple pirouetting flip | C30: 8 | D30: 16 | E30: 16 | F30: 16 | G30: =SUM(D30:F30)*C30 -> 384
A31: 6 | B31: 25. Funnel | C31: 7.5 | D31: 12 | E31: 15 | F31: 15 | G31: =SUM(D31:F31)*C31 -> 315
A32: 7 | B32: 20. Backward 4-point roll | C32: 6.5 | D32: 12 | E32: 13 | F32: 12 | G32: =SUM(D32:F32)*C32 -> 240.5
A33: 8 | B33: 23. Rolling circle | C33: 7.5 | D33: 16 | E33: 13 | F33: 16 | G33: =SUM(D33:F33)*C33 -> 337.5
E35: yhteensä | G35: =SUM(G26:G33) -> 2668

Sheet 2
A2: Nimi | B2: =Tulokset!A5 -> Maikko | G2: Set Man | H2: Freestyle
F3: Kierros 1 | G3: =G20 -> 1947 | H3: =J14 -> 36
F4: Kierros 2 | G4: =G35 -> 1958.5 | H4: =J29 -> 42
B9: Kierros 1
A10: nro. | B10: Liike | C10: K Factror | D10: Tuomari 1 | E10: Tuomari 2 | F10: Tuomari 3 | G10: yhteensä | I10: Freestyle tm 1 | J10: 12
A11: 1 | B11: 19. 360°turn with roll | C11: 6.5 | D11: 18 | E11: 15 | F11: 9 | G11: =SUM(D11:F11)*C11 -> 273 | I11: Freestyle tm 2 | J11: 12
A12: 2 | B12: 20. Backward 4-point roll | C12: 6.5 | D12: 15 | E12: 16 | F12: 14 | G12: =SUM(D12:F12)*C12 -> 292.5 | I12: Freestyle tm 3 | J12: 12
A13: 3 | B13: 22. Inverted backwards horizontal eight | C13: 7 | D13: 11 | E13: 12 | F13: 10 | G13: =SUM(D13:F13)*C13 -> 231
A14: 4 | B14: 24. Four rainbows with half rolls | C14: 7.5 | D14: 8 | E14: 10 | F14: 8 | G14: =SUM(D14:F14)*C14 -> 195 | I14: Yhteensä: | J14: =SUM(J10:J12) -> 36
A15: 5 | B15: 25. Funnel | C15: 7.5 | D15: 10 | E15: 13 | F15: 8 | G15: =SUM(D15:F15)*C15 -> 232.5
A16: 6 | B16: 30. Cuban eight backwards | C16: 8.5 | D16: 5 | E16: 8 | F16: 8 | G16: =SUM(D16:F16)*C16 -> 178.5
A17: 7 | B17: 26. Snake | C17: 8 | D17: 12 | E17: 15 | F17: 11 | G17: =SUM(D17:F17)*C17 -> 304
A18: 8 | B18: 21. Inverted autorotation | C18: 6.5 | D18: 11 | E18: 14 | F18: 12 | G18: =SUM(D18:F18)*C18 -> 240.5
E20: yhteensä | G20: =SUM(G11:G18) -> 1947
B24: Kierros 2
A25: nro. | B25: Liike | C25: K Factror | D25: Tuomari 1 | E25: Tuomari 2 | F25: Tuomari 3 | G25: yhteensä | I25: Freestyle tm 1 | J25: 14
A26: 1 | B26: =B11 -> 19. 360°turn with roll | C26: =C11 -> 6.5 | D26: 16 | E26: 14 | F26: 8 | G26: =SUM(D26:F26)*C26 -> 247 | I26: Freestyle tm 2 | J26: 14
A27: 2 | B27: =B12 -> 20. Backward 4-point roll | C27: =C12 -> 6.5 | D27: 13 | E27: 15 | F27: 13 | G27: =SUM(D27:F27)*C27 -> 266.5 | I27: Freestyle tm 3 | J27: 14
A28: 3 | B28: =B13 -> 22. Inverted backwards horizontal eight | C28: =C13 -> 7 | D28: 8 | E28: 8 | F28: 11 | G28: =SUM(D28:F28)*C28 -> 189
A29: 4 | B29: =B14 -> 24. Four rainbows with half rolls | C29: =C14 -> 7.5 | D29: 9 | E29: 10 | F29: 8 | G29: =SUM(D29:F29)*C29 -> 202.5 | I29: Yhteensä: | J29: =SUM(J25:J27) -> 42
A30: 5 | B30: =B15 -> 25. Funnel | C30: =C15 -> 7.5 | D30: 12 | E30: 12 | F30: 11 | G30: =SUM(D30:F30)*C30 -> 262.5
A31: 6 | B31: =B16 -> 30. Cuban eight backwards | C31: =C16 -> 8.5 | D31: 11 | E31: 10 | F31: 8 | G31: =SUM(D31:F31)*C31 -> 246.5
A32: 7 | B32: =B17 -> 26. Snake | C32: =C17 -> 8 | D32: 14 | E32: 14 | F32: 10 | G32: =SUM(D32:F32)*C32 -> 304
A33: 8 | B33: =B18 -> 21. Inverted autorotation | C33: =C18 -> 6.5 | D33: 14 | E33: 13 | F33: 10 | G33: =SUM(D33:F33)*C33 -> 240.5
E35: yhteensä | G35: =SUM(G26:G33) -> 1958.5

Sheet 3
A2: Nimi | B2: =Tulokset!A6 -> Anssi | G2: Set Man | H2: Freestyle
F3: Kierros 1 | G3: =G20 -> 1128.5 | H3: =J14 -> 20
F4: Kierros 2 | G4: =G35 -> 1121 | H4: =J29 -> 0
B9: Kierros 1
A10: nro. | B10: Liike | C10: K Factror | D10: Tuomari 1 | E10: Tuomari 2 | F10: Tuomari 3 | G10: yhteensä | I10: Freestyle tm 1 | J10: 6
A11: 1 | B11: 9. 4-point roll | C11: 4.5 | D11: 4 | E11: 8 | F11: 7 | G11: =SUM(D11:F11)*C11 -> 85.5 | I11: Freestyle tm 2 | J11: 7
A12: 2 | B12: 18. Backward loop | C12: 6.5 | D12: 14 | E12: 15 | F12: 12 | G12: =SUM(D12:F12)*C12 -> 266.5 | I12: Freestyle tm 3 | J12: 7
A13: 3 | B13: 8. Double roll backwards | C13: 4.5 | D13: 12 | E13: 13 | F13: 10 | G13: =SUM(D13:F13)*C13 -> 157.5
A14: 4 | B14: 15. Loop sidewards | C14: 5.5 | D14: 7 | E14: 12 | F14: 9 | G14: =SUM(D14:F14)*C14 -> 154 | I14: Yhteensä: | J14: =SUM(J10:J12) -> 20
A15: 5 | B15: 6. Double Immelmann | C15: 4 | D15: 6 | E15: 8 | F15: 11 | G15: =SUM(D15:F15)*C15 -> 100
A16: 6 | B16: 19. 360°turn with roll | C16: 6.5 | D16: 14 | E16: 13 | F16: 13 | G16: =SUM(D16:F16)*C16 -> 260
A17: 7 | B17: 11. Outside loop with half rolls | C17: 5 | D17: 2 | E17: 2 | F17: 4 | G17: =SUM(D17:F17)*C17 -> 40
A18: 8 | B18: 21. Inverted autorotation | C18: 6.5 | D18: 5 | E18: 4 | F18: 1 | G18: =SUM(D18:F18)*C18 -> 65
E20: yhteensä | G20: =SUM(G11:G18) -> 1128.5
B24: Kierros 2
A25: nro. | B25: Liike | C25: K Factror | D25: Tuomari 1 | E25: Tuomari 2 | F25: Tuomari 3 | G25: yhteensä | I25: Freestyle tm 1 | J25: 0
A26: 1 | B26: =B11 -> 9. 4-point roll | C26: =C11 -> 4.5 | D26: 13 | E26: 11 | F26: 7 | G26: =SUM(D26:F26)*C26 -> 139.5 | I26: Freestyle tm 2 | J26: 0
A27: 2 | B27: =B12 -> 18. Backward loop | C27: =C12 -> 6.5 | D27: 12 | E27: 14 | F27: 12 | G27: =SUM(D27:F27)*C27 -> 247 | I27: Freestyle tm 3 | J27: 0
A28: 3 | B28: =B13 -> 8. Double roll backwards | C28: =C13 -> 4.5 | D28: 14 | E28: 17 | F28: 12 | G28: =SUM(D28:F28)*C28 -> 193.5
A29: 4 | B29: =B14 -> 15. Loop sidewards | C29: =C14 -> 5.5 | D29: 7 | E29: 13 | F29: 6 | G29: =SUM(D29:F29)*C29 -> 143 | I29: Yhteensä: | J29: =SUM(J25:J27) -> 0
A30: 5 | B30: =B15 -> 6. Double Immelmann | C30: =C15 -> 4 | D30: 6 | E30: 13 | F30: 10 | G30: =SUM(D30:F30)*C30 -> 116
A31: 6 | B31: =B16 -> 19. 360°turn with roll | C31: =C16 -> 6.5 | D31: 10 | E31: 13 | F31: 15 | G31: =SUM(D31:F31)*C31 -> 247
A32: 7 | B32: =B17 -> 11. Outside loop with half rolls | C32: =C17 -> 5 | D32: 2 | E32: 2 | F32: 3 | G32: =SUM(D32:F32)*C32 -> 35
A33: 8 | B33: =B18 -> 21. Inverted autorotation | C33: =C18 -> 6.5 | D33: 0 | E33: 0 | F33: 0 | G33: =SUM(D33:F33)*C33 -> 0
E35: yhteensä | G35: =SUM(G26:G33) -> 1121

Sheet 4
A2: Nimi | B2: =Tulokset!A7 -> Markus | G2: Set Man | H2: Freestyle
F3: Kierros 1 | G3: =G20 -> 1935.5 | H3: =J14 -> 36
F4: Kierros 2 | G4: =G35 -> 1916 | H4: =J29 -> 35
B9: Kierros 1
A10: nro. | B10: Liike | C10: K Factror | D10: Tuomari 1 | E10: Tuomari 2 | F10: Tuomari 3 | G10: yhteensä | I10: Freestyle tm 1 | J10: 11
A11: 1 | B11: 19. 360°turn with roll | C11: 6.5 | D11: 15 | E11: 12 | F11: 12 | G11: =SUM(D11:F11)*C11 -> 253.5 | I11: Freestyle tm 2 | J11: 15
A12: 2 | B12: 22. Inverted backwards horizontal eight | C12: 7 | D12: 13 | E12: 14 | F12: 11 | G12: =SUM(D12:F12)*C12 -> 266 | I12: Freestyle tm 3 | J12: 10
A13: 3 | B13: 25. Funnel | C13: 7.5 | D13: 14 | E13: 15 | F13: 14 | G13: =SUM(D13:F13)*C13 -> 322.5
A14: 4 | B14: 27. Inverted pirouetting circle | C14: 8 | D14: 14 | E14: 16 | F14: 11 | G14: =SUM(D14:F14)*C14 -> 328 | I14: Yhteensä: | J14: =SUM(J10:J12) -> 36
A15: 5 | B15: 28. Triple pirouetting flip | C15: 8 | D15: 10 | E15: 12 | F15: 12 | G15: =SUM(D15:F15)*C15 -> 272
A16: 6 | B16: 30. Cuban eight backwards | C16: 8.5 | D16: 0 | E16: 0 | F16: 0 | G16: =SUM(D16:F16)*C16 -> 0
A17: 7 | B17: 31. Backward rolling circle | C17: 8.5 | D17: 8 | E17: 8 | F17: 5 | G17: =SUM(D17:F17)*C17 -> 178.5
A18: 8 | B18: 33. Double 4-point Tic-toc (Metronome) | C18: 9 | D18: 12 | E18: 12 | F18: 11 | G18: =SUM(D18:F18)*C18 -> 315
E20: yhteensä | G20: =SUM(G11:G18) -> 1935.5
B24: Kierros 2
A25: nro. | B25: Liike | C25: K Factror | D25: Tuomari 1 | E25: Tuomari 2 | F25: Tuomari 3 | G25: yhteensä | I25: Freestyle tm 1 | J25: 13
A26: 1 | B26: =B11 -> 19. 360°turn with roll | C26: =C11 -> 6.5 | D26: 12 | E26: 13 | F26: 13 | G26: =SUM(D26:F26)*C26 -> 247 | I26: Freestyle tm 2 | J26: 10
A27: 2 | B27: =B12 -> 22. Inverted backwards horizontal eight | C27: =C12 -> 7 | D27: 8 | E27: 8 | F27: 9 | G27: =SUM(D27:F27)*C27 -> 175 | I27: Freestyle tm 3 | J27: 12
A28: 3 | B28: =B13 -> 25. Funnel | C28: =C13 -> 7.5 | D28: 11 | E28: 11 | F28: 8 | G28: =SUM(D28:F28)*C28 -> 225
A29: 4 | B29: =B14 -> 27. Inverted pirouetting circle | C29: =C14 -> 8 | D29: 14 | E29: 12 | F29: 11 | G29: =SUM(D29:F29)*C29 -> 296 | I29: Yhteensä: | J29: =SUM(J25:J27) -> 35
A30: 5 | B30: =B15 -> 28. Triple pirouetting flip | C30: =C15 -> 8 | D30: 12 | E30: 12 | F30: 13 | G30: =SUM(D30:F30)*C30 -> 296
A31: 6 | B31: =B16 -> 30. Cuban eight backwards | C31: =C16 -> 8.5 | D31: 7 | E31: 10 | F31: 9 | G31: =SUM(D31:F31)*C31 -> 221
A32: 7 | B32: =B17 -> 31. Backward rolling circle | C32: =C17 -> 8.5 | D32: 10 | E32: 7 | F32: 7 | G32: =SUM(D32:F32)*C32 -> 204
A33: 8 | B33: =B18 -> 33. Double 4-point Tic-toc (Metronome) | C33: =C18 -> 9 | D33: 8 | E33: 10 | F33: 10 | G33: =SUM(D33:F33)*C33 -> 252
E35: yhteensä | G35: =SUM(G26:G33) -> 1916

Sheet 5
A2: Nimi | B2: =Tulokset!A8 -> Timo | G2: Set Man | H2: Freestyle
F3: Kierros 1 | G3: =G20 -> 1278 | H3: =J14 -> 24
F4: Kierros 2 | G4: =G35 -> 1287.5 | H4: =J29 -> 17
B9: Kierros 1
A10: nro. | B10: Liike | C10: K Factror | D10: Tuomari 1 | E10: Tuomari 2 | F10: Tuomari 3 | G10: yhteensä | I10: Freestyle tm 1 | J10: 7
A11: 1 | B11: 6. Double Immelmann | C11: 4 | D11: 10 | E11: 10 | F11: 8 | G11: =SUM(D11:F11)*C11 -> 112 | I11: Freestyle tm 2 | J11: 8
A12: 2 | B12: 8. Double roll backwards | C12: 4.5 | D12: 10 | E12: 10 | F12: 7 | G12: =SUM(D12:F12)*C12 -> 121.5 | I12: Freestyle tm 3 | J12: 9
A13: 3 | B13: 19. 360°turn with roll | C13: 6.5 | D13: 9 | E13: 14 | F13: 11 | G13: =SUM(D13:F13)*C13 -> 221
A14: 4 | B14: 11. Outside loop with half rolls | C14: 5 | D14: 5 | E14: 8 | F14: 6 | G14: =SUM(D14:F14)*C14 -> 95 | I14: Yhteensä: | J14: =SUM(J10:J12) -> 24
A15: 5 | B15: 10. Backward horizontal eight | C15: 5 | D15: 10 | E15: 14 | F15: 9 | G15: =SUM(D15:F15)*C15 -> 165
A16: 6 | B16: 15. Loop sidewards | C16: 5.5 | D16: 14 | E16: 13 | F16: 12 | G16: =SUM(D16:F16)*C16 -> 214.5
A17: 7 | B17: 9. 4-point roll | C17: 4.5 | D17: 12 | E17: 14 | F17: 14 | G17: =SUM(D17:F17)*C17 -> 180
A18: 8 | B18: 18. Backward loop | C18: 6.5 | D18: 8 | E18: 8 | F18: 10 | G18: =SUM(D18:F18)*C18 -> 169
E20: yhteensä | G20: =SUM(G11:G18) -> 1278
B24: Kierros 2
A25: nro. | B25: Liike | C25: K Factror | D25: Tuomari 1 | E25: Tuomari 2 | F25: Tuomari 3 | G25: yhteensä | I25: Freestyle tm 1 | J25: 5
A26: 1 | B26: =B11 -> 6. Double Immelmann | C26: =C11 -> 4 | D26: 7 | E26: 12 | F26: 7 | G26: =SUM(D26:F26)*C26 -> 104 | I26: Freestyle tm 2 | J26: 5
A27: 2 | B27: =B12 -> 8. Double roll backwards | C27: =C12 -> 4.5 | D27: 11 | E27: 8 | F27: 6 | G27: =SUM(D27:F27)*C27 -> 112.5 | I27: Freestyle tm 3 | J27: 7
A28: 3 | B28: =B13 -> 19. 360°turn with roll | C28: =C13 -> 6.5 | D28: 12 | E28: 14 | F28: 9 | G28: =SUM(D28:F28)*C28 -> 227.5
A29: 4 | B29: =B14 -> 11. Outside loop with half rolls | C29: =C14 -> 5 | D29: 10 | E29: 11 | F29: 7 | G29: =SUM(D29:F29)*C29 -> 140 | I29: Yhteensä: | J29: =SUM(J25:J27) -> 17
A30: 5 | B30: =B15 -> 10. Backward horizontal eight | C30: =C15 -> 5 | D30: 11 | E30: 14 | F30: 12 | G30: =SUM(D30:F30)*C30 -> 185
A31: 6 | B31: =B16 -> 15. Loop sidewards | C31: =C16 -> 5.5 | D31: 12 | E31: 11 | F31: 10 | G31: =SUM(D31:F31)*C31 -> 181.5
A32: 7 | B32: =B17 -> 9. 4-point roll | C32: =C17 -> 4.5 | D32: 14 | E32: 11 | F32: 8 | G32: =SUM(D32:F32)*C32 -> 148.5
A33: 8 | B33: =B18 -> 18. Backward loop | C33: =C18 -> 6.5 | D33: 8 | E33: 9 | F33: 12 | G33: =SUM(D33:F33)*C33 -> 188.5
E35: yhteensä | G35: =SUM(G26:G33) -> 1287.5

Sheet 6
A2: Nimi | B2: =Tulokset!A9 -> Juho | G2: Set Man | H2: Freestyle
F3: Kierros 1 | G3: =G20 -> 1366.5 | H3: =J14 -> 33
F4: Kierros 2 | G4: =G35 -> 1469.5 | H4: =J29 -> 36
B9: Kierros 1
A10: nro. | B10: Liike | C10: K Factror | D10: Tuomari 1 | E10: Tuomari 2 | F10: Tuomari 3 | G10: yhteensä | I10: Freestyle tm 1 | J10: 12
A11: 1 | B11: 9. 4-point roll | C11: 4.5 | D11: 12 | E11: 10 | F11: 10 | G11: =SUM(D11:F11)*C11 -> 144 | I11: Freestyle tm 2 | J11: 10
A12: 2 | B12: 10. Backward horizontal eight | C12: 5 | D12: 10 | E12: 10 | F12: 11 | G12: =SUM(D12:F12)*C12 -> 155 | I12: Freestyle tm 3 | J12: 11
A13: 3 | B13: 16. Tic-toc (Metronome) | C13: 6 | D13: 12 | E13: 13 | F13: 8 | G13: =SUM(D13:F13)*C13 -> 198
A14: 4 | B14: 17. 0°turn with half roll | C14: 6 | D14: 14 | E14: 14 | F14: 12 | G14: =SUM(D14:F14)*C14 -> 240 | I14: Yhteensä: | J14: =SUM(J10:J12) -> 33
A15: 5 | B15: 19. 360°turn with roll | C15: 6.5 | D15: 10 | E15: 8 | F15: 12 | G15: =SUM(D15:F15)*C15 -> 195
A16: 6 | B16: 20. Backward 4-point roll | C16: 6.5 | D16: 10 | E16: 10 | F16: 9 | G16: =SUM(D16:F16)*C16 -> 188.5
A17: 7 | B17: 24. Four rainbows with half rolls | C17: 7.5 | D17: 8 | E17: 8 | F17: 9 | G17: =SUM(D17:F17)*C17 -> 187.5
A18: 8 | B18: 21. Inverted autorotation | C18: 6.5 | D18: 2 | E18: 4 | F18: 3 | G18: =SUM(D18:F18)*C18 -> 58.5
E20: yhteensä | G20: =SUM(G11:G18) -> 1366.5
B24: Kierros 2
A25: nro. | B25: Liike | C25: K Factror | D25: Tuomari 1 | E25: Tuomari 2 | F25: Tuomari 3 | G25: yhteensä | I25: Freestyle tm 1 | J25: 13
A26: 1 | B26: =B11 -> 9. 4-point roll | C26: =C11 -> 4.5 | D26: 11 | E26: 11 | F26: 12 | G26: =SUM(D26:F26)*C26 -> 153 | I26: Freestyle tm 2 | J26: 11
A27: 2 | B27: =B12 -> 10. Backward horizontal eight | C27: =C12 -> 5 | D27: 5 | E27: 6 | F27: 9 | G27: =SUM(D27:F27)*C27 -> 100 | I27: Freestyle tm 3 | J27: 12
A28: 3 | B28: =B13 -> 16. Tic-toc (Metronome) | C28: =C13 -> 6 | D28: 10 | E28: 12 | F28: 12 | G28: =SUM(D28:F28)*C28 -> 204
A29: 4 | B29: =B14 -> 17. 0°turn with half roll | C29: =C14 -> 6 | D29: 15 | E29: 15 | F29: 14 | G29: =SUM(D29:F29)*C29 -> 264 | I29: Yhteensä: | J29: =SUM(J25:J27) -> 36
A30: 5 | B30: =B15 -> 19. 360°turn with roll | C30: =C15 -> 6.5 | D30: 13 | E30: 12 | F30: 12 | G30: =SUM(D30:F30)*C30 -> 240.5
A31: 6 | B31: =B16 -> 20. Backward 4-point roll | C31: =C16 -> 6.5 | D31: 13 | E31: 13 | F31: 16 | G31: =SUM(D31:F31)*C31 -> 273
A32: 7 | B32: =B17 -> 24. Four rainbows with half rolls | C32: =C17 -> 7.5 | D32: 8 | E32: 8 | F32: 11 | G32: =SUM(D32:F32)*C32 -> 202.5
A33: 8 | B33: =B18 -> 21. Inverted autorotation | C33: =C18 -> 6.5 | D33: 1 | E33: 1 | F33: 3 | G33: =SUM(D33:F33)*C33 -> 32.5
E35: yhteensä | G35: =SUM(G26:G33) -> 1469.5
