Workbook

Sheet Kilpailu
A4: Paikka: | B4: Vesivehmaa
A5: Päivä: | B5: 40397
A6: Ohjelma: | B6: F3C-P
A8: Kilpailijat: | D8: Lentojärjestys
B9: Nimi | D9: kierros 1: | F9: kierros 2: | H9: kierros 3:
A10: 1. | B10: Tero
A11: 2. | B11: Ari
A12: 3. | B12: Jukka
A13: 4. | B13: Sami
A14: 5. | B14: Timo
A15: 6. | B15: Markus
A16: 7. | B16: Anssi
A17: 8. | B17: Olli-Pekka
A18: 9. | B18: Juho
A19: 10.
A20: 11.
A21: 12.
A22: 13.
A23: 14.
A24: 15.
A28: Ohjelma: | B28: FAI-P
B29: Liike: | C29: kerroin:
A30: 1. | B30: M with 2 half pirouettes on all side | C30: 1
A31: 2. | B31: Semicircle with pirouette | C31: 1
A32: 3. | B32: Diamond 3 | C32: 1
A33: 4. | B33: Cuban eight | C33: 1
A34: 5. | B34: Pullpack with backward full roll | C34: 1
A35: 6. | B35: Cobra Roll with pushed flip | C35: 1
A36: 7. | B36: Vertical candle | C36: 1
A37: 8. | B37: Opposite 2 point rolls | C37: 1
A38: 9. | B38: Inside loop with pirouette on top | C38: 1
A39: 10. | B39: Autorotation with two 90º turns | C39: 1
A40: 11. | C40: 1
A43: Ohjelma: | B43: Eurosport
B44: Liike: | C44: kerroin:
A45: 1. | B45: M kahdella 180 piruetilla | C45: 1
A46: 2. | B46: Salmiakki 360 piruetilla | C46: 1
A47: 3. | B47: Cuubalainen kahdeksikko | C47: 1
A48: 4. | B48: Pullback | C48: 1
A49: 5. | B49: Cobraroll puolikierteillä | C49: 1
A50: 6. | B50: Pushover | C50: 1
A51: 7. | B51: Tuplakierteet | C51: 1
A52: 8. | B52: Tuplasilmukat | C52: 1
A53: 9. | B53: Autorotaatio | C53: 1
A54: 10. | C54: 1
A55: 11. | C55: 1
A58: Ohjelma: | B58: Popular
B59: Liike: | C59: kerroin:
A60: 1. | B60: Leijunta-M | C60: 1
A61: 2. | B61: Leijunta TopHat | C61: 1
A62: 3. | B62: Cobra | C62: 1
A63: 4. | B63: Suora ohilento | C63: 1
A64: 5. | B64: Nouseva 180 asteen käännös | C64: 1
A65: 6. | B65: 45 asteen moottorilasku | C65: 1
A66: 7. | C66: 1
A67: 8. | C67: 1
A68: 9. | C68: 1
A69: 10. | C69: 1
A70: 11. | C70: 1
A79: F3C-P
A80: Eurosport
A81: Popular

Sheet Tulokset
A4: Paikka: | B4: =Kilpailu!B4 -> Vesivehmaa | C4: Päivä: | D4: =Kilpailu!B5 -> 40397 | E4: Luokka: | F4: =Kilpailu!B6 -> F3C-P
B6: Kokonaistulokset | J6: suht. | M6: Kokonaistulokset | U6: suht.
C7: Pisteet | D7: Suht… | E7: Tm 1 | F7: Tm 2 | G7: Tm 3 | H7: Tm 4 | I7: Tm 5 | J7: Ero kärkeen | N7: Pisteet | O7: Suht… | P7: Tm 1 | Q7: Tm 2 | R7: Tm 3 | S7: Tm 4 | T7: Tm 5 | U7: Ero kärkeen
A8: 1. | B8: =Kilpailu!B$10 -> Tero | C8: =SUM(C28,C48,C68)-'1'!D10 -> 263 | D8: =SUM(D28,D48,D68)-'1'!E10 -> 1035.2042 | E8: =SUM(E28,E48,E68) -> 146.5 | F8: =SUM(F28,F48,F68) -> 115.5 | G8: =SUM(G28,G48,G68) -> 124 | H8: =SUM(H28,H48,H68) -> 114.5 | I8: =SUM(I28,I48,I68) -> 130 | J8: =LARGE(D$8:D$22,1)-D8 -> 964.79575 | L8: 1. | M8: Ari | N8: 514 | O8: 2000
A9: 2. | B9: =Kilpailu!B$11 -> Ari | C9: =SUM(C29,C49,C69)-'2'!D10 -> 514 | D9: =SUM(D29,D49,D69)-'2'!E10 -> 2000 | E9: =SUM(E29,E49,E69) -> 267 | F9: =SUM(F29,F49,F69) -> 252.5 | G9: =SUM(G29,G49,G69) -> 250.5 | H9: =SUM(H29,H49,H69) -> 253.5 | I9: =SUM(I29,I49,I69) -> 253 | J9: =LARGE(D$8:D$22,1)-D9 -> 0 | L9: 2. | M9: Juho | N9: 477.5 | O9: 1857.9768
A10: 3. | B10: =Kilpailu!B$12 -> Jukka | C10: =SUM(C30,C50,C70)-'3'!D10 -> 328 | D10: =SUM(D30,D50,D70)-'3'!E10 -> 1289.1603 | E10: =SUM(E30,E50,E70) -> 173.5 | F10: =SUM(F30,F50,F70) -> 151 | G10: =SUM(G30,G50,G70) -> 143.5 | H10: =SUM(H30,H50,H70) -> 160 | I10: =SUM(I30,I50,I70) -> 159 | J10: =LARGE(D$8:D$22,1)-D10 -> 710.83968 | L10: 3. | M10: Anssi | N10: 472 | O10: 1836.9166
A11: 4. | B11: =Kilpailu!B$13 -> Sami | C11: =SUM(C31,C51,C71)-'4'!D10 -> 274 | D11: =SUM(D31,D51,D71)-'4'!E10 -> 1078.2373 | E11: =SUM(E31,E51,E71) -> 163.5 | F11: =SUM(F31,F51,F71) -> 140 | G11: =SUM(G31,G51,G71) -> 118 | H11: =SUM(H31,H51,H71) -> 126.5 | I11: =SUM(I31,I51,I71) -> 119 | J11: =LARGE(D$8:D$22,1)-D11 -> 921.76273 | L11: 4. | M11: Timo | N11: 418.5 | O11: 1628.5742
A12: 5. | B12: =Kilpailu!B$14 -> Timo | C12: =SUM(C32,C52,C72)-'5'!D10 -> 418.5 | D12: =SUM(D32,D52,D72)-'5'!E10 -> 1628.5742 | E12: =SUM(E32,E52,E72) -> 233 | F12: =SUM(F32,F52,F72) -> 205 | G12: =SUM(G32,G52,G72) -> 191.5 | H12: =SUM(H32,H52,H72) -> 208 | I12: =SUM(I32,I52,I72) -> 188 | J12: =LARGE(D$8:D$22,1)-D12 -> 371.42576 | L12: 5. | M12: Olli-Pekka | N12: 339 | O12: 1325.1569
A13: 6. | B13: =Kilpailu!B$15 -> Markus | C13: =SUM(C33,C53,C73)-'6'!D10 -> 296.5 | D13: =SUM(D33,D53,D73)-'6'!E10 -> 1168.3398 | E13: =SUM(E33,E53,E73) -> 185 | F13: =SUM(F33,F53,F73) -> 158 | G13: =SUM(G33,G53,G73) -> 118 | H13: =SUM(H33,H53,H73) -> 140.5 | I13: =SUM(I33,I53,I73) -> 131 | J13: =LARGE(D$8:D$22,1)-D13 -> 831.66017 | L13: 6. | M13: Jukka | N13: 328 | O13: 1289.1603
A14: 7. | B14: =Kilpailu!B$16 -> Anssi | C14: =SUM(C34,C54,C74)-'7'!D10 -> 472 | D14: =SUM(D34,D54,D74)-'7'!E10 -> 1836.9166 | E14: =SUM(E34,E54,E74) -> 236 | F14: =SUM(F34,F54,F74) -> 230.5 | G14: =SUM(G34,G54,G74) -> 220 | H14: =SUM(H34,H54,H74) -> 234.5 | I14: =SUM(I34,I54,I74) -> 238 | J14: =LARGE(D$8:D$22,1)-D14 -> 163.08343 | L14: 7. | M14: Markus | N14: 296.5 | O14: 1168.3398
A15: 8. | B15: =Kilpailu!B$17 -> Olli-Pekka | C15: =SUM(C35,C55,C75)-'8'!D10 -> 339 | D15: =SUM(D35,D55,D75)-'8'!E10 -> 1325.1569 | E15: =SUM(E35,E55,E75) -> 184.5 | F15: =SUM(F35,F55,F75) -> 185 | G15: =SUM(G35,G55,G75) -> 152.5 | H15: =SUM(H35,H55,H75) -> 161.5 | I15: =SUM(I35,I55,I75) -> 160 | J15: =LARGE(D$8:D$22,1)-D15 -> 674.84311 | L15: 8. | M15: Sami | N15: 274 | O15: 1078.2373
A16: 9. | B16: =Kilpailu!B$18 -> Juho | C16: =SUM(C36,C56,C76)-'9'!D10 -> 477.5 | D16: =SUM(D36,D56,D76)-'9'!E10 -> 1857.9768 | E16: =SUM(E36,E56,E76) -> 244.5 | F16: =SUM(F36,F56,F76) -> 241.5 | G16: =SUM(G36,G56,G76) -> 217.5 | H16: =SUM(H36,H56,H76) -> 232 | I16: =SUM(I36,I56,I76) -> 232 | J16: =LARGE(D$8:D$22,1)-D16 -> 142.02319 | L16: 9. | M16: Tero | N16: 263 | O16: 1035.2042
A17: 10. | B17: =Kilpailu!B$19 -> 0 | C17: =SUM(C37,C57,C77) -> 0 | D17: =SUM(D37,D57,D77) -> 0 | E17: =SUM(E37,E57,E77) -> 0 | F17: =SUM(F37,F57,F77) -> 0 | G17: =SUM(G37,G57,G77) -> 0 | H17: =SUM(H37,H57,H77) -> 0 | I17: =SUM(I37,I57,I77) -> 0 | J17: =LARGE(D$8:D$22,1)-D17 -> 2000 | L17: 10.
A18: 11. | B18: =Kilpailu!B$20 -> 0 | C18: =SUM(C38,C58,C78) -> 0 | D18: =SUM(D38,D58,D78) -> 0 | E18: =SUM(E38,E58,E78) -> 0 | F18: =SUM(F38,F58,F78) -> 0 | G18: =SUM(G38,G58,G78) -> 0 | H18: =SUM(H38,H58,H78) -> 0 | I18: =SUM(I38,I58,I78) -> 0 | J18: =LARGE(D$8:D$22,1)-D18 -> 2000 | L18: 11.
A19: 12. | B19: =Kilpailu!B$21 -> 0 | C19: =SUM(C39,C59,C79) -> 0 | D19: =SUM(D39,D59,D79) -> 0 | E19: =SUM(E39,E59,E79) -> 0 | F19: =SUM(F39,F59,F79) -> 0 | G19: =SUM(G39,G59,G79) -> 0 | H19: =SUM(H39,H59,H79) -> 0 | I19: =SUM(I39,I59,I79) -> 0 | J19: =LARGE(D$8:D$22,1)-D19 -> 2000 | L19: 12.
A20: 13. | B20: =Kilpailu!B$22 -> 0 | C20: =SUM(C40,C60,C80) -> 0 | D20: =SUM(D40,D60,D80) -> 0 | E20: =SUM(E40,E60,E80) -> 0 | F20: =SUM(F40,F60,F80) -> 0 | G20: =SUM(G40,G60,G80) -> 0 | H20: =SUM(H40,H60,H80) -> 0 | I20: =SUM(I40,I60,I80) -> 0 | J20: =LARGE(D$8:D$22,1)-D20 -> 2000 | L20: 13.
A21: 14. | B21: =Kilpailu!B$23 -> 0 | C21: =SUM(C41,C61,C81) -> 0 | D21: =SUM(D41,D61,D81) -> 0 | E21: =SUM(E41,E61,E81) -> 0 | F21: =SUM(F41,F61,F81) -> 0 | G21: =SUM(G41,G61,G81) -> 0 | H21: =SUM(H41,H61,H81) -> 0 | I21: =SUM(I41,I61,I81) -> 0 | J21: =LARGE(D$8:D$22,1)-D21 -> 2000 | L21: 14.
A22: 15. | B22: =Kilpailu!B$24 -> 0 | C22: =SUM(C42,C62,C82) -> 0 | D22: =SUM(D42,D62,D82) -> 0 | E22: =SUM(E42,E62,E82) -> 0 | F22: =SUM(F42,F62,F82) -> 0 | G22: =SUM(G42,G62,G82) -> 0 | H22: =SUM(H42,H62,H82) -> 0 | I22: =SUM(I42,I62,I82) -> 0 | J22: =LARGE(D$8:D$22,1)-D22 -> 2000 | L22: 15.
B26: Kierros 1: | J26: tuomari pist. | M26: Kierros 1: | U26: tuomari pist.
C27: Pisteet | D27: Suht… | E27: Tm 1 | F27: Tm 2 | G27: Tm 3 | H27: Tm 4 | I27: Tm 5 | J27: Ero kärkeen | N27: Pisteet | O27: Suht… | P27: Tm 1 | Q27: Tm 2 | R27: Tm 3 | S27: Tm 4 | T27: Tm 5 | U27: Ero kärkeen
A28: 1. | B28: =Kilpailu!B$10 -> Tero | C28: ='1'!D$5 -> 127 | D28: =C28/LARGE(C$28:C$42,1)*1000 -> 513.13131 | E28: ='1'!C$26 -> 47.5 | F28: ='1'!D$26 -> 36 | G28: ='1'!E$26 -> 47.5 | H28: ='1'!F$26 -> 35 | I28: ='1'!G$26 -> 45 | J28: =LARGE(C$28:C$42,1)-C28 -> 120.5 | L28: 1. | M28: Ari | N28: 247.5 | O28: 1000
A29: 2. | B29: =Kilpailu!B$11 -> Ari | C29: ='2'!D$5 -> 247.5 | D29: =C29/LARGE(C$28:C$42,1)*1000 -> 1000 | E29: ='2'!C$26 -> 86.5 | F29: ='2'!D$26 -> 80 | G29: ='2'!E$26 -> 81.5 | H29: ='2'!F$26 -> 83 | I29: ='2'!G$26 -> 83 | J29: =LARGE(C$28:C$42,1)-C29 -> 0 | L29: 2. | M29: Juho | N29: 224.5 | O29: 907.07071
A30: 3. | B30: =Kilpailu!B$12 -> Jukka | C30: ='3'!D$5 -> 149 | D30: =C30/LARGE(C$28:C$42,1)*1000 -> 602.0202 | E30: ='3'!C$26 -> 55 | F30: ='3'!D$26 -> 49.5 | G30: ='3'!E$26 -> 46.5 | H30: ='3'!F$26 -> 43.5 | I30: ='3'!G$26 -> 53 | J30: =LARGE(C$28:C$42,1)-C30 -> 98.5 | L30: 3. | M30: Anssi | N30: 223 | O30: 901.0101
A31: 4. | B31: =Kilpailu!B$13 -> Sami | C31: ='4'!D$5 -> 131 | D31: =C31/LARGE(C$28:C$42,1)*1000 -> 529.29293 | E31: ='4'!C$26 -> 51 | F31: ='4'!D$26 -> 52.5 | G31: ='4'!E$26 -> 41 | H31: ='4'!F$26 -> 37.5 | I31: ='4'!G$26 -> 39 | J31: =LARGE(C$28:C$42,1)-C31 -> 116.5 | L31: 4. | M31: Timo | N31: 197 | O31: 795.9596
A32: 5. | B32: =Kilpailu!B$14 -> Timo | C32: ='5'!D$5 -> 197 | D32: =C32/LARGE(C$28:C$42,1)*1000 -> 795.9596 | E32: ='5'!C$26 -> 78 | F32: ='5'!D$26 -> 70 | G32: ='5'!E$26 -> 65.5 | H32: ='5'!F$26 -> 61.5 | I32: ='5'!G$26 -> 55 | J32: =LARGE(C$28:C$42,1)-C32 -> 50.5 | L32: 5. | M32: Olli-Pekka | N32: 162 | O32: 654.54545
A33: 6. | B33: =Kilpailu!B$15 -> Markus | C33: ='6'!D$5 -> 149.5 | D33: =C33/LARGE(C$28:C$42,1)*1000 -> 604.0404 | E33: ='6'!C$26 -> 61.5 | F33: ='6'!D$26 -> 60 | G33: ='6'!E$26 -> 38.5 | H33: ='6'!F$26 -> 48.5 | I33: ='6'!G$26 -> 41 | J33: =LARGE(C$28:C$42,1)-C33 -> 98 | L33: 6. | M33: Markus | N33: 149.5 | O33: 604.0404
A34: 7. | B34: =Kilpailu!B$16 -> Anssi | C34: ='7'!D$5 -> 223 | D34: =C34/LARGE(C$28:C$42,1)*1000 -> 901.0101 | E34: ='7'!C$26 -> 80 | F34: ='7'!D$26 -> 74.5 | G34: ='7'!E$26 -> 70 | H34: ='7'!F$26 -> 74.5 | I34: ='7'!G$26 -> 74 | J34: =LARGE(C$28:C$42,1)-C34 -> 24.5 | L34: 7. | M34: Jukka | N34: 149 | O34: 602.0202
A35: 8. | B35: =Kilpailu!B$17 -> Olli-Pekka | C35: ='8'!D$5 -> 162 | D35: =C35/LARGE(C$28:C$42,1)*1000 -> 654.54545 | E35: ='8'!C$26 -> 58 | F35: ='8'!D$26 -> 70.5 | G35: ='8'!E$26 -> 44.5 | H35: ='8'!F$26 -> 52 | I35: ='8'!G$26 -> 52 | J35: =LARGE(C$28:C$42,1)-C35 -> 85.5 | L35: 8. | M35: Sami | N35: 131 | O35: 529.29293
A36: 9. | B36: =Kilpailu!B$18 -> Juho | C36: ='9'!D$5 -> 224.5 | D36: =C36/LARGE(C$28:C$42,1)*1000 -> 907.07071 | E36: ='9'!C$26 -> 80.5 | F36: ='9'!D$26 -> 80 | G36: ='9'!E$26 -> 72 | H36: ='9'!F$26 -> 72.5 | I36: ='9'!G$26 -> 71 | J36: =LARGE(C$28:C$42,1)-C36 -> 23 | L36: 9. | M36: Tero | N36: 127 | O36: 513.13131
A37: 10. | B37: =Kilpailu!B$19 -> 0 | C37: ='10'!D$5 -> 0 | D37: =C37/LARGE(C$28:C$42,1)*1000 -> 0 | E37: ='10'!C$26 -> 0 | F37: ='10'!D$26 -> 0 | G37: ='10'!E$26 -> 0 | H37: ='10'!F$26 -> 0 | I37: ='10'!G$26 -> 0 | J37: =LARGE(C$28:C$42,1)-C37 -> 247.5 | L37: 10.
A38: 11. | B38: =Kilpailu!B$20 -> 0 | C38: ='11'!D$5 -> 0 | D38: =C38/LARGE(C$28:C$42,1)*1000 -> 0 | E38: ='11'!C$26 -> 0 | F38: ='11'!D$26 -> 0 | G38: ='11'!E$26 -> 0 | H38: ='11'!F$26 -> 0 | I38: ='11'!G$26 -> 0 | J38: =LARGE(C$28:C$42,1)-C38 -> 247.5 | L38: 11.
A39: 12. | B39: =Kilpailu!B$21 -> 0 | C39: ='12'!D$5 -> 0 | D39: =C39/LARGE(C$28:C$42,1)*1000 -> 0 | E39: ='12'!C$26 -> 0 | F39: ='12'!D$26 -> 0 | G39: ='12'!E$26 -> 0 | H39: ='12'!F$26 -> 0 | I39: ='12'!G$26 -> 0 | J39: =LARGE(C$28:C$42,1)-C39 -> 247.5 | L39: 12.
A40: 13. | B40: =Kilpailu!B$22 -> 0 | C40: ='13'!D$5 -> 0 | D40: =C40/LARGE(C$28:C$42,1)*1000 -> 0 | E40: ='13'!C$26 -> 0 | F40: ='13'!D$26 -> 0 | G40: ='13'!E$26 -> 0 | H40: ='13'!F$26 -> 0 | I40: ='13'!G$26 -> 0 | J40: =LARGE(C$28:C$42,1)-C40 -> 247.5 | L40: 13.
A41: 14. | B41: =Kilpailu!B$23 -> 0 | C41: ='14'!D$5 -> 0 | D41: =C41/LARGE(C$28:C$42,1)*1000 -> 0 | E41: ='14'!C$26 -> 0 | F41: ='14'!D$26 -> 0 | G41: ='14'!E$26 -> 0 | H41: ='14'!F$26 -> 0 | I41: ='14'!G$26 -> 0 | J41: =LARGE(C$28:C$42,1)-C41 -> 247.5 | L41: 14.
A42: 15. | B42: =Kilpailu!B$24 -> 0 | C42: ='15'!D$5 -> 0 | D42: =C42/LARGE(C$28:C$42,1)*1000 -> 0 | E42: ='15'!C$26 -> 0 | F42: ='15'!D$26 -> 0 | G42: ='15'!E$26 -> 0 | H42: ='15'!F$26 -> 0 | I42: ='15'!G$26 -> 0 | J42: =LARGE(C$28:C$42,1)-C42 -> 247.5 | L42: 15.
B46: Kierros 2: | J46: tuomari pist. | M46: Kierros 2: | U46: tuomari pist.
C47: Pisteet | D47: Suht… | E47: Tm 1 | F47: Tm 2 | G47: Tm 3 | H47: Tm 4 | I47: Tm 5 | J47: Ero kärkeen | N47: Pisteet | O47: Suht… | P47: Tm 1 | Q47: Tm 2 | R47: Tm 3 | S47: Tm 4 | T47: Tm 5 | U47: Ero kärkeen
A48: 1. | B48: =Kilpailu!B$10 -> Tero | C48: ='1'!D$6 -> 114 | D48: =C48/LARGE(C$48:C$62,1)*1000 -> 449.70414 | E48: ='1'!C$42 -> 44.5 | F48: ='1'!D$42 -> 41.5 | G48: ='1'!E$42 -> 33.5 | H48: ='1'!F$42 -> 32.5 | I48: ='1'!G$42 -> 39 | J48: =LARGE(C$48:C$62,1)-C48 -> 139.5 | L48: 1. | M48: Ari | N48: 253.5 | O48: 1000
A49: 2. | B49: =Kilpailu!B$11 -> Ari | C49: ='2'!D$6 -> 253.5 | D49: =C49/LARGE(C$48:C$62,1)*1000 -> 1000 | E49: ='2'!C$42 -> 88 | F49: ='2'!D$42 -> 85.5 | G49: ='2'!E$42 -> 82 | H49: ='2'!F$42 -> 84 | I49: ='2'!G$42 -> 84 | J49: =LARGE(C$48:C$62,1)-C49 -> 0 | L49: 2. | M49: Anssi | N49: 236 | O49: 930.96647
A50: 3. | B50: =Kilpailu!B$12 -> Jukka | C50: ='3'!D$6 -> 146 | D50: =C50/LARGE(C$48:C$62,1)*1000 -> 575.93688 | E50: ='3'!C$42 -> 54 | F50: ='3'!D$42 -> 50 | G50: ='3'!E$42 -> 40.5 | H50: ='3'!F$42 -> 48 | I50: ='3'!G$42 -> 48 | J50: =LARGE(C$48:C$62,1)-C50 -> 107.5 | L50: 3. | M50: Juho | N50: 235.5 | O50: 928.99408
A51: 4. | B51: =Kilpailu!B$13 -> Sami | C51: ='4'!D$6 -> 118.5 | D51: =C51/LARGE(C$48:C$62,1)*1000 -> 467.45562 | E51: ='4'!C$42 -> 54 | F51: ='4'!D$42 -> 42.5 | G51: ='4'!E$42 -> 38 | H51: ='4'!F$42 -> 33 | I51: ='4'!G$42 -> 38 | J51: =LARGE(C$48:C$62,1)-C51 -> 135 | L51: 4. | M51: Timo | N51: 208 | O51: 820.51282
A52: 5. | B52: =Kilpailu!B$14 -> Timo | C52: ='5'!D$6 -> 208 | D52: =C52/LARGE(C$48:C$62,1)*1000 -> 820.51282 | E52: ='5'!C$42 -> 76 | F52: ='5'!D$42 -> 71.5 | G52: ='5'!E$42 -> 58.5 | H52: ='5'!F$42 -> 68.5 | I52: ='5'!G$42 -> 68 | J52: =LARGE(C$48:C$62,1)-C52 -> 45.5 | L52: 5. | M52: Olli-Pekka | N52: 170 | O52: 670.61144
A53: 6. | B53: =Kilpailu!B$15 -> Markus | C53: ='6'!D$6 -> 135 | D53: =C53/LARGE(C$48:C$62,1)*1000 -> 532.54438 | E53: ='6'!C$42 -> 62 | F53: ='6'!D$42 -> 52 | G53: ='6'!E$42 -> 38 | H53: ='6'!F$42 -> 36 | I53: ='6'!G$42 -> 45 | J53: =LARGE(C$48:C$62,1)-C53 -> 118.5 | L53: 6. | M53: Jukka | N53: 146 | O53: 575.93688
A54: 7. | B54: =Kilpailu!B$16 -> Anssi | C54: ='7'!D$6 -> 236 | D54: =C54/LARGE(C$48:C$62,1)*1000 -> 930.96647 | E54: ='7'!C$42 -> 79 | F54: ='7'!D$42 -> 78 | G54: ='7'!E$42 -> 77 | H54: ='7'!F$42 -> 79 | I54: ='7'!G$42 -> 82 | J54: =LARGE(C$48:C$62,1)-C54 -> 17.5 | L54: 7. | M54: Markus | N54: 135 | O54: 532.54438
A55: 8. | B55: =Kilpailu!B$17 -> Olli-Pekka | C55: ='8'!D$6 -> 170 | D55: =C55/LARGE(C$48:C$62,1)*1000 -> 670.61144 | E55: ='8'!C$42 -> 63.5 | F55: ='8'!D$42 -> 64.5 | G55: ='8'!E$42 -> 50.5 | H55: ='8'!F$42 -> 50 | I55: ='8'!G$42 -> 56 | J55: =LARGE(C$48:C$62,1)-C55 -> 83.5 | L55: 8. | M55: Sami | N55: 118.5 | O55: 467.45562
A56: 9. | B56: =Kilpailu!B$18 -> Juho | C56: ='9'!D$6 -> 235.5 | D56: =C56/LARGE(C$48:C$62,1)*1000 -> 928.99408 | E56: ='9'!C$42 -> 81 | F56: ='9'!D$42 -> 84.5 | G56: ='9'!E$42 -> 70.5 | H56: ='9'!F$42 -> 75.5 | I56: ='9'!G$42 -> 79 | J56: =LARGE(C$48:C$62,1)-C56 -> 18 | L56: 9. | M56: Tero | N56: 114 | O56: 449.70414
A57: 10. | B57: =Kilpailu!B$19 -> 0 | C57: ='10'!D$5 -> 0 | D57: =C57/LARGE(C$48:C$62,1)*1000 -> 0 | E57: ='10'!C$42 -> 0 | F57: ='10'!D$42 -> 0 | G57: ='10'!E$42 -> 0 | H57: ='10'!F$42 -> 0 | I57: ='10'!G$42 -> 0 | J57: =LARGE(C$48:C$62,1)-C57 -> 253.5 | L57: 10.
A58: 11. | B58: =Kilpailu!B$20 -> 0 | C58: ='11'!D$5 -> 0 | D58: =C58/LARGE(C$48:C$62,1)*1000 -> 0 | E58: ='11'!C$42 -> 0 | F58: ='11'!D$42 -> 0 | G58: ='11'!E$42 -> 0 | H58: ='11'!F$42 -> 0 | I58: ='11'!G$42 -> 0 | J58: =LARGE(C$48:C$62,1)-C58 -> 253.5 | L58: 11.
A59: 12. | B59: =Kilpailu!B$21 -> 0 | C59: ='12'!D$5 -> 0 | D59: =C59/LARGE(C$48:C$62,1)*1000 -> 0 | E59: ='12'!C$42 -> 0 | F59: ='12'!D$42 -> 0 | G59: ='12'!E$42 -> 0 | H59: ='12'!F$42 -> 0 | I59: ='12'!G$42 -> 0 | J59: =LARGE(C$48:C$62,1)-C59 -> 253.5 | L59: 12.
A60: 13. | B60: =Kilpailu!B$22 -> 0 | C60: ='13'!D$5 -> 0 | D60: =C60/LARGE(C$48:C$62,1)*1000 -> 0 | E60: ='13'!C$42 -> 0 | F60: ='13'!D$42 -> 0 | G60: ='13'!E$42 -> 0 | H60: ='13'!F$42 -> 0 | I60: ='13'!G$42 -> 0 | J60: =LARGE(C$48:C$62,1)-C60 -> 253.5 | L60: 13.
A61: 14. | B61: =Kilpailu!B$23 -> 0 | C61: ='14'!D$5 -> 0 | D61: =C61/LARGE(C$48:C$62,1)*1000 -> 0 | E61: ='14'!C$42 -> 0 | F61: ='14'!D$42 -> 0 | G61: ='14'!E$42 -> 0 | H61: ='14'!F$42 -> 0 | I61: ='14'!G$42 -> 0 | J61: =LARGE(C$48:C$62,1)-C61 -> 253.5 | L61: 14.
A62: 15. | B62: =Kilpailu!B$24 -> 0 | C62: ='15'!D$5 -> 0 | D62: =C62/LARGE(C$48:C$62,1)*1000 -> 0 | E62: ='15'!C$42 -> 0 | F62: ='15'!D$42 -> 0 | G62: ='15'!E$42 -> 0 | H62: ='15'!F$42 -> 0 | I62: ='15'!G$42 -> 0 | J62: =LARGE(C$48:C$62,1)-C62 -> 253.5 | L62: 15.
B66: Kierros 3: | J66: tuomari pist. | M66: Kierros 3: | U66: tuomari pist.
C67: Pisteet | D67: Suht… | E67: Tm 1 | F67: Tm 2 | G67: Tm 3 | H67: Tm 4 | I67: Tm 5 | J67: Ero kärkeen | N67: Pisteet | O67: Suht… | P67: Tm 1 | Q67: Tm 2 | R67: Tm 3 | S67: Tm 4 | T67: Tm 5 | U67: Ero kärkeen
A68: 1. | B68: =Kilpailu!B$10 -> Tero | C68: ='1'!D$7 -> 136 | D68: =IF(LARGE(C$68:C$82,1)*1000=0,0,C68/LARGE(C$68:C$82,1)*1000) -> 522.07294 | E68: ='1'!C$58 -> 54.5 | F68: ='1'!D$58 -> 38 | G68: ='1'!E$58 -> 43 | H68: ='1'!F$58 -> 47 | I68: ='1'!G$58 -> 46 | J68: =LARGE(C$68:C$82,1)-C68 -> 124.5 | L68: 1. | M68: Ari | N68: 260.5 | O68: 1000
A69: 2. | B69: =Kilpailu!B$11 -> Ari | C69: ='2'!D$7 -> 260.5 | D69: =IF(LARGE(C$68:C$82,1)*1000=0,0,C69/LARGE(C$68:C$82,1)*1000) -> 1000 | E69: ='2'!C$58 -> 92.5 | F69: ='2'!D58 -> 87 | G69: ='2'!E$58 -> 87 | H69: ='2'!F$58 -> 86.5 | I69: ='2'!G$58 -> 86 | J69: =LARGE(C$68:C$82,1)-C69 -> 0 | L69: 2. | M69: Juho | N69: 242 | O69: 928.98273
A70: 3. | B70: =Kilpailu!B$12 -> Jukka | C70: ='3'!D$7 -> 179 | D70: =IF(LARGE(C$68:C$82,1)*1000=0,0,C70/LARGE(C$68:C$82,1)*1000) -> 687.14012 | E70: ='3'!C$58 -> 64.5 | F70: ='3'!D$58 -> 51.5 | G70: ='3'!E$58 -> 56.5 | H70: ='3'!F$58 -> 68.5 | I70: ='3'!G$58 -> 58 | J70: =LARGE(C$68:C$82,1)-C70 -> 81.5 | L70: 3. | M70: Anssi | N70: 236 | O70: 905.9501
A71: 4. | B71: =Kilpailu!B$13 -> Sami | C71: ='4'!D$7 -> 143 | D71: =IF(LARGE(C$68:C$82,1)*1000=0,0,C71/LARGE(C$68:C$82,1)*1000) -> 548.94434 | E71: ='4'!C$58 -> 58.5 | F71: ='4'!D$58 -> 45 | G71: ='4'!E$58 -> 39 | H71: ='4'!F$58 -> 56 | I71: ='4'!G$58 -> 42 | J71: =LARGE(C$68:C$82,1)-C71 -> 117.5 | L71: 4. | M71: Timo | N71: 210.5 | O71: 808.06142
A72: 5. | B72: =Kilpailu!B$14 -> Timo | C72: ='5'!D$7 -> 210.5 | D72: =IF(LARGE(C$68:C$82,1)*1000=0,0,C72/LARGE(C$68:C$82,1)*1000) -> 808.06142 | E72: ='5'!C$58 -> 79 | F72: ='5'!D$58 -> 63.5 | G72: ='5'!E$58 -> 67.5 | H72: ='5'!F$58 -> 78 | I72: ='5'!G$58 -> 65 | J72: =LARGE(C$68:C$82,1)-C72 -> 50 | L72: 5. | M72: Jukka | N72: 179 | O72: 687.14012
A73: 6. | B73: =Kilpailu!B$15 -> Markus | C73: ='6'!D$7 -> 147 | D73: =IF(LARGE(C$68:C$82,1)*1000=0,0,C73/LARGE(C$68:C$82,1)*1000) -> 564.29942 | E73: ='6'!C$58 -> 61.5 | F73: ='6'!D$58 -> 46 | G73: ='6'!E$58 -> 41.5 | H73: ='6'!F$58 -> 56 | I73: ='6'!G$58 -> 45 | J73: =LARGE(C$68:C$82,1)-C73 -> 113.5 | L73: 6. | M73: Olli-Pekka | N73: 169 | O73: 648.7524
A74: 7. | B74: =Kilpailu!B$16 -> Anssi | C74: ='7'!D$7 -> 236 | D74: =IF(LARGE(C$68:C$82,1)*1000=0,0,C74/LARGE(C$68:C$82,1)*1000) -> 905.9501 | E74: ='7'!C$58 -> 77 | F74: ='7'!D$58 -> 78 | G74: ='7'!E$58 -> 73 | H74: ='7'!F$58 -> 81 | I74: ='7'!G$58 -> 82 | J74: =LARGE(C$68:C$82,1)-C74 -> 24.5 | L74: 7. | M74: Markus | N74: 147 | O74: 564.29942
A75: 8. | B75: =Kilpailu!B$17 -> Olli-Pekka | C75: ='8'!D$7 -> 169 | D75: =IF(LARGE(C$68:C$82,1)*1000=0,0,C75/LARGE(C$68:C$82,1)*1000) -> 648.7524 | E75: ='8'!C$58 -> 63 | F75: ='8'!D$58 -> 50 | G75: ='8'!E$58 -> 57.5 | H75: ='8'!F$58 -> 59.5 | I75: ='8'!G$58 -> 52 | J75: =LARGE(C$68:C$82,1)-C75 -> 91.5 | L75: 8. | M75: Sami | N75: 143 | O75: 548.94434
A76: 9. | B76: =Kilpailu!B$18 -> Juho | C76: ='9'!D$7 -> 242 | D76: =IF(LARGE(C$68:C$82,1)*1000=0,0,C76/LARGE(C$68:C$82,1)*1000) -> 928.98273 | E76: ='9'!C$58 -> 83 | F76: ='9'!D$58 -> 77 | G76: ='9'!E$58 -> 75 | H76: ='9'!F$58 -> 84 | I76: ='9'!G$58 -> 82 | J76: =LARGE(C$68:C$82,1)-C76 -> 18.5 | L76: 9. | M76: Tero | N76: 136 | O76: 522.07294
A77: 10. | B77: =Kilpailu!B$19 -> 0 | C77: ='10'!D$5 -> 0 | D77: =IF(LARGE(C$68:C$82,1)*1000=0,0,C77/LARGE(C$68:C$82,1)*1000) -> 0 | E77: ='10'!C$26 -> 0 | F77: ='10'!D$26 -> 0 | G77: ='10'!E$26 -> 0 | H77: ='10'!F$26 -> 0 | I77: ='10'!G$26 -> 0 | J77: =LARGE(C$68:C$82,1)-C77 -> 260.5 | L77: 10.
A78: 11. | B78: =Kilpailu!B$20 -> 0 | C78: ='11'!D$5 -> 0 | D78: =IF(LARGE(C$68:C$82,1)*1000=0,0,C78/LARGE(C$68:C$82,1)*1000) -> 0 | E78: ='11'!C$26 -> 0 | F78: ='11'!D$26 -> 0 | G78: ='11'!E$26 -> 0 | H78: ='11'!F$26 -> 0 | I78: ='11'!G$26 -> 0 | J78: =LARGE(C$68:C$82,1)-C78 -> 260.5 | L78: 11.
A79: 12. | B79: =Kilpailu!B$21 -> 0 | C79: ='12'!D$5 -> 0 | D79: =IF(LARGE(C$68:C$82,1)*1000=0,0,C79/LARGE(C$68:C$82,1)*1000) -> 0 | E79: ='12'!C$26 -> 0 | F79: ='12'!D$26 -> 0 | G79: ='12'!E$26 -> 0 | H79: ='12'!F$26 -> 0 | I79: ='12'!G$26 -> 0 | J79: =LARGE(C$68:C$82,1)-C79 -> 260.5 | L79: 12.
A80: 13. | B80: =Kilpailu!B$22 -> 0 | C80: ='13'!D$5 -> 0 | D80: =IF(LARGE(C$68:C$82,1)*1000=0,0,C80/LARGE(C$68:C$82,1)*1000) -> 0 | E80: ='13'!C$26 -> 0 | F80: ='13'!D$26 -> 0 | G80: ='13'!E$26 -> 0 | H80: ='13'!F$26 -> 0 | I80: ='13'!G$26 -> 0 | J80: =LARGE(C$68:C$82,1)-C80 -> 260.5 | L80: 13.
A81: 14. | B81: =Kilpailu!B$23 -> 0 | C81: ='14'!D$5 -> 0 | D81: =IF(LARGE(C$68:C$82,1)*1000=0,0,C81/LARGE(C$68:C$82,1)*1000) -> 0 | E81: ='14'!C$26 -> 0 | F81: ='14'!D$26 -> 0 | G81: ='14'!E$26 -> 0 | H81: ='14'!F$26 -> 0 | I81: ='14'!G$26 -> 0 | J81: =LARGE(C$68:C$82,1)-C81 -> 260.5 | L81: 14.
A82: 15. | B82: =Kilpailu!B$24 -> 0 | C82: ='15'!D$5 -> 0 | D82: =IF(LARGE(C$68:C$82,1)*1000=0,0,C82/LARGE(C$68:C$82,1)*1000) -> 0 | E82: ='15'!C$26 -> 0 | F82: ='15'!D$26 -> 0 | G82: ='15'!E$26 -> 0 | H82: ='15'!F$26 -> 0 | I82: ='15'!G$26 -> 0 | J82: =LARGE(C$68:C$82,1)-C82 -> 260.5 | L82: 15.

Sheet 1
D4: Pisteet | E4: Suht…
A5: Nimi: | B5: =Kilpailu!B10 -> Tero | C5: Kierros 1. | D5: =SUM(H15:H25) -> 127 | E5: =Tulokset!D28 -> 513.13131
C6: Kierros 2. | D6: =SUM(C42:G42)-LARGE(C42:G42,1)-SMALL(C42:G42,1) -> 114 | E6: =Tulokset!D48 -> 449.70414
A7: Paikka: | B7: =Kilpailu!B4 -> Vesivehmaa | C7: Kierros 3. | D7: =SUM(C58:G58)-LARGE(C58:G58,1)-SMALL(C58:G58,1) -> 136 | E7: =Tulokset!D68 -> 522.07294
A8: Päivä: | B8: =Kilpailu!B5 -> 40397
A9: Ohjelma: | B9: =Kilpailu!B6 -> F3C-P | C9: yhteensä: | D9: =SUM(D5:D7) -> 377 | E9: =SUM(E5:E7) -> 1484.9084
C10: pois: | D10: =SMALL(D5:D7,1) -> 114 | E10: =SMALL(E5:E7,1) -> 449.70414
C11: 2 parasta: | D11: =SUM(D5:D7)-D10 -> 263 | E11: =SUM(E5:E7)-E10 -> 1035.2042
A14: Kierros 1: | C14: Tuomari 1 | D14: Tuomari 2 | E14: Tuomari 3 | F14: Tuomari 4 | G14: Tuomari 5 | H14: yht.
A15: 1. | B15: =IF(Kilpailu!$B$6 =Kilpailu!$A$79,Kilpailu!$B$30,IF(Kilpailu!$B$6 =Kilpailu!$A$80,Kilpailu!$B$45,IF(Kilpailu!$B$6 =Kilpailu!$A$81,Kilpailu!$B$60,""))) -> M with 2 half pirouettes on all side | C15: 5 | D15: 3.5 | E15: 4.5 | F15: 4 | G15: 4 | H15: =(SUM(C15:G15)*IF(Kilpailu!$B$6 =Kilpailu!$A$79,Kilpailu!C30,IF(Kilpailu!$B$6 =Kilpailu!$A$80,Kilpailu!C45,IF(Kilpailu!$B$6 =Kilpailu!$A$81,Kilpailu!C60,1))))-SMALL(C15:G15,1)-LARGE(C15:G15,1) -> 12.5
A16: 2. | B16: =IF(Kilpailu!$B$6 =Kilpailu!$A$79,Kilpailu!$B$31,IF(Kilpailu!$B$6 =Kilpailu!$A$80,Kilpailu!$B$46,IF(Kilpailu!$B$6 =Kilpailu!$A$81,Kilpailu!$B$61,""))) -> Semicircle with pirouette | C16: 6.5 | D16: 4.5 | E16: 5.5 | F16: 5 | G16: 6 | H16: =(SUM(C16:G16)*IF(Kilpailu!$B$6 =Kilpailu!$A$79,Kilpailu!C31,IF(Kilpailu!$B$6 =Kilpailu!$A$80,Kilpailu!C46,IF(Kilpailu!$B$6 =Kilpailu!$A$81,Kilpailu!C61,1))))-SMALL(C16:G16,1)-LARGE(C16:G16,1) -> 16.5
A17: 3. | B17: =IF(Kilpailu!$B$6 =Kilpailu!$A$79,Kilpailu!$B$32,IF(Kilpailu!$B$6 =Kilpailu!$A$80,Kilpailu!$B$47,IF(Kilpailu!$B$6 =Kilpailu!$A$81,Kilpailu!$B$62,""))) -> Diamond 3 | C17: 4 | D17: 4 | E17: 5 | F17: 4 | G17: 5 | H17: =(SUM(C17:G17)*IF(Kilpailu!$B$6 =Kilpailu!$A$79,Kilpailu!C32,IF(Kilpailu!$B$6 =Kilpailu!$A$80,Kilpailu!C47,IF(Kilpailu!$B$6 =Kilpailu!$A$81,Kilpailu!C62,1))))-SMALL(C17:G17,1)-LARGE(C17:G17,1) -> 13
A18: 4. | B18: =IF(Kilpailu!$B$6 =Kilpailu!$A$79,Kilpailu!$B$33,IF(Kilpailu!$B$6 =Kilpailu!$A$80,Kilpailu!$B$48,IF(Kilpailu!$B$6 =Kilpailu!$A$81,Kilpailu!$B$63,""))) -> Cuban eight | C18: 7 | D18: 5 | E18: 6 | F18: 4 | G18: 5 | H18: =(SUM(C18:G18)*IF(Kilpailu!$B$6 =Kilpailu!$A$79,Kilpailu!C33,IF(Kilpailu!$B$6 =Kilpailu!$A$80,Kilpailu!C48,IF(Kilpailu!$B$6 =Kilpailu!$A$81,Kilpailu!C63,1))))-SMALL(C18:G18,1)-LARGE(C18:G18,1) -> 16
A19: 5. | B19: =IF(Kilpailu!$B$6 =Kilpailu!$A$79,Kilpailu!$B$34,IF(Kilpailu!$B$6 =Kilpailu!$A$80,Kilpailu!$B$49,IF(Kilpailu!$B$6 =Kilpailu!$A$81,Kilpailu!$B$64,""))) -> Pullpack with backward full roll | C19: 0 | D19: 0 | E19: 0 | F19: 0 | G19: 0 | H19: =(SUM(C19:G19)*IF(Kilpailu!$B$6 =Kilpailu!$A$79,Kilpailu!C34,IF(Kilpailu!$B$6 =Kilpailu!$A$80,Kilpailu!C49,IF(Kilpailu!$B$6 =Kilpailu!$A$81,Kilpailu!C64,1))))-SMALL(C19:G19,1)-LARGE(C19:G19,1) -> 0
A20: 6. | B20: =IF(Kilpailu!$B$6 =Kilpailu!$A$79,Kilpailu!$B$35,IF(Kilpailu!$B$6 =Kilpailu!$A$80,Kilpailu!$B$50,IF(Kilpailu!$B$6 =Kilpailu!$A$81,Kilpailu!$B$65,""))) -> Cobra Roll with pushed flip | C20: 5.5 | D20: 3.5 | E20: 5.5 | F20: 5 | G20: 6 | H20: =(SUM(C20:G20)*IF(Kilpailu!$B$6 =Kilpailu!$A$79,Kilpailu!C35,IF(Kilpailu!$B$6 =Kilpailu!$A$80,Kilpailu!C50,IF(Kilpailu!$B$6 =Kilpailu!$A$81,Kilpailu!C65,1))))-SMALL(C20:G20,1)-LARGE(C20:G20,1) -> 16
A21: 7. | B21: =IF(Kilpailu!$B$6 =Kilpailu!$A$79,Kilpailu!$B$36,IF(Kilpailu!$B$6 =Kilpailu!$A$80,Kilpailu!$B$51,IF(Kilpailu!$B$6 =Kilpailu!$A$81,Kilpailu!$B$66,""))) -> Vertical candle | C21: 7 | D21: 4 | E21: 6 | F21: 4 | G21: 6 | H21: =(SUM(C21:G21)*IF(Kilpailu!$B$6 =Kilpailu!$A$79,Kilpailu!C36,IF(Kilpailu!$B$6 =Kilpailu!$A$80,Kilpailu!C51,IF(Kilpailu!$B$6 =Kilpailu!$A$81,Kilpailu!C66,1))))-SMALL(C21:G21,1)-LARGE(C21:G21,1) -> 16
A22: 8. | B22: =IF(Kilpailu!$B$6 =Kilpailu!$A$79,Kilpailu!$B$37,IF(Kilpailu!$B$6 =Kilpailu!$A$80,Kilpailu!$B$52,IF(Kilpailu!$B$6 =Kilpailu!$A$81,Kilpailu!$B$67,""))) -> Opposite 2 point rolls | C22: 6 | D22: 3.5 | E22: 6 | F22: 3 | G22: 5 | H22: =(SUM(C22:G22)*IF(Kilpailu!$B$6 =Kilpailu!$A$79,Kilpailu!C37,IF(Kilpailu!$B$6 =Kilpailu!$A$80,Kilpailu!C52,IF(Kilpailu!$B$6 =Kilpailu!$A$81,Kilpailu!C67,1))))-SMALL(C22:G22,1)-LARGE(C22:G22,1) -> 14.5
A23: 9. | B23: =IF(Kilpailu!$B$6 =Kilpailu!$A$79,Kilpailu!$B$38,IF(Kilpailu!$B$6 =Kilpailu!$A$80,Kilpailu!$B$53,IF(Kilpailu!$B$6 =Kilpailu!$A$81,Kilpailu!$B$68,""))) -> Inside loop with pirouette on top | C23: 4.5 | D23: 5 | E23: 6 | F23: 3 | G23: 4 | H23: =(SUM(C23:G23)*IF(Kilpailu!$B$6 =Kilpailu!$A$79,Kilpailu!C38,IF(Kilpailu!$B$6 =Kilpailu!$A$80,Kilpailu!C53,IF(Kilpailu!$B$6 =Kilpailu!$A$81,Kilpailu!C68,1))))-SMALL(C23:G23,1)-LARGE(C23:G23,1) -> 13.5
A24: 10. | B24: =IF(Kilpailu!$B$6 =Kilpailu!$A$79,Kilpailu!$B$39,IF(Kilpailu!$B$6 =Kilpailu!$A$80,Kilpailu!$B$54,IF(Kilpailu!$B$6 =Kilpailu!$A$81,Kilpailu!$B$69,""))) -> Autorotation with two 90º turns | C24: 2 | D24: 3 | E24: 3 | F24: 3 | G24: 4 | H24: =(SUM(C24:G24)*IF(Kilpailu!$B$6 =Kilpailu!$A$79,Kilpailu!C39,IF(Kilpailu!$B$6 =Kilpailu!$A$80,Kilpailu!C54,IF(Kilpailu!$B$6 =Kilpailu!$A$81,Kilpailu!C69,1))))-SMALL(C24:G24,1)-LARGE(C24:G24,1) -> 9
A25: 11. | B25: =IF(Kilpailu!$B$6 =Kilpailu!$A$79,Kilpailu!$B$40,IF(Kilpailu!$B$6 =Kilpailu!$A$80,Kilpailu!$B$55,IF(Kilpailu!$B$6 =Kilpailu!$A$81,Kilpailu!$B$70,""))) | F25: 0 | H25: =(SUM(C25:G25)*IF(Kilpailu!$B$6 =Kilpailu!$A$79,Kilpailu!C40,IF(Kilpailu!$B$6 =Kilpailu!$A$80,Kilpailu!C55,IF(Kilpailu!$B$6 =Kilpailu!$A$81,Kilpailu!C70,1))))-SMALL(C25:G25,1)-LARGE(C25:G25,1) -> 0
B26: Yht. | C26: =SUM(C15:C25) -> 47.5 | D26: =SUM(D15:D25) -> 36 | E26: =SUM(E15:E25) -> 47.5 | F26: =SUM(F15:F25) -> 35 | G26: =SUM(G15:G25) -> 45
A30: Kierros 2: | C30: Tuomari 1 | D30: Tuomari 2 | E30: Tuomari 3 | F30: Tuomari 4 | G30: Tuomari 5 | H30: yht.
A31: 1. | B31: =IF(Kilpailu!$B$6 =Kilpailu!$A$79,Kilpailu!$B$30,IF(Kilpailu!$B$6 =Kilpailu!$A$80,Kilpailu!$B$45,IF(Kilpailu!$B$6 =Kilpailu!$A$81,Kilpailu!$B$60,""))) -> M with 2 half pirouettes on all side | C31: 3.5 | D31: 3 | E31: 2 | F31: 3 | G31: 4 | H31: =(SUM(C31:G31)*IF(Kilpailu!$B$6 =Kilpailu!$A$79,Kilpailu!C30,IF(Kilpailu!$B$6 =Kilpailu!$A$80,Kilpailu!C45,IF(Kilpailu!$B$6 =Kilpailu!$A$81,Kilpailu!C60,1))))-SMALL(C31:G31,1)-LARGE(C31:G31,1) -> 9.5
A32: 2. | B32: =IF(Kilpailu!$B$6 =Kilpailu!$A$79,Kilpailu!$B$31,IF(Kilpailu!$B$6 =Kilpailu!$A$80,Kilpailu!$B$46,IF(Kilpailu!$B$6 =Kilpailu!$A$81,Kilpailu!$B$61,""))) -> Semicircle with pirouette | C32: 4.5 | D32: 5 | E32: 3 | F32: 3.5 | G32: 6 | H32: =(SUM(C32:G32)*IF(Kilpailu!$B$6 =Kilpailu!$A$79,Kilpailu!C31,IF(Kilpailu!$B$6 =Kilpailu!$A$80,Kilpailu!C46,IF(Kilpailu!$B$6 =Kilpailu!$A$81,Kilpailu!C61,1))))-SMALL(C32:G32,1)-LARGE(C32:G32,1) -> 13
A33: 3. | B33: =IF(Kilpailu!$B$6 =Kilpailu!$A$79,Kilpailu!$B$32,IF(Kilpailu!$B$6 =Kilpailu!$A$80,Kilpailu!$B$47,IF(Kilpailu!$B$6 =Kilpailu!$A$81,Kilpailu!$B$62,""))) -> Diamond 3 | C33: 4 | D33: 4 | E33: 3 | F33: 4 | G33: 5 | H33: =(SUM(C33:G33)*IF(Kilpailu!$B$6 =Kilpailu!$A$79,Kilpailu!C32,IF(Kilpailu!$B$6 =Kilpailu!$A$80,Kilpailu!C47,IF(Kilpailu!$B$6 =Kilpailu!$A$81,Kilpailu!C62,1))))-SMALL(C33:G33,1)-LARGE(C33:G33,1) -> 12
A34: 4. | B34: =IF(Kilpailu!$B$6 =Kilpailu!$A$79,Kilpailu!$B$33,IF(Kilpailu!$B$6 =Kilpailu!$A$80,Kilpailu!$B$48,IF(Kilpailu!$B$6 =Kilpailu!$A$81,Kilpailu!$B$63,""))) -> Cuban eight | C34: 5 | D34: 6 | E34: 4 | F34: 4 | G34: 5 | H34: =(SUM(C34:G34)*IF(Kilpailu!$B$6 =Kilpailu!$A$79,Kilpailu!C33,IF(Kilpailu!$B$6 =Kilpailu!$A$80,Kilpailu!C48,IF(Kilpailu!$B$6 =Kilpailu!$A$81,Kilpailu!C63,1))))-SMALL(C34:G34,1)-LARGE(C34:G34,1) -> 14
A35: 5. | B35: =IF(Kilpailu!$B$6 =Kilpailu!$A$79,Kilpailu!$B$34,IF(Kilpailu!$B$6 =Kilpailu!$A$80,Kilpailu!$B$49,IF(Kilpailu!$B$6 =Kilpailu!$A$81,Kilpailu!$B$64,""))) -> Pullpack with backward full roll | C35: 5.5 | D35: 6 | E35: 5 | F35: 4.5 | G35: 3 | H35: =(SUM(C35:G35)*IF(Kilpailu!$B$6 =Kilpailu!$A$79,Kilpailu!C34,IF(Kilpailu!$B$6 =Kilpailu!$A$80,Kilpailu!C49,IF(Kilpailu!$B$6 =Kilpailu!$A$81,Kilpailu!C64,1))))-SMALL(C35:G35,1)-LARGE(C35:G35,1) -> 15
A36: 6. | B36: =IF(Kilpailu!$B$6 =Kilpailu!$A$79,Kilpailu!$B$35,IF(Kilpailu!$B$6 =Kilpailu!$A$80,Kilpailu!$B$50,IF(Kilpailu!$B$6 =Kilpailu!$A$81,Kilpailu!$B$65,""))) -> Cobra Roll with pushed flip | C36: 6.5 | D36: 6 | E36: 3.5 | F36: 4 | G36: 4 | H36: =(SUM(C36:G36)*IF(Kilpailu!$B$6 =Kilpailu!$A$79,Kilpailu!C35,IF(Kilpailu!$B$6 =Kilpailu!$A$80,Kilpailu!C50,IF(Kilpailu!$B$6 =Kilpailu!$A$81,Kilpailu!C65,1))))-SMALL(C36:G36,1)-LARGE(C36:G36,1) -> 14
A37: 7. | B37: =IF(Kilpailu!$B$6 =Kilpailu!$A$79,Kilpailu!$B$36,IF(Kilpailu!$B$6 =Kilpailu!$A$80,Kilpailu!$B$51,IF(Kilpailu!$B$6 =Kilpailu!$A$81,Kilpailu!$B$66,""))) -> Vertical candle | C37: 6.5 | D37: 5 | E37: 4.5 | F37: 4 | G37: 5 | H37: =(SUM(C37:G37)*IF(Kilpailu!$B$6 =Kilpailu!$A$79,Kilpailu!C36,IF(Kilpailu!$B$6 =Kilpailu!$A$80,Kilpailu!C51,IF(Kilpailu!$B$6 =Kilpailu!$A$81,Kilpailu!C66,1))))-SMALL(C37:G37,1)-LARGE(C37:G37,1) -> 14.5
A38: 8. | B38: =IF(Kilpailu!$B$6 =Kilpailu!$A$79,Kilpailu!$B$37,IF(Kilpailu!$B$6 =Kilpailu!$A$80,Kilpailu!$B$52,IF(Kilpailu!$B$6 =Kilpailu!$A$81,Kilpailu!$B$67,""))) -> Opposite 2 point rolls | C38: 6 | D38: 4.5 | E38: 4.5 | F38: 3.5 | G38: 4 | H38: =(SUM(C38:G38)*IF(Kilpailu!$B$6 =Kilpailu!$A$79,Kilpailu!C37,IF(Kilpailu!$B$6 =Kilpailu!$A$80,Kilpailu!C52,IF(Kilpailu!$B$6 =Kilpailu!$A$81,Kilpailu!C67,1))))-SMALL(C38:G38,1)-LARGE(C38:G38,1) -> 13
A39: 9. | B39: =IF(Kilpailu!$B$6 =Kilpailu!$A$79,Kilpailu!$B$38,IF(Kilpailu!$B$6 =Kilpailu!$A$80,Kilpailu!$B$53,IF(Kilpailu!$B$6 =Kilpailu!$A$81,Kilpailu!$B$68,""))) -> Inside loop with pirouette on top | C39: 0 | D39: 0 | E39: 0 | F39: 0 | G39: 0 | H39: =(SUM(C39:G39)*IF(Kilpailu!$B$6 =Kilpailu!$A$79,Kilpailu!C38,IF(Kilpailu!$B$6 =Kilpailu!$A$80,Kilpailu!C53,IF(Kilpailu!$B$6 =Kilpailu!$A$81,Kilpailu!C68,1))))-SMALL(C39:G39,1)-LARGE(C39:G39,1) -> 0
A40: 10. | B40: =IF(Kilpailu!$B$6 =Kilpailu!$A$79,Kilpailu!$B$39,IF(Kilpailu!$B$6 =Kilpailu!$A$80,Kilpailu!$B$54,IF(Kilpailu!$B$6 =Kilpailu!$A$81,Kilpailu!$B$69,""))) -> Autorotation with two 90º turns | C40: 3 | D40: 2 | E40: 4 | F40: 2 | G40: 3 | H40: =(SUM(C40:G40)*IF(Kilpailu!$B$6 =Kilpailu!$A$79,Kilpailu!C39,IF(Kilpailu!$B$6 =Kilpailu!$A$80,Kilpailu!C54,IF(Kilpailu!$B$6 =Kilpailu!$A$81,Kilpailu!C69,1))))-SMALL(C40:G40,1)-LARGE(C40:G40,1) -> 8
A41: 11. | B41: =IF(Kilpailu!$B$6 =Kilpailu!$A$79,Kilpailu!$B$40,IF(Kilpailu!$B$6 =Kilpailu!$A$80,Kilpailu!$B$55,IF(Kilpailu!$B$6 =Kilpailu!$A$81,Kilpailu!$B$70,""))) | F41: 0 | H41: =(SUM(C41:G41)*IF(Kilpailu!$B$6 =Kilpailu!$A$79,Kilpailu!C40,IF(Kilpailu!$B$6 =Kilpailu!$A$80,Kilpailu!C55,IF(Kilpailu!$B$6 =Kilpailu!$A$81,Kilpailu!C70,1))))-SMALL(C41:G41,1)-LARGE(C41:G41,1) -> 0
B42: Yht. | C42: =SUM(C31:C41) -> 44.5 | D42: =SUM(D31:D41) -> 41.5 | E42: =SUM(E31:E41) -> 33.5 | F42: =SUM(F31:F41) -> 32.5 | G42: =SUM(G31:G41) -> 39
A46: Kierros 3: | C46: Tuomari 1 | D46: Tuomari 2 | E46: Tuomari 3 | F46: Tuomari 4 | G46: Tuomari 5 | H46: yht.
A47: 1. | B47: =IF(Kilpailu!$B$6 =Kilpailu!$A$79,Kilpailu!$B$30,IF(Kilpailu!$B$6 =Kilpailu!$A$80,Kilpailu!$B$45,IF(Kilpailu!$B$6 =Kilpailu!$A$81,Kilpailu!$B$60,""))) -> M with 2 half pirouettes on all side | C47: 5 | D47: 4.5 | E47: 5 | F47: 5.5 | G47: 6 | H47: =(SUM(C47:G47)*IF(Kilpailu!$B$6 =Kilpailu!$A$79,Kilpailu!C30,IF(Kilpailu!$B$6 =Kilpailu!$A$80,Kilpailu!C45,IF(Kilpailu!$B$6 =Kilpailu!$A$81,Kilpailu!C60,1))))-SMALL(C47:G47,1)-LARGE(C47:G47,1) -> 15.5
A48: 2. | B48: =IF(Kilpailu!$B$6 =Kilpailu!$A$79,Kilpailu!$B$31,IF(Kilpailu!$B$6 =Kilpailu!$A$80,Kilpailu!$B$46,IF(Kilpailu!$B$6 =Kilpailu!$A$81,Kilpailu!$B$61,""))) -> Semicircle with pirouette | C48: 6 | D48: 4.5 | E48: 5.5 | F48: 6 | G48: 6 | H48: =(SUM(C48:G48)*IF(Kilpailu!$B$6 =Kilpailu!$A$79,Kilpailu!C31,IF(Kilpailu!$B$6 =Kilpailu!$A$80,Kilpailu!C46,IF(Kilpailu!$B$6 =Kilpailu!$A$81,Kilpailu!C61,1))))-SMALL(C48:G48,1)-LARGE(C48:G48,1) -> 17.5
A49: 3. | B49: =IF(Kilpailu!$B$6 =Kilpailu!$A$79,Kilpailu!$B$32,IF(Kilpailu!$B$6 =Kilpailu!$A$80,Kilpailu!$B$47,IF(Kilpailu!$B$6 =Kilpailu!$A$81,Kilpailu!$B$62,""))) -> Diamond 3 | C49: 5.5 | D49: 3 | E49: 4 | F49: 4 | G49: 4 | H49: =(SUM(C49:G49)*IF(Kilpailu!$B$6 =Kilpailu!$A$79,Kilpailu!C32,IF(Kilpailu!$B$6 =Kilpailu!$A$80,Kilpailu!C47,IF(Kilpailu!$B$6 =Kilpailu!$A$81,Kilpailu!C62,1))))-SMALL(C49:G49,1)-LARGE(C49:G49,1) -> 12
A50: 4. | B50: =IF(Kilpailu!$B$6 =Kilpailu!$A$79,Kilpailu!$B$33,IF(Kilpailu!$B$6 =Kilpailu!$A$80,Kilpailu!$B$48,IF(Kilpailu!$B$6 =Kilpailu!$A$81,Kilpailu!$B$63,""))) -> Cuban eight | C50: 6.5 | D50: 4 | E50: 5 | F50: 5 | G50: 5 | H50: =(SUM(C50:G50)*IF(Kilpailu!$B$6 =Kilpailu!$A$79,Kilpailu!C33,IF(Kilpailu!$B$6 =Kilpailu!$A$80,Kilpailu!C48,IF(Kilpailu!$B$6 =Kilpailu!$A$81,Kilpailu!C63,1))))-SMALL(C50:G50,1)-LARGE(C50:G50,1) -> 15
A51: 5. | B51: =IF(Kilpailu!$B$6 =Kilpailu!$A$79,Kilpailu!$B$34,IF(Kilpailu!$B$6 =Kilpailu!$A$80,Kilpailu!$B$49,IF(Kilpailu!$B$6 =Kilpailu!$A$81,Kilpailu!$B$64,""))) -> Pullpack with backward full roll | C51: 6.5 | D51: 5 | E51: 5 | F51: 6 | G51: 6 | H51: =(SUM(C51:G51)*IF(Kilpailu!$B$6 =Kilpailu!$A$79,Kilpailu!C34,IF(Kilpailu!$B$6 =Kilpailu!$A$80,Kilpailu!C49,IF(Kilpailu!$B$6 =Kilpailu!$A$81,Kilpailu!C64,1))))-SMALL(C51:G51,1)-LARGE(C51:G51,1) -> 17
A52: 6. | B52: =IF(Kilpailu!$B$6 =Kilpailu!$A$79,Kilpailu!$B$35,IF(Kilpailu!$B$6 =Kilpailu!$A$80,Kilpailu!$B$50,IF(Kilpailu!$B$6 =Kilpailu!$A$81,Kilpailu!$B$65,""))) -> Cobra Roll with pushed flip | C52: 6.5 | D52: 5 | E52: 3.5 | F52: 5 | G52: 5 | H52: =(SUM(C52:G52)*IF(Kilpailu!$B$6 =Kilpailu!$A$79,Kilpailu!C35,IF(Kilpailu!$B$6 =Kilpailu!$A$80,Kilpailu!C50,IF(Kilpailu!$B$6 =Kilpailu!$A$81,Kilpailu!C65,1))))-SMALL(C52:G52,1)-LARGE(C52:G52,1) -> 15
A53: 7. | B53: =IF(Kilpailu!$B$6 =Kilpailu!$A$79,Kilpailu!$B$36,IF(Kilpailu!$B$6 =Kilpailu!$A$80,Kilpailu!$B$51,IF(Kilpailu!$B$6 =Kilpailu!$A$81,Kilpailu!$B$66,""))) -> Vertical candle | C53: 5.5 | D53: 4 | E53: 5.5 | F53: 5 | G53: 5 | H53: =(SUM(C53:G53)*IF(Kilpailu!$B$6 =Kilpailu!$A$79,Kilpailu!C36,IF(Kilpailu!$B$6 =Kilpailu!$A$80,Kilpailu!C51,IF(Kilpailu!$B$6 =Kilpailu!$A$81,Kilpailu!C66,1))))-SMALL(C53:G53,1)-LARGE(C53:G53,1) -> 15.5
A54: 8. | B54: =IF(Kilpailu!$B$6 =Kilpailu!$A$79,Kilpailu!$B$37,IF(Kilpailu!$B$6 =Kilpailu!$A$80,Kilpailu!$B$52,IF(Kilpailu!$B$6 =Kilpailu!$A$81,Kilpailu!$B$67,""))) -> Opposite 2 point rolls | C54: 6.5 | D54: 4.5 | E54: 5 | F54: 6 | G54: 5 | H54: =(SUM(C54:G54)*IF(Kilpailu!$B$6 =Kilpailu!$A$79,Kilpailu!C37,IF(Kilpailu!$B$6 =Kilpailu!$A$80,Kilpailu!C52,IF(Kilpailu!$B$6 =Kilpailu!$A$81,Kilpailu!C67,1))))-SMALL(C54:G54,1)-LARGE(C54:G54,1) -> 16
A55: 9. | B55: =IF(Kilpailu!$B$6 =Kilpailu!$A$79,Kilpailu!$B$38,IF(Kilpailu!$B$6 =Kilpailu!$A$80,Kilpailu!$B$53,IF(Kilpailu!$B$6 =Kilpailu!$A$81,Kilpailu!$B$68,""))) -> Inside loop with pirouette on top | C55: 6.5 | D55: 3.5 | E55: 4.5 | F55: 4.5 | G55: 4 | H55: =(SUM(C55:G55)*IF(Kilpailu!$B$6 =Kilpailu!$A$79,Kilpailu!C38,IF(Kilpailu!$B$6 =Kilpailu!$A$80,Kilpailu!C53,IF(Kilpailu!$B$6 =Kilpailu!$A$81,Kilpailu!C68,1))))-SMALL(C55:G55,1)-LARGE(C55:G55,1) -> 13
A56: 10. | B56: =IF(Kilpailu!$B$6 =Kilpailu!$A$79,Kilpailu!$B$39,IF(Kilpailu!$B$6 =Kilpailu!$A$80,Kilpailu!$B$54,IF(Kilpailu!$B$6 =Kilpailu!$A$81,Kilpailu!$B$69,""))) -> Autorotation with two 90º turns | C56: 0 | D56: 0 | E56: 0 | F56: 0 | G56: 0 | H56: =(SUM(C56:G56)*IF(Kilpailu!$B$6 =Kilpailu!$A$79,Kilpailu!C39,IF(Kilpailu!$B$6 =Kilpailu!$A$80,Kilpailu!C54,IF(Kilpailu!$B$6 =Kilpailu!$A$81,Kilpailu!C69,1))))-SMALL(C56:G56,1)-LARGE(C56:G56,1) -> 0
A57: 11. | B57: =IF(Kilpailu!$B$6 =Kilpailu!$A$79,Kilpailu!$B$40,IF(Kilpailu!$B$6 =Kilpailu!$A$80,Kilpailu!$B$55,IF(Kilpailu!$B$6 =Kilpailu!$A$81,Kilpailu!$B$70,""))) | F57: 0 | H57: =(SUM(C57:G57)*IF(Kilpailu!$B$6 =Kilpailu!$A$79,Kilpailu!C40,IF(Kilpailu!$B$6 =Kilpailu!$A$80,Kilpailu!C55,IF(Kilpailu!$B$6 =Kilpailu!$A$81,Kilpailu!C70,1))))-SMALL(C57:G57,1)-LARGE(C57:G57,1) -> 0
B58: Yht. | C58: =SUM(C47:C57) -> 54.5 | D58: =SUM(D47:D57) -> 38 | E58: =SUM(E47:E57) -> 43 | F58: =SUM(F47:F57) -> 47 | G58: =SUM(G47:G57) -> 46

Sheet 2
D4: Pisteet | E4: Suht…
A5: Nimi: | B5: =Kilpailu!B11 -> Ari | C5: Kierros 1. | D5: =SUM(C26:G26)-LARGE(C26:G26,1)-SMALL(C26:G26,1) -> 247.5 | E5: =Tulokset!D29 -> 1000
C6: Kierros 2. | D6: =SUM(C42:G42)-LARGE(C42:G42,1)-SMALL(C42:G42,1) -> 253.5 | E6: =Tulokset!D49 -> 1000
A7: Paikka: | B7: =Kilpailu!B4 -> Vesivehmaa | C7: Kierros 3. | D7: =SUM(C58:G58)-LARGE(C58:G58,1)-SMALL(C58:G58,1) -> 260.5 | E7: =Tulokset!D69 -> 1000
A8: Päivä: | B8: =Kilpailu!B5 -> 40397
A9: Ohjelma: | B9: =Kilpailu!B6 -> F3C-P | C9: yhteensä: | D9: =SUM(D5:D7) -> 761.5 | E9: =SUM(E5:E7) -> 3000
C10: pois: | D10: =SMALL(D5:D7,1) -> 247.5 | E10: =SMALL(E5:E7,1) -> 1000
C11: 2 parasta: | D11: =SUM(D5:D7)-D10 -> 514 | E11: =SUM(E5:E7)-E10 -> 2000
A14: Kierros 1: | C14: Tuomari 1 | D14: Tuomari 2 | E14: Tuomari 3 | F14: Tuomari 4 | G14: Tuomari 5 | H14: yht.
A15: 1. | B15: =IF(Kilpailu!$B$6 =Kilpailu!$A$79,Kilpailu!B30,IF(Kilpailu!$B$6 =Kilpailu!$A$80,Kilpailu!B45,IF(Kilpailu!$B$6 =Kilpailu!$A$81,Kilpailu!B60,""))) -> M with 2 half pirouettes on all side | C15: 8.5 | D15: 7.5 | E15: 9 | F15: 8.5 | G15: 7 | H15: =(SUM(C15:G15)*IF(Kilpailu!$B$6 =Kilpailu!$A$79,Kilpailu!C30,IF(Kilpailu!$B$6 =Kilpailu!$A$80,Kilpailu!C45,IF(Kilpailu!$B$6 =Kilpailu!$A$81,Kilpailu!C60,1))))-SMALL(C15:G15,1)-LARGE(C15:G15,1) -> 24.5
A16: 2. | B16: =IF(Kilpailu!$B$6 =Kilpailu!$A$79,Kilpailu!B31,IF(Kilpailu!$B$6 =Kilpailu!$A$80,Kilpailu!B46,IF(Kilpailu!$B$6 =Kilpailu!$A$81,Kilpailu!B61,""))) -> Semicircle with pirouette | C16: 8.5 | D16: 8 | E16: 7 | F16: 8 | G16: 8 | H16: =(SUM(C16:G16)*IF(Kilpailu!$B$6 =Kilpailu!$A$79,Kilpailu!C31,IF(Kilpailu!$B$6 =Kilpailu!$A$80,Kilpailu!C46,IF(Kilpailu!$B$6 =Kilpailu!$A$81,Kilpailu!C61,1))))-SMALL(C16:G16,1)-LARGE(C16:G16,1) -> 24
A17: 3. | B17: =IF(Kilpailu!$B$6 =Kilpailu!$A$79,Kilpailu!B32,IF(Kilpailu!$B$6 =Kilpailu!$A$80,Kilpailu!B47,IF(Kilpailu!$B$6 =Kilpailu!$A$81,Kilpailu!B62,""))) -> Diamond 3 | C17: 8.5 | D17: 7 | E17: 8 | F17: 8.5 | G17: 9 | H17: =(SUM(C17:G17)*IF(Kilpailu!$B$6 =Kilpailu!$A$79,Kilpailu!C32,IF(Kilpailu!$B$6 =Kilpailu!$A$80,Kilpailu!C47,IF(Kilpailu!$B$6 =Kilpailu!$A$81,Kilpailu!C62,1))))-SMALL(C17:G17,1)-LARGE(C17:G17,1) -> 25
A18: 4. | B18: =IF(Kilpailu!$B$6 =Kilpailu!$A$79,Kilpailu!B33,IF(Kilpailu!$B$6 =Kilpailu!$A$80,Kilpailu!B48,IF(Kilpailu!$B$6 =Kilpailu!$A$81,Kilpailu!B63,""))) -> Cuban eight | C18: 8.5 | D18: 7.5 | E18: 8.5 | F18: 8.5 | G18: 8 | H18: =(SUM(C18:G18)*IF(Kilpailu!$B$6 =Kilpailu!$A$79,Kilpailu!C33,IF(Kilpailu!$B$6 =Kilpailu!$A$80,Kilpailu!C48,IF(Kilpailu!$B$6 =Kilpailu!$A$81,Kilpailu!C63,1))))-SMALL(C18:G18,1)-LARGE(C18:G18,1) -> 25
A19: 5. | B19: =IF(Kilpailu!$B$6 =Kilpailu!$A$79,Kilpailu!B34,IF(Kilpailu!$B$6 =Kilpailu!$A$80,Kilpailu!B49,IF(Kilpailu!$B$6 =Kilpailu!$A$81,Kilpailu!B64,""))) -> Pullpack with backward full roll | C19: 8.5 | D19: 8.5 | E19: 8.5 | F19: 9 | G19: 9 | H19: =(SUM(C19:G19)*IF(Kilpailu!$B$6 =Kilpailu!$A$79,Kilpailu!C34,IF(Kilpailu!$B$6 =Kilpailu!$A$80,Kilpailu!C49,IF(Kilpailu!$B$6 =Kilpailu!$A$81,Kilpailu!C64,1))))-SMALL(C19:G19,1)-LARGE(C19:G19,1) -> 26
A20: 6. | B20: =IF(Kilpailu!$B$6 =Kilpailu!$A$79,Kilpailu!B35,IF(Kilpailu!$B$6 =Kilpailu!$A$80,Kilpailu!B50,IF(Kilpailu!$B$6 =Kilpailu!$A$81,Kilpailu!B65,""))) -> Cobra Roll with pushed flip | C20: 8.5 | D20: 7.5 | E20: 8 | F20: 8.5 | G20: 8 | H20: =(SUM(C20:G20)*IF(Kilpailu!$B$6 =Kilpailu!$A$79,Kilpailu!C35,IF(Kilpailu!$B$6 =Kilpailu!$A$80,Kilpailu!C50,IF(Kilpailu!$B$6 =Kilpailu!$A$81,Kilpailu!C65,1))))-SMALL(C20:G20,1)-LARGE(C20:G20,1) -> 24.5
A21: 7. | B21: =IF(Kilpailu!$B$6 =Kilpailu!$A$79,Kilpailu!B36,IF(Kilpailu!$B$6 =Kilpailu!$A$80,Kilpailu!B51,IF(Kilpailu!$B$6 =Kilpailu!$A$81,Kilpailu!B66,""))) -> Vertical candle | C21: 9 | D21: 7.5 | E21: 7.5 | F21: 7.5 | G21: 9 | H21: =(SUM(C21:G21)*IF(Kilpailu!$B$6 =Kilpailu!$A$79,Kilpailu!C36,IF(Kilpailu!$B$6 =Kilpailu!$A$80,Kilpailu!C51,IF(Kilpailu!$B$6 =Kilpailu!$A$81,Kilpailu!C66,1))))-SMALL(C21:G21,1)-LARGE(C21:G21,1) -> 24
A22: 8. | B22: =IF(Kilpailu!$B$6 =Kilpailu!$A$79,Kilpailu!B37,IF(Kilpailu!$B$6 =Kilpailu!$A$80,Kilpailu!B52,IF(Kilpailu!$B$6 =Kilpailu!$A$81,Kilpailu!B67,""))) -> Opposite 2 point rolls | C22: 8.5 | D22: 8.5 | E22: 8.5 | F22: 8 | G22: 8 | H22: =(SUM(C22:G22)*IF(Kilpailu!$B$6 =Kilpailu!$A$79,Kilpailu!C37,IF(Kilpailu!$B$6 =Kilpailu!$A$80,Kilpailu!C52,IF(Kilpailu!$B$6 =Kilpailu!$A$81,Kilpailu!C67,1))))-SMALL(C22:G22,1)-LARGE(C22:G22,1) -> 25
A23: 9. | B23: =IF(Kilpailu!$B$6 =Kilpailu!$A$79,Kilpailu!B38,IF(Kilpailu!$B$6 =Kilpailu!$A$80,Kilpailu!B53,IF(Kilpailu!$B$6 =Kilpailu!$A$81,Kilpailu!B68,""))) -> Inside loop with pirouette on top | C23: 9 | D23: 9 | E23: 8.5 | F23: 8.5 | G23: 9 | H23: =(SUM(C23:G23)*IF(Kilpailu!$B$6 =Kilpailu!$A$79,Kilpailu!C38,IF(Kilpailu!$B$6 =Kilpailu!$A$80,Kilpailu!C53,IF(Kilpailu!$B$6 =Kilpailu!$A$81,Kilpailu!C68,1))))-SMALL(C23:G23,1)-LARGE(C23:G23,1) -> 26.5
A24: 10. | B24: =IF(Kilpailu!$B$6 =Kilpailu!$A$79,Kilpailu!B39,IF(Kilpailu!$B$6 =Kilpailu!$A$80,Kilpailu!B54,IF(Kilpailu!$B$6 =Kilpailu!$A$81,Kilpailu!B69,""))) -> Autorotation with two 90º turns | C24: 9 | D24: 9 | E24: 8 | F24: 8 | G24: 8 | H24: =(SUM(C24:G24)*IF(Kilpailu!$B$6 =Kilpailu!$A$79,Kilpailu!C39,IF(Kilpailu!$B$6 =Kilpailu!$A$80,Kilpailu!C54,IF(Kilpailu!$B$6 =Kilpailu!$A$81,Kilpailu!C69,1))))-SMALL(C24:G24,1)-LARGE(C24:G24,1) -> 25
A25: 11. | B25: =IF(Kilpailu!$B$6 =Kilpailu!$A$79,Kilpailu!B40,IF(Kilpailu!$B$6 =Kilpailu!$A$80,Kilpailu!B55,IF(Kilpailu!$B$6 =Kilpailu!$A$81,Kilpailu!B70,""))) | G25: 0 | H25: =(SUM(C25:G25)*IF(Kilpailu!$B$6 =Kilpailu!$A$79,Kilpailu!C40,IF(Kilpailu!$B$6 =Kilpailu!$A$80,Kilpailu!C55,IF(Kilpailu!$B$6 =Kilpailu!$A$81,Kilpailu!C70,1))))-SMALL(C25:G25,1)-LARGE(C25:G25,1) -> 0
B26: Yht. | C26: =SUM(C15:C25) -> 86.5 | D26: =SUM(D15:D25) -> 80 | E26: =SUM(E15:E25) -> 81.5 | F26: =SUM(F15:F25) -> 83 | G26: =SUM(G15:G25) -> 83
A30: Kierros 2: | C30: Tuomari 1 | D30: Tuomari 2 | E30: Tuomari 3 | F30: Tuomari 4 | G30: Tuomari 5 | H30: yht.
A31: 1. | B31: =IF(Kilpailu!$B$6 =Kilpailu!$A$79,Kilpailu!B30,IF(Kilpailu!$B$6 =Kilpailu!$A$80,Kilpailu!B45,IF(Kilpailu!$B$6 =Kilpailu!$A$81,Kilpailu!B60,""))) -> M with 2 half pirouettes on all side | C31: 9 | D31: 9 | E31: 8 | F31: 9 | G31: 8 | H31: =(SUM(C31:G31)*IF(Kilpailu!$B$6 =Kilpailu!$A$79,Kilpailu!C30,IF(Kilpailu!$B$6 =Kilpailu!$A$80,Kilpailu!C45,IF(Kilpailu!$B$6 =Kilpailu!$A$81,Kilpailu!C60,1))))-SMALL(C31:G31,1)-LARGE(C31:G31,1) -> 26
A32: 2. | B32: =IF(Kilpailu!$B$6 =Kilpailu!$A$79,Kilpailu!B31,IF(Kilpailu!$B$6 =Kilpailu!$A$80,Kilpailu!B46,IF(Kilpailu!$B$6 =Kilpailu!$A$81,Kilpailu!B61,""))) -> Semicircle with pirouette | C32: 8.5 | D32: 8 | E32: 8 | F32: 7.5 | G32: 7 | H32: =(SUM(C32:G32)*IF(Kilpailu!$B$6 =Kilpailu!$A$79,Kilpailu!C31,IF(Kilpailu!$B$6 =Kilpailu!$A$80,Kilpailu!C46,IF(Kilpailu!$B$6 =Kilpailu!$A$81,Kilpailu!C61,1))))-SMALL(C32:G32,1)-LARGE(C32:G32,1) -> 23.5
A33: 3. | B33: =IF(Kilpailu!$B$6 =Kilpailu!$A$79,Kilpailu!B32,IF(Kilpailu!$B$6 =Kilpailu!$A$80,Kilpailu!B47,IF(Kilpailu!$B$6 =Kilpailu!$A$81,Kilpailu!B62,""))) -> Diamond 3 | C33: 8.5 | D33: 8 | E33: 7.5 | F33: 8 | G33: 8 | H33: =(SUM(C33:G33)*IF(Kilpailu!$B$6 =Kilpailu!$A$79,Kilpailu!C32,IF(Kilpailu!$B$6 =Kilpailu!$A$80,Kilpailu!C47,IF(Kilpailu!$B$6 =Kilpailu!$A$81,Kilpailu!C62,1))))-SMALL(C33:G33,1)-LARGE(C33:G33,1) -> 24
A34: 4. | B34: =IF(Kilpailu!$B$6 =Kilpailu!$A$79,Kilpailu!B33,IF(Kilpailu!$B$6 =Kilpailu!$A$80,Kilpailu!B48,IF(Kilpailu!$B$6 =Kilpailu!$A$81,Kilpailu!B63,""))) -> Cuban eight | C34: 8.5 | D34: 8.5 | E34: 8 | F34: 8.5 | G34: 9 | H34: =(SUM(C34:G34)*IF(Kilpailu!$B$6 =Kilpailu!$A$79,Kilpailu!C33,IF(Kilpailu!$B$6 =Kilpailu!$A$80,Kilpailu!C48,IF(Kilpailu!$B$6 =Kilpailu!$A$81,Kilpailu!C63,1))))-SMALL(C34:G34,1)-LARGE(C34:G34,1) -> 25.5
A35: 5. | B35: =IF(Kilpailu!$B$6 =Kilpailu!$A$79,Kilpailu!B34,IF(Kilpailu!$B$6 =Kilpailu!$A$80,Kilpailu!B49,IF(Kilpailu!$B$6 =Kilpailu!$A$81,Kilpailu!B64,""))) -> Pullpack with backward full roll | C35: 9.5 | D35: 9 | E35: 9 | F35: 9 | G35: 9 | H35: =(SUM(C35:G35)*IF(Kilpailu!$B$6 =Kilpailu!$A$79,Kilpailu!C34,IF(Kilpailu!$B$6 =Kilpailu!$A$80,Kilpailu!C49,IF(Kilpailu!$B$6 =Kilpailu!$A$81,Kilpailu!C64,1))))-SMALL(C35:G35,1)-LARGE(C35:G35,1) -> 27
A36: 6. | B36: =IF(Kilpailu!$B$6 =Kilpailu!$A$79,Kilpailu!B35,IF(Kilpailu!$B$6 =Kilpailu!$A$80,Kilpailu!B50,IF(Kilpailu!$B$6 =Kilpailu!$A$81,Kilpailu!B65,""))) -> Cobra Roll with pushed flip | C36: 8.5 | D36: 8.5 | E36: 8.5 | F36: 9 | G36: 8 | H36: =(SUM(C36:G36)*IF(Kilpailu!$B$6 =Kilpailu!$A$79,Kilpailu!C35,IF(Kilpailu!$B$6 =Kilpailu!$A$80,Kilpailu!C50,IF(Kilpailu!$B$6 =Kilpailu!$A$81,Kilpailu!C65,1))))-SMALL(C36:G36,1)-LARGE(C36:G36,1) -> 25.5
A37: 7. | B37: =IF(Kilpailu!$B$6 =Kilpailu!$A$79,Kilpailu!B36,IF(Kilpailu!$B$6 =Kilpailu!$A$80,Kilpailu!B51,IF(Kilpailu!$B$6 =Kilpailu!$A$81,Kilpailu!B66,""))) -> Vertical candle | C37: 9 | D37: 9 | E37: 9 | F37: 9 | G37: 9 | H37: =(SUM(C37:G37)*IF(Kilpailu!$B$6 =Kilpailu!$A$79,Kilpailu!C36,IF(Kilpailu!$B$6 =Kilpailu!$A$80,Kilpailu!C51,IF(Kilpailu!$B$6 =Kilpailu!$A$81,Kilpailu!C66,1))))-SMALL(C37:G37,1)-LARGE(C37:G37,1) -> 27
A38: 8. | B38: =IF(Kilpailu!$B$6 =Kilpailu!$A$79,Kilpailu!B37,IF(Kilpailu!$B$6 =Kilpailu!$A$80,Kilpailu!B52,IF(Kilpailu!$B$6 =Kilpailu!$A$81,Kilpailu!B67,""))) -> Opposite 2 point rolls | C38: 8.5 | D38: 9 | E38: 8 | F38: 7.5 | G38: 9 | H38: =(SUM(C38:G38)*IF(Kilpailu!$B$6 =Kilpailu!$A$79,Kilpailu!C37,IF(Kilpailu!$B$6 =Kilpailu!$A$80,Kilpailu!C52,IF(Kilpailu!$B$6 =Kilpailu!$A$81,Kilpailu!C67,1))))-SMALL(C38:G38,1)-LARGE(C38:G38,1) -> 25.5
A39: 9. | B39: =IF(Kilpailu!$B$6 =Kilpailu!$A$79,Kilpailu!B38,IF(Kilpailu!$B$6 =Kilpailu!$A$80,Kilpailu!B53,IF(Kilpailu!$B$6 =Kilpailu!$A$81,Kilpailu!B68,""))) -> Inside loop with pirouette on top | C39: 9 | D39: 8 | E39: 8 | F39: 8.5 | G39: 9 | H39: =(SUM(C39:G39)*IF(Kilpailu!$B$6 =Kilpailu!$A$79,Kilpailu!C38,IF(Kilpailu!$B$6 =Kilpailu!$A$80,Kilpailu!C53,IF(Kilpailu!$B$6 =Kilpailu!$A$81,Kilpailu!C68,1))))-SMALL(C39:G39,1)-LARGE(C39:G39,1) -> 25.5
A40: 10. | B40: =IF(Kilpailu!$B$6 =Kilpailu!$A$79,Kilpailu!B39,IF(Kilpailu!$B$6 =Kilpailu!$A$80,Kilpailu!B54,IF(Kilpailu!$B$6 =Kilpailu!$A$81,Kilpailu!B69,""))) -> Autorotation with two 90º turns | C40: 9 | D40: 8.5 | E40: 8 | F40: 8 | G40: 8 | H40: =(SUM(C40:G40)*IF(Kilpailu!$B$6 =Kilpailu!$A$79,Kilpailu!C39,IF(Kilpailu!$B$6 =Kilpailu!$A$80,Kilpailu!C54,IF(Kilpailu!$B$6 =Kilpailu!$A$81,Kilpailu!C69,1))))-SMALL(C40:G40,1)-LARGE(C40:G40,1) -> 24.5
A41: 11. | B41: =IF(Kilpailu!$B$6 =Kilpailu!$A$79,Kilpailu!B40,IF(Kilpailu!$B$6 =Kilpailu!$A$80,Kilpailu!B55,IF(Kilpailu!$B$6 =Kilpailu!$A$81,Kilpailu!B70,""))) | F41: 0 | H41: =(SUM(C41:G41)*IF(Kilpailu!$B$6 =Kilpailu!$A$79,Kilpailu!C40,IF(Kilpailu!$B$6 =Kilpailu!$A$80,Kilpailu!C55,IF(Kilpailu!$B$6 =Kilpailu!$A$81,Kilpailu!C70,1))))-SMALL(C41:G41,1)-LARGE(C41:G41,1) -> 0
B42: Yht. | C42: =SUM(C31:C41) -> 88 | D42: =SUM(D31:D41) -> 85.5 | E42: =SUM(E31:E41) -> 82 | F42: =SUM(F31:F41) -> 84 | G42: =SUM(G31:G41) -> 84
A46: Kierros 3: | C46: Tuomari 1 | D46: Tuomari 2 | E46: Tuomari 3 | F46: Tuomari 4 | G46: Tuomari 5 | H46: yht.
A47: 1. | B47: =IF(Kilpailu!$B$6 =Kilpailu!$A$79,Kilpailu!B30,IF(Kilpailu!$B$6 =Kilpailu!$A$80,Kilpailu!B45,IF(Kilpailu!$B$6 =Kilpailu!$A$81,Kilpailu!B60,""))) -> M with 2 half pirouettes on all side | C47: 8.5 | D47: 8 | E47: 8 | F47: 8 | G47: 7 | H47: =(SUM(C47:G47)*IF(Kilpailu!$B$6 =Kilpailu!$A$79,Kilpailu!C30,IF(Kilpailu!$B$6 =Kilpailu!$A$80,Kilpailu!C45,IF(Kilpailu!$B$6 =Kilpailu!$A$81,Kilpailu!C60,1))))-SMALL(C47:G47,1)-LARGE(C47:G47,1) -> 24
A48: 2. | B48: =IF(Kilpailu!$B$6 =Kilpailu!$A$79,Kilpailu!B31,IF(Kilpailu!$B$6 =Kilpailu!$A$80,Kilpailu!B46,IF(Kilpailu!$B$6 =Kilpailu!$A$81,Kilpailu!B61,""))) -> Semicircle with pirouette | C48: 9.5 | D48: 8.5 | E48: 9 | F48: 8 | G48: 8 | H48: =(SUM(C48:G48)*IF(Kilpailu!$B$6 =Kilpailu!$A$79,Kilpailu!C31,IF(Kilpailu!$B$6 =Kilpailu!$A$80,Kilpailu!C46,IF(Kilpailu!$B$6 =Kilpailu!$A$81,Kilpailu!C61,1))))-SMALL(C48:G48,1)-LARGE(C48:G48,1) -> 25.5
A49: 3. | B49: =IF(Kilpailu!$B$6 =Kilpailu!$A$79,Kilpailu!B32,IF(Kilpailu!$B$6 =Kilpailu!$A$80,Kilpailu!B47,IF(Kilpailu!$B$6 =Kilpailu!$A$81,Kilpailu!B62,""))) -> Diamond 3 | C49: 9 | D49: 8.5 | E49: 8.5 | F49: 8 | G49: 9 | H49: =(SUM(C49:G49)*IF(Kilpailu!$B$6 =Kilpailu!$A$79,Kilpailu!C32,IF(Kilpailu!$B$6 =Kilpailu!$A$80,Kilpailu!C47,IF(Kilpailu!$B$6 =Kilpailu!$A$81,Kilpailu!C62,1))))-SMALL(C49:G49,1)-LARGE(C49:G49,1) -> 26
A50: 4. | B50: =IF(Kilpailu!$B$6 =Kilpailu!$A$79,Kilpailu!B33,IF(Kilpailu!$B$6 =Kilpailu!$A$80,Kilpailu!B48,IF(Kilpailu!$B$6 =Kilpailu!$A$81,Kilpailu!B63,""))) -> Cuban eight | C50: 9.5 | D50: 8.5 | E50: 9 | F50: 9 | G50: 9 | H50: =(SUM(C50:G50)*IF(Kilpailu!$B$6 =Kilpailu!$A$79,Kilpailu!C33,IF(Kilpailu!$B$6 =Kilpailu!$A$80,Kilpailu!C48,IF(Kilpailu!$B$6 =Kilpailu!$A$81,Kilpailu!C63,1))))-SMALL(C50:G50,1)-LARGE(C50:G50,1) -> 27
A51: 5. | B51: =IF(Kilpailu!$B$6 =Kilpailu!$A$79,Kilpailu!B34,IF(Kilpailu!$B$6 =Kilpailu!$A$80,Kilpailu!B49,IF(Kilpailu!$B$6 =Kilpailu!$A$81,Kilpailu!B64,""))) -> Pullpack with backward full roll | C51: 9.5 | D51: 9 | E51: 8.5 | F51: 9 | G51: 9 | H51: =(SUM(C51:G51)*IF(Kilpailu!$B$6 =Kilpailu!$A$79,Kilpailu!C34,IF(Kilpailu!$B$6 =Kilpailu!$A$80,Kilpailu!C49,IF(Kilpailu!$B$6 =Kilpailu!$A$81,Kilpailu!C64,1))))-SMALL(C51:G51,1)-LARGE(C51:G51,1) -> 27
A52: 6. | B52: =IF(Kilpailu!$B$6 =Kilpailu!$A$79,Kilpailu!B35,IF(Kilpailu!$B$6 =Kilpailu!$A$80,Kilpailu!B50,IF(Kilpailu!$B$6 =Kilpailu!$A$81,Kilpailu!B65,""))) -> Cobra Roll with pushed flip | C52: 9.5 | D52: 9 | E52: 9 | F52: 9 | G52: 9 | H52: =(SUM(C52:G52)*IF(Kilpailu!$B$6 =Kilpailu!$A$79,Kilpailu!C35,IF(Kilpailu!$B$6 =Kilpailu!$A$80,Kilpailu!C50,IF(Kilpailu!$B$6 =Kilpailu!$A$81,Kilpailu!C65,1))))-SMALL(C52:G52,1)-LARGE(C52:G52,1) -> 27
A53: 7. | B53: =IF(Kilpailu!$B$6 =Kilpailu!$A$79,Kilpailu!B36,IF(Kilpailu!$B$6 =Kilpailu!$A$80,Kilpailu!B51,IF(Kilpailu!$B$6 =Kilpailu!$A$81,Kilpailu!B66,""))) -> Vertical candle | C53: 9 | D53: 9 | E53: 9 | F53: 8.5 | G53: 9 | H53: =(SUM(C53:G53)*IF(Kilpailu!$B$6 =Kilpailu!$A$79,Kilpailu!C36,IF(Kilpailu!$B$6 =Kilpailu!$A$80,Kilpailu!C51,IF(Kilpailu!$B$6 =Kilpailu!$A$81,Kilpailu!C66,1))))-SMALL(C53:G53,1)-LARGE(C53:G53,1) -> 27
A54: 8. | B54: =IF(Kilpailu!$B$6 =Kilpailu!$A$79,Kilpailu!B37,IF(Kilpailu!$B$6 =Kilpailu!$A$80,Kilpailu!B52,IF(Kilpailu!$B$6 =Kilpailu!$A$81,Kilpailu!B67,""))) -> Opposite 2 point rolls | C54: 9.5 | D54: 9 | E54: 9 | F54: 9 | G54: 9 | H54: =(SUM(C54:G54)*IF(Kilpailu!$B$6 =Kilpailu!$A$79,Kilpailu!C37,IF(Kilpailu!$B$6 =Kilpailu!$A$80,Kilpailu!C52,IF(Kilpailu!$B$6 =Kilpailu!$A$81,Kilpailu!C67,1))))-SMALL(C54:G54,1)-LARGE(C54:G54,1) -> 27
A55: 9. | B55: =IF(Kilpailu!$B$6 =Kilpailu!$A$79,Kilpailu!B38,IF(Kilpailu!$B$6 =Kilpailu!$A$80,Kilpailu!B53,IF(Kilpailu!$B$6 =Kilpailu!$A$81,Kilpailu!B68,""))) -> Inside loop with pirouette on top | C55: 9.5 | D55: 9.5 | E55: 9 | F55: 9 | G55: 9 | H55: =(SUM(C55:G55)*IF(Kilpailu!$B$6 =Kilpailu!$A$79,Kilpailu!C38,IF(Kilpailu!$B$6 =Kilpailu!$A$80,Kilpailu!C53,IF(Kilpailu!$B$6 =Kilpailu!$A$81,Kilpailu!C68,1))))-SMALL(C55:G55,1)-LARGE(C55:G55,1) -> 27.5
A56: 10. | B56: =IF(Kilpailu!$B$6 =Kilpailu!$A$79,Kilpailu!B39,IF(Kilpailu!$B$6 =Kilpailu!$A$80,Kilpailu!B54,IF(Kilpailu!$B$6 =Kilpailu!$A$81,Kilpailu!B69,""))) -> Autorotation with two 90º turns | C56: 9 | D56: 8 | E56: 8 | F56: 9 | G56: 8 | H56: =(SUM(C56:G56)*IF(Kilpailu!$B$6 =Kilpailu!$A$79,Kilpailu!C39,IF(Kilpailu!$B$6 =Kilpailu!$A$80,Kilpailu!C54,IF(Kilpailu!$B$6 =Kilpailu!$A$81,Kilpailu!C69,1))))-SMALL(C56:G56,1)-LARGE(C56:G56,1) -> 25
A57: 11. | B57: =IF(Kilpailu!$B$6 =Kilpailu!$A$79,Kilpailu!B40,IF(Kilpailu!$B$6 =Kilpailu!$A$80,Kilpailu!B55,IF(Kilpailu!$B$6 =Kilpailu!$A$81,Kilpailu!B70,""))) | G57: 0 | H57: =(SUM(C57:G57)*IF(Kilpailu!$B$6 =Kilpailu!$A$79,Kilpailu!C40,IF(Kilpailu!$B$6 =Kilpailu!$A$80,Kilpailu!C55,IF(Kilpailu!$B$6 =Kilpailu!$A$81,Kilpailu!C70,1))))-SMALL(C57:G57,1)-LARGE(C57:G57,1) -> 0
B58: Yht. | C58: =SUM(C47:C57) -> 92.5 | D58: =SUM(D47:D57) -> 87 | E58: =SUM(E47:E57) -> 87 | F58: =SUM(F47:F57) -> 86.5 | G58: =SUM(G47:G57) -> 86

Sheet 3
D4: Pisteet | E4: Suht…
A5: Nimi: | B5: =Kilpailu!B12 -> Jukka | C5: Kierros 1. | D5: =SUM(C26:G26)-LARGE(C26:G26,1)-SMALL(C26:G26,1) -> 149 | E5: =Tulokset!D30 -> 602.0202
C6: Kierros 2. | D6: =SUM(C42:G42)-LARGE(C42:G42,1)-SMALL(C42:G42,1) -> 146 | E6: =Tulokset!D50 -> 575.93688
A7: Paikka: | B7: =Kilpailu!B4 -> Vesivehmaa | C7: Kierros 3. | D7: =SUM(C58:G58)-LARGE(C58:G58,1)-SMALL(C58:G58,1) -> 179 | E7: =Tulokset!D70 -> 687.14012
A8: Päivä: | B8: =Kilpailu!B5 -> 40397
A9: Ohjelma: | B9: =Kilpailu!B6 -> F3C-P | C9: yhteensä: | D9: =SUM(D5:D7) -> 474 | E9: =SUM(E5:E7) -> 1865.0972
C10: pois: | D10: =SMALL(D5:D7,1) -> 146 | E10: =SMALL(E5:E7,1) -> 575.93688
C11: 2 parasta: | D11: =SUM(D5:D7)-D10 -> 328 | E11: =SUM(E5:E7)-E10 -> 1289.1603
A14: Kierros 1: | C14: Tuomari 1 | D14: Tuomari 2 | E14: Tuomari 3 | F14: Tuomari 4 | G14: Tuomari 5 | H14: yht.
A15: 1. | B15: =IF(Kilpailu!$B$6 =Kilpailu!$A$79,Kilpailu!B30,IF(Kilpailu!$B$6 =Kilpailu!$A$80,Kilpailu!B45,IF(Kilpailu!$B$6 =Kilpailu!$A$81,Kilpailu!B60,""))) -> M with 2 half pirouettes on all side | C15: 5.5 | D15: 4 | E15: 4 | F15: 4.5 | G15: 5 | H15: =(SUM(C15:G15)*IF(Kilpailu!$B$6 =Kilpailu!$A$79,Kilpailu!C30,IF(Kilpailu!$B$6 =Kilpailu!$A$80,Kilpailu!C45,IF(Kilpailu!$B$6 =Kilpailu!$A$81,Kilpailu!C60,1))))-SMALL(C15:G15,1)-LARGE(C15:G15,1) -> 13.5
A16: 2. | B16: =IF(Kilpailu!$B$6 =Kilpailu!$A$79,Kilpailu!B31,IF(Kilpailu!$B$6 =Kilpailu!$A$80,Kilpailu!B46,IF(Kilpailu!$B$6 =Kilpailu!$A$81,Kilpailu!B61,""))) -> Semicircle with pirouette | C16: 5.5 | D16: 5.5 | E16: 5 | F16: 5.5 | G16: 7 | H16: =(SUM(C16:G16)*IF(Kilpailu!$B$6 =Kilpailu!$A$79,Kilpailu!C31,IF(Kilpailu!$B$6 =Kilpailu!$A$80,Kilpailu!C46,IF(Kilpailu!$B$6 =Kilpailu!$A$81,Kilpailu!C61,1))))-SMALL(C16:G16,1)-LARGE(C16:G16,1) -> 16.5
A17: 3. | B17: =IF(Kilpailu!$B$6 =Kilpailu!$A$79,Kilpailu!B32,IF(Kilpailu!$B$6 =Kilpailu!$A$80,Kilpailu!B47,IF(Kilpailu!$B$6 =Kilpailu!$A$81,Kilpailu!B62,""))) -> Diamond 3 | C17: 5.5 | D17: 5 | E17: 4 | F17: 5 | G17: 6 | H17: =(SUM(C17:G17)*IF(Kilpailu!$B$6 =Kilpailu!$A$79,Kilpailu!C32,IF(Kilpailu!$B$6 =Kilpailu!$A$80,Kilpailu!C47,IF(Kilpailu!$B$6 =Kilpailu!$A$81,Kilpailu!C62,1))))-SMALL(C17:G17,1)-LARGE(C17:G17,1) -> 15.5
A18: 4. | B18: =IF(Kilpailu!$B$6 =Kilpailu!$A$79,Kilpailu!B33,IF(Kilpailu!$B$6 =Kilpailu!$A$80,Kilpailu!B48,IF(Kilpailu!$B$6 =Kilpailu!$A$81,Kilpailu!B63,""))) -> Cuban eight | C18: 6.5 | D18: 6 | E18: 6 | F18: 4 | G18: 6 | H18: =(SUM(C18:G18)*IF(Kilpailu!$B$6 =Kilpailu!$A$79,Kilpailu!C33,IF(Kilpailu!$B$6 =Kilpailu!$A$80,Kilpailu!C48,IF(Kilpailu!$B$6 =Kilpailu!$A$81,Kilpailu!C63,1))))-SMALL(C18:G18,1)-LARGE(C18:G18,1) -> 18
A19: 5. | B19: =IF(Kilpailu!$B$6 =Kilpailu!$A$79,Kilpailu!B34,IF(Kilpailu!$B$6 =Kilpailu!$A$80,Kilpailu!B49,IF(Kilpailu!$B$6 =Kilpailu!$A$81,Kilpailu!B64,""))) -> Pullpack with backward full roll | C19: 6 | D19: 5 | E19: 5.5 | F19: 5 | G19: 4 | H19: =(SUM(C19:G19)*IF(Kilpailu!$B$6 =Kilpailu!$A$79,Kilpailu!C34,IF(Kilpailu!$B$6 =Kilpailu!$A$80,Kilpailu!C49,IF(Kilpailu!$B$6 =Kilpailu!$A$81,Kilpailu!C64,1))))-SMALL(C19:G19,1)-LARGE(C19:G19,1) -> 15.5
A20: 6. | B20: =IF(Kilpailu!$B$6 =Kilpailu!$A$79,Kilpailu!B35,IF(Kilpailu!$B$6 =Kilpailu!$A$80,Kilpailu!B50,IF(Kilpailu!$B$6 =Kilpailu!$A$81,Kilpailu!B65,""))) -> Cobra Roll with pushed flip | C20: 5 | D20: 5.5 | E20: 5.5 | F20: 5 | G20: 7 | H20: =(SUM(C20:G20)*IF(Kilpailu!$B$6 =Kilpailu!$A$79,Kilpailu!C35,IF(Kilpailu!$B$6 =Kilpailu!$A$80,Kilpailu!C50,IF(Kilpailu!$B$6 =Kilpailu!$A$81,Kilpailu!C65,1))))-SMALL(C20:G20,1)-LARGE(C20:G20,1) -> 16
A21: 7. | B21: =IF(Kilpailu!$B$6 =Kilpailu!$A$79,Kilpailu!B36,IF(Kilpailu!$B$6 =Kilpailu!$A$80,Kilpailu!B51,IF(Kilpailu!$B$6 =Kilpailu!$A$81,Kilpailu!B66,""))) -> Vertical candle | C21: 4 | D21: 3 | E21: 2.5 | F21: 2 | G21: 4 | H21: =(SUM(C21:G21)*IF(Kilpailu!$B$6 =Kilpailu!$A$79,Kilpailu!C36,IF(Kilpailu!$B$6 =Kilpailu!$A$80,Kilpailu!C51,IF(Kilpailu!$B$6 =Kilpailu!$A$81,Kilpailu!C66,1))))-SMALL(C21:G21,1)-LARGE(C21:G21,1) -> 9.5
A22: 8. | B22: =IF(Kilpailu!$B$6 =Kilpailu!$A$79,Kilpailu!B37,IF(Kilpailu!$B$6 =Kilpailu!$A$80,Kilpailu!B52,IF(Kilpailu!$B$6 =Kilpailu!$A$81,Kilpailu!B67,""))) -> Opposite 2 point rolls | C22: 5.5 | D22: 5.5 | E22: 5 | F22: 4 | G22: 5 | H22: =(SUM(C22:G22)*IF(Kilpailu!$B$6 =Kilpailu!$A$79,Kilpailu!C37,IF(Kilpailu!$B$6 =Kilpailu!$A$80,Kilpailu!C52,IF(Kilpailu!$B$6 =Kilpailu!$A$81,Kilpailu!C67,1))))-SMALL(C22:G22,1)-LARGE(C22:G22,1) -> 15.5
A23: 9. | B23: =IF(Kilpailu!$B$6 =Kilpailu!$A$79,Kilpailu!B38,IF(Kilpailu!$B$6 =Kilpailu!$A$80,Kilpailu!B53,IF(Kilpailu!$B$6 =Kilpailu!$A$81,Kilpailu!B68,""))) -> Inside loop with pirouette on top | C23: 6.5 | D23: 5 | E23: 6 | F23: 4.5 | G23: 5 | H23: =(SUM(C23:G23)*IF(Kilpailu!$B$6 =Kilpailu!$A$79,Kilpailu!C38,IF(Kilpailu!$B$6 =Kilpailu!$A$80,Kilpailu!C53,IF(Kilpailu!$B$6 =Kilpailu!$A$81,Kilpailu!C68,1))))-SMALL(C23:G23,1)-LARGE(C23:G23,1) -> 16
A24: 10. | B24: =IF(Kilpailu!$B$6 =Kilpailu!$A$79,Kilpailu!B39,IF(Kilpailu!$B$6 =Kilpailu!$A$80,Kilpailu!B54,IF(Kilpailu!$B$6 =Kilpailu!$A$81,Kilpailu!B69,""))) -> Autorotation with two 90º turns | C24: 5 | D24: 5 | E24: 3 | F24: 4 | G24: 4 | H24: =(SUM(C24:G24)*IF(Kilpailu!$B$6 =Kilpailu!$A$79,Kilpailu!C39,IF(Kilpailu!$B$6 =Kilpailu!$A$80,Kilpailu!C54,IF(Kilpailu!$B$6 =Kilpailu!$A$81,Kilpailu!C69,1))))-SMALL(C24:G24,1)-LARGE(C24:G24,1) -> 13
A25: 11. | B25: =IF(Kilpailu!$B$6 =Kilpailu!$A$79,Kilpailu!B40,IF(Kilpailu!$B$6 =Kilpailu!$A$80,Kilpailu!B55,IF(Kilpailu!$B$6 =Kilpailu!$A$81,Kilpailu!B70,""))) | G25: 0 | H25: =(SUM(C25:G25)*IF(Kilpailu!$B$6 =Kilpailu!$A$79,Kilpailu!C40,IF(Kilpailu!$B$6 =Kilpailu!$A$80,Kilpailu!C55,IF(Kilpailu!$B$6 =Kilpailu!$A$81,Kilpailu!C70,1))))-SMALL(C25:G25,1)-LARGE(C25:G25,1) -> 0
B26: Yht. | C26: =SUM(C15:C25) -> 55 | D26: =SUM(D15:D25) -> 49.5 | E26: =SUM(E15:E25) -> 46.5 | F26: =SUM(F15:F25) -> 43.5 | G26: =SUM(G15:G25) -> 53
A30: Kierros 2: | C30: Tuomari 1 | D30: Tuomari 2 | E30: Tuomari 3 | F30: Tuomari 4 | G30: Tuomari 5 | H30: yht.
A31: 1. | B31: =IF(Kilpailu!$B$6 =Kilpailu!$A$79,Kilpailu!B30,IF(Kilpailu!$B$6 =Kilpailu!$A$80,Kilpailu!B45,IF(Kilpailu!$B$6 =Kilpailu!$A$81,Kilpailu!B60,""))) -> M with 2 half pirouettes on all side | C31: 6 | D31: 5.5 | E31: 4 | F31: 5.5 | G31: 6 | H31: =(SUM(C31:G31)*IF(Kilpailu!$B$6 =Kilpailu!$A$79,Kilpailu!C30,IF(Kilpailu!$B$6 =Kilpailu!$A$80,Kilpailu!C45,IF(Kilpailu!$B$6 =Kilpailu!$A$81,Kilpailu!C60,1))))-SMALL(C31:G31,1)-LARGE(C31:G31,1) -> 17
A32: 2. | B32: =IF(Kilpailu!$B$6 =Kilpailu!$A$79,Kilpailu!B31,IF(Kilpailu!$B$6 =Kilpailu!$A$80,Kilpailu!B46,IF(Kilpailu!$B$6 =Kilpailu!$A$81,Kilpailu!B61,""))) -> Semicircle with pirouette | C32: 6 | D32: 5.5 | E32: 4 | F32: 6 | G32: 7 | H32: =(SUM(C32:G32)*IF(Kilpailu!$B$6 =Kilpailu!$A$79,Kilpailu!C31,IF(Kilpailu!$B$6 =Kilpailu!$A$80,Kilpailu!C46,IF(Kilpailu!$B$6 =Kilpailu!$A$81,Kilpailu!C61,1))))-SMALL(C32:G32,1)-LARGE(C32:G32,1) -> 17.5
A33: 3. | B33: =IF(Kilpailu!$B$6 =Kilpailu!$A$79,Kilpailu!B32,IF(Kilpailu!$B$6 =Kilpailu!$A$80,Kilpailu!B47,IF(Kilpailu!$B$6 =Kilpailu!$A$81,Kilpailu!B62,""))) -> Diamond 3 | C33: 5.5 | D33: 4 | E33: 3.5 | F33: 5 | G33: 6 | H33: =(SUM(C33:G33)*IF(Kilpailu!$B$6 =Kilpailu!$A$79,Kilpailu!C32,IF(Kilpailu!$B$6 =Kilpailu!$A$80,Kilpailu!C47,IF(Kilpailu!$B$6 =Kilpailu!$A$81,Kilpailu!C62,1))))-SMALL(C33:G33,1)-LARGE(C33:G33,1) -> 14.5
A34: 4. | B34: =IF(Kilpailu!$B$6 =Kilpailu!$A$79,Kilpailu!B33,IF(Kilpailu!$B$6 =Kilpailu!$A$80,Kilpailu!B48,IF(Kilpailu!$B$6 =Kilpailu!$A$81,Kilpailu!B63,""))) -> Cuban eight | C34: 7 | D34: 6 | E34: 6 | F34: 6.5 | G34: 6 | H34: =(SUM(C34:G34)*IF(Kilpailu!$B$6 =Kilpailu!$A$79,Kilpailu!C33,IF(Kilpailu!$B$6 =Kilpailu!$A$80,Kilpailu!C48,IF(Kilpailu!$B$6 =Kilpailu!$A$81,Kilpailu!C63,1))))-SMALL(C34:G34,1)-LARGE(C34:G34,1) -> 18.5
A35: 5. | B35: =IF(Kilpailu!$B$6 =Kilpailu!$A$79,Kilpailu!B34,IF(Kilpailu!$B$6 =Kilpailu!$A$80,Kilpailu!B49,IF(Kilpailu!$B$6 =Kilpailu!$A$81,Kilpailu!B64,""))) -> Pullpack with backward full roll | C35: 5 | D35: 5.5 | E35: 4.5 | F35: 4.5 | G35: 4 | H35: =(SUM(C35:G35)*IF(Kilpailu!$B$6 =Kilpailu!$A$79,Kilpailu!C34,IF(Kilpailu!$B$6 =Kilpailu!$A$80,Kilpailu!C49,IF(Kilpailu!$B$6 =Kilpailu!$A$81,Kilpailu!C64,1))))-SMALL(C35:G35,1)-LARGE(C35:G35,1) -> 14
A36: 6. | B36: =IF(Kilpailu!$B$6 =Kilpailu!$A$79,Kilpailu!B35,IF(Kilpailu!$B$6 =Kilpailu!$A$80,Kilpailu!B50,IF(Kilpailu!$B$6 =Kilpailu!$A$81,Kilpailu!B65,""))) -> Cobra Roll with pushed flip | C36: 6 | D36: 6.5 | E36: 4 | F36: 5 | G36: 5 | H36: =(SUM(C36:G36)*IF(Kilpailu!$B$6 =Kilpailu!$A$79,Kilpailu!C35,IF(Kilpailu!$B$6 =Kilpailu!$A$80,Kilpailu!C50,IF(Kilpailu!$B$6 =Kilpailu!$A$81,Kilpailu!C65,1))))-SMALL(C36:G36,1)-LARGE(C36:G36,1) -> 16
A37: 7. | B37: =IF(Kilpailu!$B$6 =Kilpailu!$A$79,Kilpailu!B36,IF(Kilpailu!$B$6 =Kilpailu!$A$80,Kilpailu!B51,IF(Kilpailu!$B$6 =Kilpailu!$A$81,Kilpailu!B66,""))) -> Vertical candle | C37: 7 | D37: 7 | E37: 5 | F37: 6 | G37: 5 | H37: =(SUM(C37:G37)*IF(Kilpailu!$B$6 =Kilpailu!$A$79,Kilpailu!C36,IF(Kilpailu!$B$6 =Kilpailu!$A$80,Kilpailu!C51,IF(Kilpailu!$B$6 =Kilpailu!$A$81,Kilpailu!C66,1))))-SMALL(C37:G37,1)-LARGE(C37:G37,1) -> 18
A38: 8. | B38: =IF(Kilpailu!$B$6 =Kilpailu!$A$79,Kilpailu!B37,IF(Kilpailu!$B$6 =Kilpailu!$A$80,Kilpailu!B52,IF(Kilpailu!$B$6 =Kilpailu!$A$81,Kilpailu!B67,""))) -> Opposite 2 point rolls | C38: 4 | D38: 3 | E38: 2 | F38: 3 | G38: 3 | H38: =(SUM(C38:G38)*IF(Kilpailu!$B$6 =Kilpailu!$A$79,Kilpailu!C37,IF(Kilpailu!$B$6 =Kilpailu!$A$80,Kilpailu!C52,IF(Kilpailu!$B$6 =Kilpailu!$A$81,Kilpailu!C67,1))))-SMALL(C38:G38,1)-LARGE(C38:G38,1) -> 9
A39: 9. | B39: =IF(Kilpailu!$B$6 =Kilpailu!$A$79,Kilpailu!B38,IF(Kilpailu!$B$6 =Kilpailu!$A$80,Kilpailu!B53,IF(Kilpailu!$B$6 =Kilpailu!$A$81,Kilpailu!B68,""))) -> Inside loop with pirouette on top | C39: 6.5 | D39: 6 | E39: 6.5 | F39: 5.5 | G39: 5 | H39: =(SUM(C39:G39)*IF(Kilpailu!$B$6 =Kilpailu!$A$79,Kilpailu!C38,IF(Kilpailu!$B$6 =Kilpailu!$A$80,Kilpailu!C53,IF(Kilpailu!$B$6 =Kilpailu!$A$81,Kilpailu!C68,1))))-SMALL(C39:G39,1)-LARGE(C39:G39,1) -> 18
A40: 10. | B40: =IF(Kilpailu!$B$6 =Kilpailu!$A$79,Kilpailu!B39,IF(Kilpailu!$B$6 =Kilpailu!$A$80,Kilpailu!B54,IF(Kilpailu!$B$6 =Kilpailu!$A$81,Kilpailu!B69,""))) -> Autorotation with two 90º turns | C40: 1 | D40: 1 | E40: 1 | F40: 1 | G40: 1 | H40: =(SUM(C40:G40)*IF(Kilpailu!$B$6 =Kilpailu!$A$79,Kilpailu!C39,IF(Kilpailu!$B$6 =Kilpailu!$A$80,Kilpailu!C54,IF(Kilpailu!$B$6 =Kilpailu!$A$81,Kilpailu!C69,1))))-SMALL(C40:G40,1)-LARGE(C40:G40,1) -> 3
A41: 11. | B41: =IF(Kilpailu!$B$6 =Kilpailu!$A$79,Kilpailu!B40,IF(Kilpailu!$B$6 =Kilpailu!$A$80,Kilpailu!B55,IF(Kilpailu!$B$6 =Kilpailu!$A$81,Kilpailu!B70,""))) | G41: 0 | H41: =(SUM(C41:G41)*IF(Kilpailu!$B$6 =Kilpailu!$A$79,Kilpailu!C40,IF(Kilpailu!$B$6 =Kilpailu!$A$80,Kilpailu!C55,IF(Kilpailu!$B$6 =Kilpailu!$A$81,Kilpailu!C70,1))))-SMALL(C41:G41,1)-LARGE(C41:G41,1) -> 0
B42: Yht. | C42: =SUM(C31:C41) -> 54 | D42: =SUM(D31:D41) -> 50 | E42: =SUM(E31:E41) -> 40.5 | F42: =SUM(F31:F41) -> 48 | G42: =SUM(G31:G41) -> 48
A46: Kierros 3: | C46: Tuomari 1 | D46: Tuomari 2 | E46: Tuomari 3 | F46: Tuomari 4 | G46: Tuomari 5 | H46: yht.
A47: 1. | B47: =IF(Kilpailu!$B$6 =Kilpailu!$A$79,Kilpailu!B30,IF(Kilpailu!$B$6 =Kilpailu!$A$80,Kilpailu!B45,IF(Kilpailu!$B$6 =Kilpailu!$A$81,Kilpailu!B60,""))) -> M with 2 half pirouettes on all side | C47: 7 | D47: 5.5 | E47: 6 | F47: 7 | G47: 6 | H47: =(SUM(C47:G47)*IF(Kilpailu!$B$6 =Kilpailu!$A$79,Kilpailu!C30,IF(Kilpailu!$B$6 =Kilpailu!$A$80,Kilpailu!C45,IF(Kilpailu!$B$6 =Kilpailu!$A$81,Kilpailu!C60,1))))-SMALL(C47:G47,1)-LARGE(C47:G47,1) -> 19
A48: 2. | B48: =IF(Kilpailu!$B$6 =Kilpailu!$A$79,Kilpailu!B31,IF(Kilpailu!$B$6 =Kilpailu!$A$80,Kilpailu!B46,IF(Kilpailu!$B$6 =Kilpailu!$A$81,Kilpailu!B61,""))) -> Semicircle with pirouette | C48: 6.5 | D48: 6 | E48: 6 | F48: 7 | G48: 7 | H48: =(SUM(C48:G48)*IF(Kilpailu!$B$6 =Kilpailu!$A$79,Kilpailu!C31,IF(Kilpailu!$B$6 =Kilpailu!$A$80,Kilpailu!C46,IF(Kilpailu!$B$6 =Kilpailu!$A$81,Kilpailu!C61,1))))-SMALL(C48:G48,1)-LARGE(C48:G48,1) -> 19.5
A49: 3. | B49: =IF(Kilpailu!$B$6 =Kilpailu!$A$79,Kilpailu!B32,IF(Kilpailu!$B$6 =Kilpailu!$A$80,Kilpailu!B47,IF(Kilpailu!$B$6 =Kilpailu!$A$81,Kilpailu!B62,""))) -> Diamond 3 | C49: 6 | D49: 5 | E49: 5 | F49: 7 | G49: 6 | H49: =(SUM(C49:G49)*IF(Kilpailu!$B$6 =Kilpailu!$A$79,Kilpailu!C32,IF(Kilpailu!$B$6 =Kilpailu!$A$80,Kilpailu!C47,IF(Kilpailu!$B$6 =Kilpailu!$A$81,Kilpailu!C62,1))))-SMALL(C49:G49,1)-LARGE(C49:G49,1) -> 17
A50: 4. | B50: =IF(Kilpailu!$B$6 =Kilpailu!$A$79,Kilpailu!B33,IF(Kilpailu!$B$6 =Kilpailu!$A$80,Kilpailu!B48,IF(Kilpailu!$B$6 =Kilpailu!$A$81,Kilpailu!B63,""))) -> Cuban eight | C50: 7 | D50: 6 | E50: 7 | F50: 8 | G50: 5 | H50: =(SUM(C50:G50)*IF(Kilpailu!$B$6 =Kilpailu!$A$79,Kilpailu!C33,IF(Kilpailu!$B$6 =Kilpailu!$A$80,Kilpailu!C48,IF(Kilpailu!$B$6 =Kilpailu!$A$81,Kilpailu!C63,1))))-SMALL(C50:G50,1)-LARGE(C50:G50,1) -> 20
A51: 5. | B51: =IF(Kilpailu!$B$6 =Kilpailu!$A$79,Kilpailu!B34,IF(Kilpailu!$B$6 =Kilpailu!$A$80,Kilpailu!B49,IF(Kilpailu!$B$6 =Kilpailu!$A$81,Kilpailu!B64,""))) -> Pullpack with backward full roll | C51: 6.5 | D51: 5.5 | E51: 5 | F51: 7 | G51: 5 | H51: =(SUM(C51:G51)*IF(Kilpailu!$B$6 =Kilpailu!$A$79,Kilpailu!C34,IF(Kilpailu!$B$6 =Kilpailu!$A$80,Kilpailu!C49,IF(Kilpailu!$B$6 =Kilpailu!$A$81,Kilpailu!C64,1))))-SMALL(C51:G51,1)-LARGE(C51:G51,1) -> 17
A52: 6. | B52: =IF(Kilpailu!$B$6 =Kilpailu!$A$79,Kilpailu!B35,IF(Kilpailu!$B$6 =Kilpailu!$A$80,Kilpailu!B50,IF(Kilpailu!$B$6 =Kilpailu!$A$81,Kilpailu!B65,""))) -> Cobra Roll with pushed flip | C52: 6.5 | D52: 5.5 | E52: 6 | F52: 6.5 | G52: 6 | H52: =(SUM(C52:G52)*IF(Kilpailu!$B$6 =Kilpailu!$A$79,Kilpailu!C35,IF(Kilpailu!$B$6 =Kilpailu!$A$80,Kilpailu!C50,IF(Kilpailu!$B$6 =Kilpailu!$A$81,Kilpailu!C65,1))))-SMALL(C52:G52,1)-LARGE(C52:G52,1) -> 18.5
A53: 7. | B53: =IF(Kilpailu!$B$6 =Kilpailu!$A$79,Kilpailu!B36,IF(Kilpailu!$B$6 =Kilpailu!$A$80,Kilpailu!B51,IF(Kilpailu!$B$6 =Kilpailu!$A$81,Kilpailu!B66,""))) -> Vertical candle | C53: 8 | D53: 6 | E53: 7 | F53: 7.5 | G53: 7 | H53: =(SUM(C53:G53)*IF(Kilpailu!$B$6 =Kilpailu!$A$79,Kilpailu!C36,IF(Kilpailu!$B$6 =Kilpailu!$A$80,Kilpailu!C51,IF(Kilpailu!$B$6 =Kilpailu!$A$81,Kilpailu!C66,1))))-SMALL(C53:G53,1)-LARGE(C53:G53,1) -> 21.5
A54: 8. | B54: =IF(Kilpailu!$B$6 =Kilpailu!$A$79,Kilpailu!B37,IF(Kilpailu!$B$6 =Kilpailu!$A$80,Kilpailu!B52,IF(Kilpailu!$B$6 =Kilpailu!$A$81,Kilpailu!B67,""))) -> Opposite 2 point rolls | C54: 7 | D54: 4 | E54: 4.5 | F54: 6.5 | G54: 5 | H54: =(SUM(C54:G54)*IF(Kilpailu!$B$6 =Kilpailu!$A$79,Kilpailu!C37,IF(Kilpailu!$B$6 =Kilpailu!$A$80,Kilpailu!C52,IF(Kilpailu!$B$6 =Kilpailu!$A$81,Kilpailu!C67,1))))-SMALL(C54:G54,1)-LARGE(C54:G54,1) -> 16
A55: 9. | B55: =IF(Kilpailu!$B$6 =Kilpailu!$A$79,Kilpailu!B38,IF(Kilpailu!$B$6 =Kilpailu!$A$80,Kilpailu!B53,IF(Kilpailu!$B$6 =Kilpailu!$A$81,Kilpailu!B68,""))) -> Inside loop with pirouette on top | C55: 6.5 | D55: 5 | E55: 6 | F55: 7 | G55: 7 | H55: =(SUM(C55:G55)*IF(Kilpailu!$B$6 =Kilpailu!$A$79,Kilpailu!C38,IF(Kilpailu!$B$6 =Kilpailu!$A$80,Kilpailu!C53,IF(Kilpailu!$B$6 =Kilpailu!$A$81,Kilpailu!C68,1))))-SMALL(C55:G55,1)-LARGE(C55:G55,1) -> 19.5
A56: 10. | B56: =IF(Kilpailu!$B$6 =Kilpailu!$A$79,Kilpailu!B39,IF(Kilpailu!$B$6 =Kilpailu!$A$80,Kilpailu!B54,IF(Kilpailu!$B$6 =Kilpailu!$A$81,Kilpailu!B69,""))) -> Autorotation with two 90º turns | C56: 3.5 | D56: 3 | E56: 4 | F56: 5 | G56: 4 | H56: =(SUM(C56:G56)*IF(Kilpailu!$B$6 =Kilpailu!$A$79,Kilpailu!C39,IF(Kilpailu!$B$6 =Kilpailu!$A$80,Kilpailu!C54,IF(Kilpailu!$B$6 =Kilpailu!$A$81,Kilpailu!C69,1))))-SMALL(C56:G56,1)-LARGE(C56:G56,1) -> 11.5
A57: 11. | B57: =IF(Kilpailu!$B$6 =Kilpailu!$A$79,Kilpailu!B40,IF(Kilpailu!$B$6 =Kilpailu!$A$80,Kilpailu!B55,IF(Kilpailu!$B$6 =Kilpailu!$A$81,Kilpailu!B70,""))) | G57: 0 | H57: =(SUM(C57:G57)*IF(Kilpailu!$B$6 =Kilpailu!$A$79,Kilpailu!C40,IF(Kilpailu!$B$6 =Kilpailu!$A$80,Kilpailu!C55,IF(Kilpailu!$B$6 =Kilpailu!$A$81,Kilpailu!C70,1))))-SMALL(C57:G57,1)-LARGE(C57:G57,1) -> 0
B58: Yht. | C58: =SUM(C47:C57) -> 64.5 | D58: =SUM(D47:D57) -> 51.5 | E58: =SUM(E47:E57) -> 56.5 | F58: =SUM(F47:F57) -> 68.5 | G58: =SUM(G47:G57) -> 58

Sheet 4
D4: Pisteet | E4: Suht…
A5: Nimi: | B5: =Kilpailu!B13 -> Sami | C5: Kierros 1. | D5: =SUM(C26:G26)-LARGE(C26:G26,1)-SMALL(C26:G26,1) -> 131 | E5: =Tulokset!D31 -> 529.29293
C6: Kierros 2. | D6: =SUM(C42:G42)-LARGE(C42:G42,1)-SMALL(C42:G42,1) -> 118.5 | E6: =Tulokset!D51 -> 467.45562
A7: Paikka: | B7: =Kilpailu!B4 -> Vesivehmaa | C7: Kierros 3. | D7: =SUM(C58:G58)-LARGE(C58:G58,1)-SMALL(C58:G58,1) -> 143 | E7: =Tulokset!D71 -> 548.94434
A8: Päivä: | B8: =Kilpailu!B5 -> 40397
A9: Ohjelma: | B9: =Kilpailu!B6 -> F3C-P | C9: yhteensä: | D9: =SUM(D5:D7) -> 392.5 | E9: =SUM(E5:E7) -> 1545.6929
C10: pois: | D10: =SMALL(D5:D7,1) -> 118.5 | E10: =SMALL(E5:E7,1) -> 467.45562
C11: 2 parasta: | D11: =SUM(D5:D7)-D10 -> 274 | E11: =SUM(E5:E7)-E10 -> 1078.2373
A14: Kierros 1: | C14: Tuomari 1 | D14: Tuomari 2 | E14: Tuomari 3 | F14: Tuomari 4 | G14: Tuomari 5 | H14: yht.
A15: 1. | B15: =IF(Kilpailu!$B$6 =Kilpailu!$A$79,Kilpailu!B30,IF(Kilpailu!$B$6 =Kilpailu!$A$80,Kilpailu!B45,IF(Kilpailu!$B$6 =Kilpailu!$A$81,Kilpailu!B60,""))) -> M with 2 half pirouettes on all side | C15: 3.5 | D15: 3.5 | E15: 2.5 | F15: 3.5 | G15: 3 | H15: =(SUM(C15:G15)*IF(Kilpailu!$B$6 =Kilpailu!$A$79,Kilpailu!C30,IF(Kilpailu!$B$6 =Kilpailu!$A$80,Kilpailu!C45,IF(Kilpailu!$B$6 =Kilpailu!$A$81,Kilpailu!C60,1))))-SMALL(C15:G15,1)-LARGE(C15:G15,1) -> 10
A16: 2. | B16: =IF(Kilpailu!$B$6 =Kilpailu!$A$79,Kilpailu!B31,IF(Kilpailu!$B$6 =Kilpailu!$A$80,Kilpailu!B46,IF(Kilpailu!$B$6 =Kilpailu!$A$81,Kilpailu!B61,""))) -> Semicircle with pirouette | C16: 3.5 | D16: 4 | E16: 3.5 | F16: 3 | G16: 5 | H16: =(SUM(C16:G16)*IF(Kilpailu!$B$6 =Kilpailu!$A$79,Kilpailu!C31,IF(Kilpailu!$B$6 =Kilpailu!$A$80,Kilpailu!C46,IF(Kilpailu!$B$6 =Kilpailu!$A$81,Kilpailu!C61,1))))-SMALL(C16:G16,1)-LARGE(C16:G16,1) -> 11
A17: 3. | B17: =IF(Kilpailu!$B$6 =Kilpailu!$A$79,Kilpailu!B32,IF(Kilpailu!$B$6 =Kilpailu!$A$80,Kilpailu!B47,IF(Kilpailu!$B$6 =Kilpailu!$A$81,Kilpailu!B62,""))) -> Diamond 3 | C17: 3.5 | D17: 5 | E17: 2.5 | F17: 2.5 | G17: 3 | H17: =(SUM(C17:G17)*IF(Kilpailu!$B$6 =Kilpailu!$A$79,Kilpailu!C32,IF(Kilpailu!$B$6 =Kilpailu!$A$80,Kilpailu!C47,IF(Kilpailu!$B$6 =Kilpailu!$A$81,Kilpailu!C62,1))))-SMALL(C17:G17,1)-LARGE(C17:G17,1) -> 9
A18: 4. | B18: =IF(Kilpailu!$B$6 =Kilpailu!$A$79,Kilpailu!B33,IF(Kilpailu!$B$6 =Kilpailu!$A$80,Kilpailu!B48,IF(Kilpailu!$B$6 =Kilpailu!$A$81,Kilpailu!B63,""))) -> Cuban eight | C18: 7 | D18: 6 | E18: 5 | F18: 4 | G18: 5 | H18: =(SUM(C18:G18)*IF(Kilpailu!$B$6 =Kilpailu!$A$79,Kilpailu!C33,IF(Kilpailu!$B$6 =Kilpailu!$A$80,Kilpailu!C48,IF(Kilpailu!$B$6 =Kilpailu!$A$81,Kilpailu!C63,1))))-SMALL(C18:G18,1)-LARGE(C18:G18,1) -> 16
A19: 5. | B19: =IF(Kilpailu!$B$6 =Kilpailu!$A$79,Kilpailu!B34,IF(Kilpailu!$B$6 =Kilpailu!$A$80,Kilpailu!B49,IF(Kilpailu!$B$6 =Kilpailu!$A$81,Kilpailu!B64,""))) -> Pullpack with backward full roll | C19: 4 | D19: 6 | E19: 5 | F19: 4 | G19: 4 | H19: =(SUM(C19:G19)*IF(Kilpailu!$B$6 =Kilpailu!$A$79,Kilpailu!C34,IF(Kilpailu!$B$6 =Kilpailu!$A$80,Kilpailu!C49,IF(Kilpailu!$B$6 =Kilpailu!$A$81,Kilpailu!C64,1))))-SMALL(C19:G19,1)-LARGE(C19:G19,1) -> 13
A20: 6. | B20: =IF(Kilpailu!$B$6 =Kilpailu!$A$79,Kilpailu!B35,IF(Kilpailu!$B$6 =Kilpailu!$A$80,Kilpailu!B50,IF(Kilpailu!$B$6 =Kilpailu!$A$81,Kilpailu!B65,""))) -> Cobra Roll with pushed flip | C20: 4.5 | D20: 4 | E20: 3 | F20: 3.5 | G20: 4 | H20: =(SUM(C20:G20)*IF(Kilpailu!$B$6 =Kilpailu!$A$79,Kilpailu!C35,IF(Kilpailu!$B$6 =Kilpailu!$A$80,Kilpailu!C50,IF(Kilpailu!$B$6 =Kilpailu!$A$81,Kilpailu!C65,1))))-SMALL(C20:G20,1)-LARGE(C20:G20,1) -> 11.5
A21: 7. | B21: =IF(Kilpailu!$B$6 =Kilpailu!$A$79,Kilpailu!B36,IF(Kilpailu!$B$6 =Kilpailu!$A$80,Kilpailu!B51,IF(Kilpailu!$B$6 =Kilpailu!$A$81,Kilpailu!B66,""))) -> Vertical candle | C21: 6 | D21: 5.5 | E21: 5.5 | F21: 4.5 | G21: 5 | H21: =(SUM(C21:G21)*IF(Kilpailu!$B$6 =Kilpailu!$A$79,Kilpailu!C36,IF(Kilpailu!$B$6 =Kilpailu!$A$80,Kilpailu!C51,IF(Kilpailu!$B$6 =Kilpailu!$A$81,Kilpailu!C66,1))))-SMALL(C21:G21,1)-LARGE(C21:G21,1) -> 16
A22: 8. | B22: =IF(Kilpailu!$B$6 =Kilpailu!$A$79,Kilpailu!B37,IF(Kilpailu!$B$6 =Kilpailu!$A$80,Kilpailu!B52,IF(Kilpailu!$B$6 =Kilpailu!$A$81,Kilpailu!B67,""))) -> Opposite 2 point rolls | C22: 6 | D22: 6 | E22: 4.5 | F22: 3.5 | G22: 4 | H22: =(SUM(C22:G22)*IF(Kilpailu!$B$6 =Kilpailu!$A$79,Kilpailu!C37,IF(Kilpailu!$B$6 =Kilpailu!$A$80,Kilpailu!C52,IF(Kilpailu!$B$6 =Kilpailu!$A$81,Kilpailu!C67,1))))-SMALL(C22:G22,1)-LARGE(C22:G22,1) -> 14.5
A23: 9. | B23: =IF(Kilpailu!$B$6 =Kilpailu!$A$79,Kilpailu!B38,IF(Kilpailu!$B$6 =Kilpailu!$A$80,Kilpailu!B53,IF(Kilpailu!$B$6 =Kilpailu!$A$81,Kilpailu!B68,""))) -> Inside loop with pirouette on top | C23: 6.5 | D23: 6.5 | E23: 5.5 | F23: 5 | G23: 2 | H23: =(SUM(C23:G23)*IF(Kilpailu!$B$6 =Kilpailu!$A$79,Kilpailu!C38,IF(Kilpailu!$B$6 =Kilpailu!$A$80,Kilpailu!C53,IF(Kilpailu!$B$6 =Kilpailu!$A$81,Kilpailu!C68,1))))-SMALL(C23:G23,1)-LARGE(C23:G23,1) -> 17
A24: 10. | B24: =IF(Kilpailu!$B$6 =Kilpailu!$A$79,Kilpailu!B39,IF(Kilpailu!$B$6 =Kilpailu!$A$80,Kilpailu!B54,IF(Kilpailu!$B$6 =Kilpailu!$A$81,Kilpailu!B69,""))) -> Autorotation with two 90º turns | C24: 6.5 | D24: 6 | E24: 4 | F24: 4 | G24: 4 | H24: =(SUM(C24:G24)*IF(Kilpailu!$B$6 =Kilpailu!$A$79,Kilpailu!C39,IF(Kilpailu!$B$6 =Kilpailu!$A$80,Kilpailu!C54,IF(Kilpailu!$B$6 =Kilpailu!$A$81,Kilpailu!C69,1))))-SMALL(C24:G24,1)-LARGE(C24:G24,1) -> 14
A25: 11. | B25: =IF(Kilpailu!$B$6 =Kilpailu!$A$79,Kilpailu!B40,IF(Kilpailu!$B$6 =Kilpailu!$A$80,Kilpailu!B55,IF(Kilpailu!$B$6 =Kilpailu!$A$81,Kilpailu!B70,""))) | G25: 0 | H25: =(SUM(C25:G25)*IF(Kilpailu!$B$6 =Kilpailu!$A$79,Kilpailu!C40,IF(Kilpailu!$B$6 =Kilpailu!$A$80,Kilpailu!C55,IF(Kilpailu!$B$6 =Kilpailu!$A$81,Kilpailu!C70,1))))-SMALL(C25:G25,1)-LARGE(C25:G25,1) -> 0
B26: Yht. | C26: =SUM(C15:C25) -> 51 | D26: =SUM(D15:D25) -> 52.5 | E26: =SUM(E15:E25) -> 41 | F26: =SUM(F15:F25) -> 37.5 | G26: =SUM(G15:G25) -> 39
A30: Kierros 2: | C30: Tuomari 1 | D30: Tuomari 2 | E30: Tuomari 3 | F30: Tuomari 4 | G30: Tuomari 5 | H30: yht.
A31: 1. | B31: =IF(Kilpailu!$B$6 =Kilpailu!$A$79,Kilpailu!B30,IF(Kilpailu!$B$6 =Kilpailu!$A$80,Kilpailu!B45,IF(Kilpailu!$B$6 =Kilpailu!$A$81,Kilpailu!B60,""))) -> M with 2 half pirouettes on all side | C31: 5 | D31: 3 | E31: 3 | F31: 4 | G31: 4 | H31: =(SUM(C31:G31)*IF(Kilpailu!$B$6 =Kilpailu!$A$79,Kilpailu!C30,IF(Kilpailu!$B$6 =Kilpailu!$A$80,Kilpailu!C45,IF(Kilpailu!$B$6 =Kilpailu!$A$81,Kilpailu!C60,1))))-SMALL(C31:G31,1)-LARGE(C31:G31,1) -> 11
A32: 2. | B32: =IF(Kilpailu!$B$6 =Kilpailu!$A$79,Kilpailu!B31,IF(Kilpailu!$B$6 =Kilpailu!$A$80,Kilpailu!B46,IF(Kilpailu!$B$6 =Kilpailu!$A$81,Kilpailu!B61,""))) -> Semicircle with pirouette | C32: 5.5 | D32: 3 | E32: 2 | F32: 3 | G32: 3 | H32: =(SUM(C32:G32)*IF(Kilpailu!$B$6 =Kilpailu!$A$79,Kilpailu!C31,IF(Kilpailu!$B$6 =Kilpailu!$A$80,Kilpailu!C46,IF(Kilpailu!$B$6 =Kilpailu!$A$81,Kilpailu!C61,1))))-SMALL(C32:G32,1)-LARGE(C32:G32,1) -> 9
A33: 3. | B33: =IF(Kilpailu!$B$6 =Kilpailu!$A$79,Kilpailu!B32,IF(Kilpailu!$B$6 =Kilpailu!$A$80,Kilpailu!B47,IF(Kilpailu!$B$6 =Kilpailu!$A$81,Kilpailu!B62,""))) -> Diamond 3 | C33: 4 | D33: 3 | E33: 2.5 | F33: 3 | G33: 4 | H33: =(SUM(C33:G33)*IF(Kilpailu!$B$6 =Kilpailu!$A$79,Kilpailu!C32,IF(Kilpailu!$B$6 =Kilpailu!$A$80,Kilpailu!C47,IF(Kilpailu!$B$6 =Kilpailu!$A$81,Kilpailu!C62,1))))-SMALL(C33:G33,1)-LARGE(C33:G33,1) -> 10
A34: 4. | B34: =IF(Kilpailu!$B$6 =Kilpailu!$A$79,Kilpailu!B33,IF(Kilpailu!$B$6 =Kilpailu!$A$80,Kilpailu!B48,IF(Kilpailu!$B$6 =Kilpailu!$A$81,Kilpailu!B63,""))) -> Cuban eight | C34: 4.5 | D34: 4 | E34: 3 | F34: 1 | G34: 3 | H34: =(SUM(C34:G34)*IF(Kilpailu!$B$6 =Kilpailu!$A$79,Kilpailu!C33,IF(Kilpailu!$B$6 =Kilpailu!$A$80,Kilpailu!C48,IF(Kilpailu!$B$6 =Kilpailu!$A$81,Kilpailu!C63,1))))-SMALL(C34:G34,1)-LARGE(C34:G34,1) -> 10
A35: 5. | B35: =IF(Kilpailu!$B$6 =Kilpailu!$A$79,Kilpailu!B34,IF(Kilpailu!$B$6 =Kilpailu!$A$80,Kilpailu!B49,IF(Kilpailu!$B$6 =Kilpailu!$A$81,Kilpailu!B64,""))) -> Pullpack with backward full roll | C35: 4.5 | D35: 4 | E35: 3.5 | F35: 2.5 | G35: 3 | H35: =(SUM(C35:G35)*IF(Kilpailu!$B$6 =Kilpailu!$A$79,Kilpailu!C34,IF(Kilpailu!$B$6 =Kilpailu!$A$80,Kilpailu!C49,IF(Kilpailu!$B$6 =Kilpailu!$A$81,Kilpailu!C64,1))))-SMALL(C35:G35,1)-LARGE(C35:G35,1) -> 10.5
A36: 6. | B36: =IF(Kilpailu!$B$6 =Kilpailu!$A$79,Kilpailu!B35,IF(Kilpailu!$B$6 =Kilpailu!$A$80,Kilpailu!B50,IF(Kilpailu!$B$6 =Kilpailu!$A$81,Kilpailu!B65,""))) -> Cobra Roll with pushed flip | C36: 5 | D36: 5 | E36: 5.5 | F36: 4 | G36: 5 | H36: =(SUM(C36:G36)*IF(Kilpailu!$B$6 =Kilpailu!$A$79,Kilpailu!C35,IF(Kilpailu!$B$6 =Kilpailu!$A$80,Kilpailu!C50,IF(Kilpailu!$B$6 =Kilpailu!$A$81,Kilpailu!C65,1))))-SMALL(C36:G36,1)-LARGE(C36:G36,1) -> 15
A37: 7. | B37: =IF(Kilpailu!$B$6 =Kilpailu!$A$79,Kilpailu!B36,IF(Kilpailu!$B$6 =Kilpailu!$A$80,Kilpailu!B51,IF(Kilpailu!$B$6 =Kilpailu!$A$81,Kilpailu!B66,""))) -> Vertical candle | C37: 6.5 | D37: 5 | E37: 5 | F37: 4 | G37: 4 | H37: =(SUM(C37:G37)*IF(Kilpailu!$B$6 =Kilpailu!$A$79,Kilpailu!C36,IF(Kilpailu!$B$6 =Kilpailu!$A$80,Kilpailu!C51,IF(Kilpailu!$B$6 =Kilpailu!$A$81,Kilpailu!C66,1))))-SMALL(C37:G37,1)-LARGE(C37:G37,1) -> 14
A38: 8. | B38: =IF(Kilpailu!$B$6 =Kilpailu!$A$79,Kilpailu!B37,IF(Kilpailu!$B$6 =Kilpailu!$A$80,Kilpailu!B52,IF(Kilpailu!$B$6 =Kilpailu!$A$81,Kilpailu!B67,""))) -> Opposite 2 point rolls | C38: 6.5 | D38: 6.5 | E38: 5 | F38: 4 | G38: 5 | H38: =(SUM(C38:G38)*IF(Kilpailu!$B$6 =Kilpailu!$A$79,Kilpailu!C37,IF(Kilpailu!$B$6 =Kilpailu!$A$80,Kilpailu!C52,IF(Kilpailu!$B$6 =Kilpailu!$A$81,Kilpailu!C67,1))))-SMALL(C38:G38,1)-LARGE(C38:G38,1) -> 16.5
A39: 9. | B39: =IF(Kilpailu!$B$6 =Kilpailu!$A$79,Kilpailu!B38,IF(Kilpailu!$B$6 =Kilpailu!$A$80,Kilpailu!B53,IF(Kilpailu!$B$6 =Kilpailu!$A$81,Kilpailu!B68,""))) -> Inside loop with pirouette on top | C39: 6.5 | D39: 4.5 | E39: 4 | F39: 3.5 | G39: 3 | H39: =(SUM(C39:G39)*IF(Kilpailu!$B$6 =Kilpailu!$A$79,Kilpailu!C38,IF(Kilpailu!$B$6 =Kilpailu!$A$80,Kilpailu!C53,IF(Kilpailu!$B$6 =Kilpailu!$A$81,Kilpailu!C68,1))))-SMALL(C39:G39,1)-LARGE(C39:G39,1) -> 12
A40: 10. | B40: =IF(Kilpailu!$B$6 =Kilpailu!$A$79,Kilpailu!B39,IF(Kilpailu!$B$6 =Kilpailu!$A$80,Kilpailu!B54,IF(Kilpailu!$B$6 =Kilpailu!$A$81,Kilpailu!B69,""))) -> Autorotation with two 90º turns | C40: 6 | D40: 4.5 | E40: 4.5 | F40: 4 | G40: 4 | H40: =(SUM(C40:G40)*IF(Kilpailu!$B$6 =Kilpailu!$A$79,Kilpailu!C39,IF(Kilpailu!$B$6 =Kilpailu!$A$80,Kilpailu!C54,IF(Kilpailu!$B$6 =Kilpailu!$A$81,Kilpailu!C69,1))))-SMALL(C40:G40,1)-LARGE(C40:G40,1) -> 13
A41: 11. | B41: =IF(Kilpailu!$B$6 =Kilpailu!$A$79,Kilpailu!B40,IF(Kilpailu!$B$6 =Kilpailu!$A$80,Kilpailu!B55,IF(Kilpailu!$B$6 =Kilpailu!$A$81,Kilpailu!B70,""))) | G41: 0 | H41: =(SUM(C41:G41)*IF(Kilpailu!$B$6 =Kilpailu!$A$79,Kilpailu!C40,IF(Kilpailu!$B$6 =Kilpailu!$A$80,Kilpailu!C55,IF(Kilpailu!$B$6 =Kilpailu!$A$81,Kilpailu!C70,1))))-SMALL(C41:G41,1)-LARGE(C41:G41,1) -> 0
B42: Yht. | C42: =SUM(C31:C41) -> 54 | D42: =SUM(D31:D41) -> 42.5 | E42: =SUM(E31:E41) -> 38 | F42: =SUM(F31:F41) -> 33 | G42: =SUM(G31:G41) -> 38
A46: Kierros 3: | C46: Tuomari 1 | D46: Tuomari 2 | E46: Tuomari 3 | F46: Tuomari 4 | G46: Tuomari 5 | H46: yht.
A47: 1. | B47: =IF(Kilpailu!$B$6 =Kilpailu!$A$79,Kilpailu!B30,IF(Kilpailu!$B$6 =Kilpailu!$A$80,Kilpailu!B45,IF(Kilpailu!$B$6 =Kilpailu!$A$81,Kilpailu!B60,""))) -> M with 2 half pirouettes on all side | C47: 5.5 | D47: 4.5 | E47: 3 | F47: 4 | G47: 4 | H47: =(SUM(C47:G47)*IF(Kilpailu!$B$6 =Kilpailu!$A$79,Kilpailu!C30,IF(Kilpailu!$B$6 =Kilpailu!$A$80,Kilpailu!C45,IF(Kilpailu!$B$6 =Kilpailu!$A$81,Kilpailu!C60,1))))-SMALL(C47:G47,1)-LARGE(C47:G47,1) -> 12.5
A48: 2. | B48: =IF(Kilpailu!$B$6 =Kilpailu!$A$79,Kilpailu!B31,IF(Kilpailu!$B$6 =Kilpailu!$A$80,Kilpailu!B46,IF(Kilpailu!$B$6 =Kilpailu!$A$81,Kilpailu!B61,""))) -> Semicircle with pirouette | C48: 6.5 | D48: 4.5 | E48: 3.5 | F48: 5 | G48: 5 | H48: =(SUM(C48:G48)*IF(Kilpailu!$B$6 =Kilpailu!$A$79,Kilpailu!C31,IF(Kilpailu!$B$6 =Kilpailu!$A$80,Kilpailu!C46,IF(Kilpailu!$B$6 =Kilpailu!$A$81,Kilpailu!C61,1))))-SMALL(C48:G48,1)-LARGE(C48:G48,1) -> 14.5
A49: 3. | B49: =IF(Kilpailu!$B$6 =Kilpailu!$A$79,Kilpailu!B32,IF(Kilpailu!$B$6 =Kilpailu!$A$80,Kilpailu!B47,IF(Kilpailu!$B$6 =Kilpailu!$A$81,Kilpailu!B62,""))) -> Diamond 3 | C49: 4.5 | D49: 4 | E49: 2.5 | F49: 4 | G49: 3 | H49: =(SUM(C49:G49)*IF(Kilpailu!$B$6 =Kilpailu!$A$79,Kilpailu!C32,IF(Kilpailu!$B$6 =Kilpailu!$A$80,Kilpailu!C47,IF(Kilpailu!$B$6 =Kilpailu!$A$81,Kilpailu!C62,1))))-SMALL(C49:G49,1)-LARGE(C49:G49,1) -> 11
A50: 4. | B50: =IF(Kilpailu!$B$6 =Kilpailu!$A$79,Kilpailu!B33,IF(Kilpailu!$B$6 =Kilpailu!$A$80,Kilpailu!B48,IF(Kilpailu!$B$6 =Kilpailu!$A$81,Kilpailu!B63,""))) -> Cuban eight | C50: 7 | D50: 6 | E50: 4.5 | F50: 6.5 | G50: 5 | H50: =(SUM(C50:G50)*IF(Kilpailu!$B$6 =Kilpailu!$A$79,Kilpailu!C33,IF(Kilpailu!$B$6 =Kilpailu!$A$80,Kilpailu!C48,IF(Kilpailu!$B$6 =Kilpailu!$A$81,Kilpailu!C63,1))))-SMALL(C50:G50,1)-LARGE(C50:G50,1) -> 17.5
A51: 5. | B51: =IF(Kilpailu!$B$6 =Kilpailu!$A$79,Kilpailu!B34,IF(Kilpailu!$B$6 =Kilpailu!$A$80,Kilpailu!B49,IF(Kilpailu!$B$6 =Kilpailu!$A$81,Kilpailu!B64,""))) -> Pullpack with backward full roll | C51: 6 | D51: 5.5 | E51: 4.5 | F51: 7 | G51: 3 | H51: =(SUM(C51:G51)*IF(Kilpailu!$B$6 =Kilpailu!$A$79,Kilpailu!C34,IF(Kilpailu!$B$6 =Kilpailu!$A$80,Kilpailu!C49,IF(Kilpailu!$B$6 =Kilpailu!$A$81,Kilpailu!C64,1))))-SMALL(C51:G51,1)-LARGE(C51:G51,1) -> 16
A52: 6. | B52: =IF(Kilpailu!$B$6 =Kilpailu!$A$79,Kilpailu!B35,IF(Kilpailu!$B$6 =Kilpailu!$A$80,Kilpailu!B50,IF(Kilpailu!$B$6 =Kilpailu!$A$81,Kilpailu!B65,""))) -> Cobra Roll with pushed flip | C52: 6 | D52: 5 | E52: 3.5 | F52: 6 | G52: 4 | H52: =(SUM(C52:G52)*IF(Kilpailu!$B$6 =Kilpailu!$A$79,Kilpailu!C35,IF(Kilpailu!$B$6 =Kilpailu!$A$80,Kilpailu!C50,IF(Kilpailu!$B$6 =Kilpailu!$A$81,Kilpailu!C65,1))))-SMALL(C52:G52,1)-LARGE(C52:G52,1) -> 15
A53: 7. | B53: =IF(Kilpailu!$B$6 =Kilpailu!$A$79,Kilpailu!B36,IF(Kilpailu!$B$6 =Kilpailu!$A$80,Kilpailu!B51,IF(Kilpailu!$B$6 =Kilpailu!$A$81,Kilpailu!B66,""))) -> Vertical candle | C53: 6.5 | D53: 5 | E53: 5 | F53: 7 | G53: 6 | H53: =(SUM(C53:G53)*IF(Kilpailu!$B$6 =Kilpailu!$A$79,Kilpailu!C36,IF(Kilpailu!$B$6 =Kilpailu!$A$80,Kilpailu!C51,IF(Kilpailu!$B$6 =Kilpailu!$A$81,Kilpailu!C66,1))))-SMALL(C53:G53,1)-LARGE(C53:G53,1) -> 17.5
A54: 8. | B54: =IF(Kilpailu!$B$6 =Kilpailu!$A$79,Kilpailu!B37,IF(Kilpailu!$B$6 =Kilpailu!$A$80,Kilpailu!B52,IF(Kilpailu!$B$6 =Kilpailu!$A$81,Kilpailu!B67,""))) -> Opposite 2 point rolls | C54: 6.5 | D54: 4.5 | E54: 5 | F54: 6.5 | G54: 5 | H54: =(SUM(C54:G54)*IF(Kilpailu!$B$6 =Kilpailu!$A$79,Kilpailu!C37,IF(Kilpailu!$B$6 =Kilpailu!$A$80,Kilpailu!C52,IF(Kilpailu!$B$6 =Kilpailu!$A$81,Kilpailu!C67,1))))-SMALL(C54:G54,1)-LARGE(C54:G54,1) -> 16.5
A55: 9. | B55: =IF(Kilpailu!$B$6 =Kilpailu!$A$79,Kilpailu!B38,IF(Kilpailu!$B$6 =Kilpailu!$A$80,Kilpailu!B53,IF(Kilpailu!$B$6 =Kilpailu!$A$81,Kilpailu!B68,""))) -> Inside loop with pirouette on top | C55: 4 | D55: 2.5 | E55: 2.5 | F55: 5 | G55: 3 | H55: =(SUM(C55:G55)*IF(Kilpailu!$B$6 =Kilpailu!$A$79,Kilpailu!C38,IF(Kilpailu!$B$6 =Kilpailu!$A$80,Kilpailu!C53,IF(Kilpailu!$B$6 =Kilpailu!$A$81,Kilpailu!C68,1))))-SMALL(C55:G55,1)-LARGE(C55:G55,1) -> 9.5
A56: 10. | B56: =IF(Kilpailu!$B$6 =Kilpailu!$A$79,Kilpailu!B39,IF(Kilpailu!$B$6 =Kilpailu!$A$80,Kilpailu!B54,IF(Kilpailu!$B$6 =Kilpailu!$A$81,Kilpailu!B69,""))) -> Autorotation with two 90º turns | C56: 6 | D56: 3.5 | E56: 5 | F56: 5 | G56: 4 | H56: =(SUM(C56:G56)*IF(Kilpailu!$B$6 =Kilpailu!$A$79,Kilpailu!C39,IF(Kilpailu!$B$6 =Kilpailu!$A$80,Kilpailu!C54,IF(Kilpailu!$B$6 =Kilpailu!$A$81,Kilpailu!C69,1))))-SMALL(C56:G56,1)-LARGE(C56:G56,1) -> 14
A57: 11. | B57: =IF(Kilpailu!$B$6 =Kilpailu!$A$79,Kilpailu!B40,IF(Kilpailu!$B$6 =Kilpailu!$A$80,Kilpailu!B55,IF(Kilpailu!$B$6 =Kilpailu!$A$81,Kilpailu!B70,""))) | G57: 0 | H57: =(SUM(C57:G57)*IF(Kilpailu!$B$6 =Kilpailu!$A$79,Kilpailu!C40,IF(Kilpailu!$B$6 =Kilpailu!$A$80,Kilpailu!C55,IF(Kilpailu!$B$6 =Kilpailu!$A$81,Kilpailu!C70,1))))-SMALL(C57:G57,1)-LARGE(C57:G57,1) -> 0
B58: Yht. | C58: =SUM(C47:C57) -> 58.5 | D58: =SUM(D47:D57) -> 45 | E58: =SUM(E47:E57) -> 39 | F58: =SUM(F47:F57) -> 56 | G58: =SUM(G47:G57) -> 42

Sheet 5
D4: Pisteet | E4: Suht…
A5: Nimi: | B5: =Kilpailu!B14 -> Timo | C5: Kierros 1. | D5: =SUM(C26:G26)-LARGE(C26:G26,1)-SMALL(C26:G26,1) -> 197 | E5: =Tulokset!D32 -> 795.9596
C6: Kierros 2. | D6: =SUM(C42:G42)-LARGE(C42:G42,1)-SMALL(C42:G42,1) -> 208 | E6: =Tulokset!D52 -> 820.51282
A7: Paikka: | B7: =Kilpailu!B4 -> Vesivehmaa | C7: Kierros 3. | D7: =SUM(C58:G58)-LARGE(C58:G58,1)-SMALL(C58:G58,1) -> 210.5 | E7: =Tulokset!D72 -> 808.06142
A8: Päivä: | B8: =Kilpailu!B5 -> 40397
A9: Ohjelma: | B9: =Kilpailu!B6 -> F3C-P | C9: yhteensä: | D9: =SUM(D5:D7) -> 615.5 | E9: =SUM(E5:E7) -> 2424.5338
C10: pois: | D10: =SMALL(D5:D7,1) -> 197 | E10: =SMALL(E5:E7,1) -> 795.9596
C11: 2 parasta: | D11: =SUM(D5:D7)-D10 -> 418.5 | E11: =SUM(E5:E7)-E10 -> 1628.5742
A14: Kierros 1: | C14: Tuomari 1 | D14: Tuomari 2 | E14: Tuomari 3 | F14: Tuomari 4 | G14: Tuomari 5 | H14: yht.
A15: 1. | B15: =IF(Kilpailu!$B$6 =Kilpailu!$A$79,Kilpailu!B30,IF(Kilpailu!$B$6 =Kilpailu!$A$80,Kilpailu!B45,IF(Kilpailu!$B$6 =Kilpailu!$A$81,Kilpailu!B60,""))) -> M with 2 half pirouettes on all side | C15: 7.5 | D15: 7.5 | E15: 6.5 | F15: 6.5 | G15: 5 | H15: =(SUM(C15:G15)*IF(Kilpailu!$B$6 =Kilpailu!$A$79,Kilpailu!C30,IF(Kilpailu!$B$6 =Kilpailu!$A$80,Kilpailu!C45,IF(Kilpailu!$B$6 =Kilpailu!$A$81,Kilpailu!C60,1))))-SMALL(C15:G15,1)-LARGE(C15:G15,1) -> 20.5
A16: 2. | B16: =IF(Kilpailu!$B$6 =Kilpailu!$A$79,Kilpailu!B31,IF(Kilpailu!$B$6 =Kilpailu!$A$80,Kilpailu!B46,IF(Kilpailu!$B$6 =Kilpailu!$A$81,Kilpailu!B61,""))) -> Semicircle with pirouette | C16: 8 | D16: 8 | E16: 7.5 | F16: 7 | G16: 5 | H16: =(SUM(C16:G16)*IF(Kilpailu!$B$6 =Kilpailu!$A$79,Kilpailu!C31,IF(Kilpailu!$B$6 =Kilpailu!$A$80,Kilpailu!C46,IF(Kilpailu!$B$6 =Kilpailu!$A$81,Kilpailu!C61,1))))-SMALL(C16:G16,1)-LARGE(C16:G16,1) -> 22.5
A17: 3. | B17: =IF(Kilpailu!$B$6 =Kilpailu!$A$79,Kilpailu!B32,IF(Kilpailu!$B$6 =Kilpailu!$A$80,Kilpailu!B47,IF(Kilpailu!$B$6 =Kilpailu!$A$81,Kilpailu!B62,""))) -> Diamond 3 | C17: 7 | D17: 7.5 | E17: 6.5 | F17: 6.5 | G17: 7 | H17: =(SUM(C17:G17)*IF(Kilpailu!$B$6 =Kilpailu!$A$79,Kilpailu!C32,IF(Kilpailu!$B$6 =Kilpailu!$A$80,Kilpailu!C47,IF(Kilpailu!$B$6 =Kilpailu!$A$81,Kilpailu!C62,1))))-SMALL(C17:G17,1)-LARGE(C17:G17,1) -> 20.5
A18: 4. | B18: =IF(Kilpailu!$B$6 =Kilpailu!$A$79,Kilpailu!B33,IF(Kilpailu!$B$6 =Kilpailu!$A$80,Kilpailu!B48,IF(Kilpailu!$B$6 =Kilpailu!$A$81,Kilpailu!B63,""))) -> Cuban eight | C18: 8.5 | D18: 7 | E18: 7.5 | F18: 7 | G18: 6 | H18: =(SUM(C18:G18)*IF(Kilpailu!$B$6 =Kilpailu!$A$79,Kilpailu!C33,IF(Kilpailu!$B$6 =Kilpailu!$A$80,Kilpailu!C48,IF(Kilpailu!$B$6 =Kilpailu!$A$81,Kilpailu!C63,1))))-SMALL(C18:G18,1)-LARGE(C18:G18,1) -> 21.5
A19: 5. | B19: =IF(Kilpailu!$B$6 =Kilpailu!$A$79,Kilpailu!B34,IF(Kilpailu!$B$6 =Kilpailu!$A$80,Kilpailu!B49,IF(Kilpailu!$B$6 =Kilpailu!$A$81,Kilpailu!B64,""))) -> Pullpack with backward full roll | C19: 8 | D19: 7 | E19: 7 | F19: 7 | G19: 5 | H19: =(SUM(C19:G19)*IF(Kilpailu!$B$6 =Kilpailu!$A$79,Kilpailu!C34,IF(Kilpailu!$B$6 =Kilpailu!$A$80,Kilpailu!C49,IF(Kilpailu!$B$6 =Kilpailu!$A$81,Kilpailu!C64,1))))-SMALL(C19:G19,1)-LARGE(C19:G19,1) -> 21
A20: 6. | B20: =IF(Kilpailu!$B$6 =Kilpailu!$A$79,Kilpailu!B35,IF(Kilpailu!$B$6 =Kilpailu!$A$80,Kilpailu!B50,IF(Kilpailu!$B$6 =Kilpailu!$A$81,Kilpailu!B65,""))) -> Cobra Roll with pushed flip | C20: 6.5 | D20: 5 | E20: 6 | F20: 5 | G20: 4 | H20: =(SUM(C20:G20)*IF(Kilpailu!$B$6 =Kilpailu!$A$79,Kilpailu!C35,IF(Kilpailu!$B$6 =Kilpailu!$A$80,Kilpailu!C50,IF(Kilpailu!$B$6 =Kilpailu!$A$81,Kilpailu!C65,1))))-SMALL(C20:G20,1)-LARGE(C20:G20,1) -> 16
A21: 7. | B21: =IF(Kilpailu!$B$6 =Kilpailu!$A$79,Kilpailu!B36,IF(Kilpailu!$B$6 =Kilpailu!$A$80,Kilpailu!B51,IF(Kilpailu!$B$6 =Kilpailu!$A$81,Kilpailu!B66,""))) -> Vertical candle | C21: 8.5 | D21: 7.5 | E21: 7 | F21: 6 | G21: 5 | H21: =(SUM(C21:G21)*IF(Kilpailu!$B$6 =Kilpailu!$A$79,Kilpailu!C36,IF(Kilpailu!$B$6 =Kilpailu!$A$80,Kilpailu!C51,IF(Kilpailu!$B$6 =Kilpailu!$A$81,Kilpailu!C66,1))))-SMALL(C21:G21,1)-LARGE(C21:G21,1) -> 20.5
A22: 8. | B22: =IF(Kilpailu!$B$6 =Kilpailu!$A$79,Kilpailu!B37,IF(Kilpailu!$B$6 =Kilpailu!$A$80,Kilpailu!B52,IF(Kilpailu!$B$6 =Kilpailu!$A$81,Kilpailu!B67,""))) -> Opposite 2 point rolls | C22: 7.5 | D22: 7 | E22: 6.5 | F22: 5.5 | G22: 7 | H22: =(SUM(C22:G22)*IF(Kilpailu!$B$6 =Kilpailu!$A$79,Kilpailu!C37,IF(Kilpailu!$B$6 =Kilpailu!$A$80,Kilpailu!C52,IF(Kilpailu!$B$6 =Kilpailu!$A$81,Kilpailu!C67,1))))-SMALL(C22:G22,1)-LARGE(C22:G22,1) -> 20.5
A23: 9. | B23: =IF(Kilpailu!$B$6 =Kilpailu!$A$79,Kilpailu!B38,IF(Kilpailu!$B$6 =Kilpailu!$A$80,Kilpailu!B53,IF(Kilpailu!$B$6 =Kilpailu!$A$81,Kilpailu!B68,""))) -> Inside loop with pirouette on top | C23: 8.5 | D23: 6.5 | E23: 6.5 | F23: 5 | G23: 6 | H23: =(SUM(C23:G23)*IF(Kilpailu!$B$6 =Kilpailu!$A$79,Kilpailu!C38,IF(Kilpailu!$B$6 =Kilpailu!$A$80,Kilpailu!C53,IF(Kilpailu!$B$6 =Kilpailu!$A$81,Kilpailu!C68,1))))-SMALL(C23:G23,1)-LARGE(C23:G23,1) -> 19
A24: 10. | B24: =IF(Kilpailu!$B$6 =Kilpailu!$A$79,Kilpailu!B39,IF(Kilpailu!$B$6 =Kilpailu!$A$80,Kilpailu!B54,IF(Kilpailu!$B$6 =Kilpailu!$A$81,Kilpailu!B69,""))) -> Autorotation with two 90º turns | C24: 8 | D24: 7 | E24: 4.5 | F24: 6 | G24: 5 | H24: =(SUM(C24:G24)*IF(Kilpailu!$B$6 =Kilpailu!$A$79,Kilpailu!C39,IF(Kilpailu!$B$6 =Kilpailu!$A$80,Kilpailu!C54,IF(Kilpailu!$B$6 =Kilpailu!$A$81,Kilpailu!C69,1))))-SMALL(C24:G24,1)-LARGE(C24:G24,1) -> 18
A25: 11. | B25: =IF(Kilpailu!$B$6 =Kilpailu!$A$79,Kilpailu!B40,IF(Kilpailu!$B$6 =Kilpailu!$A$80,Kilpailu!B55,IF(Kilpailu!$B$6 =Kilpailu!$A$81,Kilpailu!B70,""))) | F25: 0 | H25: =(SUM(C25:G25)*IF(Kilpailu!$B$6 =Kilpailu!$A$79,Kilpailu!C40,IF(Kilpailu!$B$6 =Kilpailu!$A$80,Kilpailu!C55,IF(Kilpailu!$B$6 =Kilpailu!$A$81,Kilpailu!C70,1))))-SMALL(C25:G25,1)-LARGE(C25:G25,1) -> 0
B26: Yht. | C26: =SUM(C15:C25) -> 78 | D26: =SUM(D15:D25) -> 70 | E26: =SUM(E15:E25) -> 65.5 | F26: =SUM(F15:F25) -> 61.5 | G26: =SUM(G15:G25) -> 55
A30: Kierros 2: | C30: Tuomari 1 | D30: Tuomari 2 | E30: Tuomari 3 | F30: Tuomari 4 | G30: Tuomari 5 | H30: yht.
A31: 1. | B31: =IF(Kilpailu!$B$6 =Kilpailu!$A$79,Kilpailu!B30,IF(Kilpailu!$B$6 =Kilpailu!$A$80,Kilpailu!B45,IF(Kilpailu!$B$6 =Kilpailu!$A$81,Kilpailu!B60,""))) -> M with 2 half pirouettes on all side | C31: 7.5 | D31: 6.5 | E31: 7 | F31: 7.5 | G31: 6 | H31: =(SUM(C31:G31)*IF(Kilpailu!$B$6 =Kilpailu!$A$79,Kilpailu!C30,IF(Kilpailu!$B$6 =Kilpailu!$A$80,Kilpailu!C45,IF(Kilpailu!$B$6 =Kilpailu!$A$81,Kilpailu!C60,1))))-SMALL(C31:G31,1)-LARGE(C31:G31,1) -> 21
A32: 2. | B32: =IF(Kilpailu!$B$6 =Kilpailu!$A$79,Kilpailu!B31,IF(Kilpailu!$B$6 =Kilpailu!$A$80,Kilpailu!B46,IF(Kilpailu!$B$6 =Kilpailu!$A$81,Kilpailu!B61,""))) -> Semicircle with pirouette | C32: 7.5 | D32: 7 | E32: 5.5 | F32: 7 | G32: 7 | H32: =(SUM(C32:G32)*IF(Kilpailu!$B$6 =Kilpailu!$A$79,Kilpailu!C31,IF(Kilpailu!$B$6 =Kilpailu!$A$80,Kilpailu!C46,IF(Kilpailu!$B$6 =Kilpailu!$A$81,Kilpailu!C61,1))))-SMALL(C32:G32,1)-LARGE(C32:G32,1) -> 21
A33: 3. | B33: =IF(Kilpailu!$B$6 =Kilpailu!$A$79,Kilpailu!B32,IF(Kilpailu!$B$6 =Kilpailu!$A$80,Kilpailu!B47,IF(Kilpailu!$B$6 =Kilpailu!$A$81,Kilpailu!B62,""))) -> Diamond 3 | C33: 7.5 | D33: 6.5 | E33: 5.5 | F33: 7 | G33: 7 | H33: =(SUM(C33:G33)*IF(Kilpailu!$B$6 =Kilpailu!$A$79,Kilpailu!C32,IF(Kilpailu!$B$6 =Kilpailu!$A$80,Kilpailu!C47,IF(Kilpailu!$B$6 =Kilpailu!$A$81,Kilpailu!C62,1))))-SMALL(C33:G33,1)-LARGE(C33:G33,1) -> 20.5
A34: 4. | B34: =IF(Kilpailu!$B$6 =Kilpailu!$A$79,Kilpailu!B33,IF(Kilpailu!$B$6 =Kilpailu!$A$80,Kilpailu!B48,IF(Kilpailu!$B$6 =Kilpailu!$A$81,Kilpailu!B63,""))) -> Cuban eight | C34: 8 | D34: 8 | E34: 6 | F34: 8 | G34: 8 | H34: =(SUM(C34:G34)*IF(Kilpailu!$B$6 =Kilpailu!$A$79,Kilpailu!C33,IF(Kilpailu!$B$6 =Kilpailu!$A$80,Kilpailu!C48,IF(Kilpailu!$B$6 =Kilpailu!$A$81,Kilpailu!C63,1))))-SMALL(C34:G34,1)-LARGE(C34:G34,1) -> 24
A35: 5. | B35: =IF(Kilpailu!$B$6 =Kilpailu!$A$79,Kilpailu!B34,IF(Kilpailu!$B$6 =Kilpailu!$A$80,Kilpailu!B49,IF(Kilpailu!$B$6 =Kilpailu!$A$81,Kilpailu!B64,""))) -> Pullpack with backward full roll | C35: 8.5 | D35: 9 | E35: 7 | F35: 8 | G35: 8 | H35: =(SUM(C35:G35)*IF(Kilpailu!$B$6 =Kilpailu!$A$79,Kilpailu!C34,IF(Kilpailu!$B$6 =Kilpailu!$A$80,Kilpailu!C49,IF(Kilpailu!$B$6 =Kilpailu!$A$81,Kilpailu!C64,1))))-SMALL(C35:G35,1)-LARGE(C35:G35,1) -> 24.5
A36: 6. | B36: =IF(Kilpailu!$B$6 =Kilpailu!$A$79,Kilpailu!B35,IF(Kilpailu!$B$6 =Kilpailu!$A$80,Kilpailu!B50,IF(Kilpailu!$B$6 =Kilpailu!$A$81,Kilpailu!B65,""))) -> Cobra Roll with pushed flip | C36: 7.5 | D36: 7.5 | E36: 5.5 | F36: 7 | G36: 6 | H36: =(SUM(C36:G36)*IF(Kilpailu!$B$6 =Kilpailu!$A$79,Kilpailu!C35,IF(Kilpailu!$B$6 =Kilpailu!$A$80,Kilpailu!C50,IF(Kilpailu!$B$6 =Kilpailu!$A$81,Kilpailu!C65,1))))-SMALL(C36:G36,1)-LARGE(C36:G36,1) -> 20.5
A37: 7. | B37: =IF(Kilpailu!$B$6 =Kilpailu!$A$79,Kilpailu!B36,IF(Kilpailu!$B$6 =Kilpailu!$A$80,Kilpailu!B51,IF(Kilpailu!$B$6 =Kilpailu!$A$81,Kilpailu!B66,""))) -> Vertical candle | C37: 7 | D37: 7.5 | E37: 6.5 | F37: 7.5 | G37: 6 | H37: =(SUM(C37:G37)*IF(Kilpailu!$B$6 =Kilpailu!$A$79,Kilpailu!C36,IF(Kilpailu!$B$6 =Kilpailu!$A$80,Kilpailu!C51,IF(Kilpailu!$B$6 =Kilpailu!$A$81,Kilpailu!C66,1))))-SMALL(C37:G37,1)-LARGE(C37:G37,1) -> 21
A38: 8. | B38: =IF(Kilpailu!$B$6 =Kilpailu!$A$79,Kilpailu!B37,IF(Kilpailu!$B$6 =Kilpailu!$A$80,Kilpailu!B52,IF(Kilpailu!$B$6 =Kilpailu!$A$81,Kilpailu!B67,""))) -> Opposite 2 point rolls | C38: 8 | D38: 7.5 | E38: 6.5 | F38: 7.5 | G38: 8 | H38: =(SUM(C38:G38)*IF(Kilpailu!$B$6 =Kilpailu!$A$79,Kilpailu!C37,IF(Kilpailu!$B$6 =Kilpailu!$A$80,Kilpailu!C52,IF(Kilpailu!$B$6 =Kilpailu!$A$81,Kilpailu!C67,1))))-SMALL(C38:G38,1)-LARGE(C38:G38,1) -> 23
A39: 9. | B39: =IF(Kilpailu!$B$6 =Kilpailu!$A$79,Kilpailu!B38,IF(Kilpailu!$B$6 =Kilpailu!$A$80,Kilpailu!B53,IF(Kilpailu!$B$6 =Kilpailu!$A$81,Kilpailu!B68,""))) -> Inside loop with pirouette on top | C39: 7 | D39: 5 | E39: 4 | F39: 4 | G39: 6 | H39: =(SUM(C39:G39)*IF(Kilpailu!$B$6 =Kilpailu!$A$79,Kilpailu!C38,IF(Kilpailu!$B$6 =Kilpailu!$A$80,Kilpailu!C53,IF(Kilpailu!$B$6 =Kilpailu!$A$81,Kilpailu!C68,1))))-SMALL(C39:G39,1)-LARGE(C39:G39,1) -> 15
A40: 10. | B40: =IF(Kilpailu!$B$6 =Kilpailu!$A$79,Kilpailu!B39,IF(Kilpailu!$B$6 =Kilpailu!$A$80,Kilpailu!B54,IF(Kilpailu!$B$6 =Kilpailu!$A$81,Kilpailu!B69,""))) -> Autorotation with two 90º turns | C40: 7.5 | D40: 7 | E40: 5 | F40: 5 | G40: 6 | H40: =(SUM(C40:G40)*IF(Kilpailu!$B$6 =Kilpailu!$A$79,Kilpailu!C39,IF(Kilpailu!$B$6 =Kilpailu!$A$80,Kilpailu!C54,IF(Kilpailu!$B$6 =Kilpailu!$A$81,Kilpailu!C69,1))))-SMALL(C40:G40,1)-LARGE(C40:G40,1) -> 18
A41: 11. | B41: =IF(Kilpailu!$B$6 =Kilpailu!$A$79,Kilpailu!B40,IF(Kilpailu!$B$6 =Kilpailu!$A$80,Kilpailu!B55,IF(Kilpailu!$B$6 =Kilpailu!$A$81,Kilpailu!B70,""))) | F41: 0 | H41: =(SUM(C41:G41)*IF(Kilpailu!$B$6 =Kilpailu!$A$79,Kilpailu!C40,IF(Kilpailu!$B$6 =Kilpailu!$A$80,Kilpailu!C55,IF(Kilpailu!$B$6 =Kilpailu!$A$81,Kilpailu!C70,1))))-SMALL(C41:G41,1)-LARGE(C41:G41,1) -> 0
B42: Yht. | C42: =SUM(C31:C41) -> 76 | D42: =SUM(D31:D41) -> 71.5 | E42: =SUM(E31:E41) -> 58.5 | F42: =SUM(F31:F41) -> 68.5 | G42: =SUM(G31:G41) -> 68
A46: Kierros 3: | C46: Tuomari 1 | D46: Tuomari 2 | E46: Tuomari 3 | F46: Tuomari 4 | G46: Tuomari 5 | H46: yht.
A47: 1. | B47: =IF(Kilpailu!$B$6 =Kilpailu!$A$79,Kilpailu!B30,IF(Kilpailu!$B$6 =Kilpailu!$A$80,Kilpailu!B45,IF(Kilpailu!$B$6 =Kilpailu!$A$81,Kilpailu!B60,""))) -> M with 2 half pirouettes on all side | C47: 7.5 | D47: 7 | E47: 6.5 | F47: 8 | G47: 7 | H47: =(SUM(C47:G47)*IF(Kilpailu!$B$6 =Kilpailu!$A$79,Kilpailu!C30,IF(Kilpailu!$B$6 =Kilpailu!$A$80,Kilpailu!C45,IF(Kilpailu!$B$6 =Kilpailu!$A$81,Kilpailu!C60,1))))-SMALL(C47:G47,1)-LARGE(C47:G47,1) -> 21.5
A48: 2. | B48: =IF(Kilpailu!$B$6 =Kilpailu!$A$79,Kilpailu!B31,IF(Kilpailu!$B$6 =Kilpailu!$A$80,Kilpailu!B46,IF(Kilpailu!$B$6 =Kilpailu!$A$81,Kilpailu!B61,""))) -> Semicircle with pirouette | C48: 8 | D48: 7 | E48: 6.5 | F48: 8 | G48: 6 | H48: =(SUM(C48:G48)*IF(Kilpailu!$B$6 =Kilpailu!$A$79,Kilpailu!C31,IF(Kilpailu!$B$6 =Kilpailu!$A$80,Kilpailu!C46,IF(Kilpailu!$B$6 =Kilpailu!$A$81,Kilpailu!C61,1))))-SMALL(C48:G48,1)-LARGE(C48:G48,1) -> 21.5
A49: 3. | B49: =IF(Kilpailu!$B$6 =Kilpailu!$A$79,Kilpailu!B32,IF(Kilpailu!$B$6 =Kilpailu!$A$80,Kilpailu!B47,IF(Kilpailu!$B$6 =Kilpailu!$A$81,Kilpailu!B62,""))) -> Diamond 3 | C49: 8.5 | D49: 7 | E49: 6 | F49: 7.5 | G49: 7 | H49: =(SUM(C49:G49)*IF(Kilpailu!$B$6 =Kilpailu!$A$79,Kilpailu!C32,IF(Kilpailu!$B$6 =Kilpailu!$A$80,Kilpailu!C47,IF(Kilpailu!$B$6 =Kilpailu!$A$81,Kilpailu!C62,1))))-SMALL(C49:G49,1)-LARGE(C49:G49,1) -> 21.5
A50: 4. | B50: =IF(Kilpailu!$B$6 =Kilpailu!$A$79,Kilpailu!B33,IF(Kilpailu!$B$6 =Kilpailu!$A$80,Kilpailu!B48,IF(Kilpailu!$B$6 =Kilpailu!$A$81,Kilpailu!B63,""))) -> Cuban eight | C50: 8 | D50: 6 | E50: 7.5 | F50: 7.5 | G50: 6 | H50: =(SUM(C50:G50)*IF(Kilpailu!$B$6 =Kilpailu!$A$79,Kilpailu!C33,IF(Kilpailu!$B$6 =Kilpailu!$A$80,Kilpailu!C48,IF(Kilpailu!$B$6 =Kilpailu!$A$81,Kilpailu!C63,1))))-SMALL(C50:G50,1)-LARGE(C50:G50,1) -> 21
A51: 5. | B51: =IF(Kilpailu!$B$6 =Kilpailu!$A$79,Kilpailu!B34,IF(Kilpailu!$B$6 =Kilpailu!$A$80,Kilpailu!B49,IF(Kilpailu!$B$6 =Kilpailu!$A$81,Kilpailu!B64,""))) -> Pullpack with backward full roll | C51: 8.5 | D51: 7 | E51: 7 | F51: 7 | G51: 5 | H51: =(SUM(C51:G51)*IF(Kilpailu!$B$6 =Kilpailu!$A$79,Kilpailu!C34,IF(Kilpailu!$B$6 =Kilpailu!$A$80,Kilpailu!C49,IF(Kilpailu!$B$6 =Kilpailu!$A$81,Kilpailu!C64,1))))-SMALL(C51:G51,1)-LARGE(C51:G51,1) -> 21
A52: 6. | B52: =IF(Kilpailu!$B$6 =Kilpailu!$A$79,Kilpailu!B35,IF(Kilpailu!$B$6 =Kilpailu!$A$80,Kilpailu!B50,IF(Kilpailu!$B$6 =Kilpailu!$A$81,Kilpailu!B65,""))) -> Cobra Roll with pushed flip | C52: 8.5 | D52: 7 | E52: 8 | F52: 9 | G52: 7 | H52: =(SUM(C52:G52)*IF(Kilpailu!$B$6 =Kilpailu!$A$79,Kilpailu!C35,IF(Kilpailu!$B$6 =Kilpailu!$A$80,Kilpailu!C50,IF(Kilpailu!$B$6 =Kilpailu!$A$81,Kilpailu!C65,1))))-SMALL(C52:G52,1)-LARGE(C52:G52,1) -> 23.5
A53: 7. | B53: =IF(Kilpailu!$B$6 =Kilpailu!$A$79,Kilpailu!B36,IF(Kilpailu!$B$6 =Kilpailu!$A$80,Kilpailu!B51,IF(Kilpailu!$B$6 =Kilpailu!$A$81,Kilpailu!B66,""))) -> Vertical candle | C53: 8.5 | D53: 6.5 | E53: 8 | F53: 8 | G53: 8 | H53: =(SUM(C53:G53)*IF(Kilpailu!$B$6 =Kilpailu!$A$79,Kilpailu!C36,IF(Kilpailu!$B$6 =Kilpailu!$A$80,Kilpailu!C51,IF(Kilpailu!$B$6 =Kilpailu!$A$81,Kilpailu!C66,1))))-SMALL(C53:G53,1)-LARGE(C53:G53,1) -> 24
A54: 8. | B54: =IF(Kilpailu!$B$6 =Kilpailu!$A$79,Kilpailu!B37,IF(Kilpailu!$B$6 =Kilpailu!$A$80,Kilpailu!B52,IF(Kilpailu!$B$6 =Kilpailu!$A$81,Kilpailu!B67,""))) -> Opposite 2 point rolls | C54: 8.5 | D54: 6 | E54: 7.5 | F54: 9 | G54: 8 | H54: =(SUM(C54:G54)*IF(Kilpailu!$B$6 =Kilpailu!$A$79,Kilpailu!C37,IF(Kilpailu!$B$6 =Kilpailu!$A$80,Kilpailu!C52,IF(Kilpailu!$B$6 =Kilpailu!$A$81,Kilpailu!C67,1))))-SMALL(C54:G54,1)-LARGE(C54:G54,1) -> 24
A55: 9. | B55: =IF(Kilpailu!$B$6 =Kilpailu!$A$79,Kilpailu!B38,IF(Kilpailu!$B$6 =Kilpailu!$A$80,Kilpailu!B53,IF(Kilpailu!$B$6 =Kilpailu!$A$81,Kilpailu!B68,""))) -> Inside loop with pirouette on top | C55: 7.5 | D55: 6 | E55: 6 | F55: 8 | G55: 6 | H55: =(SUM(C55:G55)*IF(Kilpailu!$B$6 =Kilpailu!$A$79,Kilpailu!C38,IF(Kilpailu!$B$6 =Kilpailu!$A$80,Kilpailu!C53,IF(Kilpailu!$B$6 =Kilpailu!$A$81,Kilpailu!C68,1))))-SMALL(C55:G55,1)-LARGE(C55:G55,1) -> 19.5
A56: 10. | B56: =IF(Kilpailu!$B$6 =Kilpailu!$A$79,Kilpailu!B39,IF(Kilpailu!$B$6 =Kilpailu!$A$80,Kilpailu!B54,IF(Kilpailu!$B$6 =Kilpailu!$A$81,Kilpailu!B69,""))) -> Autorotation with two 90º turns | C56: 5.5 | D56: 4 | E56: 4.5 | F56: 6 | G56: 5 | H56: =(SUM(C56:G56)*IF(Kilpailu!$B$6 =Kilpailu!$A$79,Kilpailu!C39,IF(Kilpailu!$B$6 =Kilpailu!$A$80,Kilpailu!C54,IF(Kilpailu!$B$6 =Kilpailu!$A$81,Kilpailu!C69,1))))-SMALL(C56:G56,1)-LARGE(C56:G56,1) -> 15
A57: 11. | B57: =IF(Kilpailu!$B$6 =Kilpailu!$A$79,Kilpailu!B40,IF(Kilpailu!$B$6 =Kilpailu!$A$80,Kilpailu!B55,IF(Kilpailu!$B$6 =Kilpailu!$A$81,Kilpailu!B70,""))) | F57: 0 | H57: =(SUM(C57:G57)*IF(Kilpailu!$B$6 =Kilpailu!$A$79,Kilpailu!C40,IF(Kilpailu!$B$6 =Kilpailu!$A$80,Kilpailu!C55,IF(Kilpailu!$B$6 =Kilpailu!$A$81,Kilpailu!C70,1))))-SMALL(C57:G57,1)-LARGE(C57:G57,1) -> 0
B58: Yht. | C58: =SUM(C47:C57) -> 79 | D58: =SUM(D47:D57) -> 63.5 | E58: =SUM(E47:E57) -> 67.5 | F58: =SUM(F47:F57) -> 78 | G58: =SUM(G47:G57) -> 65

Sheet 6
D4: Pisteet | E4: Suht…
A5: Nimi: | B5: =Kilpailu!B15 -> Markus | C5: Kierros 1. | D5: =SUM(C26:G26)-LARGE(C26:G26,1)-SMALL(C26:G26,1) -> 149.5 | E5: =Tulokset!D33 -> 604.0404
C6: Kierros 2. | D6: =SUM(C42:G42)-LARGE(C42:G42,1)-SMALL(C42:G42,1) -> 135 | E6: =Tulokset!D53 -> 532.54438
A7: Paikka: | B7: =Kilpailu!B4 -> Vesivehmaa | C7: Kierros 3. | D7: =SUM(C58:G58)-LARGE(C58:G58,1)-SMALL(C58:G58,1) -> 147 | E7: =Tulokset!D73 -> 564.29942
A8: Päivä: | B8: =Kilpailu!B5 -> 40397
A9: Ohjelma: | B9: =Kilpailu!B6 -> F3C-P | C9: yhteensä: | D9: =SUM(D5:D7) -> 431.5 | E9: =SUM(E5:E7) -> 1700.8842
C10: pois: | D10: =SMALL(D5:D7,1) -> 135 | E10: =SMALL(E5:E7,1) -> 532.54438
C11: 2 parasta: | D11: =SUM(D5:D7)-D10 -> 296.5 | E11: =SUM(E5:E7)-E10 -> 1168.3398
A14: Kierros 1: | C14: Tuomari 1 | D14: Tuomari 2 | E14: Tuomari 3 | F14: Tuomari 4 | G14: Tuomari 5 | H14: yht.
A15: 1. | B15: =IF(Kilpailu!$B$6 =Kilpailu!$A$79,Kilpailu!B30,IF(Kilpailu!$B$6 =Kilpailu!$A$80,Kilpailu!B45,IF(Kilpailu!$B$6 =Kilpailu!$A$81,Kilpailu!B60,""))) -> M with 2 half pirouettes on all side | C15: 6 | D15: 5.5 | E15: 4 | F15: 6 | G15: 4 | H15: =(SUM(C15:G15)*IF(Kilpailu!$B$6 =Kilpailu!$A$79,Kilpailu!C30,IF(Kilpailu!$B$6 =Kilpailu!$A$80,Kilpailu!C45,IF(Kilpailu!$B$6 =Kilpailu!$A$81,Kilpailu!C60,1))))-SMALL(C15:G15,1)-LARGE(C15:G15,1) -> 15.5
A16: 2. | B16: =IF(Kilpailu!$B$6 =Kilpailu!$A$79,Kilpailu!B31,IF(Kilpailu!$B$6 =Kilpailu!$A$80,Kilpailu!B46,IF(Kilpailu!$B$6 =Kilpailu!$A$81,Kilpailu!B61,""))) -> Semicircle with pirouette | C16: 6 | D16: 6 | E16: 4 | F16: 5.5 | G16: 5 | H16: =(SUM(C16:G16)*IF(Kilpailu!$B$6 =Kilpailu!$A$79,Kilpailu!C31,IF(Kilpailu!$B$6 =Kilpailu!$A$80,Kilpailu!C46,IF(Kilpailu!$B$6 =Kilpailu!$A$81,Kilpailu!C61,1))))-SMALL(C16:G16,1)-LARGE(C16:G16,1) -> 16.5
A17: 3. | B17: =IF(Kilpailu!$B$6 =Kilpailu!$A$79,Kilpailu!B32,IF(Kilpailu!$B$6 =Kilpailu!$A$80,Kilpailu!B47,IF(Kilpailu!$B$6 =Kilpailu!$A$81,Kilpailu!B62,""))) -> Diamond 3 | C17: 4 | D17: 5 | E17: 2.5 | F17: 4.5 | G17: 3 | H17: =(SUM(C17:G17)*IF(Kilpailu!$B$6 =Kilpailu!$A$79,Kilpailu!C32,IF(Kilpailu!$B$6 =Kilpailu!$A$80,Kilpailu!C47,IF(Kilpailu!$B$6 =Kilpailu!$A$81,Kilpailu!C62,1))))-SMALL(C17:G17,1)-LARGE(C17:G17,1) -> 11.5
A18: 4. | B18: =IF(Kilpailu!$B$6 =Kilpailu!$A$79,Kilpailu!B33,IF(Kilpailu!$B$6 =Kilpailu!$A$80,Kilpailu!B48,IF(Kilpailu!$B$6 =Kilpailu!$A$81,Kilpailu!B63,""))) -> Cuban eight | C18: 7.5 | D18: 7 | E18: 6.5 | F18: 6 | G18: 4 | H18: =(SUM(C18:G18)*IF(Kilpailu!$B$6 =Kilpailu!$A$79,Kilpailu!C33,IF(Kilpailu!$B$6 =Kilpailu!$A$80,Kilpailu!C48,IF(Kilpailu!$B$6 =Kilpailu!$A$81,Kilpailu!C63,1))))-SMALL(C18:G18,1)-LARGE(C18:G18,1) -> 19.5
A19: 5. | B19: =IF(Kilpailu!$B$6 =Kilpailu!$A$79,Kilpailu!B34,IF(Kilpailu!$B$6 =Kilpailu!$A$80,Kilpailu!B49,IF(Kilpailu!$B$6 =Kilpailu!$A$81,Kilpailu!B64,""))) -> Pullpack with backward full roll | C19: 5.5 | D19: 7 | E19: 4 | F19: 5 | G19: 3 | H19: =(SUM(C19:G19)*IF(Kilpailu!$B$6 =Kilpailu!$A$79,Kilpailu!C34,IF(Kilpailu!$B$6 =Kilpailu!$A$80,Kilpailu!C49,IF(Kilpailu!$B$6 =Kilpailu!$A$81,Kilpailu!C64,1))))-SMALL(C19:G19,1)-LARGE(C19:G19,1) -> 14.5
A20: 6. | B20: =IF(Kilpailu!$B$6 =Kilpailu!$A$79,Kilpailu!B35,IF(Kilpailu!$B$6 =Kilpailu!$A$80,Kilpailu!B50,IF(Kilpailu!$B$6 =Kilpailu!$A$81,Kilpailu!B65,""))) -> Cobra Roll with pushed flip | C20: 7 | D20: 6 | E20: 4.5 | F20: 4 | G20: 5 | H20: =(SUM(C20:G20)*IF(Kilpailu!$B$6 =Kilpailu!$A$79,Kilpailu!C35,IF(Kilpailu!$B$6 =Kilpailu!$A$80,Kilpailu!C50,IF(Kilpailu!$B$6 =Kilpailu!$A$81,Kilpailu!C65,1))))-SMALL(C20:G20,1)-LARGE(C20:G20,1) -> 15.5
A21: 7. | B21: =IF(Kilpailu!$B$6 =Kilpailu!$A$79,Kilpailu!B36,IF(Kilpailu!$B$6 =Kilpailu!$A$80,Kilpailu!B51,IF(Kilpailu!$B$6 =Kilpailu!$A$81,Kilpailu!B66,""))) -> Vertical candle | C21: 6.5 | D21: 6 | E21: 4 | F21: 5 | G21: 4 | H21: =(SUM(C21:G21)*IF(Kilpailu!$B$6 =Kilpailu!$A$79,Kilpailu!C36,IF(Kilpailu!$B$6 =Kilpailu!$A$80,Kilpailu!C51,IF(Kilpailu!$B$6 =Kilpailu!$A$81,Kilpailu!C66,1))))-SMALL(C21:G21,1)-LARGE(C21:G21,1) -> 15
A22: 8. | B22: =IF(Kilpailu!$B$6 =Kilpailu!$A$79,Kilpailu!B37,IF(Kilpailu!$B$6 =Kilpailu!$A$80,Kilpailu!B52,IF(Kilpailu!$B$6 =Kilpailu!$A$81,Kilpailu!B67,""))) -> Opposite 2 point rolls | C22: 6.5 | D22: 6 | E22: 3.5 | F22: 4.5 | G22: 4 | H22: =(SUM(C22:G22)*IF(Kilpailu!$B$6 =Kilpailu!$A$79,Kilpailu!C37,IF(Kilpailu!$B$6 =Kilpailu!$A$80,Kilpailu!C52,IF(Kilpailu!$B$6 =Kilpailu!$A$81,Kilpailu!C67,1))))-SMALL(C22:G22,1)-LARGE(C22:G22,1) -> 14.5
A23: 9. | B23: =IF(Kilpailu!$B$6 =Kilpailu!$A$79,Kilpailu!B38,IF(Kilpailu!$B$6 =Kilpailu!$A$80,Kilpailu!B53,IF(Kilpailu!$B$6 =Kilpailu!$A$81,Kilpailu!B68,""))) -> Inside loop with pirouette on top | C23: 7 | D23: 8 | E23: 4 | F23: 5 | G23: 6 | H23: =(SUM(C23:G23)*IF(Kilpailu!$B$6 =Kilpailu!$A$79,Kilpailu!C38,IF(Kilpailu!$B$6 =Kilpailu!$A$80,Kilpailu!C53,IF(Kilpailu!$B$6 =Kilpailu!$A$81,Kilpailu!C68,1))))-SMALL(C23:G23,1)-LARGE(C23:G23,1) -> 18
A24: 10. | B24: =IF(Kilpailu!$B$6 =Kilpailu!$A$79,Kilpailu!B39,IF(Kilpailu!$B$6 =Kilpailu!$A$80,Kilpailu!B54,IF(Kilpailu!$B$6 =Kilpailu!$A$81,Kilpailu!B69,""))) -> Autorotation with two 90º turns | C24: 5.5 | D24: 3.5 | E24: 1.5 | F24: 3 | G24: 3 | H24: =(SUM(C24:G24)*IF(Kilpailu!$B$6 =Kilpailu!$A$79,Kilpailu!C39,IF(Kilpailu!$B$6 =Kilpailu!$A$80,Kilpailu!C54,IF(Kilpailu!$B$6 =Kilpailu!$A$81,Kilpailu!C69,1))))-SMALL(C24:G24,1)-LARGE(C24:G24,1) -> 9.5
A25: 11. | B25: =IF(Kilpailu!$B$6 =Kilpailu!$A$79,Kilpailu!B40,IF(Kilpailu!$B$6 =Kilpailu!$A$80,Kilpailu!B55,IF(Kilpailu!$B$6 =Kilpailu!$A$81,Kilpailu!B70,""))) | G25: 0 | H25: =(SUM(C25:G25)*IF(Kilpailu!$B$6 =Kilpailu!$A$79,Kilpailu!C40,IF(Kilpailu!$B$6 =Kilpailu!$A$80,Kilpailu!C55,IF(Kilpailu!$B$6 =Kilpailu!$A$81,Kilpailu!C70,1))))-SMALL(C25:G25,1)-LARGE(C25:G25,1) -> 0
B26: Yht. | C26: =SUM(C15:C25) -> 61.5 | D26: =SUM(D15:D25) -> 60 | E26: =SUM(E15:E25) -> 38.5 | F26: =SUM(F15:F25) -> 48.5 | G26: =SUM(G15:G25) -> 41
A30: Kierros 2: | C30: Tuomari 1 | D30: Tuomari 2 | E30: Tuomari 3 | F30: Tuomari 4 | G30: Tuomari 5 | H30: yht.
A31: 1. | B31: =IF(Kilpailu!$B$6 =Kilpailu!$A$79,Kilpailu!B30,IF(Kilpailu!$B$6 =Kilpailu!$A$80,Kilpailu!B45,IF(Kilpailu!$B$6 =Kilpailu!$A$81,Kilpailu!B60,""))) -> M with 2 half pirouettes on all side | C31: 5 | D31: 4 | E31: 4 | F31: 4 | G31: 4 | H31: =(SUM(C31:G31)*IF(Kilpailu!$B$6 =Kilpailu!$A$79,Kilpailu!C30,IF(Kilpailu!$B$6 =Kilpailu!$A$80,Kilpailu!C45,IF(Kilpailu!$B$6 =Kilpailu!$A$81,Kilpailu!C60,1))))-SMALL(C31:G31,1)-LARGE(C31:G31,1) -> 12
A32: 2. | B32: =IF(Kilpailu!$B$6 =Kilpailu!$A$79,Kilpailu!B31,IF(Kilpailu!$B$6 =Kilpailu!$A$80,Kilpailu!B46,IF(Kilpailu!$B$6 =Kilpailu!$A$81,Kilpailu!B61,""))) -> Semicircle with pirouette | C32: 7 | D32: 5 | E32: 4 | F32: 4 | G32: 6 | H32: =(SUM(C32:G32)*IF(Kilpailu!$B$6 =Kilpailu!$A$79,Kilpailu!C31,IF(Kilpailu!$B$6 =Kilpailu!$A$80,Kilpailu!C46,IF(Kilpailu!$B$6 =Kilpailu!$A$81,Kilpailu!C61,1))))-SMALL(C32:G32,1)-LARGE(C32:G32,1) -> 15
A33: 3. | B33: =IF(Kilpailu!$B$6 =Kilpailu!$A$79,Kilpailu!B32,IF(Kilpailu!$B$6 =Kilpailu!$A$80,Kilpailu!B47,IF(Kilpailu!$B$6 =Kilpailu!$A$81,Kilpailu!B62,""))) -> Diamond 3 | C33: 4 | D33: 3 | E33: 3 | F33: 2.5 | G33: 4 | H33: =(SUM(C33:G33)*IF(Kilpailu!$B$6 =Kilpailu!$A$79,Kilpailu!C32,IF(Kilpailu!$B$6 =Kilpailu!$A$80,Kilpailu!C47,IF(Kilpailu!$B$6 =Kilpailu!$A$81,Kilpailu!C62,1))))-SMALL(C33:G33,1)-LARGE(C33:G33,1) -> 10
A34: 4. | B34: =IF(Kilpailu!$B$6 =Kilpailu!$A$79,Kilpailu!B33,IF(Kilpailu!$B$6 =Kilpailu!$A$80,Kilpailu!B48,IF(Kilpailu!$B$6 =Kilpailu!$A$81,Kilpailu!B63,""))) -> Cuban eight | C34: 6.5 | D34: 5.5 | E34: 3.5 | F34: 3.5 | G34: 4 | H34: =(SUM(C34:G34)*IF(Kilpailu!$B$6 =Kilpailu!$A$79,Kilpailu!C33,IF(Kilpailu!$B$6 =Kilpailu!$A$80,Kilpailu!C48,IF(Kilpailu!$B$6 =Kilpailu!$A$81,Kilpailu!C63,1))))-SMALL(C34:G34,1)-LARGE(C34:G34,1) -> 13
A35: 5. | B35: =IF(Kilpailu!$B$6 =Kilpailu!$A$79,Kilpailu!B34,IF(Kilpailu!$B$6 =Kilpailu!$A$80,Kilpailu!B49,IF(Kilpailu!$B$6 =Kilpailu!$A$81,Kilpailu!B64,""))) -> Pullpack with backward full roll | C35: 7 | D35: 6 | E35: 5 | F35: 4.5 | G35: 5 | H35: =(SUM(C35:G35)*IF(Kilpailu!$B$6 =Kilpailu!$A$79,Kilpailu!C34,IF(Kilpailu!$B$6 =Kilpailu!$A$80,Kilpailu!C49,IF(Kilpailu!$B$6 =Kilpailu!$A$81,Kilpailu!C64,1))))-SMALL(C35:G35,1)-LARGE(C35:G35,1) -> 16
A36: 6. | B36: =IF(Kilpailu!$B$6 =Kilpailu!$A$79,Kilpailu!B35,IF(Kilpailu!$B$6 =Kilpailu!$A$80,Kilpailu!B50,IF(Kilpailu!$B$6 =Kilpailu!$A$81,Kilpailu!B65,""))) -> Cobra Roll with pushed flip | C36: 6.5 | D36: 5.5 | E36: 3.5 | F36: 3.5 | G36: 4 | H36: =(SUM(C36:G36)*IF(Kilpailu!$B$6 =Kilpailu!$A$79,Kilpailu!C35,IF(Kilpailu!$B$6 =Kilpailu!$A$80,Kilpailu!C50,IF(Kilpailu!$B$6 =Kilpailu!$A$81,Kilpailu!C65,1))))-SMALL(C36:G36,1)-LARGE(C36:G36,1) -> 13
A37: 7. | B37: =IF(Kilpailu!$B$6 =Kilpailu!$A$79,Kilpailu!B36,IF(Kilpailu!$B$6 =Kilpailu!$A$80,Kilpailu!B51,IF(Kilpailu!$B$6 =Kilpailu!$A$81,Kilpailu!B66,""))) -> Vertical candle | C37: 6.5 | D37: 6.5 | E37: 4.5 | F37: 3.5 | G37: 5 | H37: =(SUM(C37:G37)*IF(Kilpailu!$B$6 =Kilpailu!$A$79,Kilpailu!C36,IF(Kilpailu!$B$6 =Kilpailu!$A$80,Kilpailu!C51,IF(Kilpailu!$B$6 =Kilpailu!$A$81,Kilpailu!C66,1))))-SMALL(C37:G37,1)-LARGE(C37:G37,1) -> 16
A38: 8. | B38: =IF(Kilpailu!$B$6 =Kilpailu!$A$79,Kilpailu!B37,IF(Kilpailu!$B$6 =Kilpailu!$A$80,Kilpailu!B52,IF(Kilpailu!$B$6 =Kilpailu!$A$81,Kilpailu!B67,""))) -> Opposite 2 point rolls | C38: 6.5 | D38: 6 | E38: 3.5 | F38: 4 | G38: 5 | H38: =(SUM(C38:G38)*IF(Kilpailu!$B$6 =Kilpailu!$A$79,Kilpailu!C37,IF(Kilpailu!$B$6 =Kilpailu!$A$80,Kilpailu!C52,IF(Kilpailu!$B$6 =Kilpailu!$A$81,Kilpailu!C67,1))))-SMALL(C38:G38,1)-LARGE(C38:G38,1) -> 15
A39: 9. | B39: =IF(Kilpailu!$B$6 =Kilpailu!$A$79,Kilpailu!B38,IF(Kilpailu!$B$6 =Kilpailu!$A$80,Kilpailu!B53,IF(Kilpailu!$B$6 =Kilpailu!$A$81,Kilpailu!B68,""))) -> Inside loop with pirouette on top | C39: 7.5 | D39: 6.5 | E39: 4.5 | F39: 4.5 | G39: 5 | H39: =(SUM(C39:G39)*IF(Kilpailu!$B$6 =Kilpailu!$A$79,Kilpailu!C38,IF(Kilpailu!$B$6 =Kilpailu!$A$80,Kilpailu!C53,IF(Kilpailu!$B$6 =Kilpailu!$A$81,Kilpailu!C68,1))))-SMALL(C39:G39,1)-LARGE(C39:G39,1) -> 16
A40: 10. | B40: =IF(Kilpailu!$B$6 =Kilpailu!$A$79,Kilpailu!B39,IF(Kilpailu!$B$6 =Kilpailu!$A$80,Kilpailu!B54,IF(Kilpailu!$B$6 =Kilpailu!$A$81,Kilpailu!B69,""))) -> Autorotation with two 90º turns | C40: 5.5 | D40: 4 | E40: 2.5 | F40: 2 | G40: 3 | H40: =(SUM(C40:G40)*IF(Kilpailu!$B$6 =Kilpailu!$A$79,Kilpailu!C39,IF(Kilpailu!$B$6 =Kilpailu!$A$80,Kilpailu!C54,IF(Kilpailu!$B$6 =Kilpailu!$A$81,Kilpailu!C69,1))))-SMALL(C40:G40,1)-LARGE(C40:G40,1) -> 9.5
A41: 11. | B41: =IF(Kilpailu!$B$6 =Kilpailu!$A$79,Kilpailu!B40,IF(Kilpailu!$B$6 =Kilpailu!$A$80,Kilpailu!B55,IF(Kilpailu!$B$6 =Kilpailu!$A$81,Kilpailu!B70,""))) | G41: 0 | H41: =(SUM(C41:G41)*IF(Kilpailu!$B$6 =Kilpailu!$A$79,Kilpailu!C40,IF(Kilpailu!$B$6 =Kilpailu!$A$80,Kilpailu!C55,IF(Kilpailu!$B$6 =Kilpailu!$A$81,Kilpailu!C70,1))))-SMALL(C41:G41,1)-LARGE(C41:G41,1) -> 0
B42: Yht. | C42: =SUM(C31:C41) -> 62 | D42: =SUM(D31:D41) -> 52 | E42: =SUM(E31:E41) -> 38 | F42: =SUM(F31:F41) -> 36 | G42: =SUM(G31:G41) -> 45
A46: Kierros 3: | C46: Tuomari 1 | D46: Tuomari 2 | E46: Tuomari 3 | F46: Tuomari 4 | G46: Tuomari 5 | H46: yht.
A47: 1. | B47: =IF(Kilpailu!$B$6 =Kilpailu!$A$79,Kilpailu!B30,IF(Kilpailu!$B$6 =Kilpailu!$A$80,Kilpailu!B45,IF(Kilpailu!$B$6 =Kilpailu!$A$81,Kilpailu!B60,""))) -> M with 2 half pirouettes on all side | C47: 5 | D47: 4 | E47: 2.5 | F47: 4 | G47: 5 | H47: =(SUM(C47:G47)*IF(Kilpailu!$B$6 =Kilpailu!$A$79,Kilpailu!C30,IF(Kilpailu!$B$6 =Kilpailu!$A$80,Kilpailu!C45,IF(Kilpailu!$B$6 =Kilpailu!$A$81,Kilpailu!C60,1))))-SMALL(C47:G47,1)-LARGE(C47:G47,1) -> 13
A48: 2. | B48: =IF(Kilpailu!$B$6 =Kilpailu!$A$79,Kilpailu!B31,IF(Kilpailu!$B$6 =Kilpailu!$A$80,Kilpailu!B46,IF(Kilpailu!$B$6 =Kilpailu!$A$81,Kilpailu!B61,""))) -> Semicircle with pirouette | C48: 7.5 | D48: 5 | E48: 4.5 | F48: 6 | G48: 4 | H48: =(SUM(C48:G48)*IF(Kilpailu!$B$6 =Kilpailu!$A$79,Kilpailu!C31,IF(Kilpailu!$B$6 =Kilpailu!$A$80,Kilpailu!C46,IF(Kilpailu!$B$6 =Kilpailu!$A$81,Kilpailu!C61,1))))-SMALL(C48:G48,1)-LARGE(C48:G48,1) -> 15.5
A49: 3. | B49: =IF(Kilpailu!$B$6 =Kilpailu!$A$79,Kilpailu!B32,IF(Kilpailu!$B$6 =Kilpailu!$A$80,Kilpailu!B47,IF(Kilpailu!$B$6 =Kilpailu!$A$81,Kilpailu!B62,""))) -> Diamond 3 | C49: 5 | D49: 4.5 | E49: 3.5 | F49: 5 | G49: 4 | H49: =(SUM(C49:G49)*IF(Kilpailu!$B$6 =Kilpailu!$A$79,Kilpailu!C32,IF(Kilpailu!$B$6 =Kilpailu!$A$80,Kilpailu!C47,IF(Kilpailu!$B$6 =Kilpailu!$A$81,Kilpailu!C62,1))))-SMALL(C49:G49,1)-LARGE(C49:G49,1) -> 13.5
A50: 4. | B50: =IF(Kilpailu!$B$6 =Kilpailu!$A$79,Kilpailu!B33,IF(Kilpailu!$B$6 =Kilpailu!$A$80,Kilpailu!B48,IF(Kilpailu!$B$6 =Kilpailu!$A$81,Kilpailu!B63,""))) -> Cuban eight | C50: 8 | D50: 5 | E50: 6 | F50: 7 | G50: 6 | H50: =(SUM(C50:G50)*IF(Kilpailu!$B$6 =Kilpailu!$A$79,Kilpailu!C33,IF(Kilpailu!$B$6 =Kilpailu!$A$80,Kilpailu!C48,IF(Kilpailu!$B$6 =Kilpailu!$A$81,Kilpailu!C63,1))))-SMALL(C50:G50,1)-LARGE(C50:G50,1) -> 19
A51: 5. | B51: =IF(Kilpailu!$B$6 =Kilpailu!$A$79,Kilpailu!B34,IF(Kilpailu!$B$6 =Kilpailu!$A$80,Kilpailu!B49,IF(Kilpailu!$B$6 =Kilpailu!$A$81,Kilpailu!B64,""))) -> Pullpack with backward full roll | C51: 6 | D51: 5 | E51: 5 | F51: 7 | G51: 3 | H51: =(SUM(C51:G51)*IF(Kilpailu!$B$6 =Kilpailu!$A$79,Kilpailu!C34,IF(Kilpailu!$B$6 =Kilpailu!$A$80,Kilpailu!C49,IF(Kilpailu!$B$6 =Kilpailu!$A$81,Kilpailu!C64,1))))-SMALL(C51:G51,1)-LARGE(C51:G51,1) -> 16
A52: 6. | B52: =IF(Kilpailu!$B$6 =Kilpailu!$A$79,Kilpailu!B35,IF(Kilpailu!$B$6 =Kilpailu!$A$80,Kilpailu!B50,IF(Kilpailu!$B$6 =Kilpailu!$A$81,Kilpailu!B65,""))) -> Cobra Roll with pushed flip | C52: 5.5 | D52: 4.5 | E52: 4.5 | F52: 6 | G52: 4 | H52: =(SUM(C52:G52)*IF(Kilpailu!$B$6 =Kilpailu!$A$79,Kilpailu!C35,IF(Kilpailu!$B$6 =Kilpailu!$A$80,Kilpailu!C50,IF(Kilpailu!$B$6 =Kilpailu!$A$81,Kilpailu!C65,1))))-SMALL(C52:G52,1)-LARGE(C52:G52,1) -> 14.5
A53: 7. | B53: =IF(Kilpailu!$B$6 =Kilpailu!$A$79,Kilpailu!B36,IF(Kilpailu!$B$6 =Kilpailu!$A$80,Kilpailu!B51,IF(Kilpailu!$B$6 =Kilpailu!$A$81,Kilpailu!B66,""))) -> Vertical candle | C53: 7 | D53: 5 | E53: 5 | F53: 6 | G53: 5 | H53: =(SUM(C53:G53)*IF(Kilpailu!$B$6 =Kilpailu!$A$79,Kilpailu!C36,IF(Kilpailu!$B$6 =Kilpailu!$A$80,Kilpailu!C51,IF(Kilpailu!$B$6 =Kilpailu!$A$81,Kilpailu!C66,1))))-SMALL(C53:G53,1)-LARGE(C53:G53,1) -> 16
A54: 8. | B54: =IF(Kilpailu!$B$6 =Kilpailu!$A$79,Kilpailu!B37,IF(Kilpailu!$B$6 =Kilpailu!$A$80,Kilpailu!B52,IF(Kilpailu!$B$6 =Kilpailu!$A$81,Kilpailu!B67,""))) -> Opposite 2 point rolls | C54: 8 | D54: 6 | E54: 5 | F54: 6.5 | G54: 5 | H54: =(SUM(C54:G54)*IF(Kilpailu!$B$6 =Kilpailu!$A$79,Kilpailu!C37,IF(Kilpailu!$B$6 =Kilpailu!$A$80,Kilpailu!C52,IF(Kilpailu!$B$6 =Kilpailu!$A$81,Kilpailu!C67,1))))-SMALL(C54:G54,1)-LARGE(C54:G54,1) -> 17.5
A55: 9. | B55: =IF(Kilpailu!$B$6 =Kilpailu!$A$79,Kilpailu!B38,IF(Kilpailu!$B$6 =Kilpailu!$A$80,Kilpailu!B53,IF(Kilpailu!$B$6 =Kilpailu!$A$81,Kilpailu!B68,""))) -> Inside loop with pirouette on top | C55: 6.5 | D55: 5 | E55: 4 | F55: 6.5 | G55: 6 | H55: =(SUM(C55:G55)*IF(Kilpailu!$B$6 =Kilpailu!$A$79,Kilpailu!C38,IF(Kilpailu!$B$6 =Kilpailu!$A$80,Kilpailu!C53,IF(Kilpailu!$B$6 =Kilpailu!$A$81,Kilpailu!C68,1))))-SMALL(C55:G55,1)-LARGE(C55:G55,1) -> 17.5
A56: 10. | B56: =IF(Kilpailu!$B$6 =Kilpailu!$A$79,Kilpailu!B39,IF(Kilpailu!$B$6 =Kilpailu!$A$80,Kilpailu!B54,IF(Kilpailu!$B$6 =Kilpailu!$A$81,Kilpailu!B69,""))) -> Autorotation with two 90º turns | C56: 3 | D56: 2 | E56: 1.5 | F56: 2 | G56: 3 | H56: =(SUM(C56:G56)*IF(Kilpailu!$B$6 =Kilpailu!$A$79,Kilpailu!C39,IF(Kilpailu!$B$6 =Kilpailu!$A$80,Kilpailu!C54,IF(Kilpailu!$B$6 =Kilpailu!$A$81,Kilpailu!C69,1))))-SMALL(C56:G56,1)-LARGE(C56:G56,1) -> 7
A57: 11. | B57: =IF(Kilpailu!$B$6 =Kilpailu!$A$79,Kilpailu!B40,IF(Kilpailu!$B$6 =Kilpailu!$A$80,Kilpailu!B55,IF(Kilpailu!$B$6 =Kilpailu!$A$81,Kilpailu!B70,""))) | G57: 0 | H57: =(SUM(C57:G57)*IF(Kilpailu!$B$6 =Kilpailu!$A$79,Kilpailu!C40,IF(Kilpailu!$B$6 =Kilpailu!$A$80,Kilpailu!C55,IF(Kilpailu!$B$6 =Kilpailu!$A$81,Kilpailu!C70,1))))-SMALL(C57:G57,1)-LARGE(C57:G57,1) -> 0
B58: Yht. | C58: =SUM(C47:C57) -> 61.5 | D58: =SUM(D47:D57) -> 46 | E58: =SUM(E47:E57) -> 41.5 | F58: =SUM(F47:F57) -> 56 | G58: =SUM(G47:G57) -> 45

Sheet 7
D4: Pisteet | E4: Suht…
A5: Nimi: | B5: =Kilpailu!B16 -> Anssi | C5: Kierros 1. | D5: =SUM(C26:G26)-LARGE(C26:G26,1)-SMALL(C26:G26,1) -> 223 | E5: =Tulokset!D34 -> 901.0101
C6: Kierros 2. | D6: =SUM(C42:G42)-LARGE(C42:G42,1)-SMALL(C42:G42,1) -> 236 | E6: =Tulokset!D54 -> 930.96647
A7: Paikka: | B7: =Kilpailu!B4 -> Vesivehmaa | C7: Kierros 3. | D7: =SUM(C58:G58)-LARGE(C58:G58,1)-SMALL(C58:G58,1) -> 236 | E7: =Tulokset!D74 -> 905.9501
A8: Päivä: | B8: =Kilpailu!B5 -> 40397
A9: Ohjelma: | B9: =Kilpailu!B6 -> F3C-P | C9: yhteensä: | D9: =SUM(D5:D7) -> 695 | E9: =SUM(E5:E7) -> 2737.9267
C10: pois: | D10: =SMALL(D5:D7,1) -> 223 | E10: =SMALL(E5:E7,1) -> 901.0101
C11: 2 parasta: | D11: =SUM(D5:D7)-D10 -> 472 | E11: =SUM(E5:E7)-E10 -> 1836.9166
A14: Kierros 1: | C14: Tuomari 1 | D14: Tuomari 2 | E14: Tuomari 3 | F14: Tuomari 4 | G14: Tuomari 5 | H14: yht.
A15: 1. | B15: =IF(Kilpailu!$B$6 =Kilpailu!$A$79,Kilpailu!B30,IF(Kilpailu!$B$6 =Kilpailu!$A$80,Kilpailu!B45,IF(Kilpailu!$B$6 =Kilpailu!$A$81,Kilpailu!B60,""))) -> M with 2 half pirouettes on all side | C15: 7.5 | D15: 7.5 | E15: 7 | F15: 8 | G15: 7 | H15: =(SUM(C15:G15)*IF(Kilpailu!$B$6 =Kilpailu!$A$79,Kilpailu!C30,IF(Kilpailu!$B$6 =Kilpailu!$A$80,Kilpailu!C45,IF(Kilpailu!$B$6 =Kilpailu!$A$81,Kilpailu!C60,1))))-SMALL(C15:G15,1)-LARGE(C15:G15,1) -> 22
A16: 2. | B16: =IF(Kilpailu!$B$6 =Kilpailu!$A$79,Kilpailu!B31,IF(Kilpailu!$B$6 =Kilpailu!$A$80,Kilpailu!B46,IF(Kilpailu!$B$6 =Kilpailu!$A$81,Kilpailu!B61,""))) -> Semicircle with pirouette | C16: 8.5 | D16: 8 | E16: 7 | F16: 8.5 | G16: 7 | H16: =(SUM(C16:G16)*IF(Kilpailu!$B$6 =Kilpailu!$A$79,Kilpailu!C31,IF(Kilpailu!$B$6 =Kilpailu!$A$80,Kilpailu!C46,IF(Kilpailu!$B$6 =Kilpailu!$A$81,Kilpailu!C61,1))))-SMALL(C16:G16,1)-LARGE(C16:G16,1) -> 23.5
A17: 3. | B17: =IF(Kilpailu!$B$6 =Kilpailu!$A$79,Kilpailu!B32,IF(Kilpailu!$B$6 =Kilpailu!$A$80,Kilpailu!B47,IF(Kilpailu!$B$6 =Kilpailu!$A$81,Kilpailu!B62,""))) -> Diamond 3 | C17: 8 | D17: 7 | E17: 7 | F17: 8 | G17: 8 | H17: =(SUM(C17:G17)*IF(Kilpailu!$B$6 =Kilpailu!$A$79,Kilpailu!C32,IF(Kilpailu!$B$6 =Kilpailu!$A$80,Kilpailu!C47,IF(Kilpailu!$B$6 =Kilpailu!$A$81,Kilpailu!C62,1))))-SMALL(C17:G17,1)-LARGE(C17:G17,1) -> 23
A18: 4. | B18: =IF(Kilpailu!$B$6 =Kilpailu!$A$79,Kilpailu!B33,IF(Kilpailu!$B$6 =Kilpailu!$A$80,Kilpailu!B48,IF(Kilpailu!$B$6 =Kilpailu!$A$81,Kilpailu!B63,""))) -> Cuban eight | C18: 8 | D18: 7 | E18: 7.5 | F18: 7 | G18: 7 | H18: =(SUM(C18:G18)*IF(Kilpailu!$B$6 =Kilpailu!$A$79,Kilpailu!C33,IF(Kilpailu!$B$6 =Kilpailu!$A$80,Kilpailu!C48,IF(Kilpailu!$B$6 =Kilpailu!$A$81,Kilpailu!C63,1))))-SMALL(C18:G18,1)-LARGE(C18:G18,1) -> 21.5
A19: 5. | B19: =IF(Kilpailu!$B$6 =Kilpailu!$A$79,Kilpailu!B34,IF(Kilpailu!$B$6 =Kilpailu!$A$80,Kilpailu!B49,IF(Kilpailu!$B$6 =Kilpailu!$A$81,Kilpailu!B64,""))) -> Pullpack with backward full roll | C19: 8.5 | D19: 8 | E19: 7 | F19: 7.5 | G19: 8 | H19: =(SUM(C19:G19)*IF(Kilpailu!$B$6 =Kilpailu!$A$79,Kilpailu!C34,IF(Kilpailu!$B$6 =Kilpailu!$A$80,Kilpailu!C49,IF(Kilpailu!$B$6 =Kilpailu!$A$81,Kilpailu!C64,1))))-SMALL(C19:G19,1)-LARGE(C19:G19,1) -> 23.5
A20: 6. | B20: =IF(Kilpailu!$B$6 =Kilpailu!$A$79,Kilpailu!B35,IF(Kilpailu!$B$6 =Kilpailu!$A$80,Kilpailu!B50,IF(Kilpailu!$B$6 =Kilpailu!$A$81,Kilpailu!B65,""))) -> Cobra Roll with pushed flip | C20: 8.5 | D20: 8 | E20: 7.5 | F20: 8 | G20: 9 | H20: =(SUM(C20:G20)*IF(Kilpailu!$B$6 =Kilpailu!$A$79,Kilpailu!C35,IF(Kilpailu!$B$6 =Kilpailu!$A$80,Kilpailu!C50,IF(Kilpailu!$B$6 =Kilpailu!$A$81,Kilpailu!C65,1))))-SMALL(C20:G20,1)-LARGE(C20:G20,1) -> 24.5
A21: 7. | B21: =IF(Kilpailu!$B$6 =Kilpailu!$A$79,Kilpailu!B36,IF(Kilpailu!$B$6 =Kilpailu!$A$80,Kilpailu!B51,IF(Kilpailu!$B$6 =Kilpailu!$A$81,Kilpailu!B66,""))) -> Vertical candle | C21: 8.5 | D21: 7 | E21: 7 | F21: 8 | G21: 8 | H21: =(SUM(C21:G21)*IF(Kilpailu!$B$6 =Kilpailu!$A$79,Kilpailu!C36,IF(Kilpailu!$B$6 =Kilpailu!$A$80,Kilpailu!C51,IF(Kilpailu!$B$6 =Kilpailu!$A$81,Kilpailu!C66,1))))-SMALL(C21:G21,1)-LARGE(C21:G21,1) -> 23
A22: 8. | B22: =IF(Kilpailu!$B$6 =Kilpailu!$A$79,Kilpailu!B37,IF(Kilpailu!$B$6 =Kilpailu!$A$80,Kilpailu!B52,IF(Kilpailu!$B$6 =Kilpailu!$A$81,Kilpailu!B67,""))) -> Opposite 2 point rolls | C22: 8 | D22: 7.5 | E22: 7.5 | F22: 8 | G22: 7 | H22: =(SUM(C22:G22)*IF(Kilpailu!$B$6 =Kilpailu!$A$79,Kilpailu!C37,IF(Kilpailu!$B$6 =Kilpailu!$A$80,Kilpailu!C52,IF(Kilpailu!$B$6 =Kilpailu!$A$81,Kilpailu!C67,1))))-SMALL(C22:G22,1)-LARGE(C22:G22,1) -> 23
A23: 9. | B23: =IF(Kilpailu!$B$6 =Kilpailu!$A$79,Kilpailu!B38,IF(Kilpailu!$B$6 =Kilpailu!$A$80,Kilpailu!B53,IF(Kilpailu!$B$6 =Kilpailu!$A$81,Kilpailu!B68,""))) -> Inside loop with pirouette on top | C23: 7.5 | D23: 6.5 | E23: 6.5 | F23: 6.5 | G23: 7 | H23: =(SUM(C23:G23)*IF(Kilpailu!$B$6 =Kilpailu!$A$79,Kilpailu!C38,IF(Kilpailu!$B$6 =Kilpailu!$A$80,Kilpailu!C53,IF(Kilpailu!$B$6 =Kilpailu!$A$81,Kilpailu!C68,1))))-SMALL(C23:G23,1)-LARGE(C23:G23,1) -> 20
A24: 10. | B24: =IF(Kilpailu!$B$6 =Kilpailu!$A$79,Kilpailu!B39,IF(Kilpailu!$B$6 =Kilpailu!$A$80,Kilpailu!B54,IF(Kilpailu!$B$6 =Kilpailu!$A$81,Kilpailu!B69,""))) -> Autorotation with two 90º turns | C24: 7 | D24: 8 | E24: 6 | F24: 5 | G24: 6 | H24: =(SUM(C24:G24)*IF(Kilpailu!$B$6 =Kilpailu!$A$79,Kilpailu!C39,IF(Kilpailu!$B$6 =Kilpailu!$A$80,Kilpailu!C54,IF(Kilpailu!$B$6 =Kilpailu!$A$81,Kilpailu!C69,1))))-SMALL(C24:G24,1)-LARGE(C24:G24,1) -> 19
A25: 11. | B25: =IF(Kilpailu!$B$6 =Kilpailu!$A$79,Kilpailu!B40,IF(Kilpailu!$B$6 =Kilpailu!$A$80,Kilpailu!B55,IF(Kilpailu!$B$6 =Kilpailu!$A$81,Kilpailu!B70,""))) | G25: 0 | H25: =(SUM(C25:G25)*IF(Kilpailu!$B$6 =Kilpailu!$A$79,Kilpailu!C40,IF(Kilpailu!$B$6 =Kilpailu!$A$80,Kilpailu!C55,IF(Kilpailu!$B$6 =Kilpailu!$A$81,Kilpailu!C70,1))))-SMALL(C25:G25,1)-LARGE(C25:G25,1) -> 0
B26: Yht. | C26: =SUM(C15:C25) -> 80 | D26: =SUM(D15:D25) -> 74.5 | E26: =SUM(E15:E25) -> 70 | F26: =SUM(F15:F25) -> 74.5 | G26: =SUM(G15:G25) -> 74
A30: Kierros 2: | C30: Tuomari 1 | D30: Tuomari 2 | E30: Tuomari 3 | F30: Tuomari 4 | G30: Tuomari 5 | H30: yht.
A31: 1. | B31: =IF(Kilpailu!$B$6 =Kilpailu!$A$79,Kilpailu!B30,IF(Kilpailu!$B$6 =Kilpailu!$A$80,Kilpailu!B45,IF(Kilpailu!$B$6 =Kilpailu!$A$81,Kilpailu!B60,""))) -> M with 2 half pirouettes on all side | C31: 8 | D31: 7.5 | E31: 8 | F31: 8 | G31: 8 | H31: =(SUM(C31:G31)*IF(Kilpailu!$B$6 =Kilpailu!$A$79,Kilpailu!C30,IF(Kilpailu!$B$6 =Kilpailu!$A$80,Kilpailu!C45,IF(Kilpailu!$B$6 =Kilpailu!$A$81,Kilpailu!C60,1))))-SMALL(C31:G31,1)-LARGE(C31:G31,1) -> 24
A32: 2. | B32: =IF(Kilpailu!$B$6 =Kilpailu!$A$79,Kilpailu!B31,IF(Kilpailu!$B$6 =Kilpailu!$A$80,Kilpailu!B46,IF(Kilpailu!$B$6 =Kilpailu!$A$81,Kilpailu!B61,""))) -> Semicircle with pirouette | C32: 8 | D32: 9 | E32: 8 | F32: 9 | G32: 9 | H32: =(SUM(C32:G32)*IF(Kilpailu!$B$6 =Kilpailu!$A$79,Kilpailu!C31,IF(Kilpailu!$B$6 =Kilpailu!$A$80,Kilpailu!C46,IF(Kilpailu!$B$6 =Kilpailu!$A$81,Kilpailu!C61,1))))-SMALL(C32:G32,1)-LARGE(C32:G32,1) -> 26
A33: 3. | B33: =IF(Kilpailu!$B$6 =Kilpailu!$A$79,Kilpailu!B32,IF(Kilpailu!$B$6 =Kilpailu!$A$80,Kilpailu!B47,IF(Kilpailu!$B$6 =Kilpailu!$A$81,Kilpailu!B62,""))) -> Diamond 3 | C33: 8 | D33: 8 | E33: 8 | F33: 8.5 | G33: 9 | H33: =(SUM(C33:G33)*IF(Kilpailu!$B$6 =Kilpailu!$A$79,Kilpailu!C32,IF(Kilpailu!$B$6 =Kilpailu!$A$80,Kilpailu!C47,IF(Kilpailu!$B$6 =Kilpailu!$A$81,Kilpailu!C62,1))))-SMALL(C33:G33,1)-LARGE(C33:G33,1) -> 24.5
A34: 4. | B34: =IF(Kilpailu!$B$6 =Kilpailu!$A$79,Kilpailu!B33,IF(Kilpailu!$B$6 =Kilpailu!$A$80,Kilpailu!B48,IF(Kilpailu!$B$6 =Kilpailu!$A$81,Kilpailu!B63,""))) -> Cuban eight | C34: 8 | D34: 7 | E34: 7 | F34: 7 | G34: 8 | H34: =(SUM(C34:G34)*IF(Kilpailu!$B$6 =Kilpailu!$A$79,Kilpailu!C33,IF(Kilpailu!$B$6 =Kilpailu!$A$80,Kilpailu!C48,IF(Kilpailu!$B$6 =Kilpailu!$A$81,Kilpailu!C63,1))))-SMALL(C34:G34,1)-LARGE(C34:G34,1) -> 22
A35: 5. | B35: =IF(Kilpailu!$B$6 =Kilpailu!$A$79,Kilpailu!B34,IF(Kilpailu!$B$6 =Kilpailu!$A$80,Kilpailu!B49,IF(Kilpailu!$B$6 =Kilpailu!$A$81,Kilpailu!B64,""))) -> Pullpack with backward full roll | C35: 8 | D35: 8 | E35: 8 | F35: 8 | G35: 7 | H35: =(SUM(C35:G35)*IF(Kilpailu!$B$6 =Kilpailu!$A$79,Kilpailu!C34,IF(Kilpailu!$B$6 =Kilpailu!$A$80,Kilpailu!C49,IF(Kilpailu!$B$6 =Kilpailu!$A$81,Kilpailu!C64,1))))-SMALL(C35:G35,1)-LARGE(C35:G35,1) -> 24
A36: 6. | B36: =IF(Kilpailu!$B$6 =Kilpailu!$A$79,Kilpailu!B35,IF(Kilpailu!$B$6 =Kilpailu!$A$80,Kilpailu!B50,IF(Kilpailu!$B$6 =Kilpailu!$A$81,Kilpailu!B65,""))) -> Cobra Roll with pushed flip | C36: 7 | D36: 8.5 | E36: 7.5 | F36: 8 | G36: 8 | H36: =(SUM(C36:G36)*IF(Kilpailu!$B$6 =Kilpailu!$A$79,Kilpailu!C35,IF(Kilpailu!$B$6 =Kilpailu!$A$80,Kilpailu!C50,IF(Kilpailu!$B$6 =Kilpailu!$A$81,Kilpailu!C65,1))))-SMALL(C36:G36,1)-LARGE(C36:G36,1) -> 23.5
A37: 7. | B37: =IF(Kilpailu!$B$6 =Kilpailu!$A$79,Kilpailu!B36,IF(Kilpailu!$B$6 =Kilpailu!$A$80,Kilpailu!B51,IF(Kilpailu!$B$6 =Kilpailu!$A$81,Kilpailu!B66,""))) -> Vertical candle | C37: 8 | D37: 7.5 | E37: 8.5 | F37: 7.5 | G37: 9 | H37: =(SUM(C37:G37)*IF(Kilpailu!$B$6 =Kilpailu!$A$79,Kilpailu!C36,IF(Kilpailu!$B$6 =Kilpailu!$A$80,Kilpailu!C51,IF(Kilpailu!$B$6 =Kilpailu!$A$81,Kilpailu!C66,1))))-SMALL(C37:G37,1)-LARGE(C37:G37,1) -> 24
A38: 8. | B38: =IF(Kilpailu!$B$6 =Kilpailu!$A$79,Kilpailu!B37,IF(Kilpailu!$B$6 =Kilpailu!$A$80,Kilpailu!B52,IF(Kilpailu!$B$6 =Kilpailu!$A$81,Kilpailu!B67,""))) -> Opposite 2 point rolls | C38: 8.5 | D38: 8 | E38: 8 | F38: 8.5 | G38: 9 | H38: =(SUM(C38:G38)*IF(Kilpailu!$B$6 =Kilpailu!$A$79,Kilpailu!C37,IF(Kilpailu!$B$6 =Kilpailu!$A$80,Kilpailu!C52,IF(Kilpailu!$B$6 =Kilpailu!$A$81,Kilpailu!C67,1))))-SMALL(C38:G38,1)-LARGE(C38:G38,1) -> 25
A39: 9. | B39: =IF(Kilpailu!$B$6 =Kilpailu!$A$79,Kilpailu!B38,IF(Kilpailu!$B$6 =Kilpailu!$A$80,Kilpailu!B53,IF(Kilpailu!$B$6 =Kilpailu!$A$81,Kilpailu!B68,""))) -> Inside loop with pirouette on top | C39: 8 | D39: 8 | E39: 7 | F39: 7.5 | G39: 8 | H39: =(SUM(C39:G39)*IF(Kilpailu!$B$6 =Kilpailu!$A$79,Kilpailu!C38,IF(Kilpailu!$B$6 =Kilpailu!$A$80,Kilpailu!C53,IF(Kilpailu!$B$6 =Kilpailu!$A$81,Kilpailu!C68,1))))-SMALL(C39:G39,1)-LARGE(C39:G39,1) -> 23.5
A40: 10. | B40: =IF(Kilpailu!$B$6 =Kilpailu!$A$79,Kilpailu!B39,IF(Kilpailu!$B$6 =Kilpailu!$A$80,Kilpailu!B54,IF(Kilpailu!$B$6 =Kilpailu!$A$81,Kilpailu!B69,""))) -> Autorotation with two 90º turns | C40: 7.5 | D40: 6.5 | E40: 7 | F40: 7 | G40: 7 | H40: =(SUM(C40:G40)*IF(Kilpailu!$B$6 =Kilpailu!$A$79,Kilpailu!C39,IF(Kilpailu!$B$6 =Kilpailu!$A$80,Kilpailu!C54,IF(Kilpailu!$B$6 =Kilpailu!$A$81,Kilpailu!C69,1))))-SMALL(C40:G40,1)-LARGE(C40:G40,1) -> 21
A41: 11. | B41: =IF(Kilpailu!$B$6 =Kilpailu!$A$79,Kilpailu!B40,IF(Kilpailu!$B$6 =Kilpailu!$A$80,Kilpailu!B55,IF(Kilpailu!$B$6 =Kilpailu!$A$81,Kilpailu!B70,""))) | G41: 0 | H41: =(SUM(C41:G41)*IF(Kilpailu!$B$6 =Kilpailu!$A$79,Kilpailu!C40,IF(Kilpailu!$B$6 =Kilpailu!$A$80,Kilpailu!C55,IF(Kilpailu!$B$6 =Kilpailu!$A$81,Kilpailu!C70,1))))-SMALL(C41:G41,1)-LARGE(C41:G41,1) -> 0
B42: Yht. | C42: =SUM(C31:C41) -> 79 | D42: =SUM(D31:D41) -> 78 | E42: =SUM(E31:E41) -> 77 | F42: =SUM(F31:F41) -> 79 | G42: =SUM(G31:G41) -> 82
A46: Kierros 3: | C46: Tuomari 1 | D46: Tuomari 2 | E46: Tuomari 3 | F46: Tuomari 4 | G46: Tuomari 5 | H46: yht.
A47: 1. | B47: =IF(Kilpailu!$B$6 =Kilpailu!$A$79,Kilpailu!B30,IF(Kilpailu!$B$6 =Kilpailu!$A$80,Kilpailu!B45,IF(Kilpailu!$B$6 =Kilpailu!$A$81,Kilpailu!B60,""))) -> M with 2 half pirouettes on all side | C47: 8 | D47: 8 | E47: 8 | F47: 8 | G47: 9 | H47: =(SUM(C47:G47)*IF(Kilpailu!$B$6 =Kilpailu!$A$79,Kilpailu!C30,IF(Kilpailu!$B$6 =Kilpailu!$A$80,Kilpailu!C45,IF(Kilpailu!$B$6 =Kilpailu!$A$81,Kilpailu!C60,1))))-SMALL(C47:G47,1)-LARGE(C47:G47,1) -> 24
A48: 2. | B48: =IF(Kilpailu!$B$6 =Kilpailu!$A$79,Kilpailu!B31,IF(Kilpailu!$B$6 =Kilpailu!$A$80,Kilpailu!B46,IF(Kilpailu!$B$6 =Kilpailu!$A$81,Kilpailu!B61,""))) -> Semicircle with pirouette | C48: 8.5 | D48: 8 | E48: 7.5 | F48: 8.5 | G48: 9 | H48: =(SUM(C48:G48)*IF(Kilpailu!$B$6 =Kilpailu!$A$79,Kilpailu!C31,IF(Kilpailu!$B$6 =Kilpailu!$A$80,Kilpailu!C46,IF(Kilpailu!$B$6 =Kilpailu!$A$81,Kilpailu!C61,1))))-SMALL(C48:G48,1)-LARGE(C48:G48,1) -> 25
A49: 3. | B49: =IF(Kilpailu!$B$6 =Kilpailu!$A$79,Kilpailu!B32,IF(Kilpailu!$B$6 =Kilpailu!$A$80,Kilpailu!B47,IF(Kilpailu!$B$6 =Kilpailu!$A$81,Kilpailu!B62,""))) -> Diamond 3 | C49: 8 | D49: 8.5 | E49: 8.5 | F49: 8.5 | G49: 8 | H49: =(SUM(C49:G49)*IF(Kilpailu!$B$6 =Kilpailu!$A$79,Kilpailu!C32,IF(Kilpailu!$B$6 =Kilpailu!$A$80,Kilpailu!C47,IF(Kilpailu!$B$6 =Kilpailu!$A$81,Kilpailu!C62,1))))-SMALL(C49:G49,1)-LARGE(C49:G49,1) -> 25
A50: 4. | B50: =IF(Kilpailu!$B$6 =Kilpailu!$A$79,Kilpailu!B33,IF(Kilpailu!$B$6 =Kilpailu!$A$80,Kilpailu!B48,IF(Kilpailu!$B$6 =Kilpailu!$A$81,Kilpailu!B63,""))) -> Cuban eight | C50: 8.5 | D50: 8 | E50: 7.5 | F50: 8 | G50: 8 | H50: =(SUM(C50:G50)*IF(Kilpailu!$B$6 =Kilpailu!$A$79,Kilpailu!C33,IF(Kilpailu!$B$6 =Kilpailu!$A$80,Kilpailu!C48,IF(Kilpailu!$B$6 =Kilpailu!$A$81,Kilpailu!C63,1))))-SMALL(C50:G50,1)-LARGE(C50:G50,1) -> 24
A51: 5. | B51: =IF(Kilpailu!$B$6 =Kilpailu!$A$79,Kilpailu!B34,IF(Kilpailu!$B$6 =Kilpailu!$A$80,Kilpailu!B49,IF(Kilpailu!$B$6 =Kilpailu!$A$81,Kilpailu!B64,""))) -> Pullpack with backward full roll | C51: 8 | D51: 8 | E51: 8 | F51: 9 | G51: 8 | H51: =(SUM(C51:G51)*IF(Kilpailu!$B$6 =Kilpailu!$A$79,Kilpailu!C34,IF(Kilpailu!$B$6 =Kilpailu!$A$80,Kilpailu!C49,IF(Kilpailu!$B$6 =Kilpailu!$A$81,Kilpailu!C64,1))))-SMALL(C51:G51,1)-LARGE(C51:G51,1) -> 24
A52: 6. | B52: =IF(Kilpailu!$B$6 =Kilpailu!$A$79,Kilpailu!B35,IF(Kilpailu!$B$6 =Kilpailu!$A$80,Kilpailu!B50,IF(Kilpailu!$B$6 =Kilpailu!$A$81,Kilpailu!B65,""))) -> Cobra Roll with pushed flip | C52: 7.5 | D52: 8 | E52: 8 | F52: 8.5 | G52: 9 | H52: =(SUM(C52:G52)*IF(Kilpailu!$B$6 =Kilpailu!$A$79,Kilpailu!C35,IF(Kilpailu!$B$6 =Kilpailu!$A$80,Kilpailu!C50,IF(Kilpailu!$B$6 =Kilpailu!$A$81,Kilpailu!C65,1))))-SMALL(C52:G52,1)-LARGE(C52:G52,1) -> 24.5
A53: 7. | B53: =IF(Kilpailu!$B$6 =Kilpailu!$A$79,Kilpailu!B36,IF(Kilpailu!$B$6 =Kilpailu!$A$80,Kilpailu!B51,IF(Kilpailu!$B$6 =Kilpailu!$A$81,Kilpailu!B66,""))) -> Vertical candle | C53: 7 | D53: 7 | E53: 7 | F53: 8 | G53: 8 | H53: =(SUM(C53:G53)*IF(Kilpailu!$B$6 =Kilpailu!$A$79,Kilpailu!C36,IF(Kilpailu!$B$6 =Kilpailu!$A$80,Kilpailu!C51,IF(Kilpailu!$B$6 =Kilpailu!$A$81,Kilpailu!C66,1))))-SMALL(C53:G53,1)-LARGE(C53:G53,1) -> 22
A54: 8. | B54: =IF(Kilpailu!$B$6 =Kilpailu!$A$79,Kilpailu!B37,IF(Kilpailu!$B$6 =Kilpailu!$A$80,Kilpailu!B52,IF(Kilpailu!$B$6 =Kilpailu!$A$81,Kilpailu!B67,""))) -> Opposite 2 point rolls | C54: 7.5 | D54: 8 | E54: 6.5 | F54: 8.5 | G54: 8 | H54: =(SUM(C54:G54)*IF(Kilpailu!$B$6 =Kilpailu!$A$79,Kilpailu!C37,IF(Kilpailu!$B$6 =Kilpailu!$A$80,Kilpailu!C52,IF(Kilpailu!$B$6 =Kilpailu!$A$81,Kilpailu!C67,1))))-SMALL(C54:G54,1)-LARGE(C54:G54,1) -> 23.5
A55: 9. | B55: =IF(Kilpailu!$B$6 =Kilpailu!$A$79,Kilpailu!B38,IF(Kilpailu!$B$6 =Kilpailu!$A$80,Kilpailu!B53,IF(Kilpailu!$B$6 =Kilpailu!$A$81,Kilpailu!B68,""))) -> Inside loop with pirouette on top | C55: 8 | D55: 8.5 | E55: 7 | F55: 8 | G55: 9 | H55: =(SUM(C55:G55)*IF(Kilpailu!$B$6 =Kilpailu!$A$79,Kilpailu!C38,IF(Kilpailu!$B$6 =Kilpailu!$A$80,Kilpailu!C53,IF(Kilpailu!$B$6 =Kilpailu!$A$81,Kilpailu!C68,1))))-SMALL(C55:G55,1)-LARGE(C55:G55,1) -> 24.5
A56: 10. | B56: =IF(Kilpailu!$B$6 =Kilpailu!$A$79,Kilpailu!B39,IF(Kilpailu!$B$6 =Kilpailu!$A$80,Kilpailu!B54,IF(Kilpailu!$B$6 =Kilpailu!$A$81,Kilpailu!B69,""))) -> Autorotation with two 90º turns | C56: 6 | D56: 6 | E56: 5 | F56: 6 | G56: 6 | H56: =(SUM(C56:G56)*IF(Kilpailu!$B$6 =Kilpailu!$A$79,Kilpailu!C39,IF(Kilpailu!$B$6 =Kilpailu!$A$80,Kilpailu!C54,IF(Kilpailu!$B$6 =Kilpailu!$A$81,Kilpailu!C69,1))))-SMALL(C56:G56,1)-LARGE(C56:G56,1) -> 18
A57: 11. | B57: =IF(Kilpailu!$B$6 =Kilpailu!$A$79,Kilpailu!B40,IF(Kilpailu!$B$6 =Kilpailu!$A$80,Kilpailu!B55,IF(Kilpailu!$B$6 =Kilpailu!$A$81,Kilpailu!B70,""))) | G57: 0 | H57: =(SUM(C57:G57)*IF(Kilpailu!$B$6 =Kilpailu!$A$79,Kilpailu!C40,IF(Kilpailu!$B$6 =Kilpailu!$A$80,Kilpailu!C55,IF(Kilpailu!$B$6 =Kilpailu!$A$81,Kilpailu!C70,1))))-SMALL(C57:G57,1)-LARGE(C57:G57,1) -> 0
B58: Yht. | C58: =SUM(C47:C57) -> 77 | D58: =SUM(D47:D57) -> 78 | E58: =SUM(E47:E57) -> 73 | F58: =SUM(F47:F57) -> 81 | G58: =SUM(G47:G57) -> 82

Sheet 8
D4: Pisteet | E4: Suht…
A5: Nimi: | B5: =Kilpailu!B17 -> Olli-Pekka | C5: Kierros 1. | D5: =SUM(C26:G26)-LARGE(C26:G26,1)-SMALL(C26:G26,1) -> 162 | E5: =Tulokset!D35 -> 654.54545
C6: Kierros 2. | D6: =SUM(C42:G42)-LARGE(C42:G42,1)-SMALL(C42:G42,1) -> 170 | E6: =Tulokset!D55 -> 670.61144
A7: Paikka: | B7: =Kilpailu!B4 -> Vesivehmaa | C7: Kierros 3. | D7: =SUM(C58:G58)-LARGE(C58:G58,1)-SMALL(C58:G58,1) -> 169 | E7: =Tulokset!D75 -> 648.7524
A8: Päivä: | B8: =Kilpailu!B5 -> 40397
A9: Ohjelma: | B9: =Kilpailu!B6 -> F3C-P | C9: yhteensä: | D9: =SUM(D5:D7) -> 501 | E9: =SUM(E5:E7) -> 1973.9093
C10: pois: | D10: =SMALL(D5:D7,1) -> 162 | E10: =SMALL(E5:E7,1) -> 648.7524
C11: 2 parasta: | D11: =SUM(D5:D7)-D10 -> 339 | E11: =SUM(E5:E7)-E10 -> 1325.1569
A14: Kierros 1: | C14: Tuomari 1 | D14: Tuomari 2 | E14: Tuomari 3 | F14: Tuomari 4 | G14: Tuomari 5 | H14: yht.
A15: 1. | B15: =IF(Kilpailu!$B$6 =Kilpailu!$A$79,Kilpailu!B30,IF(Kilpailu!$B$6 =Kilpailu!$A$80,Kilpailu!B45,IF(Kilpailu!$B$6 =Kilpailu!$A$81,Kilpailu!B60,""))) -> M with 2 half pirouettes on all side | C15: 4.5 | D15: 7 | E15: 4.5 | F15: 4.5 | G15: 5 | H15: =(SUM(C15:G15)*IF(Kilpailu!$B$6 =Kilpailu!$A$79,Kilpailu!C30,IF(Kilpailu!$B$6 =Kilpailu!$A$80,Kilpailu!C45,IF(Kilpailu!$B$6 =Kilpailu!$A$81,Kilpailu!C60,1))))-SMALL(C15:G15,1)-LARGE(C15:G15,1) -> 14
A16: 2. | B16: =IF(Kilpailu!$B$6 =Kilpailu!$A$79,Kilpailu!B31,IF(Kilpailu!$B$6 =Kilpailu!$A$80,Kilpailu!B46,IF(Kilpailu!$B$6 =Kilpailu!$A$81,Kilpailu!B61,""))) -> Semicircle with pirouette | C16: 4.5 | D16: 6 | E16: 2.5 | F16: 3 | G16: 4 | H16: =(SUM(C16:G16)*IF(Kilpailu!$B$6 =Kilpailu!$A$79,Kilpailu!C31,IF(Kilpailu!$B$6 =Kilpailu!$A$80,Kilpailu!C46,IF(Kilpailu!$B$6 =Kilpailu!$A$81,Kilpailu!C61,1))))-SMALL(C16:G16,1)-LARGE(C16:G16,1) -> 11.5
A17: 3. | B17: =IF(Kilpailu!$B$6 =Kilpailu!$A$79,Kilpailu!B32,IF(Kilpailu!$B$6 =Kilpailu!$A$80,Kilpailu!B47,IF(Kilpailu!$B$6 =Kilpailu!$A$81,Kilpailu!B62,""))) -> Diamond 3 | C17: 6 | D17: 7 | E17: 4 | F17: 4.5 | G17: 4 | H17: =(SUM(C17:G17)*IF(Kilpailu!$B$6 =Kilpailu!$A$79,Kilpailu!C32,IF(Kilpailu!$B$6 =Kilpailu!$A$80,Kilpailu!C47,IF(Kilpailu!$B$6 =Kilpailu!$A$81,Kilpailu!C62,1))))-SMALL(C17:G17,1)-LARGE(C17:G17,1) -> 14.5
A18: 4. | B18: =IF(Kilpailu!$B$6 =Kilpailu!$A$79,Kilpailu!B33,IF(Kilpailu!$B$6 =Kilpailu!$A$80,Kilpailu!B48,IF(Kilpailu!$B$6 =Kilpailu!$A$81,Kilpailu!B63,""))) -> Cuban eight | C18: 6 | D18: 7.5 | E18: 4.5 | F18: 7 | G18: 5 | H18: =(SUM(C18:G18)*IF(Kilpailu!$B$6 =Kilpailu!$A$79,Kilpailu!C33,IF(Kilpailu!$B$6 =Kilpailu!$A$80,Kilpailu!C48,IF(Kilpailu!$B$6 =Kilpailu!$A$81,Kilpailu!C63,1))))-SMALL(C18:G18,1)-LARGE(C18:G18,1) -> 18
A19: 5. | B19: =IF(Kilpailu!$B$6 =Kilpailu!$A$79,Kilpailu!B34,IF(Kilpailu!$B$6 =Kilpailu!$A$80,Kilpailu!B49,IF(Kilpailu!$B$6 =Kilpailu!$A$81,Kilpailu!B64,""))) -> Pullpack with backward full roll | C19: 6.5 | D19: 8 | E19: 6.5 | F19: 7.5 | G19: 6 | H19: =(SUM(C19:G19)*IF(Kilpailu!$B$6 =Kilpailu!$A$79,Kilpailu!C34,IF(Kilpailu!$B$6 =Kilpailu!$A$80,Kilpailu!C49,IF(Kilpailu!$B$6 =Kilpailu!$A$81,Kilpailu!C64,1))))-SMALL(C19:G19,1)-LARGE(C19:G19,1) -> 20.5
A20: 6. | B20: =IF(Kilpailu!$B$6 =Kilpailu!$A$79,Kilpailu!B35,IF(Kilpailu!$B$6 =Kilpailu!$A$80,Kilpailu!B50,IF(Kilpailu!$B$6 =Kilpailu!$A$81,Kilpailu!B65,""))) -> Cobra Roll with pushed flip | C20: 6 | D20: 7.5 | E20: 5.5 | F20: 6.5 | G20: 7 | H20: =(SUM(C20:G20)*IF(Kilpailu!$B$6 =Kilpailu!$A$79,Kilpailu!C35,IF(Kilpailu!$B$6 =Kilpailu!$A$80,Kilpailu!C50,IF(Kilpailu!$B$6 =Kilpailu!$A$81,Kilpailu!C65,1))))-SMALL(C20:G20,1)-LARGE(C20:G20,1) -> 19.5
A21: 7. | B21: =IF(Kilpailu!$B$6 =Kilpailu!$A$79,Kilpailu!B36,IF(Kilpailu!$B$6 =Kilpailu!$A$80,Kilpailu!B51,IF(Kilpailu!$B$6 =Kilpailu!$A$81,Kilpailu!B66,""))) -> Vertical candle | C21: 6.5 | D21: 8 | E21: 5 | F21: 5.5 | G21: 5 | H21: =(SUM(C21:G21)*IF(Kilpailu!$B$6 =Kilpailu!$A$79,Kilpailu!C36,IF(Kilpailu!$B$6 =Kilpailu!$A$80,Kilpailu!C51,IF(Kilpailu!$B$6 =Kilpailu!$A$81,Kilpailu!C66,1))))-SMALL(C21:G21,1)-LARGE(C21:G21,1) -> 17
A22: 8. | B22: =IF(Kilpailu!$B$6 =Kilpailu!$A$79,Kilpailu!B37,IF(Kilpailu!$B$6 =Kilpailu!$A$80,Kilpailu!B52,IF(Kilpailu!$B$6 =Kilpailu!$A$81,Kilpailu!B67,""))) -> Opposite 2 point rolls | C22: 5.5 | D22: 6.5 | E22: 3.5 | F22: 3.5 | G22: 4 | H22: =(SUM(C22:G22)*IF(Kilpailu!$B$6 =Kilpailu!$A$79,Kilpailu!C37,IF(Kilpailu!$B$6 =Kilpailu!$A$80,Kilpailu!C52,IF(Kilpailu!$B$6 =Kilpailu!$A$81,Kilpailu!C67,1))))-SMALL(C22:G22,1)-LARGE(C22:G22,1) -> 13
A23: 9. | B23: =IF(Kilpailu!$B$6 =Kilpailu!$A$79,Kilpailu!B38,IF(Kilpailu!$B$6 =Kilpailu!$A$80,Kilpailu!B53,IF(Kilpailu!$B$6 =Kilpailu!$A$81,Kilpailu!B68,""))) -> Inside loop with pirouette on top | C23: 6.5 | D23: 7 | E23: 5 | F23: 5 | G23: 5 | H23: =(SUM(C23:G23)*IF(Kilpailu!$B$6 =Kilpailu!$A$79,Kilpailu!C38,IF(Kilpailu!$B$6 =Kilpailu!$A$80,Kilpailu!C53,IF(Kilpailu!$B$6 =Kilpailu!$A$81,Kilpailu!C68,1))))-SMALL(C23:G23,1)-LARGE(C23:G23,1) -> 16.5
A24: 10. | B24: =IF(Kilpailu!$B$6 =Kilpailu!$A$79,Kilpailu!B39,IF(Kilpailu!$B$6 =Kilpailu!$A$80,Kilpailu!B54,IF(Kilpailu!$B$6 =Kilpailu!$A$81,Kilpailu!B69,""))) -> Autorotation with two 90º turns | C24: 6 | D24: 6 | E24: 3.5 | F24: 5 | G24: 7 | H24: =(SUM(C24:G24)*IF(Kilpailu!$B$6 =Kilpailu!$A$79,Kilpailu!C39,IF(Kilpailu!$B$6 =Kilpailu!$A$80,Kilpailu!C54,IF(Kilpailu!$B$6 =Kilpailu!$A$81,Kilpailu!C69,1))))-SMALL(C24:G24,1)-LARGE(C24:G24,1) -> 17
A25: 11. | B25: =IF(Kilpailu!$B$6 =Kilpailu!$A$79,Kilpailu!B40,IF(Kilpailu!$B$6 =Kilpailu!$A$80,Kilpailu!B55,IF(Kilpailu!$B$6 =Kilpailu!$A$81,Kilpailu!B70,""))) | F25: 0 | G25: 0 | H25: =(SUM(C25:G25)*IF(Kilpailu!$B$6 =Kilpailu!$A$79,Kilpailu!C40,IF(Kilpailu!$B$6 =Kilpailu!$A$80,Kilpailu!C55,IF(Kilpailu!$B$6 =Kilpailu!$A$81,Kilpailu!C70,1))))-SMALL(C25:G25,1)-LARGE(C25:G25,1) -> 0
B26: Yht. | C26: =SUM(C15:C25) -> 58 | D26: =SUM(D15:D25) -> 70.5 | E26: =SUM(E15:E25) -> 44.5 | F26: =SUM(F15:F25) -> 52 | G26: =SUM(G15:G25) -> 52
A30: Kierros 2: | C30: Tuomari 1 | D30: Tuomari 2 | E30: Tuomari 3 | F30: Tuomari 4 | G30: Tuomari 5 | H30: yht.
A31: 1. | B31: =IF(Kilpailu!$B$6 =Kilpailu!$A$79,Kilpailu!B30,IF(Kilpailu!$B$6 =Kilpailu!$A$80,Kilpailu!B45,IF(Kilpailu!$B$6 =Kilpailu!$A$81,Kilpailu!B60,""))) -> M with 2 half pirouettes on all side | C31: 4.5 | D31: 5 | E31: 3.5 | F31: 4.5 | G31: 5 | H31: =(SUM(C31:G31)*IF(Kilpailu!$B$6 =Kilpailu!$A$79,Kilpailu!C30,IF(Kilpailu!$B$6 =Kilpailu!$A$80,Kilpailu!C45,IF(Kilpailu!$B$6 =Kilpailu!$A$81,Kilpailu!C60,1))))-SMALL(C31:G31,1)-LARGE(C31:G31,1) -> 14
A32: 2. | B32: =IF(Kilpailu!$B$6 =Kilpailu!$A$79,Kilpailu!B31,IF(Kilpailu!$B$6 =Kilpailu!$A$80,Kilpailu!B46,IF(Kilpailu!$B$6 =Kilpailu!$A$81,Kilpailu!B61,""))) -> Semicircle with pirouette | C32: 6.5 | D32: 6 | E32: 4 | F32: 4 | G32: 5 | H32: =(SUM(C32:G32)*IF(Kilpailu!$B$6 =Kilpailu!$A$79,Kilpailu!C31,IF(Kilpailu!$B$6 =Kilpailu!$A$80,Kilpailu!C46,IF(Kilpailu!$B$6 =Kilpailu!$A$81,Kilpailu!C61,1))))-SMALL(C32:G32,1)-LARGE(C32:G32,1) -> 15
A33: 3. | B33: =IF(Kilpailu!$B$6 =Kilpailu!$A$79,Kilpailu!B32,IF(Kilpailu!$B$6 =Kilpailu!$A$80,Kilpailu!B47,IF(Kilpailu!$B$6 =Kilpailu!$A$81,Kilpailu!B62,""))) -> Diamond 3 | C33: 6.5 | D33: 5 | E33: 4.5 | F33: 4 | G33: 4 | H33: =(SUM(C33:G33)*IF(Kilpailu!$B$6 =Kilpailu!$A$79,Kilpailu!C32,IF(Kilpailu!$B$6 =Kilpailu!$A$80,Kilpailu!C47,IF(Kilpailu!$B$6 =Kilpailu!$A$81,Kilpailu!C62,1))))-SMALL(C33:G33,1)-LARGE(C33:G33,1) -> 13.5
A34: 4. | B34: =IF(Kilpailu!$B$6 =Kilpailu!$A$79,Kilpailu!B33,IF(Kilpailu!$B$6 =Kilpailu!$A$80,Kilpailu!B48,IF(Kilpailu!$B$6 =Kilpailu!$A$81,Kilpailu!B63,""))) -> Cuban eight | C34: 6.5 | D34: 7 | E34: 5 | F34: 5 | G34: 5 | H34: =(SUM(C34:G34)*IF(Kilpailu!$B$6 =Kilpailu!$A$79,Kilpailu!C33,IF(Kilpailu!$B$6 =Kilpailu!$A$80,Kilpailu!C48,IF(Kilpailu!$B$6 =Kilpailu!$A$81,Kilpailu!C63,1))))-SMALL(C34:G34,1)-LARGE(C34:G34,1) -> 16.5
A35: 5. | B35: =IF(Kilpailu!$B$6 =Kilpailu!$A$79,Kilpailu!B34,IF(Kilpailu!$B$6 =Kilpailu!$A$80,Kilpailu!B49,IF(Kilpailu!$B$6 =Kilpailu!$A$81,Kilpailu!B64,""))) -> Pullpack with backward full roll | C35: 6 | D35: 7 | E35: 6 | F35: 5.5 | G35: 6 | H35: =(SUM(C35:G35)*IF(Kilpailu!$B$6 =Kilpailu!$A$79,Kilpailu!C34,IF(Kilpailu!$B$6 =Kilpailu!$A$80,Kilpailu!C49,IF(Kilpailu!$B$6 =Kilpailu!$A$81,Kilpailu!C64,1))))-SMALL(C35:G35,1)-LARGE(C35:G35,1) -> 18
A36: 6. | B36: =IF(Kilpailu!$B$6 =Kilpailu!$A$79,Kilpailu!B35,IF(Kilpailu!$B$6 =Kilpailu!$A$80,Kilpailu!B50,IF(Kilpailu!$B$6 =Kilpailu!$A$81,Kilpailu!B65,""))) -> Cobra Roll with pushed flip | C36: 6.5 | D36: 7 | E36: 5.5 | F36: 6 | G36: 7 | H36: =(SUM(C36:G36)*IF(Kilpailu!$B$6 =Kilpailu!$A$79,Kilpailu!C35,IF(Kilpailu!$B$6 =Kilpailu!$A$80,Kilpailu!C50,IF(Kilpailu!$B$6 =Kilpailu!$A$81,Kilpailu!C65,1))))-SMALL(C36:G36,1)-LARGE(C36:G36,1) -> 19.5
A37: 7. | B37: =IF(Kilpailu!$B$6 =Kilpailu!$A$79,Kilpailu!B36,IF(Kilpailu!$B$6 =Kilpailu!$A$80,Kilpailu!B51,IF(Kilpailu!$B$6 =Kilpailu!$A$81,Kilpailu!B66,""))) -> Vertical candle | C37: 6.5 | D37: 7 | E37: 6 | F37: 6.5 | G37: 7 | H37: =(SUM(C37:G37)*IF(Kilpailu!$B$6 =Kilpailu!$A$79,Kilpailu!C36,IF(Kilpailu!$B$6 =Kilpailu!$A$80,Kilpailu!C51,IF(Kilpailu!$B$6 =Kilpailu!$A$81,Kilpailu!C66,1))))-SMALL(C37:G37,1)-LARGE(C37:G37,1) -> 20
A38: 8. | B38: =IF(Kilpailu!$B$6 =Kilpailu!$A$79,Kilpailu!B37,IF(Kilpailu!$B$6 =Kilpailu!$A$80,Kilpailu!B52,IF(Kilpailu!$B$6 =Kilpailu!$A$81,Kilpailu!B67,""))) -> Opposite 2 point rolls | C38: 6.5 | D38: 7 | E38: 5 | F38: 5.5 | G38: 5 | H38: =(SUM(C38:G38)*IF(Kilpailu!$B$6 =Kilpailu!$A$79,Kilpailu!C37,IF(Kilpailu!$B$6 =Kilpailu!$A$80,Kilpailu!C52,IF(Kilpailu!$B$6 =Kilpailu!$A$81,Kilpailu!C67,1))))-SMALL(C38:G38,1)-LARGE(C38:G38,1) -> 17
A39: 9. | B39: =IF(Kilpailu!$B$6 =Kilpailu!$A$79,Kilpailu!B38,IF(Kilpailu!$B$6 =Kilpailu!$A$80,Kilpailu!B53,IF(Kilpailu!$B$6 =Kilpailu!$A$81,Kilpailu!B68,""))) -> Inside loop with pirouette on top | C39: 7 | D39: 6.5 | E39: 6 | F39: 5 | G39: 6 | H39: =(SUM(C39:G39)*IF(Kilpailu!$B$6 =Kilpailu!$A$79,Kilpailu!C38,IF(Kilpailu!$B$6 =Kilpailu!$A$80,Kilpailu!C53,IF(Kilpailu!$B$6 =Kilpailu!$A$81,Kilpailu!C68,1))))-SMALL(C39:G39,1)-LARGE(C39:G39,1) -> 18.5
A40: 10. | B40: =IF(Kilpailu!$B$6 =Kilpailu!$A$79,Kilpailu!B39,IF(Kilpailu!$B$6 =Kilpailu!$A$80,Kilpailu!B54,IF(Kilpailu!$B$6 =Kilpailu!$A$81,Kilpailu!B69,""))) -> Autorotation with two 90º turns | C40: 7 | D40: 7 | E40: 5 | F40: 4 | G40: 6 | H40: =(SUM(C40:G40)*IF(Kilpailu!$B$6 =Kilpailu!$A$79,Kilpailu!C39,IF(Kilpailu!$B$6 =Kilpailu!$A$80,Kilpailu!C54,IF(Kilpailu!$B$6 =Kilpailu!$A$81,Kilpailu!C69,1))))-SMALL(C40:G40,1)-LARGE(C40:G40,1) -> 18
A41: 11. | B41: =IF(Kilpailu!$B$6 =Kilpailu!$A$79,Kilpailu!B40,IF(Kilpailu!$B$6 =Kilpailu!$A$80,Kilpailu!B55,IF(Kilpailu!$B$6 =Kilpailu!$A$81,Kilpailu!B70,""))) | F41: 0 | H41: =(SUM(C41:G41)*IF(Kilpailu!$B$6 =Kilpailu!$A$79,Kilpailu!C40,IF(Kilpailu!$B$6 =Kilpailu!$A$80,Kilpailu!C55,IF(Kilpailu!$B$6 =Kilpailu!$A$81,Kilpailu!C70,1))))-SMALL(C41:G41,1)-LARGE(C41:G41,1) -> 0
B42: Yht. | C42: =SUM(C31:C41) -> 63.5 | D42: =SUM(D31:D41) -> 64.5 | E42: =SUM(E31:E41) -> 50.5 | F42: =SUM(F31:F41) -> 50 | G42: =SUM(G31:G41) -> 56
A46: Kierros 3: | C46: Tuomari 1 | D46: Tuomari 2 | E46: Tuomari 3 | F46: Tuomari 4 | G46: Tuomari 5 | H46: yht.
A47: 1. | B47: =IF(Kilpailu!$B$6 =Kilpailu!$A$79,Kilpailu!B30,IF(Kilpailu!$B$6 =Kilpailu!$A$80,Kilpailu!B45,IF(Kilpailu!$B$6 =Kilpailu!$A$81,Kilpailu!B60,""))) -> M with 2 half pirouettes on all side | C47: 5.5 | D47: 4 | E47: 5 | F47: 4.5 | G47: 5 | H47: =(SUM(C47:G47)*IF(Kilpailu!$B$6 =Kilpailu!$A$79,Kilpailu!C30,IF(Kilpailu!$B$6 =Kilpailu!$A$80,Kilpailu!C45,IF(Kilpailu!$B$6 =Kilpailu!$A$81,Kilpailu!C60,1))))-SMALL(C47:G47,1)-LARGE(C47:G47,1) -> 14.5
A48: 2. | B48: =IF(Kilpailu!$B$6 =Kilpailu!$A$79,Kilpailu!B31,IF(Kilpailu!$B$6 =Kilpailu!$A$80,Kilpailu!B46,IF(Kilpailu!$B$6 =Kilpailu!$A$81,Kilpailu!B61,""))) -> Semicircle with pirouette | C48: 6.5 | D48: 4.5 | E48: 5 | F48: 4 | G48: 6 | H48: =(SUM(C48:G48)*IF(Kilpailu!$B$6 =Kilpailu!$A$79,Kilpailu!C31,IF(Kilpailu!$B$6 =Kilpailu!$A$80,Kilpailu!C46,IF(Kilpailu!$B$6 =Kilpailu!$A$81,Kilpailu!C61,1))))-SMALL(C48:G48,1)-LARGE(C48:G48,1) -> 15.5
A49: 3. | B49: =IF(Kilpailu!$B$6 =Kilpailu!$A$79,Kilpailu!B32,IF(Kilpailu!$B$6 =Kilpailu!$A$80,Kilpailu!B47,IF(Kilpailu!$B$6 =Kilpailu!$A$81,Kilpailu!B62,""))) -> Diamond 3 | C49: 6 | D49: 4.5 | E49: 6 | F49: 4 | G49: 5 | H49: =(SUM(C49:G49)*IF(Kilpailu!$B$6 =Kilpailu!$A$79,Kilpailu!C32,IF(Kilpailu!$B$6 =Kilpailu!$A$80,Kilpailu!C47,IF(Kilpailu!$B$6 =Kilpailu!$A$81,Kilpailu!C62,1))))-SMALL(C49:G49,1)-LARGE(C49:G49,1) -> 15.5
A50: 4. | B50: =IF(Kilpailu!$B$6 =Kilpailu!$A$79,Kilpailu!B33,IF(Kilpailu!$B$6 =Kilpailu!$A$80,Kilpailu!B48,IF(Kilpailu!$B$6 =Kilpailu!$A$81,Kilpailu!B63,""))) -> Cuban eight | C50: 7 | D50: 6 | E50: 6 | F50: 7.5 | G50: 7 | H50: =(SUM(C50:G50)*IF(Kilpailu!$B$6 =Kilpailu!$A$79,Kilpailu!C33,IF(Kilpailu!$B$6 =Kilpailu!$A$80,Kilpailu!C48,IF(Kilpailu!$B$6 =Kilpailu!$A$81,Kilpailu!C63,1))))-SMALL(C50:G50,1)-LARGE(C50:G50,1) -> 20
A51: 5. | B51: =IF(Kilpailu!$B$6 =Kilpailu!$A$79,Kilpailu!B34,IF(Kilpailu!$B$6 =Kilpailu!$A$80,Kilpailu!B49,IF(Kilpailu!$B$6 =Kilpailu!$A$81,Kilpailu!B64,""))) -> Pullpack with backward full roll | C51: 6 | D51: 6 | E51: 6.5 | F51: 7 | G51: 6 | H51: =(SUM(C51:G51)*IF(Kilpailu!$B$6 =Kilpailu!$A$79,Kilpailu!C34,IF(Kilpailu!$B$6 =Kilpailu!$A$80,Kilpailu!C49,IF(Kilpailu!$B$6 =Kilpailu!$A$81,Kilpailu!C64,1))))-SMALL(C51:G51,1)-LARGE(C51:G51,1) -> 18.5
A52: 6. | B52: =IF(Kilpailu!$B$6 =Kilpailu!$A$79,Kilpailu!B35,IF(Kilpailu!$B$6 =Kilpailu!$A$80,Kilpailu!B50,IF(Kilpailu!$B$6 =Kilpailu!$A$81,Kilpailu!B65,""))) -> Cobra Roll with pushed flip | C52: 6.5 | D52: 6.5 | E52: 7.5 | F52: 7.5 | G52: 5 | H52: =(SUM(C52:G52)*IF(Kilpailu!$B$6 =Kilpailu!$A$79,Kilpailu!C35,IF(Kilpailu!$B$6 =Kilpailu!$A$80,Kilpailu!C50,IF(Kilpailu!$B$6 =Kilpailu!$A$81,Kilpailu!C65,1))))-SMALL(C52:G52,1)-LARGE(C52:G52,1) -> 20.5
A53: 7. | B53: =IF(Kilpailu!$B$6 =Kilpailu!$A$79,Kilpailu!B36,IF(Kilpailu!$B$6 =Kilpailu!$A$80,Kilpailu!B51,IF(Kilpailu!$B$6 =Kilpailu!$A$81,Kilpailu!B66,""))) -> Vertical candle | C53: 6 | D53: 6 | E53: 6.5 | F53: 7.5 | G53: 6 | H53: =(SUM(C53:G53)*IF(Kilpailu!$B$6 =Kilpailu!$A$79,Kilpailu!C36,IF(Kilpailu!$B$6 =Kilpailu!$A$80,Kilpailu!C51,IF(Kilpailu!$B$6 =Kilpailu!$A$81,Kilpailu!C66,1))))-SMALL(C53:G53,1)-LARGE(C53:G53,1) -> 18.5
A54: 8. | B54: =IF(Kilpailu!$B$6 =Kilpailu!$A$79,Kilpailu!B37,IF(Kilpailu!$B$6 =Kilpailu!$A$80,Kilpailu!B52,IF(Kilpailu!$B$6 =Kilpailu!$A$81,Kilpailu!B67,""))) -> Opposite 2 point rolls | C54: 5 | D54: 3.5 | E54: 3.5 | F54: 5 | G54: 3 | H54: =(SUM(C54:G54)*IF(Kilpailu!$B$6 =Kilpailu!$A$79,Kilpailu!C37,IF(Kilpailu!$B$6 =Kilpailu!$A$80,Kilpailu!C52,IF(Kilpailu!$B$6 =Kilpailu!$A$81,Kilpailu!C67,1))))-SMALL(C54:G54,1)-LARGE(C54:G54,1) -> 12
A55: 9. | B55: =IF(Kilpailu!$B$6 =Kilpailu!$A$79,Kilpailu!B38,IF(Kilpailu!$B$6 =Kilpailu!$A$80,Kilpailu!B53,IF(Kilpailu!$B$6 =Kilpailu!$A$81,Kilpailu!B68,""))) -> Inside loop with pirouette on top | C55: 7 | D55: 4.5 | E55: 5 | F55: 6 | G55: 5 | H55: =(SUM(C55:G55)*IF(Kilpailu!$B$6 =Kilpailu!$A$79,Kilpailu!C38,IF(Kilpailu!$B$6 =Kilpailu!$A$80,Kilpailu!C53,IF(Kilpailu!$B$6 =Kilpailu!$A$81,Kilpailu!C68,1))))-SMALL(C55:G55,1)-LARGE(C55:G55,1) -> 16
A56: 10. | B56: =IF(Kilpailu!$B$6 =Kilpailu!$A$79,Kilpailu!B39,IF(Kilpailu!$B$6 =Kilpailu!$A$80,Kilpailu!B54,IF(Kilpailu!$B$6 =Kilpailu!$A$81,Kilpailu!B69,""))) -> Autorotation with two 90º turns | C56: 7.5 | D56: 4.5 | E56: 6.5 | F56: 6.5 | G56: 4 | H56: =(SUM(C56:G56)*IF(Kilpailu!$B$6 =Kilpailu!$A$79,Kilpailu!C39,IF(Kilpailu!$B$6 =Kilpailu!$A$80,Kilpailu!C54,IF(Kilpailu!$B$6 =Kilpailu!$A$81,Kilpailu!C69,1))))-SMALL(C56:G56,1)-LARGE(C56:G56,1) -> 17.5
A57: 11. | B57: =IF(Kilpailu!$B$6 =Kilpailu!$A$79,Kilpailu!B40,IF(Kilpailu!$B$6 =Kilpailu!$A$80,Kilpailu!B55,IF(Kilpailu!$B$6 =Kilpailu!$A$81,Kilpailu!B70,""))) | F57: 0 | H57: =(SUM(C57:G57)*IF(Kilpailu!$B$6 =Kilpailu!$A$79,Kilpailu!C40,IF(Kilpailu!$B$6 =Kilpailu!$A$80,Kilpailu!C55,IF(Kilpailu!$B$6 =Kilpailu!$A$81,Kilpailu!C70,1))))-SMALL(C57:G57,1)-LARGE(C57:G57,1) -> 0
B58: Yht. | C58: =SUM(C47:C57) -> 63 | D58: =SUM(D47:D57) -> 50 | E58: =SUM(E47:E57) -> 57.5 | F58: =SUM(F47:F57) -> 59.5 | G58: =SUM(G47:G57) -> 52

Sheet 9
D4: Pisteet | E4: Suht…
A5: Nimi: | B5: =Kilpailu!B18 -> Juho | C5: Kierros 1. | D5: =SUM(C26:G26)-LARGE(C26:G26,1)-SMALL(C26:G26,1) -> 224.5 | E5: =Tulokset!D36 -> 907.07071
C6: Kierros 2. | D6: =SUM(C42:G42)-LARGE(C42:G42,1)-SMALL(C42:G42,1) -> 235.5 | E6: =Tulokset!D56 -> 928.99408
A7: Paikka: | B7: =Kilpailu!B4 -> Vesivehmaa | C7: Kierros 3. | D7: =SUM(C58:G58)-LARGE(C58:G58,1)-SMALL(C58:G58,1) -> 242 | E7: =Tulokset!D76 -> 928.98273
A8: Päivä: | B8: =Kilpailu!B5 -> 40397
A9: Ohjelma: | B9: =Kilpailu!B6 -> F3C-P | C9: yhteensä: | D9: =SUM(D5:D7) -> 702 | E9: =SUM(E5:E7) -> 2765.0475
C10: pois: | D10: =SMALL(D5:D7,1) -> 224.5 | E10: =SMALL(E5:E7,1) -> 907.07071
C11: 2 parasta: | D11: =SUM(D5:D7)-D10 -> 477.5 | E11: =SUM(E5:E7)-E10 -> 1857.9768
A14: Kierros 1: | C14: Tuomari 1 | D14: Tuomari 2 | E14: Tuomari 3 | F14: Tuomari 4 | G14: Tuomari 5 | H14: yht.
A15: 1. | B15: =IF(Kilpailu!$B$6 =Kilpailu!$A$79,Kilpailu!B30,IF(Kilpailu!$B$6 =Kilpailu!$A$80,Kilpailu!B45,IF(Kilpailu!$B$6 =Kilpailu!$A$81,Kilpailu!B60,""))) -> M with 2 half pirouettes on all side | C15: 8 | D15: 7.5 | E15: 7 | F15: 7.5 | G15: 7 | H15: =(SUM(C15:G15)*IF(Kilpailu!$B$6 =Kilpailu!$A$79,Kilpailu!C30,IF(Kilpailu!$B$6 =Kilpailu!$A$80,Kilpailu!C45,IF(Kilpailu!$B$6 =Kilpailu!$A$81,Kilpailu!C60,1))))-SMALL(C15:G15,1)-LARGE(C15:G15,1) -> 22
A16: 2. | B16: =IF(Kilpailu!$B$6 =Kilpailu!$A$79,Kilpailu!B31,IF(Kilpailu!$B$6 =Kilpailu!$A$80,Kilpailu!B46,IF(Kilpailu!$B$6 =Kilpailu!$A$81,Kilpailu!B61,""))) -> Semicircle with pirouette | C16: 8.5 | D16: 8 | E16: 7 | F16: 7.5 | G16: 8 | H16: =(SUM(C16:G16)*IF(Kilpailu!$B$6 =Kilpailu!$A$79,Kilpailu!C31,IF(Kilpailu!$B$6 =Kilpailu!$A$80,Kilpailu!C46,IF(Kilpailu!$B$6 =Kilpailu!$A$81,Kilpailu!C61,1))))-SMALL(C16:G16,1)-LARGE(C16:G16,1) -> 23.5
A17: 3. | B17: =IF(Kilpailu!$B$6 =Kilpailu!$A$79,Kilpailu!B32,IF(Kilpailu!$B$6 =Kilpailu!$A$80,Kilpailu!B47,IF(Kilpailu!$B$6 =Kilpailu!$A$81,Kilpailu!B62,""))) -> Diamond 3 | C17: 7 | D17: 7.5 | E17: 6.5 | F17: 6.5 | G17: 6 | H17: =(SUM(C17:G17)*IF(Kilpailu!$B$6 =Kilpailu!$A$79,Kilpailu!C32,IF(Kilpailu!$B$6 =Kilpailu!$A$80,Kilpailu!C47,IF(Kilpailu!$B$6 =Kilpailu!$A$81,Kilpailu!C62,1))))-SMALL(C17:G17,1)-LARGE(C17:G17,1) -> 20
A18: 4. | B18: =IF(Kilpailu!$B$6 =Kilpailu!$A$79,Kilpailu!B33,IF(Kilpailu!$B$6 =Kilpailu!$A$80,Kilpailu!B48,IF(Kilpailu!$B$6 =Kilpailu!$A$81,Kilpailu!B63,""))) -> Cuban eight | C18: 8 | D18: 8 | E18: 8.5 | F18: 8 | G18: 8 | H18: =(SUM(C18:G18)*IF(Kilpailu!$B$6 =Kilpailu!$A$79,Kilpailu!C33,IF(Kilpailu!$B$6 =Kilpailu!$A$80,Kilpailu!C48,IF(Kilpailu!$B$6 =Kilpailu!$A$81,Kilpailu!C63,1))))-SMALL(C18:G18,1)-LARGE(C18:G18,1) -> 24
A19: 5. | B19: =IF(Kilpailu!$B$6 =Kilpailu!$A$79,Kilpailu!B34,IF(Kilpailu!$B$6 =Kilpailu!$A$80,Kilpailu!B49,IF(Kilpailu!$B$6 =Kilpailu!$A$81,Kilpailu!B64,""))) -> Pullpack with backward full roll | C19: 9 | D19: 9 | E19: 7.5 | F19: 7.5 | G19: 8 | H19: =(SUM(C19:G19)*IF(Kilpailu!$B$6 =Kilpailu!$A$79,Kilpailu!C34,IF(Kilpailu!$B$6 =Kilpailu!$A$80,Kilpailu!C49,IF(Kilpailu!$B$6 =Kilpailu!$A$81,Kilpailu!C64,1))))-SMALL(C19:G19,1)-LARGE(C19:G19,1) -> 24.5
A20: 6. | B20: =IF(Kilpailu!$B$6 =Kilpailu!$A$79,Kilpailu!B35,IF(Kilpailu!$B$6 =Kilpailu!$A$80,Kilpailu!B50,IF(Kilpailu!$B$6 =Kilpailu!$A$81,Kilpailu!B65,""))) -> Cobra Roll with pushed flip | C20: 8 | D20: 7.5 | E20: 7 | F20: 7 | G20: 6 | H20: =(SUM(C20:G20)*IF(Kilpailu!$B$6 =Kilpailu!$A$79,Kilpailu!C35,IF(Kilpailu!$B$6 =Kilpailu!$A$80,Kilpailu!C50,IF(Kilpailu!$B$6 =Kilpailu!$A$81,Kilpailu!C65,1))))-SMALL(C20:G20,1)-LARGE(C20:G20,1) -> 21.5
A21: 7. | B21: =IF(Kilpailu!$B$6 =Kilpailu!$A$79,Kilpailu!B36,IF(Kilpailu!$B$6 =Kilpailu!$A$80,Kilpailu!B51,IF(Kilpailu!$B$6 =Kilpailu!$A$81,Kilpailu!B66,""))) -> Vertical candle | C21: 7.5 | D21: 8 | E21: 8 | F21: 6.5 | G21: 7 | H21: =(SUM(C21:G21)*IF(Kilpailu!$B$6 =Kilpailu!$A$79,Kilpailu!C36,IF(Kilpailu!$B$6 =Kilpailu!$A$80,Kilpailu!C51,IF(Kilpailu!$B$6 =Kilpailu!$A$81,Kilpailu!C66,1))))-SMALL(C21:G21,1)-LARGE(C21:G21,1) -> 22.5
A22: 8. | B22: =IF(Kilpailu!$B$6 =Kilpailu!$A$79,Kilpailu!B37,IF(Kilpailu!$B$6 =Kilpailu!$A$80,Kilpailu!B52,IF(Kilpailu!$B$6 =Kilpailu!$A$81,Kilpailu!B67,""))) -> Opposite 2 point rolls | C22: 8.5 | D22: 8.5 | E22: 7 | F22: 8 | G22: 8 | H22: =(SUM(C22:G22)*IF(Kilpailu!$B$6 =Kilpailu!$A$79,Kilpailu!C37,IF(Kilpailu!$B$6 =Kilpailu!$A$80,Kilpailu!C52,IF(Kilpailu!$B$6 =Kilpailu!$A$81,Kilpailu!C67,1))))-SMALL(C22:G22,1)-LARGE(C22:G22,1) -> 24.5
A23: 9. | B23: =IF(Kilpailu!$B$6 =Kilpailu!$A$79,Kilpailu!B38,IF(Kilpailu!$B$6 =Kilpailu!$A$80,Kilpailu!B53,IF(Kilpailu!$B$6 =Kilpailu!$A$81,Kilpailu!B68,""))) -> Inside loop with pirouette on top | C23: 8.5 | D23: 9 | E23: 7.5 | F23: 7 | G23: 7 | H23: =(SUM(C23:G23)*IF(Kilpailu!$B$6 =Kilpailu!$A$79,Kilpailu!C38,IF(Kilpailu!$B$6 =Kilpailu!$A$80,Kilpailu!C53,IF(Kilpailu!$B$6 =Kilpailu!$A$81,Kilpailu!C68,1))))-SMALL(C23:G23,1)-LARGE(C23:G23,1) -> 23
A24: 10. | B24: =IF(Kilpailu!$B$6 =Kilpailu!$A$79,Kilpailu!B39,IF(Kilpailu!$B$6 =Kilpailu!$A$80,Kilpailu!B54,IF(Kilpailu!$B$6 =Kilpailu!$A$81,Kilpailu!B69,""))) -> Autorotation with two 90º turns | C24: 7.5 | D24: 7 | E24: 6 | F24: 7 | G24: 6 | H24: =(SUM(C24:G24)*IF(Kilpailu!$B$6 =Kilpailu!$A$79,Kilpailu!C39,IF(Kilpailu!$B$6 =Kilpailu!$A$80,Kilpailu!C54,IF(Kilpailu!$B$6 =Kilpailu!$A$81,Kilpailu!C69,1))))-SMALL(C24:G24,1)-LARGE(C24:G24,1) -> 20
A25: 11. | B25: =IF(Kilpailu!$B$6 =Kilpailu!$A$79,Kilpailu!B40,IF(Kilpailu!$B$6 =Kilpailu!$A$80,Kilpailu!B55,IF(Kilpailu!$B$6 =Kilpailu!$A$81,Kilpailu!B70,""))) | F25: 0 | G25: 0 | H25: =(SUM(C25:G25)*IF(Kilpailu!$B$6 =Kilpailu!$A$79,Kilpailu!C40,IF(Kilpailu!$B$6 =Kilpailu!$A$80,Kilpailu!C55,IF(Kilpailu!$B$6 =Kilpailu!$A$81,Kilpailu!C70,1))))-SMALL(C25:G25,1)-LARGE(C25:G25,1) -> 0
B26: Yht. | C26: =SUM(C15:C25) -> 80.5 | D26: =SUM(D15:D25) -> 80 | E26: =SUM(E15:E25) -> 72 | F26: =SUM(F15:F25) -> 72.5 | G26: =SUM(G15:G25) -> 71
A30: Kierros 2: | C30: Tuomari 1 | D30: Tuomari 2 | E30: Tuomari 3 | F30: Tuomari 4 | G30: Tuomari 5 | H30: yht.
A31: 1. | B31: =IF(Kilpailu!$B$6 =Kilpailu!$A$79,Kilpailu!B30,IF(Kilpailu!$B$6 =Kilpailu!$A$80,Kilpailu!B45,IF(Kilpailu!$B$6 =Kilpailu!$A$81,Kilpailu!B60,""))) -> M with 2 half pirouettes on all side | C31: 7.5 | D31: 8 | E31: 4.5 | F31: 7.5 | G31: 8 | H31: =(SUM(C31:G31)*IF(Kilpailu!$B$6 =Kilpailu!$A$79,Kilpailu!C30,IF(Kilpailu!$B$6 =Kilpailu!$A$80,Kilpailu!C45,IF(Kilpailu!$B$6 =Kilpailu!$A$81,Kilpailu!C60,1))))-SMALL(C31:G31,1)-LARGE(C31:G31,1) -> 23
A32: 2. | B32: =IF(Kilpailu!$B$6 =Kilpailu!$A$79,Kilpailu!B31,IF(Kilpailu!$B$6 =Kilpailu!$A$80,Kilpailu!B46,IF(Kilpailu!$B$6 =Kilpailu!$A$81,Kilpailu!B61,""))) -> Semicircle with pirouette | C32: 8.5 | D32: 9 | E32: 6.5 | F32: 8 | G32: 8 | H32: =(SUM(C32:G32)*IF(Kilpailu!$B$6 =Kilpailu!$A$79,Kilpailu!C31,IF(Kilpailu!$B$6 =Kilpailu!$A$80,Kilpailu!C46,IF(Kilpailu!$B$6 =Kilpailu!$A$81,Kilpailu!C61,1))))-SMALL(C32:G32,1)-LARGE(C32:G32,1) -> 24.5
A33: 3. | B33: =IF(Kilpailu!$B$6 =Kilpailu!$A$79,Kilpailu!B32,IF(Kilpailu!$B$6 =Kilpailu!$A$80,Kilpailu!B47,IF(Kilpailu!$B$6 =Kilpailu!$A$81,Kilpailu!B62,""))) -> Diamond 3 | C33: 8 | D33: 7.5 | E33: 7 | F33: 7.5 | G33: 8 | H33: =(SUM(C33:G33)*IF(Kilpailu!$B$6 =Kilpailu!$A$79,Kilpailu!C32,IF(Kilpailu!$B$6 =Kilpailu!$A$80,Kilpailu!C47,IF(Kilpailu!$B$6 =Kilpailu!$A$81,Kilpailu!C62,1))))-SMALL(C33:G33,1)-LARGE(C33:G33,1) -> 23
A34: 4. | B34: =IF(Kilpailu!$B$6 =Kilpailu!$A$79,Kilpailu!B33,IF(Kilpailu!$B$6 =Kilpailu!$A$80,Kilpailu!B48,IF(Kilpailu!$B$6 =Kilpailu!$A$81,Kilpailu!B63,""))) -> Cuban eight | C34: 8 | D34: 8 | E34: 7 | F34: 7.5 | G34: 8 | H34: =(SUM(C34:G34)*IF(Kilpailu!$B$6 =Kilpailu!$A$79,Kilpailu!C33,IF(Kilpailu!$B$6 =Kilpailu!$A$80,Kilpailu!C48,IF(Kilpailu!$B$6 =Kilpailu!$A$81,Kilpailu!C63,1))))-SMALL(C34:G34,1)-LARGE(C34:G34,1) -> 23.5
A35: 5. | B35: =IF(Kilpailu!$B$6 =Kilpailu!$A$79,Kilpailu!B34,IF(Kilpailu!$B$6 =Kilpailu!$A$80,Kilpailu!B49,IF(Kilpailu!$B$6 =Kilpailu!$A$81,Kilpailu!B64,""))) -> Pullpack with backward full roll | C35: 8 | D35: 9 | E35: 7.5 | F35: 8 | G35: 7 | H35: =(SUM(C35:G35)*IF(Kilpailu!$B$6 =Kilpailu!$A$79,Kilpailu!C34,IF(Kilpailu!$B$6 =Kilpailu!$A$80,Kilpailu!C49,IF(Kilpailu!$B$6 =Kilpailu!$A$81,Kilpailu!C64,1))))-SMALL(C35:G35,1)-LARGE(C35:G35,1) -> 23.5
A36: 6. | B36: =IF(Kilpailu!$B$6 =Kilpailu!$A$79,Kilpailu!B35,IF(Kilpailu!$B$6 =Kilpailu!$A$80,Kilpailu!B50,IF(Kilpailu!$B$6 =Kilpailu!$A$81,Kilpailu!B65,""))) -> Cobra Roll with pushed flip | C36: 7.5 | D36: 8 | E36: 7 | F36: 7.5 | G36: 7 | H36: =(SUM(C36:G36)*IF(Kilpailu!$B$6 =Kilpailu!$A$79,Kilpailu!C35,IF(Kilpailu!$B$6 =Kilpailu!$A$80,Kilpailu!C50,IF(Kilpailu!$B$6 =Kilpailu!$A$81,Kilpailu!C65,1))))-SMALL(C36:G36,1)-LARGE(C36:G36,1) -> 22
A37: 7. | B37: =IF(Kilpailu!$B$6 =Kilpailu!$A$79,Kilpailu!B36,IF(Kilpailu!$B$6 =Kilpailu!$A$80,Kilpailu!B51,IF(Kilpailu!$B$6 =Kilpailu!$A$81,Kilpailu!B66,""))) -> Vertical candle | C37: 8.5 | D37: 9 | E37: 8 | F37: 8 | G37: 9 | H37: =(SUM(C37:G37)*IF(Kilpailu!$B$6 =Kilpailu!$A$79,Kilpailu!C36,IF(Kilpailu!$B$6 =Kilpailu!$A$80,Kilpailu!C51,IF(Kilpailu!$B$6 =Kilpailu!$A$81,Kilpailu!C66,1))))-SMALL(C37:G37,1)-LARGE(C37:G37,1) -> 25.5
A38: 8. | B38: =IF(Kilpailu!$B$6 =Kilpailu!$A$79,Kilpailu!B37,IF(Kilpailu!$B$6 =Kilpailu!$A$80,Kilpailu!B52,IF(Kilpailu!$B$6 =Kilpailu!$A$81,Kilpailu!B67,""))) -> Opposite 2 point rolls | C38: 8.5 | D38: 8.5 | E38: 7.5 | F38: 8 | G38: 9 | H38: =(SUM(C38:G38)*IF(Kilpailu!$B$6 =Kilpailu!$A$79,Kilpailu!C37,IF(Kilpailu!$B$6 =Kilpailu!$A$80,Kilpailu!C52,IF(Kilpailu!$B$6 =Kilpailu!$A$81,Kilpailu!C67,1))))-SMALL(C38:G38,1)-LARGE(C38:G38,1) -> 25
A39: 9. | B39: =IF(Kilpailu!$B$6 =Kilpailu!$A$79,Kilpailu!B38,IF(Kilpailu!$B$6 =Kilpailu!$A$80,Kilpailu!B53,IF(Kilpailu!$B$6 =Kilpailu!$A$81,Kilpailu!B68,""))) -> Inside loop with pirouette on top | C39: 8 | D39: 8.5 | E39: 8 | F39: 7.5 | G39: 8 | H39: =(SUM(C39:G39)*IF(Kilpailu!$B$6 =Kilpailu!$A$79,Kilpailu!C38,IF(Kilpailu!$B$6 =Kilpailu!$A$80,Kilpailu!C53,IF(Kilpailu!$B$6 =Kilpailu!$A$81,Kilpailu!C68,1))))-SMALL(C39:G39,1)-LARGE(C39:G39,1) -> 24
A40: 10. | B40: =IF(Kilpailu!$B$6 =Kilpailu!$A$79,Kilpailu!B39,IF(Kilpailu!$B$6 =Kilpailu!$A$80,Kilpailu!B54,IF(Kilpailu!$B$6 =Kilpailu!$A$81,Kilpailu!B69,""))) -> Autorotation with two 90º turns | C40: 8.5 | D40: 9 | E40: 7.5 | F40: 6 | G40: 7 | H40: =(SUM(C40:G40)*IF(Kilpailu!$B$6 =Kilpailu!$A$79,Kilpailu!C39,IF(Kilpailu!$B$6 =Kilpailu!$A$80,Kilpailu!C54,IF(Kilpailu!$B$6 =Kilpailu!$A$81,Kilpailu!C69,1))))-SMALL(C40:G40,1)-LARGE(C40:G40,1) -> 23
A41: 11. | B41: =IF(Kilpailu!$B$6 =Kilpailu!$A$79,Kilpailu!B40,IF(Kilpailu!$B$6 =Kilpailu!$A$80,Kilpailu!B55,IF(Kilpailu!$B$6 =Kilpailu!$A$81,Kilpailu!B70,""))) | F41: 0 | H41: =(SUM(C41:G41)*IF(Kilpailu!$B$6 =Kilpailu!$A$79,Kilpailu!C40,IF(Kilpailu!$B$6 =Kilpailu!$A$80,Kilpailu!C55,IF(Kilpailu!$B$6 =Kilpailu!$A$81,Kilpailu!C70,1))))-SMALL(C41:G41,1)-LARGE(C41:G41,1) -> 0
B42: Yht. | C42: =SUM(C31:C41) -> 81 | D42: =SUM(D31:D41) -> 84.5 | E42: =SUM(E31:E41) -> 70.5 | F42: =SUM(F31:F41) -> 75.5 | G42: =SUM(G31:G41) -> 79
A46: Kierros 3: | C46: Tuomari 1 | D46: Tuomari 2 | E46: Tuomari 3 | F46: Tuomari 4 | G46: Tuomari 5 | H46: yht.
A47: 1. | B47: =IF(Kilpailu!$B$6 =Kilpailu!$A$79,Kilpailu!B30,IF(Kilpailu!$B$6 =Kilpailu!$A$80,Kilpailu!B45,IF(Kilpailu!$B$6 =Kilpailu!$A$81,Kilpailu!B60,""))) -> M with 2 half pirouettes on all side | C47: 7.5 | D47: 7.5 | E47: 7 | F47: 8 | G47: 8 | H47: =(SUM(C47:G47)*IF(Kilpailu!$B$6 =Kilpailu!$A$79,Kilpailu!C30,IF(Kilpailu!$B$6 =Kilpailu!$A$80,Kilpailu!C45,IF(Kilpailu!$B$6 =Kilpailu!$A$81,Kilpailu!C60,1))))-SMALL(C47:G47,1)-LARGE(C47:G47,1) -> 23
A48: 2. | B48: =IF(Kilpailu!$B$6 =Kilpailu!$A$79,Kilpailu!B31,IF(Kilpailu!$B$6 =Kilpailu!$A$80,Kilpailu!B46,IF(Kilpailu!$B$6 =Kilpailu!$A$81,Kilpailu!B61,""))) -> Semicircle with pirouette | C48: 8.5 | D48: 8 | E48: 7.5 | F48: 8 | G48: 9 | H48: =(SUM(C48:G48)*IF(Kilpailu!$B$6 =Kilpailu!$A$79,Kilpailu!C31,IF(Kilpailu!$B$6 =Kilpailu!$A$80,Kilpailu!C46,IF(Kilpailu!$B$6 =Kilpailu!$A$81,Kilpailu!C61,1))))-SMALL(C48:G48,1)-LARGE(C48:G48,1) -> 24.5
A49: 3. | B49: =IF(Kilpailu!$B$6 =Kilpailu!$A$79,Kilpailu!B32,IF(Kilpailu!$B$6 =Kilpailu!$A$80,Kilpailu!B47,IF(Kilpailu!$B$6 =Kilpailu!$A$81,Kilpailu!B62,""))) -> Diamond 3 | C49: 8.5 | D49: 7.5 | E49: 7 | F49: 8 | G49: 9 | H49: =(SUM(C49:G49)*IF(Kilpailu!$B$6 =Kilpailu!$A$79,Kilpailu!C32,IF(Kilpailu!$B$6 =Kilpailu!$A$80,Kilpailu!C47,IF(Kilpailu!$B$6 =Kilpailu!$A$81,Kilpailu!C62,1))))-SMALL(C49:G49,1)-LARGE(C49:G49,1) -> 24
A50: 4. | B50: =IF(Kilpailu!$B$6 =Kilpailu!$A$79,Kilpailu!B33,IF(Kilpailu!$B$6 =Kilpailu!$A$80,Kilpailu!B48,IF(Kilpailu!$B$6 =Kilpailu!$A$81,Kilpailu!B63,""))) -> Cuban eight | C50: 8.5 | D50: 7.5 | E50: 8 | F50: 9 | G50: 9 | H50: =(SUM(C50:G50)*IF(Kilpailu!$B$6 =Kilpailu!$A$79,Kilpailu!C33,IF(Kilpailu!$B$6 =Kilpailu!$A$80,Kilpailu!C48,IF(Kilpailu!$B$6 =Kilpailu!$A$81,Kilpailu!C63,1))))-SMALL(C50:G50,1)-LARGE(C50:G50,1) -> 25.5
A51: 5. | B51: =IF(Kilpailu!$B$6 =Kilpailu!$A$79,Kilpailu!B34,IF(Kilpailu!$B$6 =Kilpailu!$A$80,Kilpailu!B49,IF(Kilpailu!$B$6 =Kilpailu!$A$81,Kilpailu!B64,""))) -> Pullpack with backward full roll | C51: 8.5 | D51: 8 | E51: 8 | F51: 8.5 | G51: 9 | H51: =(SUM(C51:G51)*IF(Kilpailu!$B$6 =Kilpailu!$A$79,Kilpailu!C34,IF(Kilpailu!$B$6 =Kilpailu!$A$80,Kilpailu!C49,IF(Kilpailu!$B$6 =Kilpailu!$A$81,Kilpailu!C64,1))))-SMALL(C51:G51,1)-LARGE(C51:G51,1) -> 25
A52: 6. | B52: =IF(Kilpailu!$B$6 =Kilpailu!$A$79,Kilpailu!B35,IF(Kilpailu!$B$6 =Kilpailu!$A$80,Kilpailu!B50,IF(Kilpailu!$B$6 =Kilpailu!$A$81,Kilpailu!B65,""))) -> Cobra Roll with pushed flip | C52: 8 | D52: 8.5 | E52: 8 | F52: 8 | G52: 8 | H52: =(SUM(C52:G52)*IF(Kilpailu!$B$6 =Kilpailu!$A$79,Kilpailu!C35,IF(Kilpailu!$B$6 =Kilpailu!$A$80,Kilpailu!C50,IF(Kilpailu!$B$6 =Kilpailu!$A$81,Kilpailu!C65,1))))-SMALL(C52:G52,1)-LARGE(C52:G52,1) -> 24
A53: 7. | B53: =IF(Kilpailu!$B$6 =Kilpailu!$A$79,Kilpailu!B36,IF(Kilpailu!$B$6 =Kilpailu!$A$80,Kilpailu!B51,IF(Kilpailu!$B$6 =Kilpailu!$A$81,Kilpailu!B66,""))) -> Vertical candle | C53: 8 | D53: 8 | E53: 7 | F53: 8 | G53: 8 | H53: =(SUM(C53:G53)*IF(Kilpailu!$B$6 =Kilpailu!$A$79,Kilpailu!C36,IF(Kilpailu!$B$6 =Kilpailu!$A$80,Kilpailu!C51,IF(Kilpailu!$B$6 =Kilpailu!$A$81,Kilpailu!C66,1))))-SMALL(C53:G53,1)-LARGE(C53:G53,1) -> 24
A54: 8. | B54: =IF(Kilpailu!$B$6 =Kilpailu!$A$79,Kilpailu!B37,IF(Kilpailu!$B$6 =Kilpailu!$A$80,Kilpailu!B52,IF(Kilpailu!$B$6 =Kilpailu!$A$81,Kilpailu!B67,""))) -> Opposite 2 point rolls | C54: 8 | D54: 7.5 | E54: 7 | F54: 8.5 | G54: 8 | H54: =(SUM(C54:G54)*IF(Kilpailu!$B$6 =Kilpailu!$A$79,Kilpailu!C37,IF(Kilpailu!$B$6 =Kilpailu!$A$80,Kilpailu!C52,IF(Kilpailu!$B$6 =Kilpailu!$A$81,Kilpailu!C67,1))))-SMALL(C54:G54,1)-LARGE(C54:G54,1) -> 23.5
A55: 9. | B55: =IF(Kilpailu!$B$6 =Kilpailu!$A$79,Kilpailu!B38,IF(Kilpailu!$B$6 =Kilpailu!$A$80,Kilpailu!B53,IF(Kilpailu!$B$6 =Kilpailu!$A$81,Kilpailu!B68,""))) -> Inside loop with pirouette on top | C55: 8.5 | D55: 7.5 | E55: 8 | F55: 9 | G55: 7 | H55: =(SUM(C55:G55)*IF(Kilpailu!$B$6 =Kilpailu!$A$79,Kilpailu!C38,IF(Kilpailu!$B$6 =Kilpailu!$A$80,Kilpailu!C53,IF(Kilpailu!$B$6 =Kilpailu!$A$81,Kilpailu!C68,1))))-SMALL(C55:G55,1)-LARGE(C55:G55,1) -> 24
A56: 10. | B56: =IF(Kilpailu!$B$6 =Kilpailu!$A$79,Kilpailu!B39,IF(Kilpailu!$B$6 =Kilpailu!$A$80,Kilpailu!B54,IF(Kilpailu!$B$6 =Kilpailu!$A$81,Kilpailu!B69,""))) -> Autorotation with two 90º turns | C56: 9 | D56: 7 | E56: 7.5 | F56: 9 | G56: 7 | H56: =(SUM(C56:G56)*IF(Kilpailu!$B$6 =Kilpailu!$A$79,Kilpailu!C39,IF(Kilpailu!$B$6 =Kilpailu!$A$80,Kilpailu!C54,IF(Kilpailu!$B$6 =Kilpailu!$A$81,Kilpailu!C69,1))))-SMALL(C56:G56,1)-LARGE(C56:G56,1) -> 23.5
A57: 11. | B57: =IF(Kilpailu!$B$6 =Kilpailu!$A$79,Kilpailu!B40,IF(Kilpailu!$B$6 =Kilpailu!$A$80,Kilpailu!B55,IF(Kilpailu!$B$6 =Kilpailu!$A$81,Kilpailu!B70,""))) | F57: 0 | H57: =(SUM(C57:G57)*IF(Kilpailu!$B$6 =Kilpailu!$A$79,Kilpailu!C40,IF(Kilpailu!$B$6 =Kilpailu!$A$80,Kilpailu!C55,IF(Kilpailu!$B$6 =Kilpailu!$A$81,Kilpailu!C70,1))))-SMALL(C57:G57,1)-LARGE(C57:G57,1) -> 0
B58: Yht. | C58: =SUM(C47:C57) -> 83 | D58: =SUM(D47:D57) -> 77 | E58: =SUM(E47:E57) -> 75 | F58: =SUM(F47:F57) -> 84 | G58: =SUM(G47:G57) -> 82

Sheet 10
D4: Pisteet | E4: Suht…
A5: Nimi: | C5: Kierros 1. | D5: =SUM(C26:G26)-LARGE(C26:G26,1)-SMALL(C26:G26,1) -> 0 | E5: =Tulokset!D37 -> 0
C6: Kierros 2. | D6: =SUM(C42:G42)-LARGE(C42:G42,1)-SMALL(C42:G42,1) -> 0 | E6: =Tulokset!D57 -> 0
A7: Paikka: | B7: =Kilpailu!B4 -> Vesivehmaa | C7: Kierros 3. | D7: =SUM(C58:G58)-LARGE(C58:G58,1)-SMALL(C58:G58,1) -> 0 | E7: =Tulokset!D77 -> 0
A8: Päivä: | B8: =Kilpailu!B5 -> 40397
A9: Ohjelma: | B9: =Kilpailu!B6 -> F3C-P | C9: yhteensä: | D9: =SUM(D5:D7) -> 0 | E9: =SUM(E5:E7) -> 0
C10: pois: | D10: =SMALL(D5:D7,1) -> 0 | E10: =SMALL(E5:E7,1) -> 0
C11: 2 parasta: | D11: =SUM(D5:D7)-D10 -> 0 | E11: =SUM(E5:E7)-E10 -> 0
A14: Kierros 1: | C14: Tuomari 1 | D14: Tuomari 2 | E14: Tuomari 3 | F14: Tuomari 4 | G14: Tuomari 5 | H14: yht.
A15: 1. | B15: =IF(Kilpailu!$B$6 =Kilpailu!$A$79,Kilpailu!B30,IF(Kilpailu!$B$6 =Kilpailu!$A$80,Kilpailu!B45,IF(Kilpailu!$B$6 =Kilpailu!$A$81,Kilpailu!B60,""))) -> M with 2 half pirouettes on all side | H15: =(SUM(C15:G15)*IF(Kilpailu!$B$6 =Kilpailu!$A$79,Kilpailu!C30,IF(Kilpailu!$B$6 =Kilpailu!$A$80,Kilpailu!C45,IF(Kilpailu!$B$6 =Kilpailu!$A$81,Kilpailu!C60,1))))-SMALL(C15:G15,1)-LARGE(C15:G15,1) -> #NUM!
A16: 2. | B16: =IF(Kilpailu!$B$6 =Kilpailu!$A$79,Kilpailu!B31,IF(Kilpailu!$B$6 =Kilpailu!$A$80,Kilpailu!B46,IF(Kilpailu!$B$6 =Kilpailu!$A$81,Kilpailu!B61,""))) -> Semicircle with pirouette | H16: =(SUM(C16:G16)*IF(Kilpailu!$B$6 =Kilpailu!$A$79,Kilpailu!C31,IF(Kilpailu!$B$6 =Kilpailu!$A$80,Kilpailu!C46,IF(Kilpailu!$B$6 =Kilpailu!$A$81,Kilpailu!C61,1))))-SMALL(C16:G16,1)-LARGE(C16:G16,1) -> #NUM!
A17: 3. | B17: =IF(Kilpailu!$B$6 =Kilpailu!$A$79,Kilpailu!B32,IF(Kilpailu!$B$6 =Kilpailu!$A$80,Kilpailu!B47,IF(Kilpailu!$B$6 =Kilpailu!$A$81,Kilpailu!B62,""))) -> Diamond 3 | H17: =(SUM(C17:G17)*IF(Kilpailu!$B$6 =Kilpailu!$A$79,Kilpailu!C32,IF(Kilpailu!$B$6 =Kilpailu!$A$80,Kilpailu!C47,IF(Kilpailu!$B$6 =Kilpailu!$A$81,Kilpailu!C62,1))))-SMALL(C17:G17,1)-LARGE(C17:G17,1) -> #NUM!
A18: 4. | B18: =IF(Kilpailu!$B$6 =Kilpailu!$A$79,Kilpailu!B33,IF(Kilpailu!$B$6 =Kilpailu!$A$80,Kilpailu!B48,IF(Kilpailu!$B$6 =Kilpailu!$A$81,Kilpailu!B63,""))) -> Cuban eight | H18: =(SUM(C18:G18)*IF(Kilpailu!$B$6 =Kilpailu!$A$79,Kilpailu!C33,IF(Kilpailu!$B$6 =Kilpailu!$A$80,Kilpailu!C48,IF(Kilpailu!$B$6 =Kilpailu!$A$81,Kilpailu!C63,1))))-SMALL(C18:G18,1)-LARGE(C18:G18,1) -> #NUM!
A19: 5. | B19: =IF(Kilpailu!$B$6 =Kilpailu!$A$79,Kilpailu!B34,IF(Kilpailu!$B$6 =Kilpailu!$A$80,Kilpailu!B49,IF(Kilpailu!$B$6 =Kilpailu!$A$81,Kilpailu!B64,""))) -> Pullpack with backward full roll | H19: =(SUM(C19:G19)*IF(Kilpailu!$B$6 =Kilpailu!$A$79,Kilpailu!C34,IF(Kilpailu!$B$6 =Kilpailu!$A$80,Kilpailu!C49,IF(Kilpailu!$B$6 =Kilpailu!$A$81,Kilpailu!C64,1))))-SMALL(C19:G19,1)-LARGE(C19:G19,1) -> #NUM!
A20: 6. | B20: =IF(Kilpailu!$B$6 =Kilpailu!$A$79,Kilpailu!B35,IF(Kilpailu!$B$6 =Kilpailu!$A$80,Kilpailu!B50,IF(Kilpailu!$B$6 =Kilpailu!$A$81,Kilpailu!B65,""))) -> Cobra Roll with pushed flip | H20: =(SUM(C20:G20)*IF(Kilpailu!$B$6 =Kilpailu!$A$79,Kilpailu!C35,IF(Kilpailu!$B$6 =Kilpailu!$A$80,Kilpailu!C50,IF(Kilpailu!$B$6 =Kilpailu!$A$81,Kilpailu!C65,1))))-SMALL(C20:G20,1)-LARGE(C20:G20,1) -> #NUM!
A21: 7. | B21: =IF(Kilpailu!$B$6 =Kilpailu!$A$79,Kilpailu!B36,IF(Kilpailu!$B$6 =Kilpailu!$A$80,Kilpailu!B51,IF(Kilpailu!$B$6 =Kilpailu!$A$81,Kilpailu!B66,""))) -> Vertical candle | H21: =(SUM(C21:G21)*IF(Kilpailu!$B$6 =Kilpailu!$A$79,Kilpailu!C36,IF(Kilpailu!$B$6 =Kilpailu!$A$80,Kilpailu!C51,IF(Kilpailu!$B$6 =Kilpailu!$A$81,Kilpailu!C66,1))))-SMALL(C21:G21,1)-LARGE(C21:G21,1) -> #NUM!
A22: 8. | B22: =IF(Kilpailu!$B$6 =Kilpailu!$A$79,Kilpailu!B37,IF(Kilpailu!$B$6 =Kilpailu!$A$80,Kilpailu!B52,IF(Kilpailu!$B$6 =Kilpailu!$A$81,Kilpailu!B67,""))) -> Opposite 2 point rolls | H22: =(SUM(C22:G22)*IF(Kilpailu!$B$6 =Kilpailu!$A$79,Kilpailu!C37,IF(Kilpailu!$B$6 =Kilpailu!$A$80,Kilpailu!C52,IF(Kilpailu!$B$6 =Kilpailu!$A$81,Kilpailu!C67,1))))-SMALL(C22:G22,1)-LARGE(C22:G22,1) -> #NUM!
A23: 9. | B23: =IF(Kilpailu!$B$6 =Kilpailu!$A$79,Kilpailu!B38,IF(Kilpailu!$B$6 =Kilpailu!$A$80,Kilpailu!B53,IF(Kilpailu!$B$6 =Kilpailu!$A$81,Kilpailu!B68,""))) -> Inside loop with pirouette on top | H23: =(SUM(C23:G23)*IF(Kilpailu!$B$6 =Kilpailu!$A$79,Kilpailu!C38,IF(Kilpailu!$B$6 =Kilpailu!$A$80,Kilpailu!C53,IF(Kilpailu!$B$6 =Kilpailu!$A$81,Kilpailu!C68,1))))-SMALL(C23:G23,1)-LARGE(C23:G23,1) -> #NUM!
A24: 10. | B24: =IF(Kilpailu!$B$6 =Kilpailu!$A$79,Kilpailu!B39,IF(Kilpailu!$B$6 =Kilpailu!$A$80,Kilpailu!B54,IF(Kilpailu!$B$6 =Kilpailu!$A$81,Kilpailu!B69,""))) -> Autorotation with two 90º turns | H24: =(SUM(C24:G24)*IF(Kilpailu!$B$6 =Kilpailu!$A$79,Kilpailu!C39,IF(Kilpailu!$B$6 =Kilpailu!$A$80,Kilpailu!C54,IF(Kilpailu!$B$6 =Kilpailu!$A$81,Kilpailu!C69,1))))-SMALL(C24:G24,1)-LARGE(C24:G24,1) -> #NUM!
A25: 11. | B25: =IF(Kilpailu!$B$6 =Kilpailu!$A$79,Kilpailu!B40,IF(Kilpailu!$B$6 =Kilpailu!$A$80,Kilpailu!B55,IF(Kilpailu!$B$6 =Kilpailu!$A$81,Kilpailu!B70,""))) | H25: =(SUM(C25:G25)*IF(Kilpailu!$B$6 =Kilpailu!$A$79,Kilpailu!C40,IF(Kilpailu!$B$6 =Kilpailu!$A$80,Kilpailu!C55,IF(Kilpailu!$B$6 =Kilpailu!$A$81,Kilpailu!C70,1))))-SMALL(C25:G25,1)-LARGE(C25:G25,1) -> #NUM!
B26: Yht. | C26: =SUM(C15:C25) -> 0 | D26: =SUM(D15:D25) -> 0 | E26: =SUM(E15:E25) -> 0 | F26: =SUM(F15:F25) -> 0 | G26: =SUM(G15:G25) -> 0
A30: Kierros 2: | C30: Tuomari 1 | D30: Tuomari 2 | E30: Tuomari 3 | F30: Tuomari 4 | G30: Tuomari 5 | H30: yht.
A31: 1. | B31: =IF(Kilpailu!$B$6 =Kilpailu!$A$79,Kilpailu!B30,IF(Kilpailu!$B$6 =Kilpailu!$A$80,Kilpailu!B45,IF(Kilpailu!$B$6 =Kilpailu!$A$81,Kilpailu!B60,""))) -> M with 2 half pirouettes on all side | H31: =(SUM(C31:G31)*IF(Kilpailu!$B$6 =Kilpailu!$A$79,Kilpailu!C30,IF(Kilpailu!$B$6 =Kilpailu!$A$80,Kilpailu!C45,IF(Kilpailu!$B$6 =Kilpailu!$A$81,Kilpailu!C60,1))))-SMALL(C31:G31,1)-LARGE(C31:G31,1) -> #NUM!
A32: 2. | B32: =IF(Kilpailu!$B$6 =Kilpailu!$A$79,Kilpailu!B31,IF(Kilpailu!$B$6 =Kilpailu!$A$80,Kilpailu!B46,IF(Kilpailu!$B$6 =Kilpailu!$A$81,Kilpailu!B61,""))) -> Semicircle with pirouette | H32: =(SUM(C32:G32)*IF(Kilpailu!$B$6 =Kilpailu!$A$79,Kilpailu!C31,IF(Kilpailu!$B$6 =Kilpailu!$A$80,Kilpailu!C46,IF(Kilpailu!$B$6 =Kilpailu!$A$81,Kilpailu!C61,1))))-SMALL(C32:G32,1)-LARGE(C32:G32,1) -> #NUM!
A33: 3. | B33: =IF(Kilpailu!$B$6 =Kilpailu!$A$79,Kilpailu!B32,IF(Kilpailu!$B$6 =Kilpailu!$A$80,Kilpailu!B47,IF(Kilpailu!$B$6 =Kilpailu!$A$81,Kilpailu!B62,""))) -> Diamond 3 | H33: =(SUM(C33:G33)*IF(Kilpailu!$B$6 =Kilpailu!$A$79,Kilpailu!C32,IF(Kilpailu!$B$6 =Kilpailu!$A$80,Kilpailu!C47,IF(Kilpailu!$B$6 =Kilpailu!$A$81,Kilpailu!C62,1))))-SMALL(C33:G33,1)-LARGE(C33:G33,1) -> #NUM!
A34: 4. | B34: =IF(Kilpailu!$B$6 =Kilpailu!$A$79,Kilpailu!B33,IF(Kilpailu!$B$6 =Kilpailu!$A$80,Kilpailu!B48,IF(Kilpailu!$B$6 =Kilpailu!$A$81,Kilpailu!B63,""))) -> Cuban eight | H34: =(SUM(C34:G34)*IF(Kilpailu!$B$6 =Kilpailu!$A$79,Kilpailu!C33,IF(Kilpailu!$B$6 =Kilpailu!$A$80,Kilpailu!C48,IF(Kilpailu!$B$6 =Kilpailu!$A$81,Kilpailu!C63,1))))-SMALL(C34:G34,1)-LARGE(C34:G34,1) -> #NUM!
A35: 5. | B35: =IF(Kilpailu!$B$6 =Kilpailu!$A$79,Kilpailu!B34,IF(Kilpailu!$B$6 =Kilpailu!$A$80,Kilpailu!B49,IF(Kilpailu!$B$6 =Kilpailu!$A$81,Kilpailu!B64,""))) -> Pullpack with backward full roll | H35: =(SUM(C35:G35)*IF(Kilpailu!$B$6 =Kilpailu!$A$79,Kilpailu!C34,IF(Kilpailu!$B$6 =Kilpailu!$A$80,Kilpailu!C49,IF(Kilpailu!$B$6 =Kilpailu!$A$81,Kilpailu!C64,1))))-SMALL(C35:G35,1)-LARGE(C35:G35,1) -> #NUM!
A36: 6. | B36: =IF(Kilpailu!$B$6 =Kilpailu!$A$79,Kilpailu!B35,IF(Kilpailu!$B$6 =Kilpailu!$A$80,Kilpailu!B50,IF(Kilpailu!$B$6 =Kilpailu!$A$81,Kilpailu!B65,""))) -> Cobra Roll with pushed flip | H36: =(SUM(C36:G36)*IF(Kilpailu!$B$6 =Kilpailu!$A$79,Kilpailu!C35,IF(Kilpailu!$B$6 =Kilpailu!$A$80,Kilpailu!C50,IF(Kilpailu!$B$6 =Kilpailu!$A$81,Kilpailu!C65,1))))-SMALL(C36:G36,1)-LARGE(C36:G36,1) -> #NUM!
A37: 7. | B37: =IF(Kilpailu!$B$6 =Kilpailu!$A$79,Kilpailu!B36,IF(Kilpailu!$B$6 =Kilpailu!$A$80,Kilpailu!B51,IF(Kilpailu!$B$6 =Kilpailu!$A$81,Kilpailu!B66,""))) -> Vertical candle | H37: =(SUM(C37:G37)*IF(Kilpailu!$B$6 =Kilpailu!$A$79,Kilpailu!C36,IF(Kilpailu!$B$6 =Kilpailu!$A$80,Kilpailu!C51,IF(Kilpailu!$B$6 =Kilpailu!$A$81,Kilpailu!C66,1))))-SMALL(C37:G37,1)-LARGE(C37:G37,1) -> #NUM!
A38: 8. | B38: =IF(Kilpailu!$B$6 =Kilpailu!$A$79,Kilpailu!B37,IF(Kilpailu!$B$6 =Kilpailu!$A$80,Kilpailu!B52,IF(Kilpailu!$B$6 =Kilpailu!$A$81,Kilpailu!B67,""))) -> Opposite 2 point rolls | H38: =(SUM(C38:G38)*IF(Kilpailu!$B$6 =Kilpailu!$A$79,Kilpailu!C37,IF(Kilpailu!$B$6 =Kilpailu!$A$80,Kilpailu!C52,IF(Kilpailu!$B$6 =Kilpailu!$A$81,Kilpailu!C67,1))))-SMALL(C38:G38,1)-LARGE(C38:G38,1) -> #NUM!
A39: 9. | B39: =IF(Kilpailu!$B$6 =Kilpailu!$A$79,Kilpailu!B38,IF(Kilpailu!$B$6 =Kilpailu!$A$80,Kilpailu!B53,IF(Kilpailu!$B$6 =Kilpailu!$A$81,Kilpailu!B68,""))) -> Inside loop with pirouette on top | H39: =(SUM(C39:G39)*IF(Kilpailu!$B$6 =Kilpailu!$A$79,Kilpailu!C38,IF(Kilpailu!$B$6 =Kilpailu!$A$80,Kilpailu!C53,IF(Kilpailu!$B$6 =Kilpailu!$A$81,Kilpailu!C68,1))))-SMALL(C39:G39,1)-LARGE(C39:G39,1) -> #NUM!
A40: 10. | B40: =IF(Kilpailu!$B$6 =Kilpailu!$A$79,Kilpailu!B39,IF(Kilpailu!$B$6 =Kilpailu!$A$80,Kilpailu!B54,IF(Kilpailu!$B$6 =Kilpailu!$A$81,Kilpailu!B69,""))) -> Autorotation with two 90º turns | H40: =(SUM(C40:G40)*IF(Kilpailu!$B$6 =Kilpailu!$A$79,Kilpailu!C39,IF(Kilpailu!$B$6 =Kilpailu!$A$80,Kilpailu!C54,IF(Kilpailu!$B$6 =Kilpailu!$A$81,Kilpailu!C69,1))))-SMALL(C40:G40,1)-LARGE(C40:G40,1) -> #NUM!
A41: 11. | B41: =IF(Kilpailu!$B$6 =Kilpailu!$A$79,Kilpailu!B40,IF(Kilpailu!$B$6 =Kilpailu!$A$80,Kilpailu!B55,IF(Kilpailu!$B$6 =Kilpailu!$A$81,Kilpailu!B70,""))) | H41: =(SUM(C41:G41)*IF(Kilpailu!$B$6 =Kilpailu!$A$79,Kilpailu!C40,IF(Kilpailu!$B$6 =Kilpailu!$A$80,Kilpailu!C55,IF(Kilpailu!$B$6 =Kilpailu!$A$81,Kilpailu!C70,1))))-SMALL(C41:G41,1)-LARGE(C41:G41,1) -> #NUM!
B42: Yht. | C42: =SUM(C31:C41) -> 0 | D42: =SUM(D31:D41) -> 0 | E42: =SUM(E31:E41) -> 0 | F42: =SUM(F31:F41) -> 0 | G42: =SUM(G31:G41) -> 0
A46: Kierros 3: | C46: Tuomari 1 | D46: Tuomari 2 | E46: Tuomari 3 | F46: Tuomari 4 | G46: Tuomari 5 | H46: yht.
A47: 1. | B47: =IF(Kilpailu!$B$6 =Kilpailu!$A$79,Kilpailu!B30,IF(Kilpailu!$B$6 =Kilpailu!$A$80,Kilpailu!B45,IF(Kilpailu!$B$6 =Kilpailu!$A$81,Kilpailu!B60,""))) -> M with 2 half pirouettes on all side | H47: =(SUM(C47:G47)*IF(Kilpailu!$B$6 =Kilpailu!$A$79,Kilpailu!C30,IF(Kilpailu!$B$6 =Kilpailu!$A$80,Kilpailu!C45,IF(Kilpailu!$B$6 =Kilpailu!$A$81,Kilpailu!C60,1))))-SMALL(C47:G47,1)-LARGE(C47:G47,1) -> #NUM!
A48: 2. | B48: =IF(Kilpailu!$B$6 =Kilpailu!$A$79,Kilpailu!B31,IF(Kilpailu!$B$6 =Kilpailu!$A$80,Kilpailu!B46,IF(Kilpailu!$B$6 =Kilpailu!$A$81,Kilpailu!B61,""))) -> Semicircle with pirouette | H48: =(SUM(C48:G48)*IF(Kilpailu!$B$6 =Kilpailu!$A$79,Kilpailu!C31,IF(Kilpailu!$B$6 =Kilpailu!$A$80,Kilpailu!C46,IF(Kilpailu!$B$6 =Kilpailu!$A$81,Kilpailu!C61,1))))-SMALL(C48:G48,1)-LARGE(C48:G48,1) -> #NUM!
A49: 3. | B49: =IF(Kilpailu!$B$6 =Kilpailu!$A$79,Kilpailu!B32,IF(Kilpailu!$B$6 =Kilpailu!$A$80,Kilpailu!B47,IF(Kilpailu!$B$6 =Kilpailu!$A$81,Kilpailu!B62,""))) -> Diamond 3 | H49: =(SUM(C49:G49)*IF(Kilpailu!$B$6 =Kilpailu!$A$79,Kilpailu!C32,IF(Kilpailu!$B$6 =Kilpailu!$A$80,Kilpailu!C47,IF(Kilpailu!$B$6 =Kilpailu!$A$81,Kilpailu!C62,1))))-SMALL(C49:G49,1)-LARGE(C49:G49,1) -> #NUM!
A50: 4. | B50: =IF(Kilpailu!$B$6 =Kilpailu!$A$79,Kilpailu!B33,IF(Kilpailu!$B$6 =Kilpailu!$A$80,Kilpailu!B48,IF(Kilpailu!$B$6 =Kilpailu!$A$81,Kilpailu!B63,""))) -> Cuban eight | H50: =(SUM(C50:G50)*IF(Kilpailu!$B$6 =Kilpailu!$A$79,Kilpailu!C33,IF(Kilpailu!$B$6 =Kilpailu!$A$80,Kilpailu!C48,IF(Kilpailu!$B$6 =Kilpailu!$A$81,Kilpailu!C63,1))))-SMALL(C50:G50,1)-LARGE(C50:G50,1) -> #NUM!
A51: 5. | B51: =IF(Kilpailu!$B$6 =Kilpailu!$A$79,Kilpailu!B34,IF(Kilpailu!$B$6 =Kilpailu!$A$80,Kilpailu!B49,IF(Kilpailu!$B$6 =Kilpailu!$A$81,Kilpailu!B64,""))) -> Pullpack with backward full roll | H51: =(SUM(C51:G51)*IF(Kilpailu!$B$6 =Kilpailu!$A$79,Kilpailu!C34,IF(Kilpailu!$B$6 =Kilpailu!$A$80,Kilpailu!C49,IF(Kilpailu!$B$6 =Kilpailu!$A$81,Kilpailu!C64,1))))-SMALL(C51:G51,1)-LARGE(C51:G51,1) -> #NUM!
A52: 6. | B52: =IF(Kilpailu!$B$6 =Kilpailu!$A$79,Kilpailu!B35,IF(Kilpailu!$B$6 =Kilpailu!$A$80,Kilpailu!B50,IF(Kilpailu!$B$6 =Kilpailu!$A$81,Kilpailu!B65,""))) -> Cobra Roll with pushed flip | H52: =(SUM(C52:G52)*IF(Kilpailu!$B$6 =Kilpailu!$A$79,Kilpailu!C35,IF(Kilpailu!$B$6 =Kilpailu!$A$80,Kilpailu!C50,IF(Kilpailu!$B$6 =Kilpailu!$A$81,Kilpailu!C65,1))))-SMALL(C52:G52,1)-LARGE(C52:G52,1) -> #NUM!
A53: 7. | B53: =IF(Kilpailu!$B$6 =Kilpailu!$A$79,Kilpailu!B36,IF(Kilpailu!$B$6 =Kilpailu!$A$80,Kilpailu!B51,IF(Kilpailu!$B$6 =Kilpailu!$A$81,Kilpailu!B66,""))) -> Vertical candle | H53: =(SUM(C53:G53)*IF(Kilpailu!$B$6 =Kilpailu!$A$79,Kilpailu!C36,IF(Kilpailu!$B$6 =Kilpailu!$A$80,Kilpailu!C51,IF(Kilpailu!$B$6 =Kilpailu!$A$81,Kilpailu!C66,1))))-SMALL(C53:G53,1)-LARGE(C53:G53,1) -> #NUM!
A54: 8. | B54: =IF(Kilpailu!$B$6 =Kilpailu!$A$79,Kilpailu!B37,IF(Kilpailu!$B$6 =Kilpailu!$A$80,Kilpailu!B52,IF(Kilpailu!$B$6 =Kilpailu!$A$81,Kilpailu!B67,""))) -> Opposite 2 point rolls | H54: =(SUM(C54:G54)*IF(Kilpailu!$B$6 =Kilpailu!$A$79,Kilpailu!C37,IF(Kilpailu!$B$6 =Kilpailu!$A$80,Kilpailu!C52,IF(Kilpailu!$B$6 =Kilpailu!$A$81,Kilpailu!C67,1))))-SMALL(C54:G54,1)-LARGE(C54:G54,1) -> #NUM!
A55: 9. | B55: =IF(Kilpailu!$B$6 =Kilpailu!$A$79,Kilpailu!B38,IF(Kilpailu!$B$6 =Kilpailu!$A$80,Kilpailu!B53,IF(Kilpailu!$B$6 =Kilpailu!$A$81,Kilpailu!B68,""))) -> Inside loop with pirouette on top | H55: =(SUM(C55:G55)*IF(Kilpailu!$B$6 =Kilpailu!$A$79,Kilpailu!C38,IF(Kilpailu!$B$6 =Kilpailu!$A$80,Kilpailu!C53,IF(Kilpailu!$B$6 =Kilpailu!$A$81,Kilpailu!C68,1))))-SMALL(C55:G55,1)-LARGE(C55:G55,1) -> #NUM!
A56: 10. | B56: =IF(Kilpailu!$B$6 =Kilpailu!$A$79,Kilpailu!B39,IF(Kilpailu!$B$6 =Kilpailu!$A$80,Kilpailu!B54,IF(Kilpailu!$B$6 =Kilpailu!$A$81,Kilpailu!B69,""))) -> Autorotation with two 90º turns | H56: =(SUM(C56:G56)*IF(Kilpailu!$B$6 =Kilpailu!$A$79,Kilpailu!C39,IF(Kilpailu!$B$6 =Kilpailu!$A$80,Kilpailu!C54,IF(Kilpailu!$B$6 =Kilpailu!$A$81,Kilpailu!C69,1))))-SMALL(C56:G56,1)-LARGE(C56:G56,1) -> #NUM!
A57: 11. | B57: =IF(Kilpailu!$B$6 =Kilpailu!$A$79,Kilpailu!B40,IF(Kilpailu!$B$6 =Kilpailu!$A$80,Kilpailu!B55,IF(Kilpailu!$B$6 =Kilpailu!$A$81,Kilpailu!B70,""))) | H57: =(SUM(C57:G57)*IF(Kilpailu!$B$6 =Kilpailu!$A$79,Kilpailu!C40,IF(Kilpailu!$B$6 =Kilpailu!$A$80,Kilpailu!C55,IF(Kilpailu!$B$6 =Kilpailu!$A$81,Kilpailu!C70,1))))-SMALL(C57:G57,1)-LARGE(C57:G57,1) -> #NUM!
B58: Yht. | C58: =SUM(C47:C57) -> 0 | D58: =SUM(D47:D57) -> 0 | E58: =SUM(E47:E57) -> 0 | F58: =SUM(F47:F57) -> 0 | G58: =SUM(G47:G57) -> 0

Sheet 11
D4: Pisteet | E4: Suht…
A5: Nimi: | C5: Kierros 1. | D5: =SUM(C26:G26)-LARGE(C26:G26,1)-SMALL(C26:G26,1) -> 0 | E5: =Tulokset!D38 -> 0
C6: Kierros 2. | D6: =SUM(C42:G42)-LARGE(C42:G42,1)-SMALL(C42:G42,1) -> 0 | E6: =Tulokset!D58 -> 0
A7: Paikka: | B7: =Kilpailu!B4 -> Vesivehmaa | C7: Kierros 3. | D7: =SUM(C58:G58)-LARGE(C58:G58,1)-SMALL(C58:G58,1) -> 0 | E7: =Tulokset!D78 -> 0
A8: Päivä: | B8: =Kilpailu!B5 -> 40397
A9: Ohjelma: | B9: =Kilpailu!B6 -> F3C-P | C9: yhteensä: | D9: =SUM(D5:D7) -> 0 | E9: =SUM(E5:E7) -> 0
C10: pois: | D10: =SMALL(D5:D7,1) -> 0 | E10: =SMALL(E5:E7,1) -> 0
C11: 2 parasta: | D11: =SUM(D5:D7)-D10 -> 0 | E11: =SUM(E5:E7)-E10 -> 0
A14: Kierros 1: | C14: Tuomari 1 | D14: Tuomari 2 | E14: Tuomari 3 | F14: Tuomari 4 | G14: Tuomari 5 | H14: yht.
A15: 1. | B15: =IF(Kilpailu!$B$6 =Kilpailu!$A$79,Kilpailu!B30,IF(Kilpailu!$B$6 =Kilpailu!$A$80,Kilpailu!B45,IF(Kilpailu!$B$6 =Kilpailu!$A$81,Kilpailu!B60,""))) -> M with 2 half pirouettes on all side | H15: =(SUM(C15:G15)*IF(Kilpailu!$B$6 =Kilpailu!$A$79,Kilpailu!C30,IF(Kilpailu!$B$6 =Kilpailu!$A$80,Kilpailu!C45,IF(Kilpailu!$B$6 =Kilpailu!$A$81,Kilpailu!C60,1))))-SMALL(C15:G15,1)-LARGE(C15:G15,1) -> #NUM!
A16: 2. | B16: =IF(Kilpailu!$B$6 =Kilpailu!$A$79,Kilpailu!B31,IF(Kilpailu!$B$6 =Kilpailu!$A$80,Kilpailu!B46,IF(Kilpailu!$B$6 =Kilpailu!$A$81,Kilpailu!B61,""))) -> Semicircle with pirouette | H16: =(SUM(C16:G16)*IF(Kilpailu!$B$6 =Kilpailu!$A$79,Kilpailu!C31,IF(Kilpailu!$B$6 =Kilpailu!$A$80,Kilpailu!C46,IF(Kilpailu!$B$6 =Kilpailu!$A$81,Kilpailu!C61,1))))-SMALL(C16:G16,1)-LARGE(C16:G16,1) -> #NUM!
A17: 3. | B17: =IF(Kilpailu!$B$6 =Kilpailu!$A$79,Kilpailu!B32,IF(Kilpailu!$B$6 =Kilpailu!$A$80,Kilpailu!B47,IF(Kilpailu!$B$6 =Kilpailu!$A$81,Kilpailu!B62,""))) -> Diamond 3 | H17: =(SUM(C17:G17)*IF(Kilpailu!$B$6 =Kilpailu!$A$79,Kilpailu!C32,IF(Kilpailu!$B$6 =Kilpailu!$A$80,Kilpailu!C47,IF(Kilpailu!$B$6 =Kilpailu!$A$81,Kilpailu!C62,1))))-SMALL(C17:G17,1)-LARGE(C17:G17,1) -> #NUM!
A18: 4. | B18: =IF(Kilpailu!$B$6 =Kilpailu!$A$79,Kilpailu!B33,IF(Kilpailu!$B$6 =Kilpailu!$A$80,Kilpailu!B48,IF(Kilpailu!$B$6 =Kilpailu!$A$81,Kilpailu!B63,""))) -> Cuban eight | H18: =(SUM(C18:G18)*IF(Kilpailu!$B$6 =Kilpailu!$A$79,Kilpailu!C33,IF(Kilpailu!$B$6 =Kilpailu!$A$80,Kilpailu!C48,IF(Kilpailu!$B$6 =Kilpailu!$A$81,Kilpailu!C63,1))))-SMALL(C18:G18,1)-LARGE(C18:G18,1) -> #NUM!
A19: 5. | B19: =IF(Kilpailu!$B$6 =Kilpailu!$A$79,Kilpailu!B34,IF(Kilpailu!$B$6 =Kilpailu!$A$80,Kilpailu!B49,IF(Kilpailu!$B$6 =Kilpailu!$A$81,Kilpailu!B64,""))) -> Pullpack with backward full roll | H19: =(SUM(C19:G19)*IF(Kilpailu!$B$6 =Kilpailu!$A$79,Kilpailu!C34,IF(Kilpailu!$B$6 =Kilpailu!$A$80,Kilpailu!C49,IF(Kilpailu!$B$6 =Kilpailu!$A$81,Kilpailu!C64,1))))-SMALL(C19:G19,1)-LARGE(C19:G19,1) -> #NUM!
A20: 6. | B20: =IF(Kilpailu!$B$6 =Kilpailu!$A$79,Kilpailu!B35,IF(Kilpailu!$B$6 =Kilpailu!$A$80,Kilpailu!B50,IF(Kilpailu!$B$6 =Kilpailu!$A$81,Kilpailu!B65,""))) -> Cobra Roll with pushed flip | H20: =(SUM(C20:G20)*IF(Kilpailu!$B$6 =Kilpailu!$A$79,Kilpailu!C35,IF(Kilpailu!$B$6 =Kilpailu!$A$80,Kilpailu!C50,IF(Kilpailu!$B$6 =Kilpailu!$A$81,Kilpailu!C65,1))))-SMALL(C20:G20,1)-LARGE(C20:G20,1) -> #NUM!
A21: 7. | B21: =IF(Kilpailu!$B$6 =Kilpailu!$A$79,Kilpailu!B36,IF(Kilpailu!$B$6 =Kilpailu!$A$80,Kilpailu!B51,IF(Kilpailu!$B$6 =Kilpailu!$A$81,Kilpailu!B66,""))) -> Vertical candle | H21: =(SUM(C21:G21)*IF(Kilpailu!$B$6 =Kilpailu!$A$79,Kilpailu!C36,IF(Kilpailu!$B$6 =Kilpailu!$A$80,Kilpailu!C51,IF(Kilpailu!$B$6 =Kilpailu!$A$81,Kilpailu!C66,1))))-SMALL(C21:G21,1)-LARGE(C21:G21,1) -> #NUM!
A22: 8. | B22: =IF(Kilpailu!$B$6 =Kilpailu!$A$79,Kilpailu!B37,IF(Kilpailu!$B$6 =Kilpailu!$A$80,Kilpailu!B52,IF(Kilpailu!$B$6 =Kilpailu!$A$81,Kilpailu!B67,""))) -> Opposite 2 point rolls | H22: =(SUM(C22:G22)*IF(Kilpailu!$B$6 =Kilpailu!$A$79,Kilpailu!C37,IF(Kilpailu!$B$6 =Kilpailu!$A$80,Kilpailu!C52,IF(Kilpailu!$B$6 =Kilpailu!$A$81,Kilpailu!C67,1))))-SMALL(C22:G22,1)-LARGE(C22:G22,1) -> #NUM!
A23: 9. | B23: =IF(Kilpailu!$B$6 =Kilpailu!$A$79,Kilpailu!B38,IF(Kilpailu!$B$6 =Kilpailu!$A$80,Kilpailu!B53,IF(Kilpailu!$B$6 =Kilpailu!$A$81,Kilpailu!B68,""))) -> Inside loop with pirouette on top | H23: =(SUM(C23:G23)*IF(Kilpailu!$B$6 =Kilpailu!$A$79,Kilpailu!C38,IF(Kilpailu!$B$6 =Kilpailu!$A$80,Kilpailu!C53,IF(Kilpailu!$B$6 =Kilpailu!$A$81,Kilpailu!C68,1))))-SMALL(C23:G23,1)-LARGE(C23:G23,1) -> #NUM!
A24: 10. | B24: =IF(Kilpailu!$B$6 =Kilpailu!$A$79,Kilpailu!B39,IF(Kilpailu!$B$6 =Kilpailu!$A$80,Kilpailu!B54,IF(Kilpailu!$B$6 =Kilpailu!$A$81,Kilpailu!B69,""))) -> Autorotation with two 90º turns | H24: =(SUM(C24:G24)*IF(Kilpailu!$B$6 =Kilpailu!$A$79,Kilpailu!C39,IF(Kilpailu!$B$6 =Kilpailu!$A$80,Kilpailu!C54,IF(Kilpailu!$B$6 =Kilpailu!$A$81,Kilpailu!C69,1))))-SMALL(C24:G24,1)-LARGE(C24:G24,1) -> #NUM!
A25: 11. | B25: =IF(Kilpailu!$B$6 =Kilpailu!$A$79,Kilpailu!B40,IF(Kilpailu!$B$6 =Kilpailu!$A$80,Kilpailu!B55,IF(Kilpailu!$B$6 =Kilpailu!$A$81,Kilpailu!B70,""))) | H25: =(SUM(C25:G25)*IF(Kilpailu!$B$6 =Kilpailu!$A$79,Kilpailu!C40,IF(Kilpailu!$B$6 =Kilpailu!$A$80,Kilpailu!C55,IF(Kilpailu!$B$6 =Kilpailu!$A$81,Kilpailu!C70,1))))-SMALL(C25:G25,1)-LARGE(C25:G25,1) -> #NUM!
B26: Yht. | C26: =SUM(C15:C25) -> 0 | D26: =SUM(D15:D25) -> 0 | E26: =SUM(E15:E25) -> 0 | F26: =SUM(F15:F25) -> 0 | G26: =SUM(G15:G25) -> 0
A30: Kierros 2: | C30: Tuomari 1 | D30: Tuomari 2 | E30: Tuomari 3 | F30: Tuomari 4 | G30: Tuomari 5 | H30: yht.
A31: 1. | B31: =IF(Kilpailu!$B$6 =Kilpailu!$A$79,Kilpailu!B30,IF(Kilpailu!$B$6 =Kilpailu!$A$80,Kilpailu!B45,IF(Kilpailu!$B$6 =Kilpailu!$A$81,Kilpailu!B60,""))) -> M with 2 half pirouettes on all side | H31: =(SUM(C31:G31)*IF(Kilpailu!$B$6 =Kilpailu!$A$79,Kilpailu!C30,IF(Kilpailu!$B$6 =Kilpailu!$A$80,Kilpailu!C45,IF(Kilpailu!$B$6 =Kilpailu!$A$81,Kilpailu!C60,1))))-SMALL(C31:G31,1)-LARGE(C31:G31,1) -> #NUM!
A32: 2. | B32: =IF(Kilpailu!$B$6 =Kilpailu!$A$79,Kilpailu!B31,IF(Kilpailu!$B$6 =Kilpailu!$A$80,Kilpailu!B46,IF(Kilpailu!$B$6 =Kilpailu!$A$81,Kilpailu!B61,""))) -> Semicircle with pirouette | H32: =(SUM(C32:G32)*IF(Kilpailu!$B$6 =Kilpailu!$A$79,Kilpailu!C31,IF(Kilpailu!$B$6 =Kilpailu!$A$80,Kilpailu!C46,IF(Kilpailu!$B$6 =Kilpailu!$A$81,Kilpailu!C61,1))))-SMALL(C32:G32,1)-LARGE(C32:G32,1) -> #NUM!
A33: 3. | B33: =IF(Kilpailu!$B$6 =Kilpailu!$A$79,Kilpailu!B32,IF(Kilpailu!$B$6 =Kilpailu!$A$80,Kilpailu!B47,IF(Kilpailu!$B$6 =Kilpailu!$A$81,Kilpailu!B62,""))) -> Diamond 3 | H33: =(SUM(C33:G33)*IF(Kilpailu!$B$6 =Kilpailu!$A$79,Kilpailu!C32,IF(Kilpailu!$B$6 =Kilpailu!$A$80,Kilpailu!C47,IF(Kilpailu!$B$6 =Kilpailu!$A$81,Kilpailu!C62,1))))-SMALL(C33:G33,1)-LARGE(C33:G33,1) -> #NUM!
A34: 4. | B34: =IF(Kilpailu!$B$6 =Kilpailu!$A$79,Kilpailu!B33,IF(Kilpailu!$B$6 =Kilpailu!$A$80,Kilpailu!B48,IF(Kilpailu!$B$6 =Kilpailu!$A$81,Kilpailu!B63,""))) -> Cuban eight | H34: =(SUM(C34:G34)*IF(Kilpailu!$B$6 =Kilpailu!$A$79,Kilpailu!C33,IF(Kilpailu!$B$6 =Kilpailu!$A$80,Kilpailu!C48,IF(Kilpailu!$B$6 =Kilpailu!$A$81,Kilpailu!C63,1))))-SMALL(C34:G34,1)-LARGE(C34:G34,1) -> #NUM!
A35: 5. | B35: =IF(Kilpailu!$B$6 =Kilpailu!$A$79,Kilpailu!B34,IF(Kilpailu!$B$6 =Kilpailu!$A$80,Kilpailu!B49,IF(Kilpailu!$B$6 =Kilpailu!$A$81,Kilpailu!B64,""))) -> Pullpack with backward full roll | H35: =(SUM(C35:G35)*IF(Kilpailu!$B$6 =Kilpailu!$A$79,Kilpailu!C34,IF(Kilpailu!$B$6 =Kilpailu!$A$80,Kilpailu!C49,IF(Kilpailu!$B$6 =Kilpailu!$A$81,Kilpailu!C64,1))))-SMALL(C35:G35,1)-LARGE(C35:G35,1) -> #NUM!
A36: 6. | B36: =IF(Kilpailu!$B$6 =Kilpailu!$A$79,Kilpailu!B35,IF(Kilpailu!$B$6 =Kilpailu!$A$80,Kilpailu!B50,IF(Kilpailu!$B$6 =Kilpailu!$A$81,Kilpailu!B65,""))) -> Cobra Roll with pushed flip | H36: =(SUM(C36:G36)*IF(Kilpailu!$B$6 =Kilpailu!$A$79,Kilpailu!C35,IF(Kilpailu!$B$6 =Kilpailu!$A$80,Kilpailu!C50,IF(Kilpailu!$B$6 =Kilpailu!$A$81,Kilpailu!C65,1))))-SMALL(C36:G36,1)-LARGE(C36:G36,1) -> #NUM!
A37: 7. | B37: =IF(Kilpailu!$B$6 =Kilpailu!$A$79,Kilpailu!B36,IF(Kilpailu!$B$6 =Kilpailu!$A$80,Kilpailu!B51,IF(Kilpailu!$B$6 =Kilpailu!$A$81,Kilpailu!B66,""))) -> Vertical candle | H37: =(SUM(C37:G37)*IF(Kilpailu!$B$6 =Kilpailu!$A$79,Kilpailu!C36,IF(Kilpailu!$B$6 =Kilpailu!$A$80,Kilpailu!C51,IF(Kilpailu!$B$6 =Kilpailu!$A$81,Kilpailu!C66,1))))-SMALL(C37:G37,1)-LARGE(C37:G37,1) -> #NUM!
A38: 8. | B38: =IF(Kilpailu!$B$6 =Kilpailu!$A$79,Kilpailu!B37,IF(Kilpailu!$B$6 =Kilpailu!$A$80,Kilpailu!B52,IF(Kilpailu!$B$6 =Kilpailu!$A$81,Kilpailu!B67,""))) -> Opposite 2 point rolls | H38: =(SUM(C38:G38)*IF(Kilpailu!$B$6 =Kilpailu!$A$79,Kilpailu!C37,IF(Kilpailu!$B$6 =Kilpailu!$A$80,Kilpailu!C52,IF(Kilpailu!$B$6 =Kilpailu!$A$81,Kilpailu!C67,1))))-SMALL(C38:G38,1)-LARGE(C38:G38,1) -> #NUM!
A39: 9. | B39: =IF(Kilpailu!$B$6 =Kilpailu!$A$79,Kilpailu!B38,IF(Kilpailu!$B$6 =Kilpailu!$A$80,Kilpailu!B53,IF(Kilpailu!$B$6 =Kilpailu!$A$81,Kilpailu!B68,""))) -> Inside loop with pirouette on top | H39: =(SUM(C39:G39)*IF(Kilpailu!$B$6 =Kilpailu!$A$79,Kilpailu!C38,IF(Kilpailu!$B$6 =Kilpailu!$A$80,Kilpailu!C53,IF(Kilpailu!$B$6 =Kilpailu!$A$81,Kilpailu!C68,1))))-SMALL(C39:G39,1)-LARGE(C39:G39,1) -> #NUM!
A40: 10. | B40: =IF(Kilpailu!$B$6 =Kilpailu!$A$79,Kilpailu!B39,IF(Kilpailu!$B$6 =Kilpailu!$A$80,Kilpailu!B54,IF(Kilpailu!$B$6 =Kilpailu!$A$81,Kilpailu!B69,""))) -> Autorotation with two 90º turns | H40: =(SUM(C40:G40)*IF(Kilpailu!$B$6 =Kilpailu!$A$79,Kilpailu!C39,IF(Kilpailu!$B$6 =Kilpailu!$A$80,Kilpailu!C54,IF(Kilpailu!$B$6 =Kilpailu!$A$81,Kilpailu!C69,1))))-SMALL(C40:G40,1)-LARGE(C40:G40,1) -> #NUM!
A41: 11. | B41: =IF(Kilpailu!$B$6 =Kilpailu!$A$79,Kilpailu!B40,IF(Kilpailu!$B$6 =Kilpailu!$A$80,Kilpailu!B55,IF(Kilpailu!$B$6 =Kilpailu!$A$81,Kilpailu!B70,""))) | H41: =(SUM(C41:G41)*IF(Kilpailu!$B$6 =Kilpailu!$A$79,Kilpailu!C40,IF(Kilpailu!$B$6 =Kilpailu!$A$80,Kilpailu!C55,IF(Kilpailu!$B$6 =Kilpailu!$A$81,Kilpailu!C70,1))))-SMALL(C41:G41,1)-LARGE(C41:G41,1) -> #NUM!
B42: Yht. | C42: =SUM(C31:C41) -> 0 | D42: =SUM(D31:D41) -> 0 | E42: =SUM(E31:E41) -> 0 | F42: =SUM(F31:F41) -> 0 | G42: =SUM(G31:G41) -> 0
A46: Kierros 3: | C46: Tuomari 1 | D46: Tuomari 2 | E46: Tuomari 3 | F46: Tuomari 4 | G46: Tuomari 5 | H46: yht.
A47: 1. | B47: =IF(Kilpailu!$B$6 =Kilpailu!$A$79,Kilpailu!B30,IF(Kilpailu!$B$6 =Kilpailu!$A$80,Kilpailu!B45,IF(Kilpailu!$B$6 =Kilpailu!$A$81,Kilpailu!B60,""))) -> M with 2 half pirouettes on all side | H47: =(SUM(C47:G47)*IF(Kilpailu!$B$6 =Kilpailu!$A$79,Kilpailu!C30,IF(Kilpailu!$B$6 =Kilpailu!$A$80,Kilpailu!C45,IF(Kilpailu!$B$6 =Kilpailu!$A$81,Kilpailu!C60,1))))-SMALL(C47:G47,1)-LARGE(C47:G47,1) -> #NUM!
A48: 2. | B48: =IF(Kilpailu!$B$6 =Kilpailu!$A$79,Kilpailu!B31,IF(Kilpailu!$B$6 =Kilpailu!$A$80,Kilpailu!B46,IF(Kilpailu!$B$6 =Kilpailu!$A$81,Kilpailu!B61,""))) -> Semicircle with pirouette | H48: =(SUM(C48:G48)*IF(Kilpailu!$B$6 =Kilpailu!$A$79,Kilpailu!C31,IF(Kilpailu!$B$6 =Kilpailu!$A$80,Kilpailu!C46,IF(Kilpailu!$B$6 =Kilpailu!$A$81,Kilpailu!C61,1))))-SMALL(C48:G48,1)-LARGE(C48:G48,1) -> #NUM!
A49: 3. | B49: =IF(Kilpailu!$B$6 =Kilpailu!$A$79,Kilpailu!B32,IF(Kilpailu!$B$6 =Kilpailu!$A$80,Kilpailu!B47,IF(Kilpailu!$B$6 =Kilpailu!$A$81,Kilpailu!B62,""))) -> Diamond 3 | H49: =(SUM(C49:G49)*IF(Kilpailu!$B$6 =Kilpailu!$A$79,Kilpailu!C32,IF(Kilpailu!$B$6 =Kilpailu!$A$80,Kilpailu!C47,IF(Kilpailu!$B$6 =Kilpailu!$A$81,Kilpailu!C62,1))))-SMALL(C49:G49,1)-LARGE(C49:G49,1) -> #NUM!
A50: 4. | B50: =IF(Kilpailu!$B$6 =Kilpailu!$A$79,Kilpailu!B33,IF(Kilpailu!$B$6 =Kilpailu!$A$80,Kilpailu!B48,IF(Kilpailu!$B$6 =Kilpailu!$A$81,Kilpailu!B63,""))) -> Cuban eight | H50: =(SUM(C50:G50)*IF(Kilpailu!$B$6 =Kilpailu!$A$79,Kilpailu!C33,IF(Kilpailu!$B$6 =Kilpailu!$A$80,Kilpailu!C48,IF(Kilpailu!$B$6 =Kilpailu!$A$81,Kilpailu!C63,1))))-SMALL(C50:G50,1)-LARGE(C50:G50,1) -> #NUM!
A51: 5. | B51: =IF(Kilpailu!$B$6 =Kilpailu!$A$79,Kilpailu!B34,IF(Kilpailu!$B$6 =Kilpailu!$A$80,Kilpailu!B49,IF(Kilpailu!$B$6 =Kilpailu!$A$81,Kilpailu!B64,""))) -> Pullpack with backward full roll | H51: =(SUM(C51:G51)*IF(Kilpailu!$B$6 =Kilpailu!$A$79,Kilpailu!C34,IF(Kilpailu!$B$6 =Kilpailu!$A$80,Kilpailu!C49,IF(Kilpailu!$B$6 =Kilpailu!$A$81,Kilpailu!C64,1))))-SMALL(C51:G51,1)-LARGE(C51:G51,1) -> #NUM!
A52: 6. | B52: =IF(Kilpailu!$B$6 =Kilpailu!$A$79,Kilpailu!B35,IF(Kilpailu!$B$6 =Kilpailu!$A$80,Kilpailu!B50,IF(Kilpailu!$B$6 =Kilpailu!$A$81,Kilpailu!B65,""))) -> Cobra Roll with pushed flip | H52: =(SUM(C52:G52)*IF(Kilpailu!$B$6 =Kilpailu!$A$79,Kilpailu!C35,IF(Kilpailu!$B$6 =Kilpailu!$A$80,Kilpailu!C50,IF(Kilpailu!$B$6 =Kilpailu!$A$81,Kilpailu!C65,1))))-SMALL(C52:G52,1)-LARGE(C52:G52,1) -> #NUM!
A53: 7. | B53: =IF(Kilpailu!$B$6 =Kilpailu!$A$79,Kilpailu!B36,IF(Kilpailu!$B$6 =Kilpailu!$A$80,Kilpailu!B51,IF(Kilpailu!$B$6 =Kilpailu!$A$81,Kilpailu!B66,""))) -> Vertical candle | H53: =(SUM(C53:G53)*IF(Kilpailu!$B$6 =Kilpailu!$A$79,Kilpailu!C36,IF(Kilpailu!$B$6 =Kilpailu!$A$80,Kilpailu!C51,IF(Kilpailu!$B$6 =Kilpailu!$A$81,Kilpailu!C66,1))))-SMALL(C53:G53,1)-LARGE(C53:G53,1) -> #NUM!
A54: 8. | B54: =IF(Kilpailu!$B$6 =Kilpailu!$A$79,Kilpailu!B37,IF(Kilpailu!$B$6 =Kilpailu!$A$80,Kilpailu!B52,IF(Kilpailu!$B$6 =Kilpailu!$A$81,Kilpailu!B67,""))) -> Opposite 2 point rolls | H54: =(SUM(C54:G54)*IF(Kilpailu!$B$6 =Kilpailu!$A$79,Kilpailu!C37,IF(Kilpailu!$B$6 =Kilpailu!$A$80,Kilpailu!C52,IF(Kilpailu!$B$6 =Kilpailu!$A$81,Kilpailu!C67,1))))-SMALL(C54:G54,1)-LARGE(C54:G54,1) -> #NUM!
A55: 9. | B55: =IF(Kilpailu!$B$6 =Kilpailu!$A$79,Kilpailu!B38,IF(Kilpailu!$B$6 =Kilpailu!$A$80,Kilpailu!B53,IF(Kilpailu!$B$6 =Kilpailu!$A$81,Kilpailu!B68,""))) -> Inside loop with pirouette on top | H55: =(SUM(C55:G55)*IF(Kilpailu!$B$6 =Kilpailu!$A$79,Kilpailu!C38,IF(Kilpailu!$B$6 =Kilpailu!$A$80,Kilpailu!C53,IF(Kilpailu!$B$6 =Kilpailu!$A$81,Kilpailu!C68,1))))-SMALL(C55:G55,1)-LARGE(C55:G55,1) -> #NUM!
A56: 10. | B56: =IF(Kilpailu!$B$6 =Kilpailu!$A$79,Kilpailu!B39,IF(Kilpailu!$B$6 =Kilpailu!$A$80,Kilpailu!B54,IF(Kilpailu!$B$6 =Kilpailu!$A$81,Kilpailu!B69,""))) -> Autorotation with two 90º turns | H56: =(SUM(C56:G56)*IF(Kilpailu!$B$6 =Kilpailu!$A$79,Kilpailu!C39,IF(Kilpailu!$B$6 =Kilpailu!$A$80,Kilpailu!C54,IF(Kilpailu!$B$6 =Kilpailu!$A$81,Kilpailu!C69,1))))-SMALL(C56:G56,1)-LARGE(C56:G56,1) -> #NUM!
A57: 11. | B57: =IF(Kilpailu!$B$6 =Kilpailu!$A$79,Kilpailu!B40,IF(Kilpailu!$B$6 =Kilpailu!$A$80,Kilpailu!B55,IF(Kilpailu!$B$6 =Kilpailu!$A$81,Kilpailu!B70,""))) | H57: =(SUM(C57:G57)*IF(Kilpailu!$B$6 =Kilpailu!$A$79,Kilpailu!C40,IF(Kilpailu!$B$6 =Kilpailu!$A$80,Kilpailu!C55,IF(Kilpailu!$B$6 =Kilpailu!$A$81,Kilpailu!C70,1))))-SMALL(C57:G57,1)-LARGE(C57:G57,1) -> #NUM!
B58: Yht. | C58: =SUM(C47:C57) -> 0 | D58: =SUM(D47:D57) -> 0 | E58: =SUM(E47:E57) -> 0 | F58: =SUM(F47:F57) -> 0 | G58: =SUM(G47:G57) -> 0

Sheet 12
D4: Pisteet | E4: Suht…
A5: Nimi: | C5: Kierros 1. | D5: =SUM(C26:G26)-LARGE(C26:G26,1)-SMALL(C26:G26,1) -> 0 | E5: =Tulokset!D39 -> 0
C6: Kierros 2. | D6: =SUM(C42:G42)-LARGE(C42:G42,1)-SMALL(C42:G42,1) -> 0 | E6: =Tulokset!D59 -> 0
A7: Paikka: | B7: =Kilpailu!B4 -> Vesivehmaa | C7: Kierros 3. | D7: =SUM(C58:G58)-LARGE(C58:G58,1)-SMALL(C58:G58,1) -> 0 | E7: =Tulokset!D79 -> 0
A8: Päivä: | B8: =Kilpailu!B5 -> 40397
A9: Ohjelma: | B9: =Kilpailu!B6 -> F3C-P | C9: yhteensä: | D9: =SUM(D5:D7) -> 0 | E9: =SUM(E5:E7) -> 0
C10: pois: | D10: =SMALL(D5:D7,1) -> 0 | E10: =SMALL(E5:E7,1) -> 0
C11: 2 parasta: | D11: =SUM(D5:D7)-D10 -> 0 | E11: =SUM(E5:E7)-E10 -> 0
A14: Kierros 1: | C14: Tuomari 1 | D14: Tuomari 2 | E14: Tuomari 3 | F14: Tuomari 4 | G14: Tuomari 5 | H14: yht.
A15: 1. | B15: =IF(Kilpailu!$B$6 =Kilpailu!$A$79,Kilpailu!B30,IF(Kilpailu!$B$6 =Kilpailu!$A$80,Kilpailu!B45,IF(Kilpailu!$B$6 =Kilpailu!$A$81,Kilpailu!B60,""))) -> M with 2 half pirouettes on all side | H15: =(SUM(C15:G15)*IF(Kilpailu!$B$6 =Kilpailu!$A$79,Kilpailu!C30,IF(Kilpailu!$B$6 =Kilpailu!$A$80,Kilpailu!C45,IF(Kilpailu!$B$6 =Kilpailu!$A$81,Kilpailu!C60,1))))-SMALL(C15:G15,1)-LARGE(C15:G15,1) -> #NUM!
A16: 2. | B16: =IF(Kilpailu!$B$6 =Kilpailu!$A$79,Kilpailu!B31,IF(Kilpailu!$B$6 =Kilpailu!$A$80,Kilpailu!B46,IF(Kilpailu!$B$6 =Kilpailu!$A$81,Kilpailu!B61,""))) -> Semicircle with pirouette | H16: =(SUM(C16:G16)*IF(Kilpailu!$B$6 =Kilpailu!$A$79,Kilpailu!C31,IF(Kilpailu!$B$6 =Kilpailu!$A$80,Kilpailu!C46,IF(Kilpailu!$B$6 =Kilpailu!$A$81,Kilpailu!C61,1))))-SMALL(C16:G16,1)-LARGE(C16:G16,1) -> #NUM!
A17: 3. | B17: =IF(Kilpailu!$B$6 =Kilpailu!$A$79,Kilpailu!B32,IF(Kilpailu!$B$6 =Kilpailu!$A$80,Kilpailu!B47,IF(Kilpailu!$B$6 =Kilpailu!$A$81,Kilpailu!B62,""))) -> Diamond 3 | H17: =(SUM(C17:G17)*IF(Kilpailu!$B$6 =Kilpailu!$A$79,Kilpailu!C32,IF(Kilpailu!$B$6 =Kilpailu!$A$80,Kilpailu!C47,IF(Kilpailu!$B$6 =Kilpailu!$A$81,Kilpailu!C62,1))))-SMALL(C17:G17,1)-LARGE(C17:G17,1) -> #NUM!
A18: 4. | B18: =IF(Kilpailu!$B$6 =Kilpailu!$A$79,Kilpailu!B33,IF(Kilpailu!$B$6 =Kilpailu!$A$80,Kilpailu!B48,IF(Kilpailu!$B$6 =Kilpailu!$A$81,Kilpailu!B63,""))) -> Cuban eight | H18: =(SUM(C18:G18)*IF(Kilpailu!$B$6 =Kilpailu!$A$79,Kilpailu!C33,IF(Kilpailu!$B$6 =Kilpailu!$A$80,Kilpailu!C48,IF(Kilpailu!$B$6 =Kilpailu!$A$81,Kilpailu!C63,1))))-SMALL(C18:G18,1)-LARGE(C18:G18,1) -> #NUM!
A19: 5. | B19: =IF(Kilpailu!$B$6 =Kilpailu!$A$79,Kilpailu!B34,IF(Kilpailu!$B$6 =Kilpailu!$A$80,Kilpailu!B49,IF(Kilpailu!$B$6 =Kilpailu!$A$81,Kilpailu!B64,""))) -> Pullpack with backward full roll | H19: =(SUM(C19:G19)*IF(Kilpailu!$B$6 =Kilpailu!$A$79,Kilpailu!C34,IF(Kilpailu!$B$6 =Kilpailu!$A$80,Kilpailu!C49,IF(Kilpailu!$B$6 =Kilpailu!$A$81,Kilpailu!C64,1))))-SMALL(C19:G19,1)-LARGE(C19:G19,1) -> #NUM!
A20: 6. | B20: =IF(Kilpailu!$B$6 =Kilpailu!$A$79,Kilpailu!B35,IF(Kilpailu!$B$6 =Kilpailu!$A$80,Kilpailu!B50,IF(Kilpailu!$B$6 =Kilpailu!$A$81,Kilpailu!B65,""))) -> Cobra Roll with pushed flip | H20: =(SUM(C20:G20)*IF(Kilpailu!$B$6 =Kilpailu!$A$79,Kilpailu!C35,IF(Kilpailu!$B$6 =Kilpailu!$A$80,Kilpailu!C50,IF(Kilpailu!$B$6 =Kilpailu!$A$81,Kilpailu!C65,1))))-SMALL(C20:G20,1)-LARGE(C20:G20,1) -> #NUM!
A21: 7. | B21: =IF(Kilpailu!$B$6 =Kilpailu!$A$79,Kilpailu!B36,IF(Kilpailu!$B$6 =Kilpailu!$A$80,Kilpailu!B51,IF(Kilpailu!$B$6 =Kilpailu!$A$81,Kilpailu!B66,""))) -> Vertical candle | H21: =(SUM(C21:G21)*IF(Kilpailu!$B$6 =Kilpailu!$A$79,Kilpailu!C36,IF(Kilpailu!$B$6 =Kilpailu!$A$80,Kilpailu!C51,IF(Kilpailu!$B$6 =Kilpailu!$A$81,Kilpailu!C66,1))))-SMALL(C21:G21,1)-LARGE(C21:G21,1) -> #NUM!
A22: 8. | B22: =IF(Kilpailu!$B$6 =Kilpailu!$A$79,Kilpailu!B37,IF(Kilpailu!$B$6 =Kilpailu!$A$80,Kilpailu!B52,IF(Kilpailu!$B$6 =Kilpailu!$A$81,Kilpailu!B67,""))) -> Opposite 2 point rolls | H22: =(SUM(C22:G22)*IF(Kilpailu!$B$6 =Kilpailu!$A$79,Kilpailu!C37,IF(Kilpailu!$B$6 =Kilpailu!$A$80,Kilpailu!C52,IF(Kilpailu!$B$6 =Kilpailu!$A$81,Kilpailu!C67,1))))-SMALL(C22:G22,1)-LARGE(C22:G22,1) -> #NUM!
A23: 9. | B23: =IF(Kilpailu!$B$6 =Kilpailu!$A$79,Kilpailu!B38,IF(Kilpailu!$B$6 =Kilpailu!$A$80,Kilpailu!B53,IF(Kilpailu!$B$6 =Kilpailu!$A$81,Kilpailu!B68,""))) -> Inside loop with pirouette on top | H23: =(SUM(C23:G23)*IF(Kilpailu!$B$6 =Kilpailu!$A$79,Kilpailu!C38,IF(Kilpailu!$B$6 =Kilpailu!$A$80,Kilpailu!C53,IF(Kilpailu!$B$6 =Kilpailu!$A$81,Kilpailu!C68,1))))-SMALL(C23:G23,1)-LARGE(C23:G23,1) -> #NUM!
A24: 10. | B24: =IF(Kilpailu!$B$6 =Kilpailu!$A$79,Kilpailu!B39,IF(Kilpailu!$B$6 =Kilpailu!$A$80,Kilpailu!B54,IF(Kilpailu!$B$6 =Kilpailu!$A$81,Kilpailu!B69,""))) -> Autorotation with two 90º turns | H24: =(SUM(C24:G24)*IF(Kilpailu!$B$6 =Kilpailu!$A$79,Kilpailu!C39,IF(Kilpailu!$B$6 =Kilpailu!$A$80,Kilpailu!C54,IF(Kilpailu!$B$6 =Kilpailu!$A$81,Kilpailu!C69,1))))-SMALL(C24:G24,1)-LARGE(C24:G24,1) -> #NUM!
