Workbook

Sheet Kilpailu
A4: Paikka: | B4: Vesivehmaa
A5: Päivä: | B5: 40397
A6: Ohjelma: | B6: F3C-P
A8: Kilpailijat: | D8: Lentojärjestys
B9: Nimi | D9: kierros 1: | F9: kierros 2: | H9: kierros 3:
A10: 1. | B10: Tero
A11: 2. | B11: Ari
A12: 3. | B12: Jukka
A13: 4. | B13: Sami
A14: 5. | B14: Timo
A15: 6. | B15: Markus
A16: 7. | B16: Anssi
A17: 8. | B17: Olli-Pekka
A18: 9. | B18: Juho
A19: 10.
A20: 11.
A21: 12.
A22: 13.
A23: 14.
A24: 15.
A28: Ohjelma: | B28: FAI-P
B29: Liike: | C29: kerroin:
A30: 1. | B30: M with 2 half pirouettes on all side | C30: 1
A31: 2. | B31: Semicircle with pirouette | C31: 1
A32: 3. | B32: Diamond 3 | C32: 1
A33: 4. | B33: Cuban eight | C33: 1
A34: 5. | B34: Pullpack with backward full roll | C34: 1
A35: 6. | B35: Cobra Roll with pushed flip | C35: 1
A36: 7. | B36: Vertical candle | C36: 1
A37: 8. | B37: Opposite 2 point rolls | C37: 1
A38: 9. | B38: Inside loop with pirouette on top | C38: 1
A39: 10. | B39: Autorotation with two 90º turns | C39: 1
A40: 11. | C40: 1
A43: Ohjelma: | B43: Eurosport
B44: Liike: | C44: kerroin:
A45: 1. | B45: M kahdella 180 piruetilla | C45: 1
A46: 2. | B46: Salmiakki 360 piruetilla | C46: 1
A47: 3. | B47: Cuubalainen kahdeksikko | C47: 1
A48: 4. | B48: Pullback | C48: 1
A49: 5. | B49: Cobraroll puolikierteillä | C49: 1
...

Sheet Tulokset
A4: Paikka: | B4: =Kilpailu!B4 -> Vesivehmaa | C4: Päivä: | D4: =Kilpailu!B5 -> 40397 | E4: Luokka: | F4: =Kilpailu!B6 -> F3C-P
B6: Kokonaistulokset | J6: suht. | M6: Kokonaistulokset | U6: suht.
C7: Pisteet | D7: Suht… | E7: Tm 1 | F7: Tm 2 | G7: Tm 3 | H7: Tm 4 | I7: Tm 5 | J7: Ero kärkeen | N7: Pisteet | O7: Suht… | P7: Tm 1 | Q7: Tm 2 | R7: Tm 3 | S7: Tm 4 | T7: Tm 5 | U7: Ero kärkeen
A8: 1. | B8: =Kilpailu!B$10 -> Tero | C8: =SUM(C28,C48,C68)-'1'!D10 -> 263 | D8: =SUM(D28,D48,D68)-'1'!E10 -> 1035.2042 | E8: =SUM(E28,E48,E68) -> 146.5 | F8: =SUM(F28,F48,F68) -> 115.5 | G8: =SUM(G28,G48,G68) -> 124 | H8: =SUM(H28,H48,H68) -> 114.5 | I8: =SUM(I28,I48,I68) -> 130 | J8: =LARGE(D$8:D$22,1)-D8 -> 964.79575 | L8: 1. | M8: Ari | N8: 514 | O8: 2000
A9: 2. | B9: =Kilpailu!B$11 -> Ari | C9: =SUM(C29,C49,C69)-'2'!D10 -> 514 | D9: =SUM(D29,D49,D69)-'2'!E10 -> 2000 | E9: =SUM(E29,E49,E69) -> 267 | F9: =SUM(F29,F49,F69) -> 252.5 | G9: =SUM(G29,G49,G69) -> 250.5 | H9: =SUM(H29,H49,H69) -> 253.5 | I9: =SUM(I29,I49,I69) -> 253 | J9: =LARGE(D$8:D$22,1)-D9 -> 0 | L9: 2. | M9: Juho | N9: 477.5 | O9: 1857.9768
A10: 3. | B10: =Kilpailu!B$12 -> Jukka | C10: =SUM(C30,C50,C70)-'3'!D10 -> 328 | D10: =SUM(D30,D50,D70)-'3'!E10 -> 1289.1603 | E10: =SUM(E30,E50,E70) -> 173.5 | F10: =SUM(F30,F50,F70) -> 151 | G10: =SUM(G30,G50,G70) -> 143.5 | H10: =SUM(H30,H50,H70) -> 160 | I10: =SUM(I30,I50,I70) -> 159 | J10: =LARGE(D$8:D$22,1)-D10 -> 710.83968 | L10: 3. | M10: Anssi | N10: 472 | O10: 1836.9166
A11: 4. | B11: =Kilpailu!B$13 -> Sami | C11: =SUM(C31,C51,C71)-'4'!D10 -> 274 | D11: =SUM(D31,D51,D71)-'4'!E10 -> 1078.2373 | E11: =SUM(E31,E51,E71) -> 163.5 | F11: =SUM(F31,F51,F71) -> 140 | G11: =SUM(G31,G51,G71) -> 118 | H11: =SUM(H31,H51,H71) -> 126.5 | I11: =SUM(I31,I51,I71) -> 119 | J11: =LARGE(D$8:D$22,1)-D11 -> 921.76273 | L11: 4. | M11: Timo | N11: 418.5 | O11: 1628.5742
A12: 5. | B12: =Kilpailu!B$14 -> Timo | C12: =SUM(C32,C52,C72)-'5'!D10 -> 418.5 | D12: =SUM(D32,D52,D72)-'5'!E10 -> 1628.5742 | E12: =SUM(E32,E52,E72) -> 233 | F12: =SUM(F32,F52,F72) -> 205 | G12: =SUM(G32,G52,G72) -> 191.5 | H12: =SUM(H32,H52,H72) -> 208 | I12: =SUM(I32,I52,I72) -> 188 | J12: =LARGE(D$8:D$22,1)-D12 -> 371.42576 | L12: 5. | M12: Olli-Pekka | N12: 339 | O12: 1325.1569
A13: 6. | B13: =Kilpailu!B$15 -> Markus | C13: =SUM(C33,C53,C73)-'6'!D10 -> 296.5 | D13: =SUM(D33,D53,D73)-'6'!E10 -> 1168.3398 | E13: =SUM(E33,E53,E73) -> 185 | F13: =SUM(F33,F53,F73) -> 158 | G13: =SUM(G33,G53,G73) -> 118 | H13: =SUM(H33,H53,H73) -> 140.5 | I13: =SUM(I33,I53,I73) -> 131 | J13: =LARGE(D$8:D$22,1)-D13 -> 831.66017 | L13: 6. | M13: Jukka | N13: 328 | O13: 1289.1603
A14: 7. | B14: =Kilpailu!B$16 -> Anssi | C14: =SUM(C34,C54,C74)-'7'!D10 -> 472 | D14: =SUM(D34,D54,D74)-'7'!E10 -> 1836.9166 | E14: =SUM(E34,E54,E74) -> 236 | F14: =SUM(F34,F54,F74) -> 230.5 | G14: =SUM(G34,G54,G74) -> 220 | H14: =SUM(H34,H54,H74) -> 234.5 | I14: =SUM(I34,I54,I74) -> 238 | J14: =LARGE(D$8:D$22,1)-D14 -> 163.08343 | L14: 7. | M14: Markus | N14: 296.5 | O14: 1168.3398
A15: 8. | B15: =Kilpailu!B$17 -> Olli-Pekka | C15: =SUM(C35,C55,C75)-'8'!D10 -> 339 | D15: =SUM(D35,D55,D75)-'8'!E10 -> 1325.1569 | E15: =SUM(E35,E55,E75) -> 184.5 | F15: =SUM(F35,F55,F75) -> 185 | G15: =SUM(G35,G55,G75) -> 152.5 | H15: =SUM(H35,H55,H75) -> 161.5 | I15: =SUM(I35,I55,I75) -> 160 | J15: =LARGE(D$8:D$22,1)-D15 -> 674.84311 | L15: 8. | M15: Sami | N15: 274 | O15: 1078.2373
A16: 9. | B16: =Kilpailu!B$18 -> Juho | C16: =SUM(C36,C56,C76)-'9'!D10 -> 477.5 | D16: =SUM(D36,D56,D76)-'9'!E10 -> 1857.9768 | E16: =SUM(E36,E56,E76) -> 244.5 | F16: =SUM(F36,F56,F76) -> 241.5 | G16: =SUM(G36,G56,G76) -> 217.5 | H16: =SUM(H36,H56,H76) -> 232 | I16: =SUM(I36,I56,I76) -> 232 | J16: =LARGE(D$8:D$22,1)-D16 -> 142.02319 | L16: 9. | M16: Tero | N16: 263 | O16: 1035.2042
A17: 10. | B17: =Kilpailu!B$19 -> 0 | C17: =SUM(C37,C57,C77) -> 0 | D17: =SUM(D37,D57,D77) -> 0 | E17: =SUM(E37,E57,E77) -> 0 | F17: =SUM(F37,F57,F77) -> 0 | G17: =SUM(G37,G57,G77) -> 0 | H17: =SUM(H37,H57,H77) -> 0 | I17: =SUM(I37,I57,I77) -> 0 | J17: =LARGE(D$8:D$22,1)-D17 -> 2000 | L17: 10.
A18: 11. | B18: =Kilpailu!B$20 -> 0 | C18: =SUM(C38,C58,C78) -> 0 | D18: =SUM(D38,D58,D78) -> 0 | E18: =SUM(E38,E58,E78) -> 0 | F18: =SUM(F38,F58,F78) -> 0 | G18: =SUM(G38,G58,G78) -> 0 | H18: =SUM(H38,H58,H78) -> 0 | I18: =SUM(I38,I58,I78) -> 0 | J18: =LARGE(D$8:D$22,1)-D18 -> 2000 | L18: 11.
A19: 12. | B19: =Kilpailu!B$21 -> 0 | C19: =SUM(C39,C59,C79) -> 0 | D19: =SUM(D39,D59,D79) -> 0 | E19: =SUM(E39,E59,E79) -> 0 | F19: =SUM(F39,F59,F79) -> 0 | G19: =SUM(G39,G59,G79) -> 0 | H19: =SUM(H39,H59,H79) -> 0 | I19: =SUM(I39,I59,I79) -> 0 | J19: =LARGE(D$8:D$22,1)-D19 -> 2000 | L19: 12.
A20: 13. | B20: =Kilpailu!B$22 -> 0 | C20: =SUM(C40,C60,C80) -> 0 | D20: =SUM(D40,D60,D80) -> 0 | E20: =SUM(E40,E60,E80) -> 0 | F20: =SUM(F40,F60,F80) -> 0 | G20: =SUM(G40,G60,G80) -> 0 | H20: =SUM(H40,H60,H80) -> 0 | I20: =SUM(I40,I60,I80) -> 0 | J20: =LARGE(D$8:D$22,1)-D20 -> 2000 | L20: 13.
A21: 14. | B21: =Kilpailu!B$23 -> 0 | C21: =SUM(C41,C61,C81) -> 0 | D21: =SUM(D41,D61,D81) -> 0 | E21: =SUM(E41,E61,E81) -> 0 | F21: =SUM(F41,F61,F81) -> 0 | G21: =SUM(G41,G61,G81) -> 0 | H21: =SUM(H41,H61,H81) -> 0 | I21: =SUM(I41,I61,I81) -> 0 | J21: =LARGE(D$8:D$22,1)-D21 -> 2000 | L21: 14.
A22: 15. | B22: =Kilpailu!B$24 -> 0 | C22: =SUM(C42,C62,C82) -> 0 | D22: =SUM(D42,D62,D82) -> 0 | E22: =SUM(E42,E62,E82) -> 0 | F22: =SUM(F42,F62,F82) -> 0 | G22: =SUM(G42,G62,G82) -> 0 | H22: =SUM(H42,H62,H82) -> 0 | I22: =SUM(I42,I62,I82) -> 0 | J22: =LARGE(D$8:D$22,1)-D22 -> 2000 | L22: 15.
B26: Kierros 1: | J26: tuomari pist. | M26: Kierros 1: | U26: tuomari pist.
C27: Pisteet | D27: Suht… | E27: Tm 1 | F27: Tm 2 | G27: Tm 3 | H27: Tm 4 | I27: Tm 5 | J27: Ero kärkeen | N27: Pisteet | O27: Suht… | P27: Tm 1 | Q27: Tm 2 | R27: Tm 3 | S27: Tm 4 | T27: Tm 5 | U27: Ero kärkeen
A28: 1. | B28: =Kilpailu!B$10 -> Tero | C28: ='1'!D$5 -> 127 | D28: =C28/LARGE(C$28:C$42,1)*1000 -> 513.13131 | E28: ='1'!C$26 -> 47.5 | F28: ='1'!D$26 -> 36 | G28: ='1'!E$26 -> 47.5 | H28: ='1'!F$26 -> 35 | I28: ='1'!G$26 -> 45 | J28: =LARGE(C$28:C$42,1)-C28 -> 120.5 | L28: 1. | M28: Ari | N28: 247.5 | O28: 1000
A29: 2. | B29: =Kilpailu!B$11 -> Ari | C29: ='2'!D$5 -> 247.5 | D29: =C29/LARGE(C$28:C$42,1)*1000 -> 1000 | E29: ='2'!C$26 -> 86.5 | F29: ='2'!D$26 -> 80 | G29: ='2'!E$26 -> 81.5 | H29: ='2'!F$26 -> 83 | I29: ='2'!G$26 -> 83 | J29: =LARGE(C$28:C$42,1)-C29 -> 0 | L29: 2. | M29: Juho | N29: 224.5 | O29: 907.07071
A30: 3. | B30: =Kilpailu!B$12 -> Jukka | C30: ='3'!D$5 -> 149 | D30: =C30/LARGE(C$28:C$42,1)*1000 -> 602.0202 | E30: ='3'!C$26 -> 55 | F30: ='3'!D$26 -> 49.5 | G30: ='3'!E$26 -> 46.5 | H30: ='3'!F$26 -> 43.5 | I30: ='3'!G$26 -> 53 | J30: =LARGE(C$28:C$42,1)-C30 -> 98.5 | L30: 3. | M30: Anssi | N30: 223 | O30: 901.0101
A31: 4. | B31: =Kilpailu!B$13 -> Sami | C31: ='4'!D$5 -> 131 | D31: =C31/LARGE(C$28:C$42,1)*1000 -> 529.29293 | E31: ='4'!C$26 -> 51 | F31: ='4'!D$26 -> 52.5 | G31: ='4'!E$26 -> 41 | H31: ='4'!F$26 -> 37.5 | I31: ='4'!G$26 -> 39 | J31: =LARGE(C$28:C$42,1)-C31 -> 116.5 | L31: 4. | M31: Timo | N31: 197 | O31: 795.9596
A32: 5. | B32: =Kilpailu!B$14 -> Timo | C32: ='5'!D$5 -> 197 | D32: =C32/LARGE(C$28:C$42,1)*1000 -> 795.9596 | E32: ='5'!C$26 -> 78 | F32: ='5'!D$26 -> 70 | G32: ='5'!E$26 -> 65.5 | H32: ='5'!F$26 -> 61.5 | I32: ='5'!G$26 -> 55 | J32: =LARGE(C$28:C$42,1)-C32 -> 50.5 | L32: 5. | M32: Olli-Pekka | N32: 162 | O32: 654.54545
A33: 6. | B33: =Kilpailu!B$15 -> Markus | C33: ='6'!D$5 -> 149.5 | D33: =C33/LARGE(C$28:C$42,1)*1000 -> 604.0404 | E33: ='6'!C$26 -> 61.5 | F33: ='6'!D$26 -> 60 | G33: ='6'!E$26 -> 38.5 | H33: ='6'!F$26 -> 48.5 | I33: ='6'!G$26 -> 41 | J33: =LARGE(C$28:C$42,1)-C33 -> 98 | L33: 6. | M33: Markus | N33: 149.5 | O33: 604.0404
A34: 7. | B34: =Kilpailu!B$16 -> Anssi | C34: ='7'!D$5 -> 223 | D34: =C34/LARGE(C$28:C$42,1)*1000 -> 901.0101 | E34: ='7'!C$26 -> 80 | F34: ='7'!D$26 -> 74.5 | G34: ='7'!E$26 -> 70 | H34: ='7'!F$26 -> 74.5 | I34: ='7'!G$26 -> 74 | J34: =LARGE(C$28:C$42,1)-C34 -> 24.5 | L34: 7. | M34: Jukka | N34: 149 | O34: 602.0202
A35: 8. | B35: =Kilpailu!B$17 -> Olli-Pekka | C35: ='8'!D$5 -> 162 | D35: =C35/LARGE(C$28:C$42,1)*1000 -> 654.54545 | E35: ='8'!C$26 -> 58 | F35: ='8'!D$26 -> 70.5 | G35: ='8'!E$26 -> 44.5 | H35: ='8'!F$26 -> 52 | I35: ='8'!G$26 -> 52 | J35: =LARGE(C$28:C$42,1)-C35 -> 85.5 | L35: 8. | M35: Sami | N35: 131 | O35: 529.29293
A36: 9. | B36: =Kilpailu!B$18 -> Juho | C36: ='9'!D$5 -> 224.5 | D36: =C36/LARGE(C$28:C$42,1)*1000 -> 907.07071 | E36: ='9'!C$26 -> 80.5 | F36: ='9'!D$26 -> 80 | G36: ='9'!E$26 -> 72 | H36: ='9'!F$26 -> 72.5 | I36: ='9'!G$26 -> 71 | J36: =LARGE(C$28:C$42,1)-C36 -> 23 | L36: 9. | M36: Tero | N36: 127 | O36: 513.13131
A37: 10. | B37: =Kilpailu!B$19 -> 0 | C37: ='10'!D$5 -> 0 | D37: =C37/LARGE(C$28:C$42,1)*1000 -> 0 | E37: ='10'!C$26 -> 0 | F37: ='10'!D$26 -> 0 | G37: ='10'!E$26 -> 0 | H37: ='10'!F$26 -> 0 | I37: ='10'!G$26 -> 0 | J37: =LARGE(C$28:C$42,1)-C37 -> 247.5 | L37: 10.
A38: 11. | B38: =Kilpailu!B$20 -> 0 | C38: ='11'!D$5 -> 0 | D38: =C38/LARGE(C$28:C$42,1)*1000 -> 0 | E38: ='11'!C$26 -> 0 | F38: ='11'!D$26 -> 0 | G38: ='11'!E$26 -> 0 | H38: ='11'!F$26 -> 0 | I38: ='11'!G$26 -> 0 | J38: =LARGE(C$28:C$42,1)-C38 -> 247.5 | L38: 11.
A39: 12. | B39: =Kilpailu!B$21 -> 0 | C39: ='12'!D$5 -> 0 | D39: =C39/LARGE(C$28:C$42,1)*1000 -> 0 | E39: ='12'!C$26 -> 0 | F39: ='12'!D$26 -> 0 | G39: ='12'!E$26 -> 0 | H39: ='12'!F$26 -> 0 | I39: ='12'!G$26 -> 0 | J39: =LARGE(C$28:C$42,1)-C39 -> 247.5 | L39: 12.
A40: 13. | B40: =Kilpailu!B$22 -> 0 | C40: ='13'!D$5 -> 0 | D40: =C40/LARGE(C$28:C$42,1)*1000 -> 0 | E40: ='13'!C$26 -> 0 | F40: ='13'!D$26 -> 0 | G40: ='13'!E$26 -> 0 | H40: ='13'!F$26 -> 0 | I40: ='13'!G$26 -> 0 | J40: =LARGE(C$28:C$42,1)-C40 -> 247.5 | L40: 13.
A41: 14. | B41: =Kilpailu!B$23 -> 0 | C41: ='14'!D$5 -> 0 | D41: =C41/LARGE(C$28:C$42,1)*1000 -> 0 | E41: ='14'!C$26 -> 0 | F41: ='14'!D$26 -> 0 | G41: ='14'!E$26 -> 0 | H41: ='14'!F$26 -> 0 | I41: ='14'!G$26 -> 0 | J41: =LARGE(C$28:C$42,1)-C41 -> 247.5 | L41: 14.
A42: 15. | B42: =Kilpailu!B$24 -> 0 | C42: ='15'!D$5 -> 0 | D42: =C42/LARGE(C$28:C$42,1)*1000 -> 0 | E42: ='15'!C$26 -> 0 | F42: ='15'!D$26 -> 0 | G42: ='15'!E$26 -> 0 | H42: ='15'!F$26 -> 0 | I42: ='15'!G$26 -> 0 | J42: =LARGE(C$28:C$42,1)-C42 -> 247.5 | L42: 15.
B46: Kierros 2: | J46: tuomari pist. | M46: Kierros 2: | U46: tuomari pist.
C47: Pisteet | D47: Suht… | E47: Tm 1 | F47: Tm 2 | G47: Tm 3 | H47: Tm 4 | I47: Tm 5 | J47: Ero kärkeen | N47: Pisteet | O47: Suht… | P47: Tm 1 | Q47: Tm 2 | R47: Tm 3 | S47: Tm 4 | T47: Tm 5 | U47: Ero kärkeen
A48: 1. | B48: =Kilpailu!B$10 -> Tero | C48: ='1'!D$6 -> 114 | D48: =C48/LARGE(C$48:C$62,1)*1000 -> 449.70414 | E48: ='1'!C$42 -> 44.5 | F48: ='1'!D$42 -> 41.5 | G48: ='1'!E$42 -> 33.5 | H48: ='1'!F$42 -> 32.5 | I48: ='1'!G$42 -> 39 | J48: =LARGE(C$48:C$62,1)-C48 -> 139.5 | L48: 1. | M48: Ari | N48: 253.5 | O48: 1000
A49: 2. | B49: =Kilpailu!B$11 -> Ari | C49: ='2'!D$6 -> 253.5 | D49: =C49/LARGE(C$48:C$62,1)*1000 -> 1000 | E49: ='2'!C$42 -> 88 | F49: ='2'!D$42 -> 85.5 | G49: ='2'!E$42 -> 82 | H49: ='2'!F$42 -> 84 | I49: ='2'!G$42 -> 84 | J49: =LARGE(C$48:C$62,1)-C49 -> 0 | L49: 2. | M49: Anssi | N49: 236 | O49: 930.96647
A50: 3. | B50: =Kilpailu!B$12 -> Jukka | C50: ='3'!D$6 -> 146 | D50: =C50/LARGE(C$48:C$62,1)*1000 -> 575.93688 | E50: ='3'!C$42 -> 54 | F50: ='3'!D$42 -> 50 | G50: ='3'!E$42 -> 40.5 | H50: ='3'!F$42 -> 48 | I50: ='3'!G$42 -> 48 | J50: =LARGE(C$48:C$62,1)-C50 -> 107.5 | L50: 3. | M50: Juho | N50: 235.5 | O50: 928.99408
...

Sheet 1
D4: Pisteet | E4: Suht…
A5: Nimi: | B5: =Kilpailu!B10 -> Tero | C5: Kierros 1. | D5: =SUM(H15:H25) -> 127 | E5: =Tulokset!D28 -> 513.13131
C6: Kierros 2. | D6: =SUM(C42:G42)-LARGE(C42:G42,1)-SMALL(C42:G42,1) -> 114 | E6: =Tulokset!D48 -> 449.70414
A7: Paikka: | B7: =Kilpailu!B4 -> Vesivehmaa | C7: Kierros 3. | D7: =SUM(C58:G58)-LARGE(C58:G58,1)-SMALL(C58:G58,1) -> 136 | E7: =Tulokset!D68 -> 522.07294
A8: Päivä: | B8: =Kilpailu!B5 -> 40397
A9: Ohjelma: | B9: =Kilpailu!B6 -> F3C-P | C9: yhteensä: | D9: =SUM(D5:D7) -> 377 | E9: =SUM(E5:E7) -> 1484.9084
C10: pois: | D10: =SMALL(D5:D7,1) -> 114 | E10: =SMALL(E5:E7,1) -> 449.70414
C11: 2 parasta: | D11: =SUM(D5:D7)-D10 -> 263 | E11: =SUM(E5:E7)-E10 -> 1035.2042
A14: Kierros 1: | C14: Tuomari 1 | D14: Tuomari 2 | E14: Tuomari 3 | F14: Tuomari 4 | G14: Tuomari 5 | H14: yht.
A15: 1. | B15: =IF(Kilpailu!$B$6 =Kilpailu!$A$79,Kilpailu!$B$30,IF(Kilpailu!$B$6 =Kilpailu!$A$80,Kilpailu!$B$45,IF(Kilpailu!$B$6 =Kilpailu!$A$81,Kilpailu!$B$60,""))) -> M with 2 half pirouettes on all side | C15: 5 | D15: 3.5 | E15: 4.5 | F15: 4 | G15: 4 | H15: =(SUM(C15:G15)*IF(Kilpailu!$B$6 =Kilpailu!$A$79,Kilpailu!C30,IF(Kilpailu!$B$6 =Kilpailu!$A$80,Kilpailu!C45,IF(Kilpailu!$B$6 =Kilpailu!$A$81,Kilpailu!C60,1))))-SMALL(C15:G15,1)-LARGE(C15:G15,1) -> 12.5
A16: 2. | B16: =IF(Kilpailu!$B$6 =Kilpailu!$A$79,Kilpailu!$B$31,IF(Kilpailu!$B$6 =Kilpailu!$A$80,Kilpailu!$B$46,IF(Kilpailu!$B$6 =Kilpailu!$A$81,Kilpailu!$B$61,""))) -> Semicircle with pirouette | C16: 6.5 | D16: 4.5 | E16: 5.5 | F16: 5 | G16: 6 | H16: =(SUM(C16:G16)*IF(Kilpailu!$B$6 =Kilpailu!$A$79,Kilpailu!C31,IF(Kilpailu!$B$6 =Kilpailu!$A$80,Kilpailu!C46,IF(Kilpailu!$B$6 =Kilpailu!$A$81,Kilpailu!C61,1))))-SMALL(C16:G16,1)-LARGE(C16:G16,1) -> 16.5
A17: 3. | B17: =IF(Kilpailu!$B$6 =Kilpailu!$A$79,Kilpailu!$B$32,IF(Kilpailu!$B$6 =Kilpailu!$A$80,Kilpailu!$B$47,IF(Kilpailu!$B$6 =Kilpailu!$A$81,Kilpailu!$B$62,""))) -> Diamond 3 | C17: 4 | D17: 4 | E17: 5 | F17: 4 | G17: 5 | H17: =(SUM(C17:G17)*IF(Kilpailu!$B$6 =Kilpailu!$A$79,Kilpailu!C32,IF(Kilpailu!$B$6 =Kilpailu!$A$80,Kilpailu!C47,IF(Kilpailu!$B$6 =Kilpailu!$A$81,Kilpailu!C62,1))))-SMALL(C17:G17,1)-LARGE(C17:G17,1) -> 13
A18: 4. | B18: =IF(Kilpailu!$B$6 =Kilpailu!$A$79,Kilpailu!$B$33,IF(Kilpailu!$B$6 =Kilpailu!$A$80,Kilpailu!$B$48,IF(Kilpailu!$B$6 =Kilpailu!$A$81,Kilpailu!$B$63,""))) -> Cuban eight | C18: 7 | D18: 5 | E18: 6 | F18: 4 | G18: 5 | H18: =(SUM(C18:G18)*IF(Kilpailu!$B$6 =Kilpailu!$A$79,Kilpailu!C33,IF(Kilpailu!$B$6 =Kilpailu!$A$80,Kilpailu!C48,IF(Kilpailu!$B$6 =Kilpailu!$A$81,Kilpailu!C63,1))))-SMALL(C18:G18,1)-LARGE(C18:G18,1) -> 16
A19: 5. | B19: =IF(Kilpailu!$B$6 =Kilpailu!$A$79,Kilpailu!$B$34,IF(Kilpailu!$B$6 =Kilpailu!$A$80,Kilpailu!$B$49,IF(Kilpailu!$B$6 =Kilpailu!$A$81,Kilpailu!$B$64,""))) -> Pullpack with backward full roll | C19: 0 | D19: 0 | E19: 0 | F19: 0 | G19: 0 | H19: =(SUM(C19:G19)*IF(Kilpailu!$B$6 =Kilpailu!$A$79,Kilpailu!C34,IF(Kilpailu!$B$6 =Kilpailu!$A$80,Kilpailu!C49,IF(Kilpailu!$B$6 =Kilpailu!$A$81,Kilpailu!C64,1))))-SMALL(C19:G19,1)-LARGE(C19:G19,1) -> 0
A20: 6. | B20: =IF(Kilpailu!$B$6 =Kilpailu!$A$79,Kilpailu!$B$35,IF(Kilpailu!$B$6 =Kilpailu!$A$80,Kilpailu!$B$50,IF(Kilpailu!$B$6 =Kilpailu!$A$81,Kilpailu!$B$65,""))) -> Cobra Roll with pushed flip | C20: 5.5 | D20: 3.5 | E20: 5.5 | F20: 5 | G20: 6 | H20: =(SUM(C20:G20)*IF(Kilpailu!$B$6 =Kilpailu!$A$79,Kilpailu!C35,IF(Kilpailu!$B$6 =Kilpailu!$A$80,Kilpailu!C50,IF(Kilpailu!$B$6 =Kilpailu!$A$81,Kilpailu!C65,1))))-SMALL(C20:G20,1)-LARGE(C20:G20,1) -> 16
A21: 7. | B21: =IF(Kilpailu!$B$6 =Kilpailu!$A$79,Kilpailu!$B$36,IF(Kilpailu!$B$6 =Kilpailu!$A$80,Kilpailu!$B$51,IF(Kilpailu!$B$6 =Kilpailu!$A$81,Kilpailu!$B$66,""))) -> Vertical candle | C21: 7 | D21: 4 | E21: 6 | F21: 4 | G21: 6 | H21: =(SUM(C21:G21)*IF(Kilpailu!$B$6 =Kilpailu!$A$79,Kilpailu!C36,IF(Kilpailu!$B$6 =Kilpailu!$A$80,Kilpailu!C51,IF(Kilpailu!$B$6 =Kilpailu!$A$81,Kilpailu!C66,1))))-SMALL(C21:G21,1)-LARGE(C21:G21,1) -> 16
A22: 8. | B22: =IF(Kilpailu!$B$6 =Kilpailu!$A$79,Kilpailu!$B$37,IF(Kilpailu!$B$6 =Kilpailu!$A$80,Kilpailu!$B$52,IF(Kilpailu!$B$6 =Kilpailu!$A$81,Kilpailu!$B$67,""))) -> Opposite 2 point rolls | C22: 6 | D22: 3.5 | E22: 6 | F22: 3 | G22: 5 | H22: =(SUM(C22:G22)*IF(Kilpailu!$B$6 =Kilpailu!$A$79,Kilpailu!C37,IF(Kilpailu!$B$6 =Kilpailu!$A$80,Kilpailu!C52,IF(Kilpailu!$B$6 =Kilpailu!$A$81,Kilpailu!C67,1))))-SMALL(C22:G22,1)-LARGE(C22:G22,1) -> 14.5
A23: 9. | B23: =IF(Kilpailu!$B$6 =Kilpailu!$A$79,Kilpailu!$B$38,IF(Kilpailu!$B$6 =Kilpailu!$A$80,Kilpailu!$B$53,IF(Kilpailu!$B$6 =Kilpailu!$A$81,Kilpailu!$B$68,""))) -> Inside loop with pirouette on top | C23: 4.5 | D23: 5 | E23: 6 | F23: 3 | G23: 4 | H23: =(SUM(C23:G23)*IF(Kilpailu!$B$6 =Kilpailu!$A$79,Kilpailu!C38,IF(Kilpailu!$B$6 =Kilpailu!$A$80,Kilpailu!C53,IF(Kilpailu!$B$6 =Kilpailu!$A$81,Kilpailu!C68,1))))-SMALL(C23:G23,1)-LARGE(C23:G23,1) -> 13.5
A24: 10. | B24: =IF(Kilpailu!$B$6 =Kilpailu!$A$79,Kilpailu!$B$39,IF(Kilpailu!$B$6 =Kilpailu!$A$80,Kilpailu!$B$54,IF(Kilpailu!$B$6 =Kilpailu!$A$81,Kilpailu!$B$69,""))) -> Autorotation with two 90º turns | C24: 2 | D24: 3 | E24: 3 | F24: 3 | G24: 4 | H24: =(SUM(C24:G24)*IF(Kilpailu!$B$6 =Kilpailu!$A$79,Kilpailu!C39,IF(Kilpailu!$B$6 =Kilpailu!$A$80,Kilpailu!C54,IF(Kilpailu!$B$6 =Kilpailu!$A$81,Kilpailu!C69,1))))-SMALL(C24:G24,1)-LARGE(C24:G24,1) -> 9
A25: 11. | B25: =IF(Kilpailu!$B$6 =Kilpailu!$A$79,Kilpailu!$B$40,IF(Kilpailu!$B$6 =Kilpailu!$A$80,Kilpailu!$B$55,IF(Kilpailu!$B$6 =Kilpailu!$A$81,Kilpailu!$B$70,""))) | F25: 0 | H25: =(SUM(C25:G25)*IF(Kilpailu!$B$6 =Kilpailu!$A$79,Kilpailu!C40,IF(Kilpailu!$B$6 =Kilpailu!$A$80,Kilpailu!C55,IF(Kilpailu!$B$6 =Kilpailu!$A$81,Kilpailu!C70,1))))-SMALL(C25:G25,1)-LARGE(C25:G25,1) -> 0
B26: Yht. | C26: =SUM(C15:C25) -> 47.5 | D26: =SUM(D15:D25) -> 36 | E26: =SUM(E15:E25) -> 47.5 | F26: =SUM(F15:F25) -> 35 | G26: =SUM(G15:G25) -> 45
A30: Kierros 2: | C30: Tuomari 1 | D30: Tuomari 2 | E30: Tuomari 3 | F30: Tuomari 4 | G30: Tuomari 5 | H30: yht.
A31: 1. | B31: =IF(Kilpailu!$B$6 =Kilpailu!$A$79,Kilpailu!$B$30,IF(Kilpailu!$B$6 =Kilpailu!$A$80,Kilpailu!$B$45,IF(Kilpailu!$B$6 =Kilpailu!$A$81,Kilpailu!$B$60,""))) -> M with 2 half pirouettes on all side | C31: 3.5 | D31: 3 | E31: 2 | F31: 3 | G31: 4 | H31: =(SUM(C31:G31)*IF(Kilpailu!$B$6 =Kilpailu!$A$79,Kilpailu!C30,IF(Kilpailu!$B$6 =Kilpailu!$A$80,Kilpailu!C45,IF(Kilpailu!$B$6 =Kilpailu!$A$81,Kilpailu!C60,1))))-SMALL(C31:G31,1)-LARGE(C31:G31,1) -> 9.5
A32: 2. | B32: =IF(Kilpailu!$B$6 =Kilpailu!$A$79,Kilpailu!$B$31,IF(Kilpailu!$B$6 =Kilpailu!$A$80,Kilpailu!$B$46,IF(Kilpailu!$B$6 =Kilpailu!$A$81,Kilpailu!$B$61,""))) -> Semicircle with pirouette | C32: 4.5 | D32: 5 | E32: 3 | F32: 3.5 | G32: 6 | H32: =(SUM(C32:G32)*IF(Kilpailu!$B$6 =Kilpailu!$A$79,Kilpailu!C31,IF(Kilpailu!$B$6 =Kilpailu!$A$80,Kilpailu!C46,IF(Kilpailu!$B$6 =Kilpailu!$A$81,Kilpailu!C61,1))))-SMALL(C32:G32,1)-LARGE(C32:G32,1) -> 13
A33: 3. | B33: =IF(Kilpailu!$B$6 =Kilpailu!$A$79,Kilpailu!$B$32,IF(Kilpailu!$B$6 =Kilpailu!$A$80,Kilpailu!$B$47,IF(Kilpailu!$B$6 =Kilpailu!$A$81,Kilpailu!$B$62,""))) -> Diamond 3 | C33: 4 | D33: 4 | E33: 3 | F33: 4 | G33: 5 | H33: =(SUM(C33:G33)*IF(Kilpailu!$B$6 =Kilpailu!$A$79,Kilpailu!C32,IF(Kilpailu!$B$6 =Kilpailu!$A$80,Kilpailu!C47,IF(Kilpailu!$B$6 =Kilpailu!$A$81,Kilpailu!C62,1))))-SMALL(C33:G33,1)-LARGE(C33:G33,1) -> 12
A34: 4. | B34: =IF(Kilpailu!$B$6 =Kilpailu!$A$79,Kilpailu!$B$33,IF(Kilpailu!$B$6 =Kilpailu!$A$80,Kilpailu!$B$48,IF(Kilpailu!$B$6 =Kilpailu!$A$81,Kilpailu!$B$63,""))) -> Cuban eight | C34: 5 | D34: 6 | E34: 4 | F34: 4 | G34: 5 | H34: =(SUM(C34:G34)*IF(Kilpailu!$B$6 =Kilpailu!$A$79,Kilpailu!C33,IF(Kilpailu!$B$6 =Kilpailu!$A$80,Kilpailu!C48,IF(Kilpailu!$B$6 =Kilpailu!$A$81,Kilpailu!C63,1))))-SMALL(C34:G34,1)-LARGE(C34:G34,1) -> 14
A35: 5. | B35: =IF(Kilpailu!$B$6 =Kilpailu!$A$79,Kilpailu!$B$34,IF(Kilpailu!$B$6 =Kilpailu!$A$80,Kilpailu!$B$49,IF(Kilpailu!$B$6 =Kilpailu!$A$81,Kilpailu!$B$64,""))) -> Pullpack with backward full roll | C35: 5.5 | D35: 6 | E35: 5 | F35: 4.5 | G35: 3 | H35: =(SUM(C35:G35)*IF(Kilpailu!$B$6 =Kilpailu!$A$79,Kilpailu!C34,IF(Kilpailu!$B$6 =Kilpailu!$A$80,Kilpailu!C49,IF(Kilpailu!$B$6 =Kilpailu!$A$81,Kilpailu!C64,1))))-SMALL(C35:G35,1)-LARGE(C35:G35,1) -> 15
A36: 6. | B36: =IF(Kilpailu!$B$6 =Kilpailu!$A$79,Kilpailu!$B$35,IF(Kilpailu!$B$6 =Kilpailu!$A$80,Kilpailu!$B$50,IF(Kilpailu!$B$6 =Kilpailu!$A$81,Kilpailu!$B$65,""))) -> Cobra Roll with pushed flip | C36: 6.5 | D36: 6 | E36: 3.5 | F36: 4 | G36: 4 | H36: =(SUM(C36:G36)*IF(Kilpailu!$B$6 =Kilpailu!$A$79,Kilpailu!C35,IF(Kilpailu!$B$6 =Kilpailu!$A$80,Kilpailu!C50,IF(Kilpailu!$B$6 =Kilpailu!$A$81,Kilpailu!C65,1))))-SMALL(C36:G36,1)-LARGE(C36:G36,1) -> 14
A37: 7. | B37: =IF(Kilpailu!$B$6 =Kilpailu!$A$79,Kilpailu!$B$36,IF(Kilpailu!$B$6 =Kilpailu!$A$80,Kilpailu!$B$51,IF(Kilpailu!$B$6 =Kilpailu!$A$81,Kilpailu!$B$66,""))) -> Vertical candle | C37: 6.5 | D37: 5 | E37: 4.5 | F37: 4 | G37: 5 | H37: =(SUM(C37:G37)*IF(Kilpailu!$B$6 =Kilpailu!$A$79,Kilpailu!C36,IF(Kilpailu!$B$6 =Kilpailu!$A$80,Kilpailu!C51,IF(Kilpailu!$B$6 =Kilpailu!$A$81,Kilpailu!C66,1))))-SMALL(C37:G37,1)-LARGE(C37:G37,1) -> 14.5
A38: 8. | B38: =IF(Kilpailu!$B$6 =Kilpailu!$A$79,Kilpailu!$B$37,IF(Kilpailu!$B$6 =Kilpailu!$A$80,Kilpailu!$B$52,IF(Kilpailu!$B$6 =Kilpailu!$A$81,Kilpailu!$B$67,""))) -> Opposite 2 point rolls | C38: 6 | D38: 4.5 | E38: 4.5 | F38: 3.5 | G38: 4 | H38: =(SUM(C38:G38)*IF(Kilpailu!$B$6 =Kilpailu!$A$79,Kilpailu!C37,IF(Kilpailu!$B$6 =Kilpailu!$A$80,Kilpailu!C52,IF(Kilpailu!$B$6 =Kilpailu!$A$81,Kilpailu!C67,1))))-SMALL(C38:G38,1)-LARGE(C38:G38,1) -> 13
A39: 9. | B39: =IF(Kilpailu!$B$6 =Kilpailu!$A$79,Kilpailu!$B$38,IF(Kilpailu!$B$6 =Kilpailu!$A$80,Kilpailu!$B$53,IF(Kilpailu!$B$6 =Kilpailu!$A$81,Kilpailu!$B$68,""))) -> Inside loop with pirouette on top | C39: 0 | D39: 0 | E39: 0 | F39: 0 | G39: 0 | H39: =(SUM(C39:G39)*IF(Kilpailu!$B$6 =Kilpailu!$A$79,Kilpailu!C38,IF(Kilpailu!$B$6 =Kilpailu!$A$80,Kilpailu!C53,IF(Kilpailu!$B$6 =Kilpailu!$A$81,Kilpailu!C68,1))))-SMALL(C39:G39,1)-LARGE(C39:G39,1) -> 0
A40: 10. | B40: =IF(Kilpailu!$B$6 =Kilpailu!$A$79,Kilpailu!$B$39,IF(Kilpailu!$B$6 =Kilpailu!$A$80,Kilpailu!$B$54,IF(Kilpailu!$B$6 =Kilpailu!$A$81,Kilpailu!$B$69,""))) -> Autorotation with two 90º turns | C40: 3 | D40: 2 | E40: 4 | F40: 2 | G40: 3 | H40: =(SUM(C40:G40)*IF(Kilpailu!$B$6 =Kilpailu!$A$79,Kilpailu!C39,IF(Kilpailu!$B$6 =Kilpailu!$A$80,Kilpailu!C54,IF(Kilpailu!$B$6 =Kilpailu!$A$81,Kilpailu!C69,1))))-SMALL(C40:G40,1)-LARGE(C40:G40,1) -> 8
A41: 11. | B41: =IF(Kilpailu!$B$6 =Kilpailu!$A$79,Kilpailu!$B$40,IF(Kilpailu!$B$6 =Kilpailu!$A$80,Kilpailu!$B$55,IF(Kilpailu!$B$6 =Kilpailu!$A$81,Kilpailu!$B$70,""))) | F41: 0 | H41: =(SUM(C41:G41)*IF(Kilpailu!$B$6 =Kilpailu!$A$79,Kilpailu!C40,IF(Kilpailu!$B$6 =Kilpailu!$A$80,Kilpailu!C55,IF(Kilpailu!$B$6 =Kilpailu!$A$81,Kilpailu!C70,1))))-SMALL(C41:G41,1)-LARGE(C41:G41,1) -> 0
B42: Yht. | C42: =SUM(C31:C41) -> 44.5 | D42: =SUM(D31:D41) -> 41.5 | E42: =SUM(E31:E41) -> 33.5 | F42: =SUM(F31:F41) -> 32.5 | G42: =SUM(G31:G41) -> 39
A46: Kierros 3: | C46: Tuomari 1 | D46: Tuomari 2 | E46: Tuomari 3 | F46: Tuomari 4 | G46: Tuomari 5 | H46: yht.
A47: 1. | B47: =IF(Kilpailu!$B$6 =Kilpailu!$A$79,Kilpailu!$B$30,IF(Kilpailu!$B$6 =Kilpailu!$A$80,Kilpailu!$B$45,IF(Kilpailu!$B$6 =Kilpailu!$A$81,Kilpailu!$B$60,""))) -> M with 2 half pirouettes on all side | C47: 5 | D47: 4.5 | E47: 5 | F47: 5.5 | G47: 6 | H47: =(SUM(C47:G47)*IF(Kilpailu!$B$6 =Kilpailu!$A$79,Kilpailu!C30,IF(Kilpailu!$B$6 =Kilpailu!$A$80,Kilpailu!C45,IF(Kilpailu!$B$6 =Kilpailu!$A$81,Kilpailu!C60,1))))-SMALL(C47:G47,1)-LARGE(C47:G47,1) -> 15.5
A48: 2. | B48: =IF(Kilpailu!$B$6 =Kilpailu!$A$79,Kilpailu!$B$31,IF(Kilpailu!$B$6 =Kilpailu!$A$80,Kilpailu!$B$46,IF(Kilpailu!$B$6 =Kilpailu!$A$81,Kilpailu!$B$61,""))) -> Semicircle with pirouette | C48: 6 | D48: 4.5 | E48: 5.5 | F48: 6 | G48: 6 | H48: =(SUM(C48:G48)*IF(Kilpailu!$B$6 =Kilpailu!$A$79,Kilpailu!C31,IF(Kilpailu!$B$6 =Kilpailu!$A$80,Kilpailu!C46,IF(Kilpailu!$B$6 =Kilpailu!$A$81,Kilpailu!C61,1))))-SMALL(C48:G48,1)-LARGE(C48:G48,1) -> 17.5
A49: 3. | B49: =IF(Kilpailu!$B$6 =Kilpailu!$A$79,Kilpailu!$B$32,IF(Kilpailu!$B$6 =Kilpailu!$A$80,Kilpailu!$B$47,IF(Kilpailu!$B$6 =Kilpailu!$A$81,Kilpailu!$B$62,""))) -> Diamond 3 | C49: 5.5 | D49: 3 | E49: 4 | F49: 4 | G49: 4 | H49: =(SUM(C49:G49)*IF(Kilpailu!$B$6 =Kilpailu!$A$79,Kilpailu!C32,IF(Kilpailu!$B$6 =Kilpailu!$A$80,Kilpailu!C47,IF(Kilpailu!$B$6 =Kilpailu!$A$81,Kilpailu!C62,1))))-SMALL(C49:G49,1)-LARGE(C49:G49,1) -> 12
A50: 4. | B50: =IF(Kilpailu!$B$6 =Kilpailu!$A$79,Kilpailu!$B$33,IF(Kilpailu!$B$6 =Kilpailu!$A$80,Kilpailu!$B$48,IF(Kilpailu!$B$6 =Kilpailu!$A$81,Kilpailu!$B$63,""))) -> Cuban eight | C50: 6.5 | D50: 4 | E50: 5 | F50: 5 | G50: 5 | H50: =(SUM(C50:G50)*IF(Kilpailu!$B$6 =Kilpailu!$A$79,Kilpailu!C33,IF(Kilpailu!$B$6 =Kilpailu!$A$80,Kilpailu!C48,IF(Kilpailu!$B$6 =Kilpailu!$A$81,Kilpailu!C63,1))))-SMALL(C50:G50,1)-LARGE(C50:G50,1) -> 15
A51: 5. | B51: =IF(Kilpailu!$B$6 =Kilpailu!$A$79,Kilpailu!$B$34,IF(Kilpailu!$B$6 =Kilpailu!$A$80,Kilpailu!$B$49,IF(Kilpailu!$B$6 =Kilpailu!$A$81,Kilpailu!$B$64,""))) -> Pullpack with backward full roll | C51: 6.5 | D51: 5 | E51: 5 | F51: 6 | G51: 6 | H51: =(SUM(C51:G51)*IF(Kilpailu!$B$6 =Kilpailu!$A$79,Kilpailu!C34,IF(Kilpailu!$B$6 =Kilpailu!$A$80,Kilpailu!C49,IF(Kilpailu!$B$6 =Kilpailu!$A$81,Kilpailu!C64,1))))-SMALL(C51:G51,1)-LARGE(C51:G51,1) -> 17
...

Sheet 2
D4: Pisteet | E4: Suht…
A5: Nimi: | B5: =Kilpailu!B11 -> Ari | C5: Kierros 1. | D5: =SUM(C26:G26)-LARGE(C26:G26,1)-SMALL(C26:G26,1) -> 247.5 | E5: =Tulokset!D29 -> 1000
C6: Kierros 2. | D6: =SUM(C42:G42)-LARGE(C42:G42,1)-SMALL(C42:G42,1) -> 253.5 | E6: =Tulokset!D49 -> 1000
A7: Paikka: | B7: =Kilpailu!B4 -> Vesivehmaa | C7: Kierros 3. | D7: =SUM(C58:G58)-LARGE(C58:G58,1)-SMALL(C58:G58,1) -> 260.5 | E7: =Tulokset!D69 -> 1000
A8: Päivä: | B8: =Kilpailu!B5 -> 40397
A9: Ohjelma: | B9: =Kilpailu!B6 -> F3C-P | C9: yhteensä: | D9: =SUM(D5:D7) -> 761.5 | E9: =SUM(E5:E7) -> 3000
C10: pois: | D10: =SMALL(D5:D7,1) -> 247.5 | E10: =SMALL(E5:E7,1) -> 1000
C11: 2 parasta: | D11: =SUM(D5:D7)-D10 -> 514 | E11: =SUM(E5:E7)-E10 -> 2000
A14: Kierros 1: | C14: Tuomari 1 | D14: Tuomari 2 | E14: Tuomari 3 | F14: Tuomari 4 | G14: Tuomari 5 | H14: yht.
A15: 1. | B15: =IF(Kilpailu!$B$6 =Kilpailu!$A$79,Kilpailu!B30,IF(Kilpailu!$B$6 =Kilpailu!$A$80,Kilpailu!B45,IF(Kilpailu!$B$6 =Kilpailu!$A$81,Kilpailu!B60,""))) -> M with 2 half pirouettes on all side | C15: 8.5 | D15: 7.5 | E15: 9 | F15: 8.5 | G15: 7 | H15: =(SUM(C15:G15)*IF(Kilpailu!$B$6 =Kilpailu!$A$79,Kilpailu!C30,IF(Kilpailu!$B$6 =Kilpailu!$A$80,Kilpailu!C45,IF(Kilpailu!$B$6 =Kilpailu!$A$81,Kilpailu!C60,1))))-SMALL(C15:G15,1)-LARGE(C15:G15,1) -> 24.5
A16: 2. | B16: =IF(Kilpailu!$B$6 =Kilpailu!$A$79,Kilpailu!B31,IF(Kilpailu!$B$6 =Kilpailu!$A$80,Kilpailu!B46,IF(Kilpailu!$B$6 =Kilpailu!$A$81,Kilpailu!B61,""))) -> Semicircle with pirouette | C16: 8.5 | D16: 8 | E16: 7 | F16: 8 | G16: 8 | H16: =(SUM(C16:G16)*IF(Kilpailu!$B$6 =Kilpailu!$A$79,Kilpailu!C31,IF(Kilpailu!$B$6 =Kilpailu!$A$80,Kilpailu!C46,IF(Kilpailu!$B$6 =Kilpailu!$A$81,Kilpailu!C61,1))))-SMALL(C16:G16,1)-LARGE(C16:G16,1) -> 24
A17: 3. | B17: =IF(Kilpailu!$B$6 =Kilpailu!$A$79,Kilpailu!B32,IF(Kilpailu!$B$6 =Kilpailu!$A$80,Kilpailu!B47,IF(Kilpailu!$B$6 =Kilpailu!$A$81,Kilpailu!B62,""))) -> Diamond 3 | C17: 8.5 | D17: 7 | E17: 8 | F17: 8.5 | G17: 9 | H17: =(SUM(C17:G17)*IF(Kilpailu!$B$6 =Kilpailu!$A$79,Kilpailu!C32,IF(Kilpailu!$B$6 =Kilpailu!$A$80,Kilpailu!C47,IF(Kilpailu!$B$6 =Kilpailu!$A$81,Kilpailu!C62,1))))-SMALL(C17:G17,1)-LARGE(C17:G17,1) -> 25
A18: 4. | B18: =IF(Kilpailu!$B$6 =Kilpailu!$A$79,Kilpailu!B33,IF(Kilpailu!$B$6 =Kilpailu!$A$80,Kilpailu!B48,IF(Kilpailu!$B$6 =Kilpailu!$A$81,Kilpailu!B63,""))) -> Cuban eight | C18: 8.5 | D18: 7.5 | E18: 8.5 | F18: 8.5 | G18: 8 | H18: =(SUM(C18:G18)*IF(Kilpailu!$B$6 =Kilpailu!$A$79,Kilpailu!C33,IF(Kilpailu!$B$6 =Kilpailu!$A$80,Kilpailu!C48,IF(Kilpailu!$B$6 =Kilpailu!$A$81,Kilpailu!C63,1))))-SMALL(C18:G18,1)-LARGE(C18:G18,1) -> 25
A19: 5. | B19: =IF(Kilpailu!$B$6 =Kilpailu!$A$79,Kilpailu!B34,IF(Kilpailu!$B$6 =Kilpailu!$A$80,Kilpailu!B49,IF(Kilpailu!$B$6 =Kilpailu!$A$81,Kilpailu!B64,""))) -> Pullpack with backward full roll | C19: 8.5 | D19: 8.5 | E19: 8.5 | F19: 9 | G19: 9 | H19: =(SUM(C19:G19)*IF(Kilpailu!$B$6 =Kilpailu!$A$79,Kilpailu!C34,IF(Kilpailu!$B$6 =Kilpailu!$A$80,Kilpailu!C49,IF(Kilpailu!$B$6 =Kilpailu!$A$81,Kilpailu!C64,1))))-SMALL(C19:G19,1)-LARGE(C19:G19,1) -> 26
A20: 6. | B20: =IF(Kilpailu!$B$6 =Kilpailu!$A$79,Kilpailu!B35,IF(Kilpailu!$B$6 =Kilpailu!$A$80,Kilpailu!B50,IF(Kilpailu!$B$6 =Kilpailu!$A$81,Kilpailu!B65,""))) -> Cobra Roll with pushed flip | C20: 8.5 | D20: 7.5 | E20: 8 | F20: 8.5 | G20: 8 | H20: =(SUM(C20:G20)*IF(Kilpailu!$B$6 =Kilpailu!$A$79,Kilpailu!C35,IF(Kilpailu!$B$6 =Kilpailu!$A$80,Kilpailu!C50,IF(Kilpailu!$B$6 =Kilpailu!$A$81,Kilpailu!C65,1))))-SMALL(C20:G20,1)-LARGE(C20:G20,1) -> 24.5
A21: 7. | B21: =IF(Kilpailu!$B$6 =Kilpailu!$A$79,Kilpailu!B36,IF(Kilpailu!$B$6 =Kilpailu!$A$80,Kilpailu!B51,IF(Kilpailu!$B$6 =Kilpailu!$A$81,Kilpailu!B66,""))) -> Vertical candle | C21: 9 | D21: 7.5 | E21: 7.5 | F21: 7.5 | G21: 9 | H21: =(SUM(C21:G21)*IF(Kilpailu!$B$6 =Kilpailu!$A$79,Kilpailu!C36,IF(Kilpailu!$B$6 =Kilpailu!$A$80,Kilpailu!C51,IF(Kilpailu!$B$6 =Kilpailu!$A$81,Kilpailu!C66,1))))-SMALL(C21:G21,1)-LARGE(C21:G21,1) -> 24
A22: 8. | B22: =IF(Kilpailu!$B$6 =Kilpailu!$A$79,Kilpailu!B37,IF(Kilpailu!$B$6 =Kilpailu!$A$80,Kilpailu!B52,IF(Kilpailu!$B$6 =Kilpailu!$A$81,Kilpailu!B67,""))) -> Opposite 2 point rolls | C22: 8.5 | D22: 8.5 | E22: 8.5 | F22: 8 | G22: 8 | H22: =(SUM(C22:G22)*IF(Kilpailu!$B$6 =Kilpailu!$A$79,Kilpailu!C37,IF(Kilpailu!$B$6 =Kilpailu!$A$80,Kilpailu!C52,IF(Kilpailu!$B$6 =Kilpailu!$A$81,Kilpailu!C67,1))))-SMALL(C22:G22,1)-LARGE(C22:G22,1) -> 25
A23: 9. | B23: =IF(Kilpailu!$B$6 =Kilpailu!$A$79,Kilpailu!B38,IF(Kilpailu!$B$6 =Kilpailu!$A$80,Kilpailu!B53,IF(Kilpailu!$B$6 =Kilpailu!$A$81,Kilpailu!B68,""))) -> Inside loop with pirouette on top | C23: 9 | D23: 9 | E23: 8.5 | F23: 8.5 | G23: 9 | H23: =(SUM(C23:G23)*IF(Kilpailu!$B$6 =Kilpailu!$A$79,Kilpailu!C38,IF(Kilpailu!$B$6 =Kilpailu!$A$80,Kilpailu!C53,IF(Kilpailu!$B$6 =Kilpailu!$A$81,Kilpailu!C68,1))))-SMALL(C23:G23,1)-LARGE(C23:G23,1) -> 26.5
A24: 10. | B24: =IF(Kilpailu!$B$6 =Kilpailu!$A$79,Kilpailu!B39,IF(Kilpailu!$B$6 =Kilpailu!$A$80,Kilpailu!B54,IF(Kilpailu!$B$6 =Kilpailu!$A$81,Kilpailu!B69,""))) -> Autorotation with two 90º turns | C24: 9 | D24: 9 | E24: 8 | F24: 8 | G24: 8 | H24: =(SUM(C24:G24)*IF(Kilpailu!$B$6 =Kilpailu!$A$79,Kilpailu!C39,IF(Kilpailu!$B$6 =Kilpailu!$A$80,Kilpailu!C54,IF(Kilpailu!$B$6 =Kilpailu!$A$81,Kilpailu!C69,1))))-SMALL(C24:G24,1)-LARGE(C24:G24,1) -> 25
A25: 11. | B25: =IF(Kilpailu!$B$6 =Kilpailu!$A$79,Kilpailu!B40,IF(Kilpailu!$B$6 =Kilpailu!$A$80,Kilpailu!B55,IF(Kilpailu!$B$6 =Kilpailu!$A$81,Kilpailu!B70,""))) | G25: 0 | H25: =(SUM(C25:G25)*IF(Kilpailu!$B$6 =Kilpailu!$A$79,Kilpailu!C40,IF(Kilpailu!$B$6 =Kilpailu!$A$80,Kilpailu!C55,IF(Kilpailu!$B$6 =Kilpailu!$A$81,Kilpailu!C70,1))))-SMALL(C25:G25,1)-LARGE(C25:G25,1) -> 0
B26: Yht. | C26: =SUM(C15:C25) -> 86.5 | D26: =SUM(D15:D25) -> 80 | E26: =SUM(E15:E25) -> 81.5 | F26: =SUM(F15:F25) -> 83 | G26: =SUM(G15:G25) -> 83
A30: Kierros 2: | C30: Tuomari 1 | D30: Tuomari 2 | E30: Tuomari 3 | F30: Tuomari 4 | G30: Tuomari 5 | H30: yht.
A31: 1. | B31: =IF(Kilpailu!$B$6 =Kilpailu!$A$79,Kilpailu!B30,IF(Kilpailu!$B$6 =Kilpailu!$A$80,Kilpailu!B45,IF(Kilpailu!$B$6 =Kilpailu!$A$81,Kilpailu!B60,""))) -> M with 2 half pirouettes on all side | C31: 9 | D31: 9 | E31: 8 | F31: 9 | G31: 8 | H31: =(SUM(C31:G31)*IF(Kilpailu!$B$6 =Kilpailu!$A$79,Kilpailu!C30,IF(Kilpailu!$B$6 =Kilpailu!$A$80,Kilpailu!C45,IF(Kilpailu!$B$6 =Kilpailu!$A$81,Kilpailu!C60,1))))-SMALL(C31:G31,1)-LARGE(C31:G31,1) -> 26
A32: 2. | B32: =IF(Kilpailu!$B$6 =Kilpailu!$A$79,Kilpailu!B31,IF(Kilpailu!$B$6 =Kilpailu!$A$80,Kilpailu!B46,IF(Kilpailu!$B$6 =Kilpailu!$A$81,Kilpailu!B61,""))) -> Semicircle with pirouette | C32: 8.5 | D32: 8 | E32: 8 | F32: 7.5 | G32: 7 | H32: =(SUM(C32:G32)*IF(Kilpailu!$B$6 =Kilpailu!$A$79,Kilpailu!C31,IF(Kilpailu!$B$6 =Kilpailu!$A$80,Kilpailu!C46,IF(Kilpailu!$B$6 =Kilpailu!$A$81,Kilpailu!C61,1))))-SMALL(C32:G32,1)-LARGE(C32:G32,1) -> 23.5
A33: 3. | B33: =IF(Kilpailu!$B$6 =Kilpailu!$A$79,Kilpailu!B32,IF(Kilpailu!$B$6 =Kilpailu!$A$80,Kilpailu!B47,IF(Kilpailu!$B$6 =Kilpailu!$A$81,Kilpailu!B62,""))) -> Diamond 3 | C33: 8.5 | D33: 8 | E33: 7.5 | F33: 8 | G33: 8 | H33: =(SUM(C33:G33)*IF(Kilpailu!$B$6 =Kilpailu!$A$79,Kilpailu!C32,IF(Kilpailu!$B$6 =Kilpailu!$A$80,Kilpailu!C47,IF(Kilpailu!$B$6 =Kilpailu!$A$81,Kilpailu!C62,1))))-SMALL(C33:G33,1)-LARGE(C33:G33,1) -> 24
A34: 4. | B34: =IF(Kilpailu!$B$6 =Kilpailu!$A$79,Kilpailu!B33,IF(Kilpailu!$B$6 =Kilpailu!$A$80,Kilpailu!B48,IF(Kilpailu!$B$6 =Kilpailu!$A$81,Kilpailu!B63,""))) -> Cuban eight | C34: 8.5 | D34: 8.5 | E34: 8 | F34: 8.5 | G34: 9 | H34: =(SUM(C34:G34)*IF(Kilpailu!$B$6 =Kilpailu!$A$79,Kilpailu!C33,IF(Kilpailu!$B$6 =Kilpailu!$A$80,Kilpailu!C48,IF(Kilpailu!$B$6 =Kilpailu!$A$81,Kilpailu!C63,1))))-SMALL(C34:G34,1)-LARGE(C34:G34,1) -> 25.5
A35: 5. | B35: =IF(Kilpailu!$B$6 =Kilpailu!$A$79,Kilpailu!B34,IF(Kilpailu!$B$6 =Kilpailu!$A$80,Kilpailu!B49,IF(Kilpailu!$B$6 =Kilpailu!$A$81,Kilpailu!B64,""))) -> Pullpack with backward full roll | C35: 9.5 | D35: 9 | E35: 9 | F35: 9 | G35: 9 | H35: =(SUM(C35:G35)*IF(Kilpailu!$B$6 =Kilpailu!$A$79,Kilpailu!C34,IF(Kilpailu!$B$6 =Kilpailu!$A$80,Kilpailu!C49,IF(Kilpailu!$B$6 =Kilpailu!$A$81,Kilpailu!C64,1))))-SMALL(C35:G35,1)-LARGE(C35:G35,1) -> 27
A36: 6. | B36: =IF(Kilpailu!$B$6 =Kilpailu!$A$79,Kilpailu!B35,IF(Kilpailu!$B$6 =Kilpailu!$A$80,Kilpailu!B50,IF(Kilpailu!$B$6 =Kilpailu!$A$81,Kilpailu!B65,""))) -> Cobra Roll with pushed flip | C36: 8.5 | D36: 8.5 | E36: 8.5 | F36: 9 | G36: 8 | H36: =(SUM(C36:G36)*IF(Kilpailu!$B$6 =Kilpailu!$A$79,Kilpailu!C35,IF(Kilpailu!$B$6 =Kilpailu!$A$80,Kilpailu!C50,IF(Kilpailu!$B$6 =Kilpailu!$A$81,Kilpailu!C65,1))))-SMALL(C36:G36,1)-LARGE(C36:G36,1) -> 25.5
A37: 7. | B37: =IF(Kilpailu!$B$6 =Kilpailu!$A$79,Kilpailu!B36,IF(Kilpailu!$B$6 =Kilpailu!$A$80,Kilpailu!B51,IF(Kilpailu!$B$6 =Kilpailu!$A$81,Kilpailu!B66,""))) -> Vertical candle | C37: 9 | D37: 9 | E37: 9 | F37: 9 | G37: 9 | H37: =(SUM(C37:G37)*IF(Kilpailu!$B$6 =Kilpailu!$A$79,Kilpailu!C36,IF(Kilpailu!$B$6 =Kilpailu!$A$80,Kilpailu!C51,IF(Kilpailu!$B$6 =Kilpailu!$A$81,Kilpailu!C66,1))))-SMALL(C37:G37,1)-LARGE(C37:G37,1) -> 27
A38: 8. | B38: =IF(Kilpailu!$B$6 =Kilpailu!$A$79,Kilpailu!B37,IF(Kilpailu!$B$6 =Kilpailu!$A$80,Kilpailu!B52,IF(Kilpailu!$B$6 =Kilpailu!$A$81,Kilpailu!B67,""))) -> Opposite 2 point rolls | C38: 8.5 | D38: 9 | E38: 8 | F38: 7.5 | G38: 9 | H38: =(SUM(C38:G38)*IF(Kilpailu!$B$6 =Kilpailu!$A$79,Kilpailu!C37,IF(Kilpailu!$B$6 =Kilpailu!$A$80,Kilpailu!C52,IF(Kilpailu!$B$6 =Kilpailu!$A$81,Kilpailu!C67,1))))-SMALL(C38:G38,1)-LARGE(C38:G38,1) -> 25.5
A39: 9. | B39: =IF(Kilpailu!$B$6 =Kilpailu!$A$79,Kilpailu!B38,IF(Kilpailu!$B$6 =Kilpailu!$A$80,Kilpailu!B53,IF(Kilpailu!$B$6 =Kilpailu!$A$81,Kilpailu!B68,""))) -> Inside loop with pirouette on top | C39: 9 | D39: 8 | E39: 8 | F39: 8.5 | G39: 9 | H39: =(SUM(C39:G39)*IF(Kilpailu!$B$6 =Kilpailu!$A$79,Kilpailu!C38,IF(Kilpailu!$B$6 =Kilpailu!$A$80,Kilpailu!C53,IF(Kilpailu!$B$6 =Kilpailu!$A$81,Kilpailu!C68,1))))-SMALL(C39:G39,1)-LARGE(C39:G39,1) -> 25.5
A40: 10. | B40: =IF(Kilpailu!$B$6 =Kilpailu!$A$79,Kilpailu!B39,IF(Kilpailu!$B$6 =Kilpailu!$A$80,Kilpailu!B54,IF(Kilpailu!$B$6 =Kilpailu!$A$81,Kilpailu!B69,""))) -> Autorotation with two 90º turns | C40: 9 | D40: 8.5 | E40: 8 | F40: 8 | G40: 8 | H40: =(SUM(C40:G40)*IF(Kilpailu!$B$6 =Kilpailu!$A$79,Kilpailu!C39,IF(Kilpailu!$B$6 =Kilpailu!$A$80,Kilpailu!C54,IF(Kilpailu!$B$6 =Kilpailu!$A$81,Kilpailu!C69,1))))-SMALL(C40:G40,1)-LARGE(C40:G40,1) -> 24.5
A41: 11. | B41: =IF(Kilpailu!$B$6 =Kilpailu!$A$79,Kilpailu!B40,IF(Kilpailu!$B$6 =Kilpailu!$A$80,Kilpailu!B55,IF(Kilpailu!$B$6 =Kilpailu!$A$81,Kilpailu!B70,""))) | F41: 0 | H41: =(SUM(C41:G41)*IF(Kilpailu!$B$6 =Kilpailu!$A$79,Kilpailu!C40,IF(Kilpailu!$B$6 =Kilpailu!$A$80,Kilpailu!C55,IF(Kilpailu!$B$6 =Kilpailu!$A$81,Kilpailu!C70,1))))-SMALL(C41:G41,1)-LARGE(C41:G41,1) -> 0
B42: Yht. | C42: =SUM(C31:C41) -> 88 | D42: =SUM(D31:D41) -> 85.5 | E42: =SUM(E31:E41) -> 82 | F42: =SUM(F31:F41) -> 84 | G42: =SUM(G31:G41) -> 84
A46: Kierros 3: | C46: Tuomari 1 | D46: Tuomari 2 | E46: Tuomari 3 | F46: Tuomari 4 | G46: Tuomari 5 | H46: yht.
A47: 1. | B47: =IF(Kilpailu!$B$6 =Kilpailu!$A$79,Kilpailu!B30,IF(Kilpailu!$B$6 =Kilpailu!$A$80,Kilpailu!B45,IF(Kilpailu!$B$6 =Kilpailu!$A$81,Kilpailu!B60,""))) -> M with 2 half pirouettes on all side | C47: 8.5 | D47: 8 | E47: 8 | F47: 8 | G47: 7 | H47: =(SUM(C47:G47)*IF(Kilpailu!$B$6 =Kilpailu!$A$79,Kilpailu!C30,IF(Kilpailu!$B$6 =Kilpailu!$A$80,Kilpailu!C45,IF(Kilpailu!$B$6 =Kilpailu!$A$81,Kilpailu!C60,1))))-SMALL(C47:G47,1)-LARGE(C47:G47,1) -> 24
A48: 2. | B48: =IF(Kilpailu!$B$6 =Kilpailu!$A$79,Kilpailu!B31,IF(Kilpailu!$B$6 =Kilpailu!$A$80,Kilpailu!B46,IF(Kilpailu!$B$6 =Kilpailu!$A$81,Kilpailu!B61,""))) -> Semicircle with pirouette | C48: 9.5 | D48: 8.5 | E48: 9 | F48: 8 | G48: 8 | H48: =(SUM(C48:G48)*IF(Kilpailu!$B$6 =Kilpailu!$A$79,Kilpailu!C31,IF(Kilpailu!$B$6 =Kilpailu!$A$80,Kilpailu!C46,IF(Kilpailu!$B$6 =Kilpailu!$A$81,Kilpailu!C61,1))))-SMALL(C48:G48,1)-LARGE(C48:G48,1) -> 25.5
A49: 3. | B49: =IF(Kilpailu!$B$6 =Kilpailu!$A$79,Kilpailu!B32,IF(Kilpailu!$B$6 =Kilpailu!$A$80,Kilpailu!B47,IF(Kilpailu!$B$6 =Kilpailu!$A$81,Kilpailu!B62,""))) -> Diamond 3 | C49: 9 | D49: 8.5 | E49: 8.5 | F49: 8 | G49: 9 | H49: =(SUM(C49:G49)*IF(Kilpailu!$B$6 =Kilpailu!$A$79,Kilpailu!C32,IF(Kilpailu!$B$6 =Kilpailu!$A$80,Kilpailu!C47,IF(Kilpailu!$B$6 =Kilpailu!$A$81,Kilpailu!C62,1))))-SMALL(C49:G49,1)-LARGE(C49:G49,1) -> 26
A50: 4. | B50: =IF(Kilpailu!$B$6 =Kilpailu!$A$79,Kilpailu!B33,IF(Kilpailu!$B$6 =Kilpailu!$A$80,Kilpailu!B48,IF(Kilpailu!$B$6 =Kilpailu!$A$81,Kilpailu!B63,""))) -> Cuban eight | C50: 9.5 | D50: 8.5 | E50: 9 | F50: 9 | G50: 9 | H50: =(SUM(C50:G50)*IF(Kilpailu!$B$6 =Kilpailu!$A$79,Kilpailu!C33,IF(Kilpailu!$B$6 =Kilpailu!$A$80,Kilpailu!C48,IF(Kilpailu!$B$6 =Kilpailu!$A$81,Kilpailu!C63,1))))-SMALL(C50:G50,1)-LARGE(C50:G50,1) -> 27
A51: 5. | B51: =IF(Kilpailu!$B$6 =Kilpailu!$A$79,Kilpailu!B34,IF(Kilpailu!$B$6 =Kilpailu!$A$80,Kilpailu!B49,IF(Kilpailu!$B$6 =Kilpailu!$A$81,Kilpailu!B64,""))) -> Pullpack with backward full roll | C51: 9.5 | D51: 9 | E51: 8.5 | F51: 9 | G51: 9 | H51: =(SUM(C51:G51)*IF(Kilpailu!$B$6 =Kilpailu!$A$79,Kilpailu!C34,IF(Kilpailu!$B$6 =Kilpailu!$A$80,Kilpailu!C49,IF(Kilpailu!$B$6 =Kilpailu!$A$81,Kilpailu!C64,1))))-SMALL(C51:G51,1)-LARGE(C51:G51,1) -> 27
...

Sheet 3
D4: Pisteet | E4: Suht…
A5: Nimi: | B5: =Kilpailu!B12 -> Jukka | C5: Kierros 1. | D5: =SUM(C26:G26)-LARGE(C26:G26,1)-SMALL(C26:G26,1) -> 149 | E5: =Tulokset!D30 -> 602.0202
C6: Kierros 2. | D6: =SUM(C42:G42)-LARGE(C42:G42,1)-SMALL(C42:G42,1) -> 146 | E6: =Tulokset!D50 -> 575.93688
A7: Paikka: | B7: =Kilpailu!B4 -> Vesivehmaa | C7: Kierros 3. | D7: =SUM(C58:G58)-LARGE(C58:G58,1)-SMALL(C58:G58,1) -> 179 | E7: =Tulokset!D70 -> 687.14012
A8: Päivä: | B8: =Kilpailu!B5 -> 40397
A9: Ohjelma: | B9: =Kilpailu!B6 -> F3C-P | C9: yhteensä: | D9: =SUM(D5:D7) -> 474 | E9: =SUM(E5:E7) -> 1865.0972
C10: pois: | D10: =SMALL(D5:D7,1) -> 146 | E10: =SMALL(E5:E7,1) -> 575.93688
C11: 2 parasta: | D11: =SUM(D5:D7)-D10 -> 328 | E11: =SUM(E5:E7)-E10 -> 1289.1603
A14: Kierros 1: | C14: Tuomari 1 | D14: Tuomari 2 | E14: Tuomari 3 | F14: Tuomari 4 | G14: Tuomari 5 | H14: yht.
A15: 1. | B15: =IF(Kilpailu!$B$6 =Kilpailu!$A$79,Kilpailu!B30,IF(Kilpailu!$B$6 =Kilpailu!$A$80,Kilpailu!B45,IF(Kilpailu!$B$6 =Kilpailu!$A$81,Kilpailu!B60,""))) -> M with 2 half pirouettes on all side | C15: 5.5 | D15: 4 | E15: 4 | F15: 4.5 | G15: 5 | H15: =(SUM(C15:G15)*IF(Kilpailu!$B$6 =Kilpailu!$A$79,Kilpailu!C30,IF(Kilpailu!$B$6 =Kilpailu!$A$80,Kilpailu!C45,IF(Kilpailu!$B$6 =Kilpailu!$A$81,Kilpailu!C60,1))))-SMALL(C15:G15,1)-LARGE(C15:G15,1) -> 13.5
A16: 2. | B16: =IF(Kilpailu!$B$6 =Kilpailu!$A$79,Kilpailu!B31,IF(Kilpailu!$B$6 =Kilpailu!$A$80,Kilpailu!B46,IF(Kilpailu!$B$6 =Kilpailu!$A$81,Kilpailu!B61,""))) -> Semicircle with pirouette | C16: 5.5 | D16: 5.5 | E16: 5 | F16: 5.5 | G16: 7 | H16: =(SUM(C16:G16)*IF(Kilpailu!$B$6 =Kilpailu!$A$79,Kilpailu!C31,IF(Kilpailu!$B$6 =Kilpailu!$A$80,Kilpailu!C46,IF(Kilpailu!$B$6 =Kilpailu!$A$81,Kilpailu!C61,1))))-SMALL(C16:G16,1)-LARGE(C16:G16,1) -> 16.5
A17: 3. | B17: =IF(Kilpailu!$B$6 =Kilpailu!$A$79,Kilpailu!B32,IF(Kilpailu!$B$6 =Kilpailu!$A$80,Kilpailu!B47,IF(Kilpailu!$B$6 =Kilpailu!$A$81,Kilpailu!B62,""))) -> Diamond 3 | C17: 5.5 | D17: 5 | E17: 4 | F17: 5 | G17: 6 | H17: =(SUM(C17:G17)*IF(Kilpailu!$B$6 =Kilpailu!$A$79,Kilpailu!C32,IF(Kilpailu!$B$6 =Kilpailu!$A$80,Kilpailu!C47,IF(Kilpailu!$B$6 =Kilpailu!$A$81,Kilpailu!C62,1))))-SMALL(C17:G17,1)-LARGE(C17:G17,1) -> 15.5
A18: 4. | B18: =IF(Kilpailu!$B$6 =Kilpailu!$A$79,Kilpailu!B33,IF(Kilpailu!$B$6 =Kilpailu!$A$80,Kilpailu!B48,IF(Kilpailu!$B$6 =Kilpailu!$A$81,Kilpailu!B63,""))) -> Cuban eight | C18: 6.5 | D18: 6 | E18: 6 | F18: 4 | G18: 6 | H18: =(SUM(C18:G18)*IF(Kilpailu!$B$6 =Kilpailu!$A$79,Kilpailu!C33,IF(Kilpailu!$B$6 =Kilpailu!$A$80,Kilpailu!C48,IF(Kilpailu!$B$6 =Kilpailu!$A$81,Kilpailu!C63,1))))-SMALL(C18:G18,1)-LARGE(C18:G18,1) -> 18
A19: 5. | B19: =IF(Kilpailu!$B$6 =Kilpailu!$A$79,Kilpailu!B34,IF(Kilpailu!$B$6 =Kilpailu!$A$80,Kilpailu!B49,IF(Kilpailu!$B$6 =Kilpailu!$A$81,Kilpailu!B64,""))) -> Pullpack with backward full roll | C19: 6 | D19: 5 | E19: 5.5 | F19: 5 | G19: 4 | H19: =(SUM(C19:G19)*IF(Kilpailu!$B$6 =Kilpailu!$A$79,Kilpailu!C34,IF(Kilpailu!$B$6 =Kilpailu!$A$80,Kilpailu!C49,IF(Kilpailu!$B$6 =Kilpailu!$A$81,Kilpailu!C64,1))))-SMALL(C19:G19,1)-LARGE(C19:G19,1) -> 15.5
A20: 6. | B20: =IF(Kilpailu!$B$6 =Kilpailu!$A$79,Kilpailu!B35,IF(Kilpailu!$B$6 =Kilpailu!$A$80,Kilpailu!B50,IF(Kilpailu!$B$6 =Kilpailu!$A$81,Kilpailu!B65,""))) -> Cobra Roll with pushed flip | C20: 5 | D20: 5.5 | E20: 5.5 | F20: 5 | G20: 7 | H20: =(SUM(C20:G20)*IF(Kilpailu!$B$6 =Kilpailu!$A$79,Kilpailu!C35,IF(Kilpailu!$B$6 =Kilpailu!$A$80,Kilpailu!C50,IF(Kilpailu!$B$6 =Kilpailu!$A$81,Kilpailu!C65,1))))-SMALL(C20:G20,1)-LARGE(C20:G20,1) -> 16
A21: 7. | B21: =IF(Kilpailu!$B$6 =Kilpailu!$A$79,Kilpailu!B36,IF(Kilpailu!$B$6 =Kilpailu!$A$80,Kilpailu!B51,IF(Kilpailu!$B$6 =Kilpailu!$A$81,Kilpailu!B66,""))) -> Vertical candle | C21: 4 | D21: 3 | E21: 2.5 | F21: 2 | G21: 4 | H21: =(SUM(C21:G21)*IF(Kilpailu!$B$6 =Kilpailu!$A$79,Kilpailu!C36,IF(Kilpailu!$B$6 =Kilpailu!$A$80,Kilpailu!C51,IF(Kilpailu!$B$6 =Kilpailu!$A$81,Kilpailu!C66,1))))-SMALL(C21:G21,1)-LARGE(C21:G21,1) -> 9.5
A22: 8. | B22: =IF(Kilpailu!$B$6 =Kilpailu!$A$79,Kilpailu!B37,IF(Kilpailu!$B$6 =Kilpailu!$A$80,Kilpailu!B52,IF(Kilpailu!$B$6 =Kilpailu!$A$81,Kilpailu!B67,""))) -> Opposite 2 point rolls | C22: 5.5 | D22: 5.5 | E22: 5 | F22: 4 | G22: 5 | H22: =(SUM(C22:G22)*IF(Kilpailu!$B$6 =Kilpailu!$A$79,Kilpailu!C37,IF(Kilpailu!$B$6 =Kilpailu!$A$80,Kilpailu!C52,IF(Kilpailu!$B$6 =Kilpailu!$A$81,Kilpailu!C67,1))))-SMALL(C22:G22,1)-LARGE(C22:G22,1) -> 15.5
A23: 9. | B23: =IF(Kilpailu!$B$6 =Kilpailu!$A$79,Kilpailu!B38,IF(Kilpailu!$B$6 =Kilpailu!$A$80,Kilpailu!B53,IF(Kilpailu!$B$6 =Kilpailu!$A$81,Kilpailu!B68,""))) -> Inside loop with pirouette on top | C23: 6.5 | D23: 5 | E23: 6 | F23: 4.5 | G23: 5 | H23: =(SUM(C23:G23)*IF(Kilpailu!$B$6 =Kilpailu!$A$79,Kilpailu!C38,IF(Kilpailu!$B$6 =Kilpailu!$A$80,Kilpailu!C53,IF(Kilpailu!$B$6 =Kilpailu!$A$81,Kilpailu!C68,1))))-SMALL(C23:G23,1)-LARGE(C23:G23,1) -> 16
A24: 10. | B24: =IF(Kilpailu!$B$6 =Kilpailu!$A$79,Kilpailu!B39,IF(Kilpailu!$B$6 =Kilpailu!$A$80,Kilpailu!B54,IF(Kilpailu!$B$6 =Kilpailu!$A$81,Kilpailu!B69,""))) -> Autorotation with two 90º turns | C24: 5 | D24: 5 | E24: 3 | F24: 4 | G24: 4 | H24: =(SUM(C24:G24)*IF(Kilpailu!$B$6 =Kilpailu!$A$79,Kilpailu!C39,IF(Kilpailu!$B$6 =Kilpailu!$A$80,Kilpailu!C54,IF(Kilpailu!$B$6 =Kilpailu!$A$81,Kilpailu!C69,1))))-SMALL(C24:G24,1)-LARGE(C24:G24,1) -> 13
A25: 11. | B25: =IF(Kilpailu!$B$6 =Kilpailu!$A$79,Kilpailu!B40,IF(Kilpailu!$B$6 =Kilpailu!$A$80,Kilpailu!B55,IF(Kilpailu!$B$6 =Kilpailu!$A$81,Kilpailu!B70,""))) | G25: 0 | H25: =(SUM(C25:G25)*IF(Kilpailu!$B$6 =Kilpailu!$A$79,Kilpailu!C40,IF(Kilpailu!$B$6 =Kilpailu!$A$80,Kilpailu!C55,IF(Kilpailu!$B$6 =Kilpailu!$A$81,Kilpailu!C70,1))))-SMALL(C25:G25,1)-LARGE(C25:G25,1) -> 0
B26: Yht. | C26: =SUM(C15:C25) -> 55 | D26: =SUM(D15:D25) -> 49.5 | E26: =SUM(E15:E25) -> 46.5 | F26: =SUM(F15:F25) -> 43.5 | G26: =SUM(G15:G25) -> 53
A30: Kierros 2: | C30: Tuomari 1 | D30: Tuomari 2 | E30: Tuomari 3 | F30: Tuomari 4 | G30: Tuomari 5 | H30: yht.
A31: 1. | B31: =IF(Kilpailu!$B$6 =Kilpailu!$A$79,Kilpailu!B30,IF(Kilpailu!$B$6 =Kilpailu!$A$80,Kilpailu!B45,IF(Kilpailu!$B$6 =Kilpailu!$A$81,Kilpailu!B60,""))) -> M with 2 half pirouettes on all side | C31: 6 | D31: 5.5 | E31: 4 | F31: 5.5 | G31: 6 | H31: =(SUM(C31:G31)*IF(Kilpailu!$B$6 =Kilpailu!$A$79,Kilpailu!C30,IF(Kilpailu!$B$6 =Kilpailu!$A$80,Kilpailu!C45,IF(Kilpailu!$B$6 =Kilpailu!$A$81,Kilpailu!C60,1))))-SMALL(C31:G31,1)-LARGE(C31:G31,1) -> 17
A32: 2. | B32: =IF(Kilpailu!$B$6 =Kilpailu!$A$79,Kilpailu!B31,IF(Kilpailu!$B$6 =Kilpailu!$A$80,Kilpailu!B46,IF(Kilpailu!$B$6 =Kilpailu!$A$81,Kilpailu!B61,""))) -> Semicircle with pirouette | C32: 6 | D32: 5.5 | E32: 4 | F32: 6 | G32: 7 | H32: =(SUM(C32:G32)*IF(Kilpailu!$B$6 =Kilpailu!$A$79,Kilpailu!C31,IF(Kilpailu!$B$6 =Kilpailu!$A$80,Kilpailu!C46,IF(Kilpailu!$B$6 =Kilpailu!$A$81,Kilpailu!C61,1))))-SMALL(C32:G32,1)-LARGE(C32:G32,1) -> 17.5
A33: 3. | B33: =IF(Kilpailu!$B$6 =Kilpailu!$A$79,Kilpailu!B32,IF(Kilpailu!$B$6 =Kilpailu!$A$80,Kilpailu!B47,IF(Kilpailu!$B$6 =Kilpailu!$A$81,Kilpailu!B62,""))) -> Diamond 3 | C33: 5.5 | D33: 4 | E33: 3.5 | F33: 5 | G33: 6 | H33: =(SUM(C33:G33)*IF(Kilpailu!$B$6 =Kilpailu!$A$79,Kilpailu!C32,IF(Kilpailu!$B$6 =Kilpailu!$A$80,Kilpailu!C47,IF(Kilpailu!$B$6 =Kilpailu!$A$81,Kilpailu!C62,1))))-SMALL(C33:G33,1)-LARGE(C33:G33,1) -> 14.5
A34: 4. | B34: =IF(Kilpailu!$B$6 =Kilpailu!$A$79,Kilpailu!B33,IF(Kilpailu!$B$6 =Kilpailu!$A$80,Kilpailu!B48,IF(Kilpailu!$B$6 =Kilpailu!$A$81,Kilpailu!B63,""))) -> Cuban eight | C34: 7 | D34: 6 | E34: 6 | F34: 6.5 | G34: 6 | H34: =(SUM(C34:G34)*IF(Kilpailu!$B$6 =Kilpailu!$A$79,Kilpailu!C33,IF(Kilpailu!$B$6 =Kilpailu!$A$80,Kilpailu!C48,IF(Kilpailu!$B$6 =Kilpailu!$A$81,Kilpailu!C63,1))))-SMALL(C34:G34,1)-LARGE(C34:G34,1) -> 18.5
A35: 5. | B35: =IF(Kilpailu!$B$6 =Kilpailu!$A$79,Kilpailu!B34,IF(Kilpailu!$B$6 =Kilpailu!$A$80,Kilpailu!B49,IF(Kilpailu!$B$6 =Kilpailu!$A$81,Kilpailu!B64,""))) -> Pullpack with backward full roll | C35: 5 | D35: 5.5 | E35: 4.5 | F35: 4.5 | G35: 4 | H35: =(SUM(C35:G35)*IF(Kilpailu!$B$6 =Kilpailu!$A$79,Kilpailu!C34,IF(Kilpailu!$B$6 =Kilpailu!$A$80,Kilpailu!C49,IF(Kilpailu!$B$6 =Kilpailu!$A$81,Kilpailu!C64,1))))-SMALL(C35:G35,1)-LARGE(C35:G35,1) -> 14
A36: 6. | B36: =IF(Kilpailu!$B$6 =Kilpailu!$A$79,Kilpailu!B35,IF(Kilpailu!$B$6 =Kilpailu!$A$80,Kilpailu!B50,IF(Kilpailu!$B$6 =Kilpailu!$A$81,Kilpailu!B65,""))) -> Cobra Roll with pushed flip | C36: 6 | D36: 6.5 | E36: 4 | F36: 5 | G36: 5 | H36: =(SUM(C36:G36)*IF(Kilpailu!$B$6 =Kilpailu!$A$79,Kilpailu!C35,IF(Kilpailu!$B$6 =Kilpailu!$A$80,Kilpailu!C50,IF(Kilpailu!$B$6 =Kilpailu!$A$81,Kilpailu!C65,1))))-SMALL(C36:G36,1)-LARGE(C36:G36,1) -> 16
A37: 7. | B37: =IF(Kilpailu!$B$6 =Kilpailu!$A$79,Kilpailu!B36,IF(Kilpailu!$B$6 =Kilpailu!$A$80,Kilpailu!B51,IF(Kilpailu!$B$6 =Kilpailu!$A$81,Kilpailu!B66,""))) -> Vertical candle | C37: 7 | D37: 7 | E37: 5 | F37: 6 | G37: 5 | H37: =(SUM(C37:G37)*IF(Kilpailu!$B$6 =Kilpailu!$A$79,Kilpailu!C36,IF(Kilpailu!$B$6 =Kilpailu!$A$80,Kilpailu!C51,IF(Kilpailu!$B$6 =Kilpailu!$A$81,Kilpailu!C66,1))))-SMALL(C37:G37,1)-LARGE(C37:G37,1) -> 18
A38: 8. | B38: =IF(Kilpailu!$B$6 =Kilpailu!$A$79,Kilpailu!B37,IF(Kilpailu!$B$6 =Kilpailu!$A$80,Kilpailu!B52,IF(Kilpailu!$B$6 =Kilpailu!$A$81,Kilpailu!B67,""))) -> Opposite 2 point rolls | C38: 4 | D38: 3 | E38: 2 | F38: 3 | G38: 3 | H38: =(SUM(C38:G38)*IF(Kilpailu!$B$6 =Kilpailu!$A$79,Kilpailu!C37,IF(Kilpailu!$B$6 =Kilpailu!$A$80,Kilpailu!C52,IF(Kilpailu!$B$6 =Kilpailu!$A$81,Kilpailu!C67,1))))-SMALL(C38:G38,1)-LARGE(C38:G38,1) -> 9
A39: 9. | B39: =IF(Kilpailu!$B$6 =Kilpailu!$A$79,Kilpailu!B38,IF(Kilpailu!$B$6 =Kilpailu!$A$80,Kilpailu!B53,IF(Kilpailu!$B$6 =Kilpailu!$A$81,Kilpailu!B68,""))) -> Inside loop with pirouette on top | C39: 6.5 | D39: 6 | E39: 6.5 | F39: 5.5 | G39: 5 | H39: =(SUM(C39:G39)*IF(Kilpailu!$B$6 =Kilpailu!$A$79,Kilpailu!C38,IF(Kilpailu!$B$6 =Kilpailu!$A$80,Kilpailu!C53,IF(Kilpailu!$B$6 =Kilpailu!$A$81,Kilpailu!C68,1))))-SMALL(C39:G39,1)-LARGE(C39:G39,1) -> 18
A40: 10. | B40: =IF(Kilpailu!$B$6 =Kilpailu!$A$79,Kilpailu!B39,IF(Kilpailu!$B$6 =Kilpailu!$A$80,Kilpailu!B54,IF(Kilpailu!$B$6 =Kilpailu!$A$81,Kilpailu!B69,""))) -> Autorotation with two 90º turns | C40: 1 | D40: 1 | E40: 1 | F40: 1 | G40: 1 | H40: =(SUM(C40:G40)*IF(Kilpailu!$B$6 =Kilpailu!$A$79,Kilpailu!C39,IF(Kilpailu!$B$6 =Kilpailu!$A$80,Kilpailu!C54,IF(Kilpailu!$B$6 =Kilpailu!$A$81,Kilpailu!C69,1))))-SMALL(C40:G40,1)-LARGE(C40:G40,1) -> 3
A41: 11. | B41: =IF(Kilpailu!$B$6 =Kilpailu!$A$79,Kilpailu!B40,IF(Kilpailu!$B$6 =Kilpailu!$A$80,Kilpailu!B55,IF(Kilpailu!$B$6 =Kilpailu!$A$81,Kilpailu!B70,""))) | G41: 0 | H41: =(SUM(C41:G41)*IF(Kilpailu!$B$6 =Kilpailu!$A$79,Kilpailu!C40,IF(Kilpailu!$B$6 =Kilpailu!$A$80,Kilpailu!C55,IF(Kilpailu!$B$6 =Kilpailu!$A$81,Kilpailu!C70,1))))-SMALL(C41:G41,1)-LARGE(C41:G41,1) -> 0
B42: Yht. | C42: =SUM(C31:C41) -> 54 | D42: =SUM(D31:D41) -> 50 | E42: =SUM(E31:E41) -> 40.5 | F42: =SUM(F31:F41) -> 48 | G42: =SUM(G31:G41) -> 48
A46: Kierros 3: | C46: Tuomari 1 | D46: Tuomari 2 | E46: Tuomari 3 | F46: Tuomari 4 | G46: Tuomari 5 | H46: yht.
A47: 1. | B47: =IF(Kilpailu!$B$6 =Kilpailu!$A$79,Kilpailu!B30,IF(Kilpailu!$B$6 =Kilpailu!$A$80,Kilpailu!B45,IF(Kilpailu!$B$6 =Kilpailu!$A$81,Kilpailu!B60,""))) -> M with 2 half pirouettes on all side | C47: 7 | D47: 5.5 | E47: 6 | F47: 7 | G47: 6 | H47: =(SUM(C47:G47)*IF(Kilpailu!$B$6 =Kilpailu!$A$79,Kilpailu!C30,IF(Kilpailu!$B$6 =Kilpailu!$A$80,Kilpailu!C45,IF(Kilpailu!$B$6 =Kilpailu!$A$81,Kilpailu!C60,1))))-SMALL(C47:G47,1)-LARGE(C47:G47,1) -> 19
A48: 2. | B48: =IF(Kilpailu!$B$6 =Kilpailu!$A$79,Kilpailu!B31,IF(Kilpailu!$B$6 =Kilpailu!$A$80,Kilpailu!B46,IF(Kilpailu!$B$6 =Kilpailu!$A$81,Kilpailu!B61,""))) -> Semicircle with pirouette | C48: 6.5 | D48: 6 | E48: 6 | F48: 7 | G48: 7 | H48: =(SUM(C48:G48)*IF(Kilpailu!$B$6 =Kilpailu!$A$79,Kilpailu!C31,IF(Kilpailu!$B$6 =Kilpailu!$A$80,Kilpailu!C46,IF(Kilpailu!$B$6 =Kilpailu!$A$81,Kilpailu!C61,1))))-SMALL(C48:G48,1)-LARGE(C48:G48,1) -> 19.5
A49: 3. | B49: =IF(Kilpailu!$B$6 =Kilpailu!$A$79,Kilpailu!B32,IF(Kilpailu!$B$6 =Kilpailu!$A$80,Kilpailu!B47,IF(Kilpailu!$B$6 =Kilpailu!$A$81,Kilpailu!B62,""))) -> Diamond 3 | C49: 6 | D49: 5 | E49: 5 | F49: 7 | G49: 6 | H49: =(SUM(C49:G49)*IF(Kilpailu!$B$6 =Kilpailu!$A$79,Kilpailu!C32,IF(Kilpailu!$B$6 =Kilpailu!$A$80,Kilpailu!C47,IF(Kilpailu!$B$6 =Kilpailu!$A$81,Kilpailu!C62,1))))-SMALL(C49:G49,1)-LARGE(C49:G49,1) -> 17
A50: 4. | B50: =IF(Kilpailu!$B$6 =Kilpailu!$A$79,Kilpailu!B33,IF(Kilpailu!$B$6 =Kilpailu!$A$80,Kilpailu!B48,IF(Kilpailu!$B$6 =Kilpailu!$A$81,Kilpailu!B63,""))) -> Cuban eight | C50: 7 | D50: 6 | E50: 7 | F50: 8 | G50: 5 | H50: =(SUM(C50:G50)*IF(Kilpailu!$B$6 =Kilpailu!$A$79,Kilpailu!C33,IF(Kilpailu!$B$6 =Kilpailu!$A$80,Kilpailu!C48,IF(Kilpailu!$B$6 =Kilpailu!$A$81,Kilpailu!C63,1))))-SMALL(C50:G50,1)-LARGE(C50:G50,1) -> 20
A51: 5. | B51: =IF(Kilpailu!$B$6 =Kilpailu!$A$79,Kilpailu!B34,IF(Kilpailu!$B$6 =Kilpailu!$A$80,Kilpailu!B49,IF(Kilpailu!$B$6 =Kilpailu!$A$81,Kilpailu!B64,""))) -> Pullpack with backward full roll | C51: 6.5 | D51: 5.5 | E51: 5 | F51: 7 | G51: 5 | H51: =(SUM(C51:G51)*IF(Kilpailu!$B$6 =Kilpailu!$A$79,Kilpailu!C34,IF(Kilpailu!$B$6 =Kilpailu!$A$80,Kilpailu!C49,IF(Kilpailu!$B$6 =Kilpailu!$A$81,Kilpailu!C64,1))))-SMALL(C51:G51,1)-LARGE(C51:G51,1) -> 17
...

Sheet 4
D4: Pisteet | E4: Suht…
A5: Nimi: | B5: =Kilpailu!B13 -> Sami | C5: Kierros 1. | D5: =SUM(C26:G26)-LARGE(C26:G26,1)-SMALL(C26:G26,1) -> 131 | E5: =Tulokset!D31 -> 529.29293
C6: Kierros 2. | D6: =SUM(C42:G42)-LARGE(C42:G42,1)-SMALL(C42:G42,1) -> 118.5 | E6: =Tulokset!D51 -> 467.45562
A7: Paikka: | B7: =Kilpailu!B4 -> Vesivehmaa | C7: Kierros 3. | D7: =SUM(C58:G58)-LARGE(C58:G58,1)-SMALL(C58:G58,1) -> 143 | E7: =Tulokset!D71 -> 548.94434
A8: Päivä: | B8: =Kilpailu!B5 -> 40397
A9: Ohjelma: | B9: =Kilpailu!B6 -> F3C-P | C9: yhteensä: | D9: =SUM(D5:D7) -> 392.5 | E9: =SUM(E5:E7) -> 1545.6929
C10: pois: | D10: =SMALL(D5:D7,1) -> 118.5 | E10: =SMALL(E5:E7,1) -> 467.45562
C11: 2 parasta: | D11: =SUM(D5:D7)-D10 -> 274 | E11: =SUM(E5:E7)-E10 -> 1078.2373
A14: Kierros 1: | C14: Tuomari 1 | D14: Tuomari 2 | E14: Tuomari 3 | F14: Tuomari 4 | G14: Tuomari 5 | H14: yht.
A15: 1. | B15: =IF(Kilpailu!$B$6 =Kilpailu!$A$79,Kilpailu!B30,IF(Kilpailu!$B$6 =Kilpailu!$A$80,Kilpailu!B45,IF(Kilpailu!$B$6 =Kilpailu!$A$81,Kilpailu!B60,""))) -> M with 2 half pirouettes on all side | C15: 3.5 | D15: 3.5 | E15: 2.5 | F15: 3.5 | G15: 3 | H15: =(SUM(C15:G15)*IF(Kilpailu!$B$6 =Kilpailu!$A$79,Kilpailu!C30,IF(Kilpailu!$B$6 =Kilpailu!$A$80,Kilpailu!C45,IF(Kilpailu!$B$6 =Kilpailu!$A$81,Kilpailu!C60,1))))-SMALL(C15:G15,1)-LARGE(C15:G15,1) -> 10
A16: 2. | B16: =IF(Kilpailu!$B$6 =Kilpailu!$A$79,Kilpailu!B31,IF(Kilpailu!$B$6 =Kilpailu!$A$80,Kilpailu!B46,IF(Kilpailu!$B$6 =Kilpailu!$A$81,Kilpailu!B61,""))) -> Semicircle with pirouette | C16: 3.5 | D16: 4 | E16: 3.5 | F16: 3 | G16: 5 | H16: =(SUM(C16:G16)*IF(Kilpailu!$B$6 =Kilpailu!$A$79,Kilpailu!C31,IF(Kilpailu!$B$6 =Kilpailu!$A$80,Kilpailu!C46,IF(Kilpailu!$B$6 =Kilpailu!$A$81,Kilpailu!C61,1))))-SMALL(C16:G16,1)-LARGE(C16:G16,1) -> 11
A17: 3. | B17: =IF(Kilpailu!$B$6 =Kilpailu!$A$79,Kilpailu!B32,IF(Kilpailu!$B$6 =Kilpailu!$A$80,Kilpailu!B47,IF(Kilpailu!$B$6 =Kilpailu!$A$81,Kilpailu!B62,""))) -> Diamond 3 | C17: 3.5 | D17: 5 | E17: 2.5 | F17: 2.5 | G17: 3 | H17: =(SUM(C17:G17)*IF(Kilpailu!$B$6 =Kilpailu!$A$79,Kilpailu!C32,IF(Kilpailu!$B$6 =Kilpailu!$A$80,Kilpailu!C47,IF(Kilpailu!$B$6 =Kilpailu!$A$81,Kilpailu!C62,1))))-SMALL(C17:G17,1)-LARGE(C17:G17,1) -> 9
A18: 4. | B18: =IF(Kilpailu!$B$6 =Kilpailu!$A$79,Kilpailu!B33,IF(Kilpailu!$B$6 =Kilpailu!$A$80,Kilpailu!B48,IF(Kilpailu!$B$6 =Kilpailu!$A$81,Kilpailu!B63,""))) -> Cuban eight | C18: 7 | D18: 6 | E18: 5 | F18: 4 | G18: 5 | H18: =(SUM(C18:G18)*IF(Kilpailu!$B$6 =Kilpailu!$A$79,Kilpailu!C33,IF(Kilpailu!$B$6 =Kilpailu!$A$80,Kilpailu!C48,IF(Kilpailu!$B$6 =Kilpailu!$A$81,Kilpailu!C63,1))))-SMALL(C18:G18,1)-LARGE(C18:G18,1) -> 16
A19: 5. | B19: =IF(Kilpailu!$B$6 =Kilpailu!$A$79,Kilpailu!B34,IF(Kilpailu!$B$6 =Kilpailu!$A$80,Kilpailu!B49,IF(Kilpailu!$B$6 =Kilpailu!$A$81,Kilpailu!B64,""))) -> Pullpack with backward full roll | C19: 4 | D19: 6 | E19: 5 | F19: 4 | G19: 4 | H19: =(SUM(C19:G19)*IF(Kilpailu!$B$6 =Kilpailu!$A$79,Kilpailu!C34,IF(Kilpailu!$B$6 =Kilpailu!$A$80,Kilpailu!C49,IF(Kilpailu!$B$6 =Kilpailu!$A$81,Kilpailu!C64,1))))-SMALL(C19:G19,1)-LARGE(C19:G19,1) -> 13
A20: 6. | B20: =IF(Kilpailu!$B$6 =Kilpailu!$A$79,Kilpailu!B35,IF(Kilpailu!$B$6 =Kilpailu!$A$80,Kilpailu!B50,IF(Kilpailu!$B$6 =Kilpailu!$A$81,Kilpailu!B65,""))) -> Cobra Roll with pushed flip | C20: 4.5 | D20: 4 | E20: 3 | F20: 3.5 | G20: 4 | H20: =(SUM(C20:G20)*IF(Kilpailu!$B$6 =Kilpailu!$A$79,Kilpailu!C35,IF(Kilpailu!$B$6 =Kilpailu!$A$80,Kilpailu!C50,IF(Kilpailu!$B$6 =Kilpailu!$A$81,Kilpailu!C65,1))))-SMALL(C20:G20,1)-LARGE(C20:G20,1) -> 11.5
A21: 7. | B21: =IF(Kilpailu!$B$6 =Kilpailu!$A$79,Kilpailu!B36,IF(Kilpailu!$B$6 =Kilpailu!$A$80,Kilpailu!B51,IF(Kilpailu!$B$6 =Kilpailu!$A$81,Kilpailu!B66,""))) -> Vertical candle | C21: 6 | D21: 5.5 | E21: 5.5 | F21: 4.5 | G21: 5 | H21: =(SUM(C21:G21)*IF(Kilpailu!$B$6 =Kilpailu!$A$79,Kilpailu!C36,IF(Kilpailu!$B$6 =Kilpailu!$A$80,Kilpailu!C51,IF(Kilpailu!$B$6 =Kilpailu!$A$81,Kilpailu!C66,1))))-SMALL(C21:G21,1)-LARGE(C21:G21,1) -> 16
A22: 8. | B22: =IF(Kilpailu!$B$6 =Kilpailu!$A$79,Kilpailu!B37,IF(Kilpailu!$B$6 =Kilpailu!$A$80,Kilpailu!B52,IF(Kilpailu!$B$6 =Kilpailu!$A$81,Kilpailu!B67,""))) -> Opposite 2 point rolls | C22: 6 | D22: 6 | E22: 4.5 | F22: 3.5 | G22: 4 | H22: =(SUM(C22:G22)*IF(Kilpailu!$B$6 =Kilpailu!$A$79,Kilpailu!C37,IF(Kilpailu!$B$6 =Kilpailu!$A$80,Kilpailu!C52,IF(Kilpailu!$B$6 =Kilpailu!$A$81,Kilpailu!C67,1))))-SMALL(C22:G22,1)-LARGE(C22:G22,1) -> 14.5
A23: 9. | B23: =IF(Kilpailu!$B$6 =Kilpailu!$A$79,Kilpailu!B38,IF(Kilpailu!$B$6 =Kilpailu!$A$80,Kilpailu!B53,IF(Kilpailu!$B$6 =Kilpailu!$A$81,Kilpailu!B68,""))) -> Inside loop with pirouette on top | C23: 6.5 | D23: 6.5 | E23: 5.5 | F23: 5 | G23: 2 | H23: =(SUM(C23:G23)*IF(Kilpailu!$B$6 =Kilpailu!$A$79,Kilpailu!C38,IF(Kilpailu!$B$6 =Kilpailu!$A$80,Kilpailu!C53,IF(Kilpailu!$B$6 =Kilpailu!$A$81,Kilpailu!C68,1))))-SMALL(C23:G23,1)-LARGE(C23:G23,1) -> 17
A24: 10. | B24: =IF(Kilpailu!$B$6 =Kilpailu!$A$79,Kilpailu!B39,IF(Kilpailu!$B$6 =Kilpailu!$A$80,Kilpailu!B54,IF(Kilpailu!$B$6 =Kilpailu!$A$81,Kilpailu!B69,""))) -> Autorotation with two 90º turns | C24: 6.5 | D24: 6 | E24: 4 | F24: 4 | G24: 4 | H24: =(SUM(C24:G24)*IF(Kilpailu!$B$6 =Kilpailu!$A$79,Kilpailu!C39,IF(Kilpailu!$B$6 =Kilpailu!$A$80,Kilpailu!C54,IF(Kilpailu!$B$6 =Kilpailu!$A$81,Kilpailu!C69,1))))-SMALL(C24:G24,1)-LARGE(C24:G24,1) -> 14
A25: 11. | B25: =IF(Kilpailu!$B$6 =Kilpailu!$A$79,Kilpailu!B40,IF(Kilpailu!$B$6 =Kilpailu!$A$80,Kilpailu!B55,IF(Kilpailu!$B$6 =Kilpailu!$A$81,Kilpailu!B70,""))) | G25: 0 | H25: =(SUM(C25:G25)*IF(Kilpailu!$B$6 =Kilpailu!$A$79,Kilpailu!C40,IF(Kilpailu!$B$6 =Kilpailu!$A$80,Kilpailu!C55,IF(Kilpailu!$B$6 =Kilpailu!$A$81,Kilpailu!C70,1))))-SMALL(C25:G25,1)-LARGE(C25:G25,1) -> 0
B26: Yht. | C26: =SUM(C15:C25) -> 51 | D26: =SUM(D15:D25) -> 52.5 | E26: =SUM(E15:E25) -> 41 | F26: =SUM(F15:F25) -> 37.5 | G26: =SUM(G15:G25) -> 39
A30: Kierros 2: | C30: Tuomari 1 | D30: Tuomari 2 | E30: Tuomari 3 | F30: Tuomari 4 | G30: Tuomari 5 | H30: yht.
A31: 1. | B31: =IF(Kilpailu!$B$6 =Kilpailu!$A$79,Kilpailu!B30,IF(Kilpailu!$B$6 =Kilpailu!$A$80,Kilpailu!B45,IF(Kilpailu!$B$6 =Kilpailu!$A$81,Kilpailu!B60,""))) -> M with 2 half pirouettes on all side | C31: 5 | D31: 3 | E31: 3 | F31: 4 | G31: 4 | H31: =(SUM(C31:G31)*IF(Kilpailu!$B$6 =Kilpailu!$A$79,Kilpailu!C30,IF(Kilpailu!$B$6 =Kilpailu!$A$80,Kilpailu!C45,IF(Kilpailu!$B$6 =Kilpailu!$A$81,Kilpailu!C60,1))))-SMALL(C31:G31,1)-LARGE(C31:G31,1) -> 11
A32: 2. | B32: =IF(Kilpailu!$B$6 =Kilpailu!$A$79,Kilpailu!B31,IF(Kilpailu!$B$6 =Kilpailu!$A$80,Kilpailu!B46,IF(Kilpailu!$B$6 =Kilpailu!$A$81,Kilpailu!B61,""))) -> Semicircle with pirouette | C32: 5.5 | D32: 3 | E32: 2 | F32: 3 | G32: 3 | H32: =(SUM(C32:G32)*IF(Kilpailu!$B$6 =Kilpailu!$A$79,Kilpailu!C31,IF(Kilpailu!$B$6 =Kilpailu!$A$80,Kilpailu!C46,IF(Kilpailu!$B$6 =Kilpailu!$A$81,Kilpailu!C61,1))))-SMALL(C32:G32,1)-LARGE(C32:G32,1) -> 9
A33: 3. | B33: =IF(Kilpailu!$B$6 =Kilpailu!$A$79,Kilpailu!B32,IF(Kilpailu!$B$6 =Kilpailu!$A$80,Kilpailu!B47,IF(Kilpailu!$B$6 =Kilpailu!$A$81,Kilpailu!B62,""))) -> Diamond 3 | C33: 4 | D33: 3 | E33: 2.5 | F33: 3 | G33: 4 | H33: =(SUM(C33:G33)*IF(Kilpailu!$B$6 =Kilpailu!$A$79,Kilpailu!C32,IF(Kilpailu!$B$6 =Kilpailu!$A$80,Kilpailu!C47,IF(Kilpailu!$B$6 =Kilpailu!$A$81,Kilpailu!C62,1))))-SMALL(C33:G33,1)-LARGE(C33:G33,1) -> 10
