Workbook

Sheet Tulokset
A3: Kilpailija | B3: Kierros 1 | C3: Kierros 2 | D3: Kierros 1 suht. | E3: Kierros 2 suht. | G3: freestyle
A4: Mikko Kielinen | F4: ='1'!F15+'1'!F30+'1'!F45 -> 4340 | G4: ='1'!I9+'1'!I24+'1'!I39*100 -> 3058 | I4: =SUM(F4:H4) -> 7398
A5: Juho | F5: ='2'!F15+'2'!F30+'2'!F45 -> 4456 | G5: ='2'!I9+'2'!I24+'2'!I39*100 -> 1224 | I5: =SUM(F5:H5) -> 5680
A6: Markus | F6: ='3'!F15+'3'!F30+'3'!F45 -> 4256 | G6: ='3'!I9+'3'!I24+'3'!I39*100 -> 2650 | I6: =SUM(F6:H6) -> 6906

Sheet 1
A2: Nimi | B2: =Tulokset!A4 -> Mikko Kielinen
B4: Tuomari 1
A5: nro. | B5: Liike | C5: K Factror | D5: kierros 1 | E5: kierros 2 | F5: yhteensä | H5: Freestyle 1 | I5: 15
A6: 1 | B6: 360-turn w roll | C6: 6.5 | D6: 16 | E6: 16 | F6: =(D6*C6)+(E6*C6) -> 208
A7: 2 | B7: 4-point roll bc | C7: 6.5 | D7: 12 | E7: 14 | F7: =(D7*C7)+(E7*C7) -> 169 | H7: Freestyle 2 | I7: 15
A8: 3 | B8: Inv bc 8 | C8: 7 | D8: 13 | E8: 16 | F8: =(D8*C8)+(E8*C8) -> 203
A9: 4 | B9: 4 rainbow w roll | C9: 7.5 | D9: 15 | E9: 16 | F9: =(D9*C9)+(E9*C9) -> 232.5 | H9: Yhteensä: | I9: =SUM(I5+I7) -> 30
A10: 5 | B10: funnel | C10: 7.5 | D10: 12 | E10: 13 | F10: =(D10*C10)+(E10*C10) -> 187.5
A11: 6 | B11: cuban 8 bc | C11: 8.5 | D11: 13 | E11: 11 | F11: =(D11*C11)+(E11*C11) -> 204
A12: 7 | B12: loop bc | C12: 6 | D12: 8 | E12: 10 | F12: =(D12*C12)+(E12*C12) -> 108
A13: 8 | B13: inv autorotation | C13: 6.5 | D13: 14 | E13: 12 | F13: =(D13*C13)+(E13*C13) -> 169
E15: yhteensä | F15: =SUM(F6:F14) -> 1481
B19: Tuomari 2
A20: nro. | B20: Liike | C20: K Factror | D20: kierros 1 | E20: kierros 2 | F20: yhteensä | H20: Freestyle 1 | I20: 14
A21: 1 | B21: =B6 -> 360-turn w roll | C21: =C6 -> 6.5 | D21: 14 | E21: 14 | F21: =(D21*C21)+(E21*C21) -> 182
A22: 2 | B22: =B7 -> 4-point roll bc | C22: =C7 -> 6.5 | D22: 12 | E22: 11 | F22: =(D22*C22)+(E22*C22) -> 149.5 | H22: Freestyle 2 | I22: 14
A23: 3 | B23: =B8 -> Inv bc 8 | C23: =C8 -> 7 | D23: 11 | E23: 16 | F23: =(D23*C23)+(E23*C23) -> 189
A24: 4 | B24: =B9 -> 4 rainbow w roll | C24: =C9 -> 7.5 | D24: 15 | E24: 16 | F24: =(D24*C24)+(E24*C24) -> 232.5 | H24: Yhteensä: | I24: =SUM(I20+I22) -> 28
A25: 5 | B25: =B10 -> funnel | C25: =C10 -> 7.5 | D25: 7 | E25: 8 | F25: =(D25*C25)+(E25*C25) -> 112.5
A26: 6 | B26: =B11 -> cuban 8 bc | C26: =C11 -> 8.5 | D26: 14 | E26: 8 | F26: =(D26*C26)+(E26*C26) -> 187
A27: 7 | B27: =B12 -> loop bc | C27: =C12 -> 6 | D27: 10 | E27: 12 | F27: =(D27*C27)+(E27*C27) -> 132
A28: 8 | B28: =B13 -> inv autorotation | C28: =C13 -> 6.5 | D28: 15 | E28: 14 | F28: =(D28*C28)+(E28*C28) -> 188.5
E30: yhteensä | F30: =SUM(F21:F29) -> 1373
B34: Tuomari 3
A35: nro. | B35: Liike | C35: K Factror | D35: kierros 1 | E35: kierros 2 | F35: yhteensä | H35: Freestyle 1 | I35: 15
A36: 1 | B36: =B21 -> 360-turn w roll | C36: =C21 -> 6.5 | D36: 15 | E36: 14 | F36: =(D36*C36)+(E36*C36) -> 188.5
A37: 2 | B37: =B22 -> 4-point roll bc | C37: =C22 -> 6.5 | D37: 8 | E37: 13 | F37: =(D37*C37)+(E37*C37) -> 136.5 | H37: Freestyle 2 | I37: 15
A38: 3 | B38: =B23 -> Inv bc 8 | C38: =C23 -> 7 | D38: 17 | E38: 17 | F38: =(D38*C38)+(E38*C38) -> 238
A39: 4 | B39: =B24 -> 4 rainbow w roll | C39: =C24 -> 7.5 | D39: 18 | E39: 16 | F39: =(D39*C39)+(E39*C39) -> 255 | H39: Yhteensä: | I39: =SUM(I35+I37) -> 30
A40: 5 | B40: =B25 -> funnel | C40: =C25 -> 7.5 | D40: 10 | E40: 12 | F40: =(D40*C40)+(E40*C40) -> 165
A41: 6 | B41: =B26 -> cuban 8 bc | C41: =C26 -> 8.5 | D41: 14 | E41: 6 | F41: =(D41*C41)+(E41*C41) -> 170
A42: 7 | B42: =B27 -> loop bc | C42: =C27 -> 6 | D42: 10 | E42: 13 | F42: =(D42*C42)+(E42*C42) -> 138
A43: 8 | B43: =B28 -> inv autorotation | C43: =C28 -> 6.5 | D43: 17 | E43: 13 | F43: =(D43*C43)+(E43*C43) -> 195
E45: yhteensä | F45: =SUM(F36:F44) -> 1486

Sheet 2
A2: Nimi | B2: =Tulokset!A5 -> Juho
B4: Tuomari 1
A5: nro. | B5: Liike | C5: K Factror | D5: kierros 1 | E5: kierros 2 | F5: yhteensä | H5: Freestyle 1 | I5: 6
A6: 1 | B6: cuban 8 bc | C6: 8.5 | D6: 5 | E6: 8 | F6: =(D6*C6)+(E6*C6) -> 110.5
A7: 2 | B7: bc horizotal 8 | C7: 5 | D7: 12 | E7: 14 | F7: =(D7*C7)+(E7*C7) -> 130 | H7: Freestyle 2 | I7: 6
A8: 3 | B8: tic-toc | C8: 6 | D8: 12 | E8: 8 | F8: =(D8*C8)+(E8*C8) -> 120
A9: 4 | B9: 0-turn w hrols | C9: 6 | D9: 18 | E9: 17 | F9: =(D9*C9)+(E9*C9) -> 210 | H9: Yhteensä: | I9: =SUM(I5+I7) -> 12
A10: 5 | B10: 360 with roll | C10: 6.5 | D10: 14 | E10: 14 | F10: =(D10*C10)+(E10*C10) -> 182
A11: 6 | B11: bc 4-point roll | C11: 6.5 | D11: 10 | E11: 12 | F11: =(D11*C11)+(E11*C11) -> 143
A12: 7 | B12: bc loop | C12: 6.5 | D12: 12 | E12: 10 | F12: =(D12*C12)+(E12*C12) -> 143
A13: 8 | B13: 4-point roll | C13: 4.5 | D13: 15 | E13: 16 | F13: =(D13*C13)+(E13*C13) -> 139.5
E15: yhteensä | F15: =SUM(F6:F14) -> 1178
B19: Tuomari 2
A20: nro. | B20: Liike | C20: K Factror | D20: kierros 1 | E20: kierros 2 | F20: yhteensä | H20: Freestyle 1 | I20: 6
A21: 1 | B21: =B6 -> cuban 8 bc | C21: 7 | D21: 2 | E21: 11 | F21: =(D21*C21)+(E21*C21) -> 91
A22: 2 | B22: =B7 -> bc horizotal 8 | C22: 7.5 | D22: 16 | E22: 17 | F22: =(D22*C22)+(E22*C22) -> 247.5 | H22: Freestyle 2 | I22: 6
A23: 3 | B23: =B8 -> tic-toc | C23: 8 | D23: 8 | E23: 10 | F23: =(D23*C23)+(E23*C23) -> 144
A24: 4 | B24: =B9 -> 0-turn w hrols | C24: 8 | D24: 18 | E24: 18 | F24: =(D24*C24)+(E24*C24) -> 288 | H24: Yhteensä: | I24: =SUM(I20+I22) -> 12
A25: 5 | B25: =B10 -> 360 with roll | C25: 8.5 | D25: 8 | E25: 16 | F25: =(D25*C25)+(E25*C25) -> 204
A26: 6 | B26: =B11 -> bc 4-point roll | C26: 8.5 | D26: 6 | E26: 10 | F26: =(D26*C26)+(E26*C26) -> 136
A27: 7 | B27: =B12 -> bc loop | C27: 8.5 | D27: 6 | E27: 7 | F27: =(D27*C27)+(E27*C27) -> 110.5
A28: 8 | B28: =B13 -> 4-point roll | C28: 9 | D28: 14 | E28: 14 | F28: =(D28*C28)+(E28*C28) -> 252
E30: yhteensä | F30: =SUM(F21:F29) -> 1473
B34: Tuomari 3
A35: nro. | B35: Liike | C35: K Factror | D35: kierros 1 | E35: kierros 2 | F35: yhteensä | H35: Freestyle 1 | I35: 6
A36: 1 | B36: =B21 -> cuban 8 bc | C36: =C21 -> 7 | D36: 6 | E36: 10 | F36: =(D36*C36)+(E36*C36) -> 112
A37: 2 | B37: =B22 -> bc horizotal 8 | C37: =C22 -> 7.5 | D37: 14 | E37: 16 | F37: =(D37*C37)+(E37*C37) -> 225 | H37: Freestyle 2 | I37: 6
A38: 3 | B38: =B23 -> tic-toc | C38: =C23 -> 8 | D38: 14 | E38: 8 | F38: =(D38*C38)+(E38*C38) -> 176
A39: 4 | B39: =B24 -> 0-turn w hrols | C39: =C24 -> 8 | D39: 16 | E39: 17 | F39: =(D39*C39)+(E39*C39) -> 264 | H39: Yhteensä: | I39: =SUM(I35+I37) -> 12
A40: 5 | B40: =B25 -> 360 with roll | C40: =C25 -> 8.5 | D40: 15 | E40: 18 | F40: =(D40*C40)+(E40*C40) -> 280.5
A41: 6 | B41: =B26 -> bc 4-point roll | C41: =C26 -> 8.5 | D41: 15 | E41: 14 | F41: =(D41*C41)+(E41*C41) -> 246.5
A42: 7 | B42: =B27 -> bc loop | C42: =C27 -> 8.5 | D42: 14 | E42: 10 | F42: =(D42*C42)+(E42*C42) -> 204
A43: 8 | B43: =B28 -> 4-point roll | C43: =C28 -> 9 | D43: 17 | E43: 16 | F43: =(D43*C43)+(E43*C43) -> 297
E45: yhteensä | F45: =SUM(F36:F44) -> 1805

Sheet 3
A2: Nimi | B2: =Tulokset!A6 -> Markus
B4: Tuomari 1
A5: nro. | B5: Liike | C5: K Factror | D5: kierros 1 | E5: kierros 2 | F5: yhteensä | H5: Freestyle 1 | I5: 13
A6: 1 | B6: inv bc 8 | C6: 7 | D6: 12 | E6: 12 | F6: =(D6*C6)+(E6*C6) -> 168
A7: 2 | B7: funnel | C7: 7.5 | D7: 16 | E7: 12 | F7: =(D7*C7)+(E7*C7) -> 210 | H7: Freestyle 2 | I7: 13
A8: 3 | B8: inv piro circle | C8: 8 | D8: 12 | E8: 16 | F8: =(D8*C8)+(E8*C8) -> 224
A9: 4 | B9: triple piroflip | C9: 8 | D9: 13 | E9: 11 | F9: =(D9*C9)+(E9*C9) -> 192 | H9: Yhteensä: | I9: =SUM(I5+I7) -> 26
A10: 5 | B10: piro loop | C10: 8.5 | D10: 10 | E10: 13 | F10: =(D10*C10)+(E10*C10) -> 195.5
A11: 6 | B11: bc cuban loop | C11: 8.5 | D11: 8 | E11: 13 | F11: =(D11*C11)+(E11*C11) -> 178.5
A12: 7 | B12: bc rolling circle | C12: 8.5 | D12: 8 | E12: 6 | F12: =(D12*C12)+(E12*C12) -> 119
A13: 8 | B13: 2-point tictoc | C13: 9 | D13: 11 | E13: 12 | F13: =(D13*C13)+(E13*C13) -> 207
E15: yhteensä | F15: =SUM(F6:F14) -> 1494
B19: Tuomari 2
A20: nro. | B20: Liike | C20: K Factror | D20: kierros 1 | E20: kierros 2 | F20: yhteensä | H20: Freestyle 1 | I20: 12
A21: 1 | B21: =B6 -> inv bc 8 | C21: =C6 -> 7 | D21: 12 | E21: 11 | F21: =(D21*C21)+(E21*C21) -> 161
A22: 2 | B22: =B7 -> funnel | C22: =C7 -> 7.5 | D22: 11 | E22: 7 | F22: =(D22*C22)+(E22*C22) -> 135 | H22: Freestyle 2 | I22: 12
A23: 3 | B23: =B8 -> inv piro circle | C23: =C8 -> 8 | D23: 8 | E23: 14 | F23: =(D23*C23)+(E23*C23) -> 176
A24: 4 | B24: =B9 -> triple piroflip | C24: =C9 -> 8 | D24: 12 | E24: 7 | F24: =(D24*C24)+(E24*C24) -> 152 | H24: Yhteensä: | I24: =SUM(I20+I22) -> 24
A25: 5 | B25: =B10 -> piro loop | C25: =C10 -> 8.5 | D25: 6 | E25: 8 | F25: =(D25*C25)+(E25*C25) -> 119
A26: 6 | B26: =B11 -> bc cuban loop | C26: =C11 -> 8.5 | D26: 6 | E26: 9 | F26: =(D26*C26)+(E26*C26) -> 127.5
A27: 7 | B27: =B12 -> bc rolling circle | C27: =C12 -> 8.5 | D27: 5 | E27: 3 | F27: =(D27*C27)+(E27*C27) -> 68
A28: 8 | B28: =B13 -> 2-point tictoc | C28: =C13 -> 9 | D28: 14 | E28: 12 | F28: =(D28*C28)+(E28*C28) -> 234
E30: yhteensä | F30: =SUM(F21:F29) -> 1172.5
B34: Tuomari 3
A35: nro. | B35: Liike | C35: K Factror | D35: kierros 1 | E35: kierros 2 | F35: yhteensä | H35: Freestyle 1 | I35: 13
A36: 1 | B36: =B21 -> inv bc 8 | C36: =C21 -> 7 | D36: 13 | E36: 11 | F36: =(D36*C36)+(E36*C36) -> 168
A37: 2 | B37: =B22 -> funnel | C37: =C22 -> 7.5 | D37: 16 | E37: 13 | F37: =(D37*C37)+(E37*C37) -> 217.5 | H37: Freestyle 2 | I37: 13
A38: 3 | B38: =B23 -> inv piro circle | C38: =C23 -> 8 | D38: 12 | E38: 17 | F38: =(D38*C38)+(E38*C38) -> 232
A39: 4 | B39: =B24 -> triple piroflip | C39: =C24 -> 8 | D39: 12 | E39: 8 | F39: =(D39*C39)+(E39*C39) -> 160 | H39: Yhteensä: | I39: =SUM(I35+I37) -> 26
A40: 5 | B40: =B25 -> piro loop | C40: =C25 -> 8.5 | D40: 14 | E40: 10 | F40: =(D40*C40)+(E40*C40) -> 204
A41: 6 | B41: =B26 -> bc cuban loop | C41: =C26 -> 8.5 | D41: 14 | E41: 12 | F41: =(D41*C41)+(E41*C41) -> 221
A42: 7 | B42: =B27 -> bc rolling circle | C42: =C27 -> 8.5 | D42: 13 | E42: 5 | F42: =(D42*C42)+(E42*C42) -> 153
A43: 8 | B43: =B28 -> 2-point tictoc | C43: =C28 -> 9 | D43: 14 | E43: 12 | F43: =(D43*C43)+(E43*C43) -> 234
E45: yhteensä | F45: =SUM(F36:F44) -> 1589.5
