Workbook

Sheet Kilpailu
A4: Paikka: | B4: Forssa
A5: Päivä: | B5: 40019
A6: Ohjelma: | B6: Eurosport
A8: Kilpailijat: | D8: Lentojärjestys
B9: Nimi | D9: kierros 1: | F9: kierros 2: | H9: kierros 3:
A10: 1. | B10: Jari Niemi
A11: 2. | B11: Jukka Heikkilä
A12: 3. | B12: Tero Vartiainen
A13: 4.
A14: 5.
A15: 6.
A16: 7.
A17: 8.
A18: 9.
A19: 10.
A20: 11.
A21: 12.
A22: 13.
A23: 14.
A24: 15.
A28: Ohjelma: | B28: FAI-A
B29: Liike: | C29: kerroin:
A30: 1. | B30: DIAMOND | C30: 1
A31: 2. | B31: INVERTED TRIANGLE | C31: 1
A32: 3. | B32: HOVERING “M” | C32: 1
A33: 4. | B33: ROLL REVERSAL | C33: 1
A34: 5. | B34: DOUBLE ROLLING STALL | C34: 1
A35: 6. | B35: COBRA ROLL WITH HALF ROLLS | C35: 1
A36: 7. | B36: FLIPPING PULLBACK | C36: 1
A37: 8. | B37: CUBAN EIGHT | C37: 1
A38: 9. | B38: PUSH OVER WITH 360º PIROUETTE | C38: 1
A39: 10. | B39: AUTOROTATION WITH 180º TURN | C39: 1
A40: 11. | C40: 1
A43: Ohjelma: | B43: Eurosport
B44: Liike: | C44: kerroin:
A45: 1. | B45: Timantti | C45: 1
A46: 2. | B46: Suora leijutus kahdella 180 piruet. | C46: 1
A47: 3. | B47: Pystykolmio 360 piruetilla | C47: 1
A48: 4. | B48: Vaakakierre | C48: 1
A49: 5. | B49: Tuplasilmukat | C49: 1
A50: 6. | B50: Pystykäännökset | C50: 1
A51: 7. | B51: Pushover | C51: 1
A52: 8. | B52: Puolikas cuubalainen kahdeksikko | C52: 1
A53: 9. | B53: Suora autorotaation 45 ast. Kulm. | C53: 1
A54: 10. | C54: 1
A55: 11. | C55: 1
A58: Ohjelma: | B58: Popular
B59: Liike: | C59: kerroin:
A60: 1. | B60: Leijuntaneliö | C60: 1
A61: 2. | B61: Leijunta-M | C61: 1
A62: 3. | B62: Puolipallo | C62: 1
A63: 4. | B63: Suora ohilento | C63: 1
A64: 5. | B64: Nouseva 180 asteen käännös | C64: 1
A65: 6. | B65: 45 asteen moottorilasku | C65: 1
A66: 7. | C66: 1
A67: 8. | C67: 1
A68: 9. | C68: 1
A69: 10. | C69: 1
A70: 11. | C70: 1
A79: F3C-A
A80: Eurosport
A81: Popular

Sheet Tulokset
A4: Paikka: | B4: =Kilpailu!B4 -> Forssa | C4: Päivä: | D4: =Kilpailu!B5 -> 40019 | E4: Luokka: | F4: =Kilpailu!B6 -> Eurosport
B6: Kokonaistulokset | J6: suht.
C7: Pisteet | D7: Suht… | E7: Tm 1 | F7: Tm 2 | G7: Tm 3 | H7: Tm 4 | I7: Tm 5 | J7: Ero kärkeen
A8: 1. | B8: =Kilpailu!B$10 -> Jari Niemi | C8: =SUM(C28,C48,C68)-'1'!D10 -> 283 | D8: =SUM(D28,D48,D68)-'1'!E10 -> 1636.8469 | E8: =SUM(E28,E48,E68) -> 88 | F8: =SUM(F28,F48,F68) -> 105.5 | G8: =SUM(G28,G48,G68) -> 104 | H8: =SUM(H28,H48,H68) -> 0 | I8: =SUM(I28,I48,I68) -> 180 | J8: =LARGE(D$8:D$22,1)-D8 -> 363.15314
A9: 2. | B9: =Kilpailu!B$11 -> Jukka Heikkilä | C9: =SUM(C29,C49,C69)-'2'!D10 -> 303 | D9: =SUM(D29,D49,D69)-'2'!E10 -> 1983.0508 | E9: =SUM(E29,E49,E69) -> 104 | F9: =SUM(F29,F49,F69) -> 109.5 | G9: =SUM(G29,G49,G69) -> 111 | H9: =SUM(H29,H49,H69) -> 0 | I9: =SUM(I29,I49,I69) -> 180 | J9: =LARGE(D$8:D$22,1)-D9 -> 16.949153
A10: 3. | B10: =Kilpailu!B$12 -> Tero Vartiainen | C10: =SUM(C30,C50,C70)-'3'!D10 -> 346 | D10: =SUM(D30,D50,D70)-'3'!E10 -> 2000 | E10: =SUM(E30,E50,E70) -> 117.5 | F10: =SUM(F30,F50,F70) -> 125 | G10: =SUM(G30,G50,G70) -> 125 | H10: =SUM(H30,H50,H70) -> 0 | I10: =SUM(I30,I50,I70) -> 180 | J10: =LARGE(D$8:D$22,1)-D10 -> 0
A11: 4. | B11: =Kilpailu!B$13 -> 0 | C11: =SUM(C31,C51,C71)-'4'!D10 -> 0 | D11: =SUM(D31,D51,D71)-'4'!E10 -> 0 | E11: =SUM(E31,E51,E71) -> 0 | F11: =SUM(F31,F51,F71) -> 0 | G11: =SUM(G31,G51,G71) -> 0 | H11: =SUM(H31,H51,H71) -> 0 | I11: =SUM(I31,I51,I71) -> 180 | J11: =LARGE(D$8:D$22,1)-D11 -> 2000
A12: 5. | B12: =Kilpailu!B$14 -> 0 | C12: =SUM(C32,C52,C72)-'5'!D10 -> 0 | D12: =SUM(D32,D52,D72)-'5'!E10 -> 0 | E12: =SUM(E32,E52,E72) -> 0 | F12: =SUM(F32,F52,F72) -> 0 | G12: =SUM(G32,G52,G72) -> 0 | H12: =SUM(H32,H52,H72) -> 0 | I12: =SUM(I32,I52,I72) -> 180 | J12: =LARGE(D$8:D$22,1)-D12 -> 2000
A13: 6. | B13: =Kilpailu!B$15 -> 0 | C13: =SUM(C33,C53,C73)-'6'!D10 -> 0 | D13: =SUM(D33,D53,D73)-'6'!E10 -> 0 | E13: =SUM(E33,E53,E73) -> 0 | F13: =SUM(F33,F53,F73) -> 0 | G13: =SUM(G33,G53,G73) -> 0 | H13: =SUM(H33,H53,H73) -> 0 | I13: =SUM(I33,I53,I73) -> 0 | J13: =LARGE(D$8:D$22,1)-D13 -> 2000
A14: 7. | B14: =Kilpailu!B$16 -> 0 | C14: =SUM(C34,C54,C74) -> 0 | D14: =SUM(D34,D54,D74) -> 0 | E14: =SUM(E34,E54,E74) -> 0 | F14: =SUM(F34,F54,F74) -> 0 | G14: =SUM(G34,G54,G74) -> 0 | H14: =SUM(H34,H54,H74) -> 0 | I14: =SUM(I34,I54,I74) -> 0 | J14: =LARGE(D$8:D$22,1)-D14 -> 2000
A15: 8. | B15: =Kilpailu!B$17 -> 0 | C15: =SUM(C35,C55,C75) -> 0 | D15: =SUM(D35,D55,D75) -> 0 | E15: =SUM(E35,E55,E75) -> 0 | F15: =SUM(F35,F55,F75) -> 0 | G15: =SUM(G35,G55,G75) -> 0 | H15: =SUM(H35,H55,H75) -> 0 | I15: =SUM(I35,I55,I75) -> 0 | J15: =LARGE(D$8:D$22,1)-D15 -> 2000
A16: 9. | B16: =Kilpailu!B$18 -> 0 | C16: =SUM(C36,C56,C76) -> 0 | D16: =SUM(D36,D56,D76) -> 0 | E16: =SUM(E36,E56,E76) -> 0 | F16: =SUM(F36,F56,F76) -> 0 | G16: =SUM(G36,G56,G76) -> 0 | H16: =SUM(H36,H56,H76) -> 0 | I16: =SUM(I36,I56,I76) -> 0 | J16: =LARGE(D$8:D$22,1)-D16 -> 2000
A17: 10. | B17: =Kilpailu!B$19 -> 0 | C17: =SUM(C37,C57,C77) -> 0 | D17: =SUM(D37,D57,D77) -> 0 | E17: =SUM(E37,E57,E77) -> 0 | F17: =SUM(F37,F57,F77) -> 0 | G17: =SUM(G37,G57,G77) -> 0 | H17: =SUM(H37,H57,H77) -> 0 | I17: =SUM(I37,I57,I77) -> 0 | J17: =LARGE(D$8:D$22,1)-D17 -> 2000
A18: 11. | B18: =Kilpailu!B$20 -> 0 | C18: =SUM(C38,C58,C78) -> 0 | D18: =SUM(D38,D58,D78) -> 0 | E18: =SUM(E38,E58,E78) -> 0 | F18: =SUM(F38,F58,F78) -> 0 | G18: =SUM(G38,G58,G78) -> 0 | H18: =SUM(H38,H58,H78) -> 0 | I18: =SUM(I38,I58,I78) -> 0 | J18: =LARGE(D$8:D$22,1)-D18 -> 2000
A19: 12. | B19: =Kilpailu!B$21 -> 0 | C19: =SUM(C39,C59,C79) -> 0 | D19: =SUM(D39,D59,D79) -> 0 | E19: =SUM(E39,E59,E79) -> 0 | F19: =SUM(F39,F59,F79) -> 0 | G19: =SUM(G39,G59,G79) -> 0 | H19: =SUM(H39,H59,H79) -> 0 | I19: =SUM(I39,I59,I79) -> 0 | J19: =LARGE(D$8:D$22,1)-D19 -> 2000
A20: 13. | B20: =Kilpailu!B$22 -> 0 | C20: =SUM(C40,C60,C80) -> 0 | D20: =SUM(D40,D60,D80) -> 0 | E20: =SUM(E40,E60,E80) -> 0 | F20: =SUM(F40,F60,F80) -> 0 | G20: =SUM(G40,G60,G80) -> 0 | H20: =SUM(H40,H60,H80) -> 0 | I20: =SUM(I40,I60,I80) -> 0 | J20: =LARGE(D$8:D$22,1)-D20 -> 2000
A21: 14. | B21: =Kilpailu!B$23 -> 0 | C21: =SUM(C41,C61,C81) -> 0 | D21: =SUM(D41,D61,D81) -> 0 | E21: =SUM(E41,E61,E81) -> 0 | F21: =SUM(F41,F61,F81) -> 0 | G21: =SUM(G41,G61,G81) -> 0 | H21: =SUM(H41,H61,H81) -> 0 | I21: =SUM(I41,I61,I81) -> 0 | J21: =LARGE(D$8:D$22,1)-D21 -> 2000
A22: 15. | B22: =Kilpailu!B$24 -> 0 | C22: =SUM(C42,C62,C82) -> 0 | D22: =SUM(D42,D62,D82) -> 0 | E22: =SUM(E42,E62,E82) -> 0 | F22: =SUM(F42,F62,F82) -> 0 | G22: =SUM(G42,G62,G82) -> 0 | H22: =SUM(H42,H62,H82) -> 0 | I22: =SUM(I42,I62,I82) -> 0 | J22: =LARGE(D$8:D$22,1)-D22 -> 2000
B26: Kierros 1: | J26: tuomari pist.
C27: Pisteet | D27: Suht… | E27: Tm 1 | F27: Tm 2 | G27: Tm 3 | H27: Tm 4 | I27: Tm 5 | J27: Ero kärkeen
A28: 1. | B28: =Kilpailu!B$10 -> Jari Niemi | C28: ='1'!D$5 -> 141 | D28: =C28/LARGE(C$28:C$42,1)*1000 -> 796.61017 | E28: ='1'!C$26 -> 43 | F28: ='1'!D$26 -> 46.5 | G28: ='1'!E$26 -> 51.5 | H28: ='1'!F$26 -> 0 | I28: ='1'!G$26 -> 90 | J28: =LARGE(C$28:C$42,1)-C28 -> 36
A29: 2. | B29: =Kilpailu!B$11 -> Jukka Heikkilä | C29: ='2'!D$5 -> 174 | D29: =C29/LARGE(C$28:C$42,1)*1000 -> 983.05085 | E29: ='2'!C$26 -> 55.5 | F29: ='2'!D$26 -> 57 | G29: ='2'!E$26 -> 61.5 | H29: ='2'!F$26 -> 0 | I29: ='2'!G$26 -> 90 | J29: =LARGE(C$28:C$42,1)-C29 -> 3
A30: 3. | B30: =Kilpailu!B$12 -> Tero Vartiainen | C30: ='3'!D$5 -> 177 | D30: =C30/LARGE(C$28:C$42,1)*1000 -> 1000 | E30: ='3'!C$26 -> 58 | F30: ='3'!D$26 -> 59.5 | G30: ='3'!E$26 -> 59.5 | H30: ='3'!F$26 -> 0 | I30: ='3'!G$26 -> 90 | J30: =LARGE(C$28:C$42,1)-C30 -> 0
A31: 4. | B31: =Kilpailu!B$13 -> 0 | C31: ='4'!D$5 -> 0 | D31: =C31/LARGE(C$28:C$42,1)*1000 -> 0 | E31: ='4'!C$26 -> 0 | F31: ='4'!D$26 -> 0 | G31: ='4'!E$26 -> 0 | H31: ='4'!F$26 -> 0 | I31: ='4'!G$26 -> 90 | J31: =LARGE(C$28:C$42,1)-C31 -> 177
A32: 5. | B32: =Kilpailu!B$14 -> 0 | C32: ='5'!D$5 -> 0 | D32: =C32/LARGE(C$28:C$42,1)*1000 -> 0 | E32: ='5'!C$26 -> 0 | F32: ='5'!D$26 -> 0 | G32: ='5'!E$26 -> 0 | H32: ='5'!F$26 -> 0 | I32: ='5'!G$26 -> 90 | J32: =LARGE(C$28:C$42,1)-C32 -> 177
A33: 6. | B33: =Kilpailu!B$15 -> 0 | C33: ='6'!D$5 -> 0 | D33: =C33/LARGE(C$28:C$42,1)*1000 -> 0 | E33: ='6'!C$26 -> 0 | F33: ='6'!D$26 -> 0 | G33: ='6'!E$26 -> 0 | H33: ='6'!F$26 -> 0 | I33: ='6'!G$26 -> 0 | J33: =LARGE(C$28:C$42,1)-C33 -> 177
A34: 7. | B34: =Kilpailu!B$16 -> 0 | C34: ='7'!D$5 -> 0 | D34: =C34/LARGE(C$28:C$42,1)*1000 -> 0 | E34: ='7'!C$26 -> 0 | F34: ='7'!D$26 -> 0 | G34: ='7'!E$26 -> 0 | H34: ='7'!F$26 -> 0 | I34: ='7'!G$26 -> 0 | J34: =LARGE(C$28:C$42,1)-C34 -> 177
A35: 8. | B35: =Kilpailu!B$17 -> 0 | C35: ='8'!D$5 -> 0 | D35: =C35/LARGE(C$28:C$42,1)*1000 -> 0 | E35: ='8'!C$26 -> 0 | F35: ='8'!D$26 -> 0 | G35: ='8'!E$26 -> 0 | H35: ='8'!F$26 -> 0 | I35: ='8'!G$26 -> 0 | J35: =LARGE(C$28:C$42,1)-C35 -> 177
A36: 9. | B36: =Kilpailu!B$18 -> 0 | C36: ='9'!D$5 -> 0 | D36: =C36/LARGE(C$28:C$42,1)*1000 -> 0 | E36: ='9'!C$26 -> 0 | F36: ='9'!D$26 -> 0 | G36: ='9'!E$26 -> 0 | H36: ='9'!F$26 -> 0 | I36: ='9'!G$26 -> 0 | J36: =LARGE(C$28:C$42,1)-C36 -> 177
A37: 10. | B37: =Kilpailu!B$19 -> 0 | C37: ='10'!D$5 -> 0 | D37: =C37/LARGE(C$28:C$42,1)*1000 -> 0 | E37: ='10'!C$26 -> 0 | F37: ='10'!D$26 -> 0 | G37: ='10'!E$26 -> 0 | H37: ='10'!F$26 -> 0 | I37: ='10'!G$26 -> 0 | J37: =LARGE(C$28:C$42,1)-C37 -> 177
A38: 11. | B38: =Kilpailu!B$20 -> 0 | C38: ='11'!D$5 -> 0 | D38: =C38/LARGE(C$28:C$42,1)*1000 -> 0 | E38: ='11'!C$26 -> 0 | F38: ='11'!D$26 -> 0 | G38: ='11'!E$26 -> 0 | H38: ='11'!F$26 -> 0 | I38: ='11'!G$26 -> 0 | J38: =LARGE(C$28:C$42,1)-C38 -> 177
A39: 12. | B39: =Kilpailu!B$21 -> 0 | C39: ='12'!D$5 -> 0 | D39: =C39/LARGE(C$28:C$42,1)*1000 -> 0 | E39: ='12'!C$26 -> 0 | F39: ='12'!D$26 -> 0 | G39: ='12'!E$26 -> 0 | H39: ='12'!F$26 -> 0 | I39: ='12'!G$26 -> 0 | J39: =LARGE(C$28:C$42,1)-C39 -> 177
A40: 13. | B40: =Kilpailu!B$22 -> 0 | C40: ='13'!D$5 -> 0 | D40: =C40/LARGE(C$28:C$42,1)*1000 -> 0 | E40: ='13'!C$26 -> 0 | F40: ='13'!D$26 -> 0 | G40: ='13'!E$26 -> 0 | H40: ='13'!F$26 -> 0 | I40: ='13'!G$26 -> 0 | J40: =LARGE(C$28:C$42,1)-C40 -> 177
A41: 14. | B41: =Kilpailu!B$23 -> 0 | C41: ='14'!D$5 -> 0 | D41: =C41/LARGE(C$28:C$42,1)*1000 -> 0 | E41: ='14'!C$26 -> 0 | F41: ='14'!D$26 -> 0 | G41: ='14'!E$26 -> 0 | H41: ='14'!F$26 -> 0 | I41: ='14'!G$26 -> 0 | J41: =LARGE(C$28:C$42,1)-C41 -> 177
A42: 15. | B42: =Kilpailu!B$24 -> 0 | C42: ='15'!D$5 -> 0 | D42: =C42/LARGE(C$28:C$42,1)*1000 -> 0 | E42: ='15'!C$26 -> 0 | F42: ='15'!D$26 -> 0 | G42: ='15'!E$26 -> 0 | H42: ='15'!F$26 -> 0 | I42: ='15'!G$26 -> 0 | J42: =LARGE(C$28:C$42,1)-C42 -> 177
B46: Kierros 2: | J46: tuomari pist.
C47: Pisteet | D47: Suht… | E47: Tm 1 | F47: Tm 2 | G47: Tm 3 | H47: Tm 4 | I47: Tm 5 | J47: Ero kärkeen
A48: 1. | B48: =Kilpailu!B$10 -> Jari Niemi | C48: ='1'!D$6 -> 142 | D48: =C48/LARGE(C$48:C$62,1)*1000 -> 840.23669 | E48: ='1'!C$42 -> 40.5 | F48: ='1'!D$42 -> 54.5 | G48: ='1'!E$42 -> 47 | H48: ='1'!F$42 -> 0 | I48: ='1'!G$42 -> 90 | J48: =LARGE(C$48:C$62,1)-C48 -> 27
A49: 2. | B49: =Kilpailu!B$11 -> Jukka Heikkilä | C49: ='2'!D$6 -> 128.5 | D49: =C49/LARGE(C$48:C$62,1)*1000 -> 760.35503 | E49: ='2'!C$42 -> 41 | F49: ='2'!D$42 -> 45 | G49: ='2'!E$42 -> 42.5 | H49: ='2'!F$42 -> 0 | I49: ='2'!G$42 -> 90 | J49: =LARGE(C$48:C$62,1)-C49 -> 40.5
A50: 3. | B50: =Kilpailu!B$12 -> Tero Vartiainen | C50: ='3'!D$6 -> 169 | D50: =C50/LARGE(C$48:C$62,1)*1000 -> 1000 | E50: ='3'!C$42 -> 52.5 | F50: ='3'!D$42 -> 58.5 | G50: ='3'!E$42 -> 58 | H50: ='3'!F$42 -> 0 | I50: ='3'!G$42 -> 90 | J50: =LARGE(C$48:C$62,1)-C50 -> 0
A51: 4. | B51: =Kilpailu!B$13 -> 0 | C51: ='4'!D$6 -> 0 | D51: =C51/LARGE(C$48:C$62,1)*1000 -> 0 | E51: ='4'!C$42 -> 0 | F51: ='4'!D$42 -> 0 | G51: ='4'!E$42 -> 0 | H51: ='4'!F$42 -> 0 | I51: ='4'!G$42 -> 90 | J51: =LARGE(C$48:C$62,1)-C51 -> 169
A52: 5. | B52: =Kilpailu!B$14 -> 0 | C52: ='5'!D$6 -> 0 | D52: =C52/LARGE(C$48:C$62,1)*1000 -> 0 | E52: ='5'!C$42 -> 0 | F52: ='5'!D$42 -> 0 | G52: ='5'!E$42 -> 0 | H52: ='5'!F$42 -> 0 | I52: ='5'!G$42 -> 90 | J52: =LARGE(C$48:C$62,1)-C52 -> 169
A53: 6. | B53: =Kilpailu!B$15 -> 0 | C53: ='6'!D$6 -> 0 | D53: =C53/LARGE(C$48:C$62,1)*1000 -> 0 | E53: ='6'!C$42 -> 0 | F53: ='6'!D$42 -> 0 | G53: ='6'!E$42 -> 0 | H53: ='6'!F$42 -> 0 | I53: ='6'!G$42 -> 0 | J53: =LARGE(C$48:C$62,1)-C53 -> 169
A54: 7. | B54: =Kilpailu!B$16 -> 0 | C54: ='7'!D$5 -> 0 | D54: =C54/LARGE(C$48:C$62,1)*1000 -> 0 | E54: ='7'!C$42 -> 0 | F54: ='7'!D$42 -> 0 | G54: ='7'!E$42 -> 0 | H54: ='7'!F$42 -> 0 | I54: ='7'!G$42 -> 0 | J54: =LARGE(C$48:C$62,1)-C54 -> 169
A55: 8. | B55: =Kilpailu!B$17 -> 0 | C55: ='8'!D$5 -> 0 | D55: =C55/LARGE(C$48:C$62,1)*1000 -> 0 | E55: ='8'!C$42 -> 0 | F55: ='8'!D$42 -> 0 | G55: ='8'!E$42 -> 0 | H55: ='8'!F$42 -> 0 | I55: ='8'!G$42 -> 0 | J55: =LARGE(C$48:C$62,1)-C55 -> 169
A56: 9. | B56: =Kilpailu!B$18 -> 0 | C56: ='9'!D$5 -> 0 | D56: =C56/LARGE(C$48:C$62,1)*1000 -> 0 | E56: ='9'!C$42 -> 0 | F56: ='9'!D$42 -> 0 | G56: ='9'!E$42 -> 0 | H56: ='9'!F$42 -> 0 | I56: ='9'!G$42 -> 0 | J56: =LARGE(C$48:C$62,1)-C56 -> 169
A57: 10. | B57: =Kilpailu!B$19 -> 0 | C57: ='10'!D$5 -> 0 | D57: =C57/LARGE(C$48:C$62,1)*1000 -> 0 | E57: ='10'!C$42 -> 0 | F57: ='10'!D$42 -> 0 | G57: ='10'!E$42 -> 0 | H57: ='10'!F$42 -> 0 | I57: ='10'!G$42 -> 0 | J57: =LARGE(C$48:C$62,1)-C57 -> 169
A58: 11. | B58: =Kilpailu!B$20 -> 0 | C58: ='11'!D$5 -> 0 | D58: =C58/LARGE(C$48:C$62,1)*1000 -> 0 | E58: ='11'!C$42 -> 0 | F58: ='11'!D$42 -> 0 | G58: ='11'!E$42 -> 0 | H58: ='11'!F$42 -> 0 | I58: ='11'!G$42 -> 0 | J58: =LARGE(C$48:C$62,1)-C58 -> 169
A59: 12. | B59: =Kilpailu!B$21 -> 0 | C59: ='12'!D$5 -> 0 | D59: =C59/LARGE(C$48:C$62,1)*1000 -> 0 | E59: ='12'!C$42 -> 0 | F59: ='12'!D$42 -> 0 | G59: ='12'!E$42 -> 0 | H59: ='12'!F$42 -> 0 | I59: ='12'!G$42 -> 0 | J59: =LARGE(C$48:C$62,1)-C59 -> 169
A60: 13. | B60: =Kilpailu!B$22 -> 0 | C60: ='13'!D$5 -> 0 | D60: =C60/LARGE(C$48:C$62,1)*1000 -> 0 | E60: ='13'!C$42 -> 0 | F60: ='13'!D$42 -> 0 | G60: ='13'!E$42 -> 0 | H60: ='13'!F$42 -> 0 | I60: ='13'!G$42 -> 0 | J60: =LARGE(C$48:C$62,1)-C60 -> 169
A61: 14. | B61: =Kilpailu!B$23 -> 0 | C61: ='14'!D$5 -> 0 | D61: =C61/LARGE(C$48:C$62,1)*1000 -> 0 | E61: ='14'!C$42 -> 0 | F61: ='14'!D$42 -> 0 | G61: ='14'!E$42 -> 0 | H61: ='14'!F$42 -> 0 | I61: ='14'!G$42 -> 0 | J61: =LARGE(C$48:C$62,1)-C61 -> 169
A62: 15. | B62: =Kilpailu!B$24 -> 0 | C62: ='15'!D$5 -> 0 | D62: =C62/LARGE(C$48:C$62,1)*1000 -> 0 | E62: ='15'!C$42 -> 0 | F62: ='15'!D$42 -> 0 | G62: ='15'!E$42 -> 0 | H62: ='15'!F$42 -> 0 | I62: ='15'!G$42 -> 0 | J62: =LARGE(C$48:C$62,1)-C62 -> 169
B66: Kierros 3: | J66: tuomari pist.
C67: Pisteet | D67: Suht… | E67: Tm 1 | F67: Tm 2 | G67: Tm 3 | H67: Tm 4 | I67: Tm 5 | J67: Ero kärkeen
A68: 1. | B68: =Kilpailu!B$10 -> Jari Niemi | C68: ='1'!D$7 -> 102 | D68: =IF(LARGE(C$68:C$82,1)*1000=0,0,C68/LARGE(C$68:C$82,1)*1000) -> 790.69767 | E68: ='1'!C$48 -> 4.5 | F68: ='1'!D$48 -> 4.5 | G68: ='1'!E$48 -> 5.5 | H68: ='1'!F$48 -> 0 | I68: ='1'!G$48 -> 0 | J68: =LARGE(C$68:C$82,1)-C68 -> 27
A69: 2. | B69: =Kilpailu!B$11 -> Jukka Heikkilä | C69: ='2'!D$7 -> 129 | D69: =IF(LARGE(C$68:C$82,1)*1000=0,0,C69/LARGE(C$68:C$82,1)*1000) -> 1000 | E69: ='2'!C$49 -> 7.5 | F69: ='2'!D$49 -> 7.5 | G69: ='2'!E$49 -> 7 | H69: ='2'!F$49 -> 0 | I69: ='2'!G$49 -> 0 | J69: =LARGE(C$68:C$82,1)-C69 -> 0
A70: 3. | B70: =Kilpailu!B$12 -> Tero Vartiainen | C70: ='3'!D$7 -> 117 | D70: =IF(LARGE(C$68:C$82,1)*1000=0,0,C70/LARGE(C$68:C$82,1)*1000) -> 906.97674 | E70: ='3'!C$50 -> 7 | F70: ='3'!D$50 -> 7 | G70: ='3'!E$50 -> 7.5 | H70: ='3'!F$50 -> 0 | I70: ='3'!G$50 -> 0 | J70: =LARGE(C$68:C$82,1)-C70 -> 12
A71: 4. | B71: =Kilpailu!B$13 -> 0 | C71: ='4'!D$7 -> 0 | D71: =IF(LARGE(C$68:C$82,1)*1000=0,0,C71/LARGE(C$68:C$82,1)*1000) -> 0 | E71: ='4'!C$51 -> 0 | F71: ='4'!D$51 -> 0 | G71: ='4'!E$51 -> 0 | H71: ='4'!F$51 -> 0 | I71: ='4'!G$51 -> 0 | J71: =LARGE(C$68:C$82,1)-C71 -> 129
A72: 5. | B72: =Kilpailu!B$14 -> 0 | C72: ='5'!D$7 -> 0 | D72: =IF(LARGE(C$68:C$82,1)*1000=0,0,C72/LARGE(C$68:C$82,1)*1000) -> 0 | E72: ='5'!C$52 -> 0 | F72: ='5'!D$52 -> 0 | G72: ='5'!E$52 -> 0 | H72: ='5'!F$52 -> 0 | I72: ='5'!G$52 -> 0 | J72: =LARGE(C$68:C$82,1)-C72 -> 129
A73: 6. | B73: =Kilpailu!B$15 -> 0 | C73: ='6'!D$7 -> 0 | D73: =IF(LARGE(C$68:C$82,1)*1000=0,0,C73/LARGE(C$68:C$82,1)*1000) -> 0 | E73: ='6'!C$53 -> 0 | F73: ='6'!D$53 -> 0 | G73: ='6'!E$53 -> 0 | H73: ='6'!F$53 -> 0 | I73: ='6'!G$53 -> 0 | J73: =LARGE(C$68:C$82,1)-C73 -> 129
A74: 7. | B74: =Kilpailu!B$16 -> 0 | C74: ='7'!D$5 -> 0 | D74: =IF(LARGE(C$68:C$82,1)*1000=0,0,C74/LARGE(C$68:C$82,1)*1000) -> 0 | E74: ='7'!C$26 -> 0 | F74: ='7'!D$26 -> 0 | G74: ='7'!E$26 -> 0 | H74: ='7'!F$26 -> 0 | I74: ='7'!G$26 -> 0 | J74: =LARGE(C$68:C$82,1)-C74 -> 129
A75: 8. | B75: =Kilpailu!B$17 -> 0 | C75: ='8'!D$5 -> 0 | D75: =IF(LARGE(C$68:C$82,1)*1000=0,0,C75/LARGE(C$68:C$82,1)*1000) -> 0 | E75: ='8'!C$26 -> 0 | F75: ='8'!D$26 -> 0 | G75: ='8'!E$26 -> 0 | H75: ='8'!F$26 -> 0 | I75: ='8'!G$26 -> 0 | J75: =LARGE(C$68:C$82,1)-C75 -> 129
A76: 9. | B76: =Kilpailu!B$18 -> 0 | C76: ='9'!D$5 -> 0 | D76: =IF(LARGE(C$68:C$82,1)*1000=0,0,C76/LARGE(C$68:C$82,1)*1000) -> 0 | E76: ='9'!C$26 -> 0 | F76: ='9'!D$26 -> 0 | G76: ='9'!E$26 -> 0 | H76: ='9'!F$26 -> 0 | I76: ='9'!G$26 -> 0 | J76: =LARGE(C$68:C$82,1)-C76 -> 129
A77: 10. | B77: =Kilpailu!B$19 -> 0 | C77: ='10'!D$5 -> 0 | D77: =IF(LARGE(C$68:C$82,1)*1000=0,0,C77/LARGE(C$68:C$82,1)*1000) -> 0 | E77: ='10'!C$26 -> 0 | F77: ='10'!D$26 -> 0 | G77: ='10'!E$26 -> 0 | H77: ='10'!F$26 -> 0 | I77: ='10'!G$26 -> 0 | J77: =LARGE(C$68:C$82,1)-C77 -> 129
A78: 11. | B78: =Kilpailu!B$20 -> 0 | C78: ='11'!D$5 -> 0 | D78: =IF(LARGE(C$68:C$82,1)*1000=0,0,C78/LARGE(C$68:C$82,1)*1000) -> 0 | E78: ='11'!C$26 -> 0 | F78: ='11'!D$26 -> 0 | G78: ='11'!E$26 -> 0 | H78: ='11'!F$26 -> 0 | I78: ='11'!G$26 -> 0 | J78: =LARGE(C$68:C$82,1)-C78 -> 129
A79: 12. | B79: =Kilpailu!B$21 -> 0 | C79: ='12'!D$5 -> 0 | D79: =IF(LARGE(C$68:C$82,1)*1000=0,0,C79/LARGE(C$68:C$82,1)*1000) -> 0 | E79: ='12'!C$26 -> 0 | F79: ='12'!D$26 -> 0 | G79: ='12'!E$26 -> 0 | H79: ='12'!F$26 -> 0 | I79: ='12'!G$26 -> 0 | J79: =LARGE(C$68:C$82,1)-C79 -> 129
A80: 13. | B80: =Kilpailu!B$22 -> 0 | C80: ='13'!D$5 -> 0 | D80: =IF(LARGE(C$68:C$82,1)*1000=0,0,C80/LARGE(C$68:C$82,1)*1000) -> 0 | E80: ='13'!C$26 -> 0 | F80: ='13'!D$26 -> 0 | G80: ='13'!E$26 -> 0 | H80: ='13'!F$26 -> 0 | I80: ='13'!G$26 -> 0 | J80: =LARGE(C$68:C$82,1)-C80 -> 129
A81: 14. | B81: =Kilpailu!B$23 -> 0 | C81: ='14'!D$5 -> 0 | D81: =IF(LARGE(C$68:C$82,1)*1000=0,0,C81/LARGE(C$68:C$82,1)*1000) -> 0 | E81: ='14'!C$26 -> 0 | F81: ='14'!D$26 -> 0 | G81: ='14'!E$26 -> 0 | H81: ='14'!F$26 -> 0 | I81: ='14'!G$26 -> 0 | J81: =LARGE(C$68:C$82,1)-C81 -> 129
A82: 15. | B82: =Kilpailu!B$24 -> 0 | C82: ='15'!D$5 -> 0 | D82: =IF(LARGE(C$68:C$82,1)*1000=0,0,C82/LARGE(C$68:C$82,1)*1000) -> 0 | E82: ='15'!C$26 -> 0 | F82: ='15'!D$26 -> 0 | G82: ='15'!E$26 -> 0 | H82: ='15'!F$26 -> 0 | I82: ='15'!G$26 -> 0 | J82: =LARGE(C$68:C$82,1)-C82 -> 129

Sheet 1
D4: Pisteet | E4: Suht…
A5: Nimi: | B5: =Kilpailu!B10 -> Jari Niemi | C5: Kierros 1. | D5: =SUM(H15:H25) -> 141 | E5: =Tulokset!D28 -> 796.61017
C6: Kierros 2. | D6: =SUM(C42:G42)-LARGE(C42:G42,1)-SMALL(C42:G42,1) -> 142 | E6: =Tulokset!D48 -> 840.23669
A7: Paikka: | B7: =Kilpailu!B4 -> Forssa | C7: Kierros 3. | D7: =SUM(C58:G58)-LARGE(C58:G58,1)-SMALL(C58:G58,1) -> 102 | E7: =Tulokset!D68 -> 790.69767
A8: Päivä: | B8: =Kilpailu!B5 -> 40019
A9: Ohjelma: | B9: =Kilpailu!B6 -> Eurosport | C9: yhteensä: | D9: =SUM(D5:D7) -> 385 | E9: =SUM(E5:E7) -> 2427.5445
C10: pois: | D10: =SMALL(D5:D7,1) -> 102 | E10: =SMALL(E5:E7,1) -> 790.69767
C11: 2 parasta: | D11: =SUM(D5:D7)-D10 -> 283 | E11: =SUM(E5:E7)-E10 -> 1636.8469
A14: Kierros 1: | C14: Tuomari 1 | D14: Tuomari 2 | E14: Tuomari 3 | F14: Tuomari 4 | G14: Tuomari 5 | H14: yht.
A15: 1. | B15: =IF(Kilpailu!$B$6 =Kilpailu!$A$79,Kilpailu!$B$30,IF(Kilpailu!$B$6 =Kilpailu!$A$80,Kilpailu!$B$45,IF(Kilpailu!$B$6 =Kilpailu!$A$81,Kilpailu!$B$60,""))) -> Timantti | C15: 4.5 | D15: 4.5 | E15: 5.5 | F15: 0 | G15: 10 | H15: =(SUM(C15:G15)*IF(Kilpailu!$B$6 =Kilpailu!$A$79,Kilpailu!C30,IF(Kilpailu!$B$6 =Kilpailu!$A$80,Kilpailu!C45,IF(Kilpailu!$B$6 =Kilpailu!$A$81,Kilpailu!C60,1))))-SMALL(C15:G15,1)-LARGE(C15:G15,1) -> 14.5
A16: 2. | B16: =IF(Kilpailu!$B$6 =Kilpailu!$A$79,Kilpailu!$B$31,IF(Kilpailu!$B$6 =Kilpailu!$A$80,Kilpailu!$B$46,IF(Kilpailu!$B$6 =Kilpailu!$A$81,Kilpailu!$B$61,""))) -> Suora leijutus kahdella 180 piruet. | C16: 4 | D16: 5.5 | E16: 4 | F16: 0 | G16: 10 | H16: =(SUM(C16:G16)*IF(Kilpailu!$B$6 =Kilpailu!$A$79,Kilpailu!C31,IF(Kilpailu!$B$6 =Kilpailu!$A$80,Kilpailu!C46,IF(Kilpailu!$B$6 =Kilpailu!$A$81,Kilpailu!C61,1))))-SMALL(C16:G16,1)-LARGE(C16:G16,1) -> 13.5
A17: 3. | B17: =IF(Kilpailu!$B$6 =Kilpailu!$A$79,Kilpailu!$B$32,IF(Kilpailu!$B$6 =Kilpailu!$A$80,Kilpailu!$B$47,IF(Kilpailu!$B$6 =Kilpailu!$A$81,Kilpailu!$B$62,""))) -> Pystykolmio 360 piruetilla | C17: 4 | D17: 4 | E17: 6 | F17: 0 | G17: 10 | H17: =(SUM(C17:G17)*IF(Kilpailu!$B$6 =Kilpailu!$A$79,Kilpailu!C32,IF(Kilpailu!$B$6 =Kilpailu!$A$80,Kilpailu!C47,IF(Kilpailu!$B$6 =Kilpailu!$A$81,Kilpailu!C62,1))))-SMALL(C17:G17,1)-LARGE(C17:G17,1) -> 14
A18: 4. | B18: =IF(Kilpailu!$B$6 =Kilpailu!$A$79,Kilpailu!$B$33,IF(Kilpailu!$B$6 =Kilpailu!$A$80,Kilpailu!$B$48,IF(Kilpailu!$B$6 =Kilpailu!$A$81,Kilpailu!$B$63,""))) -> Vaakakierre | C18: 6.5 | D18: 7 | E18: 6.5 | F18: 0 | G18: 10 | H18: =(SUM(C18:G18)*IF(Kilpailu!$B$6 =Kilpailu!$A$79,Kilpailu!C33,IF(Kilpailu!$B$6 =Kilpailu!$A$80,Kilpailu!C48,IF(Kilpailu!$B$6 =Kilpailu!$A$81,Kilpailu!C63,1))))-SMALL(C18:G18,1)-LARGE(C18:G18,1) -> 20
A19: 5. | B19: =IF(Kilpailu!$B$6 =Kilpailu!$A$79,Kilpailu!$B$34,IF(Kilpailu!$B$6 =Kilpailu!$A$80,Kilpailu!$B$49,IF(Kilpailu!$B$6 =Kilpailu!$A$81,Kilpailu!$B$64,""))) -> Tuplasilmukat | C19: 5 | D19: 5.5 | E19: 6.5 | F19: 0 | G19: 10 | H19: =(SUM(C19:G19)*IF(Kilpailu!$B$6 =Kilpailu!$A$79,Kilpailu!C34,IF(Kilpailu!$B$6 =Kilpailu!$A$80,Kilpailu!C49,IF(Kilpailu!$B$6 =Kilpailu!$A$81,Kilpailu!C64,1))))-SMALL(C19:G19,1)-LARGE(C19:G19,1) -> 17
A20: 6. | B20: =IF(Kilpailu!$B$6 =Kilpailu!$A$79,Kilpailu!$B$35,IF(Kilpailu!$B$6 =Kilpailu!$A$80,Kilpailu!$B$50,IF(Kilpailu!$B$6 =Kilpailu!$A$81,Kilpailu!$B$65,""))) -> Pystykäännökset | C20: 6 | D20: 6 | E20: 7 | F20: 0 | G20: 10 | H20: =(SUM(C20:G20)*IF(Kilpailu!$B$6 =Kilpailu!$A$79,Kilpailu!C35,IF(Kilpailu!$B$6 =Kilpailu!$A$80,Kilpailu!C50,IF(Kilpailu!$B$6 =Kilpailu!$A$81,Kilpailu!C65,1))))-SMALL(C20:G20,1)-LARGE(C20:G20,1) -> 19
A21: 7. | B21: =IF(Kilpailu!$B$6 =Kilpailu!$A$79,Kilpailu!$B$36,IF(Kilpailu!$B$6 =Kilpailu!$A$80,Kilpailu!$B$51,IF(Kilpailu!$B$6 =Kilpailu!$A$81,Kilpailu!$B$66,""))) -> Pushover | C21: 5.5 | D21: 6.5 | E21: 6 | F21: 0 | G21: 10 | H21: =(SUM(C21:G21)*IF(Kilpailu!$B$6 =Kilpailu!$A$79,Kilpailu!C36,IF(Kilpailu!$B$6 =Kilpailu!$A$80,Kilpailu!C51,IF(Kilpailu!$B$6 =Kilpailu!$A$81,Kilpailu!C66,1))))-SMALL(C21:G21,1)-LARGE(C21:G21,1) -> 18
A22: 8. | B22: =IF(Kilpailu!$B$6 =Kilpailu!$A$79,Kilpailu!$B$37,IF(Kilpailu!$B$6 =Kilpailu!$A$80,Kilpailu!$B$52,IF(Kilpailu!$B$6 =Kilpailu!$A$81,Kilpailu!$B$67,""))) -> Puolikas cuubalainen kahdeksikko | C22: 6 | D22: 6 | E22: 7 | F22: 0 | G22: 10 | H22: =(SUM(C22:G22)*IF(Kilpailu!$B$6 =Kilpailu!$A$79,Kilpailu!C37,IF(Kilpailu!$B$6 =Kilpailu!$A$80,Kilpailu!C52,IF(Kilpailu!$B$6 =Kilpailu!$A$81,Kilpailu!C67,1))))-SMALL(C22:G22,1)-LARGE(C22:G22,1) -> 19
A23: 9. | B23: =IF(Kilpailu!$B$6 =Kilpailu!$A$79,Kilpailu!$B$38,IF(Kilpailu!$B$6 =Kilpailu!$A$80,Kilpailu!$B$53,IF(Kilpailu!$B$6 =Kilpailu!$A$81,Kilpailu!$B$68,""))) -> Suora autorotaation 45 ast. Kulm. | C23: 1.5 | D23: 1.5 | E23: 3 | F23: 0 | G23: 10 | H23: =(SUM(C23:G23)*IF(Kilpailu!$B$6 =Kilpailu!$A$79,Kilpailu!C38,IF(Kilpailu!$B$6 =Kilpailu!$A$80,Kilpailu!C53,IF(Kilpailu!$B$6 =Kilpailu!$A$81,Kilpailu!C68,1))))-SMALL(C23:G23,1)-LARGE(C23:G23,1) -> 6
A24: 10. | B24: =IF(Kilpailu!$B$6 =Kilpailu!$A$79,Kilpailu!$B$39,IF(Kilpailu!$B$6 =Kilpailu!$A$80,Kilpailu!$B$54,IF(Kilpailu!$B$6 =Kilpailu!$A$81,Kilpailu!$B$69,""))) | G24: 0 | H24: =(SUM(C24:G24)*IF(Kilpailu!$B$6 =Kilpailu!$A$79,Kilpailu!C39,IF(Kilpailu!$B$6 =Kilpailu!$A$80,Kilpailu!C54,IF(Kilpailu!$B$6 =Kilpailu!$A$81,Kilpailu!C69,1))))-SMALL(C24:G24,1)-LARGE(C24:G24,1) -> 0
A25: 11. | B25: =IF(Kilpailu!$B$6 =Kilpailu!$A$79,Kilpailu!$B$40,IF(Kilpailu!$B$6 =Kilpailu!$A$80,Kilpailu!$B$55,IF(Kilpailu!$B$6 =Kilpailu!$A$81,Kilpailu!$B$70,""))) | G25: 0 | H25: =(SUM(C25:G25)*IF(Kilpailu!$B$6 =Kilpailu!$A$79,Kilpailu!C40,IF(Kilpailu!$B$6 =Kilpailu!$A$80,Kilpailu!C55,IF(Kilpailu!$B$6 =Kilpailu!$A$81,Kilpailu!C70,1))))-SMALL(C25:G25,1)-LARGE(C25:G25,1) -> 0
B26: Yht. | C26: =SUM(C15:C25) -> 43 | D26: =SUM(D15:D25) -> 46.5 | E26: =SUM(E15:E25) -> 51.5 | F26: =SUM(F15:F25) -> 0 | G26: =SUM(G15:G25) -> 90
A30: Kierros 2: | C30: Tuomari 1 | D30: Tuomari 2 | E30: Tuomari 3 | F30: Tuomari 4 | G30: Tuomari 5 | H30: yht.
A31: 1. | B31: =IF(Kilpailu!$B$6 =Kilpailu!$A$79,Kilpailu!$B$30,IF(Kilpailu!$B$6 =Kilpailu!$A$80,Kilpailu!$B$45,IF(Kilpailu!$B$6 =Kilpailu!$A$81,Kilpailu!$B$60,""))) -> Timantti | C31: 4 | D31: 5 | E31: 5.5 | F31: 0 | G31: 10 | H31: =SUM(C31:G31) -> 24.5
A32: 2. | B32: =IF(Kilpailu!$B$6 =Kilpailu!$A$79,Kilpailu!$B$31,IF(Kilpailu!$B$6 =Kilpailu!$A$80,Kilpailu!$B$46,IF(Kilpailu!$B$6 =Kilpailu!$A$81,Kilpailu!$B$61,""))) -> Suora leijutus kahdella 180 piruet. | C32: 4.5 | D32: 5.5 | E32: 4 | F32: 0 | G32: 10 | H32: =SUM(C32:G32) -> 24
A33: 3. | B33: =IF(Kilpailu!$B$6 =Kilpailu!$A$79,Kilpailu!$B$32,IF(Kilpailu!$B$6 =Kilpailu!$A$80,Kilpailu!$B$47,IF(Kilpailu!$B$6 =Kilpailu!$A$81,Kilpailu!$B$62,""))) -> Pystykolmio 360 piruetilla | C33: 3 | D33: 4 | E33: 3.5 | F33: 0 | G33: 10 | H33: =SUM(C33:G33) -> 20.5
A34: 4. | B34: =IF(Kilpailu!$B$6 =Kilpailu!$A$79,Kilpailu!$B$33,IF(Kilpailu!$B$6 =Kilpailu!$A$80,Kilpailu!$B$48,IF(Kilpailu!$B$6 =Kilpailu!$A$81,Kilpailu!$B$63,""))) -> Vaakakierre | C34: 5.5 | D34: 8 | E34: 7 | F34: 0 | G34: 10 | H34: =SUM(C34:G34) -> 30.5
A35: 5. | B35: =IF(Kilpailu!$B$6 =Kilpailu!$A$79,Kilpailu!$B$34,IF(Kilpailu!$B$6 =Kilpailu!$A$80,Kilpailu!$B$49,IF(Kilpailu!$B$6 =Kilpailu!$A$81,Kilpailu!$B$64,""))) -> Tuplasilmukat | C35: 5 | D35: 7 | E35: 6 | F35: 0 | G35: 10 | H35: =SUM(C35:G35) -> 28
A36: 6. | B36: =IF(Kilpailu!$B$6 =Kilpailu!$A$79,Kilpailu!$B$35,IF(Kilpailu!$B$6 =Kilpailu!$A$80,Kilpailu!$B$50,IF(Kilpailu!$B$6 =Kilpailu!$A$81,Kilpailu!$B$65,""))) -> Pystykäännökset | C36: 6 | D36: 6.5 | E36: 6 | F36: 0 | G36: 10 | H36: =SUM(C36:G36) -> 28.5
A37: 7. | B37: =IF(Kilpailu!$B$6 =Kilpailu!$A$79,Kilpailu!$B$36,IF(Kilpailu!$B$6 =Kilpailu!$A$80,Kilpailu!$B$51,IF(Kilpailu!$B$6 =Kilpailu!$A$81,Kilpailu!$B$66,""))) -> Pushover | C37: 6 | D37: 6.5 | E37: 5.5 | F37: 0 | G37: 10 | H37: =SUM(C37:G37) -> 28
A38: 8. | B38: =IF(Kilpailu!$B$6 =Kilpailu!$A$79,Kilpailu!$B$37,IF(Kilpailu!$B$6 =Kilpailu!$A$80,Kilpailu!$B$52,IF(Kilpailu!$B$6 =Kilpailu!$A$81,Kilpailu!$B$67,""))) -> Puolikas cuubalainen kahdeksikko | C38: 5 | D38: 6.5 | E38: 4.5 | F38: 0 | G38: 10 | H38: =SUM(C38:G38) -> 26
A39: 9. | B39: =IF(Kilpailu!$B$6 =Kilpailu!$A$79,Kilpailu!$B$38,IF(Kilpailu!$B$6 =Kilpailu!$A$80,Kilpailu!$B$53,IF(Kilpailu!$B$6 =Kilpailu!$A$81,Kilpailu!$B$68,""))) -> Suora autorotaation 45 ast. Kulm. | C39: 1.5 | D39: 5.5 | E39: 5 | F39: 0 | G39: 10 | H39: =SUM(C39:G39) -> 22
A40: 10. | B40: =IF(Kilpailu!$B$6 =Kilpailu!$A$79,Kilpailu!$B$39,IF(Kilpailu!$B$6 =Kilpailu!$A$80,Kilpailu!$B$54,IF(Kilpailu!$B$6 =Kilpailu!$A$81,Kilpailu!$B$69,""))) | H40: =SUM(C40:G40) -> 0
A41: 11. | B41: =IF(Kilpailu!$B$6 =Kilpailu!$A$79,Kilpailu!$B$40,IF(Kilpailu!$B$6 =Kilpailu!$A$80,Kilpailu!$B$55,IF(Kilpailu!$B$6 =Kilpailu!$A$81,Kilpailu!$B$70,""))) | H41: =SUM(C41:G41) -> 0
B42: Yht. | C42: =SUM(C31:C41) -> 40.5 | D42: =SUM(D31:D41) -> 54.5 | E42: =SUM(E31:E41) -> 47 | F42: =SUM(F31:F41) -> 0 | G42: =SUM(G31:G41) -> 90
A46: Kierros 3: | C46: Tuomari 1 | D46: Tuomari 2 | E46: Tuomari 3 | F46: Tuomari 4 | G46: Tuomari 5 | H46: yht.
A47: 1. | B47: =IF(Kilpailu!$B$6 =Kilpailu!$A$79,Kilpailu!$B$30,IF(Kilpailu!$B$6 =Kilpailu!$A$80,Kilpailu!$B$45,IF(Kilpailu!$B$6 =Kilpailu!$A$81,Kilpailu!$B$60,""))) -> Timantti | C47: 6 | D47: 5.5 | E47: 6 | H47: =SUM(C47:G47) -> 17.5
A48: 2. | B48: =IF(Kilpailu!$B$6 =Kilpailu!$A$79,Kilpailu!$B$31,IF(Kilpailu!$B$6 =Kilpailu!$A$80,Kilpailu!$B$46,IF(Kilpailu!$B$6 =Kilpailu!$A$81,Kilpailu!$B$61,""))) -> Suora leijutus kahdella 180 piruet. | C48: 4.5 | D48: 4.5 | E48: 5.5 | H48: =SUM(C48:G48) -> 14.5
A49: 3. | B49: =IF(Kilpailu!$B$6 =Kilpailu!$A$79,Kilpailu!$B$32,IF(Kilpailu!$B$6 =Kilpailu!$A$80,Kilpailu!$B$47,IF(Kilpailu!$B$6 =Kilpailu!$A$81,Kilpailu!$B$62,""))) -> Pystykolmio 360 piruetilla | C49: 5.5 | D49: 4.5 | E49: 4 | H49: =SUM(C49:G49) -> 14
A50: 4. | B50: =IF(Kilpailu!$B$6 =Kilpailu!$A$79,Kilpailu!$B$33,IF(Kilpailu!$B$6 =Kilpailu!$A$80,Kilpailu!$B$48,IF(Kilpailu!$B$6 =Kilpailu!$A$81,Kilpailu!$B$63,""))) -> Vaakakierre | C50: 6 | D50: 8 | E50: 7.5 | H50: =SUM(C50:G50) -> 21.5
A51: 5. | B51: =IF(Kilpailu!$B$6 =Kilpailu!$A$79,Kilpailu!$B$34,IF(Kilpailu!$B$6 =Kilpailu!$A$80,Kilpailu!$B$49,IF(Kilpailu!$B$6 =Kilpailu!$A$81,Kilpailu!$B$64,""))) -> Tuplasilmukat | C51: 6.5 | D51: 6.5 | E51: 7.5 | H51: =SUM(C51:G51) -> 20.5
A52: 6. | B52: =IF(Kilpailu!$B$6 =Kilpailu!$A$79,Kilpailu!$B$35,IF(Kilpailu!$B$6 =Kilpailu!$A$80,Kilpailu!$B$50,IF(Kilpailu!$B$6 =Kilpailu!$A$81,Kilpailu!$B$65,""))) -> Pystykäännökset | C52: 6.5 | D52: 7 | E52: 6.5 | H52: =SUM(C52:G52) -> 20
A53: 7. | B53: =IF(Kilpailu!$B$6 =Kilpailu!$A$79,Kilpailu!$B$36,IF(Kilpailu!$B$6 =Kilpailu!$A$80,Kilpailu!$B$51,IF(Kilpailu!$B$6 =Kilpailu!$A$81,Kilpailu!$B$66,""))) -> Pushover | C53: 5.5 | D53: 6 | E53: 6 | H53: =SUM(C53:G53) -> 17.5
A54: 8. | B54: =IF(Kilpailu!$B$6 =Kilpailu!$A$79,Kilpailu!$B$37,IF(Kilpailu!$B$6 =Kilpailu!$A$80,Kilpailu!$B$52,IF(Kilpailu!$B$6 =Kilpailu!$A$81,Kilpailu!$B$67,""))) -> Puolikas cuubalainen kahdeksikko | C54: 6.5 | D54: 7 | E54: 8.5 | H54: =SUM(C54:G54) -> 22
A55: 9. | B55: =IF(Kilpailu!$B$6 =Kilpailu!$A$79,Kilpailu!$B$38,IF(Kilpailu!$B$6 =Kilpailu!$A$80,Kilpailu!$B$53,IF(Kilpailu!$B$6 =Kilpailu!$A$81,Kilpailu!$B$68,""))) -> Suora autorotaation 45 ast. Kulm. | C55: 2.5 | D55: 3.5 | E55: 2.5 | H55: =SUM(C55:G55) -> 8.5
A56: 10. | B56: =IF(Kilpailu!$B$6 =Kilpailu!$A$79,Kilpailu!$B$39,IF(Kilpailu!$B$6 =Kilpailu!$A$80,Kilpailu!$B$54,IF(Kilpailu!$B$6 =Kilpailu!$A$81,Kilpailu!$B$69,""))) | H56: =SUM(C56:G56) -> 0
A57: 11. | B57: =IF(Kilpailu!$B$6 =Kilpailu!$A$79,Kilpailu!$B$40,IF(Kilpailu!$B$6 =Kilpailu!$A$80,Kilpailu!$B$55,IF(Kilpailu!$B$6 =Kilpailu!$A$81,Kilpailu!$B$70,""))) | H57: =SUM(C57:G57) -> 0
B58: Yht. | C58: =SUM(C47:C57) -> 49.5 | D58: =SUM(D47:D57) -> 52.5 | E58: =SUM(E47:E57) -> 54 | F58: =SUM(F47:F57) -> 0 | G58: =SUM(G47:G57) -> 0

Sheet 2
D4: Pisteet | E4: Suht…
A5: Nimi: | B5: =Kilpailu!B11 -> Jukka Heikkilä | C5: Kierros 1. | D5: =SUM(C26:G26)-LARGE(C26:G26,1)-SMALL(C26:G26,1) -> 174 | E5: =Tulokset!D29 -> 983.05085
C6: Kierros 2. | D6: =SUM(C42:G42)-LARGE(C42:G42,1)-SMALL(C42:G42,1) -> 128.5 | E6: =Tulokset!D49 -> 760.35503
A7: Paikka: | B7: =Kilpailu!B4 -> Forssa | C7: Kierros 3. | D7: =SUM(C58:G58)-LARGE(C58:G58,1)-SMALL(C58:G58,1) -> 129 | E7: =Tulokset!D69 -> 1000
A8: Päivä: | B8: =Kilpailu!B5 -> 40019
A9: Ohjelma: | B9: =Kilpailu!B6 -> Eurosport | C9: yhteensä: | D9: =SUM(D5:D7) -> 431.5 | E9: =SUM(E5:E7) -> 2743.4059
C10: pois: | D10: =SMALL(D5:D7,1) -> 128.5 | E10: =SMALL(E5:E7,1) -> 760.35503
C11: 2 parasta: | D11: =SUM(D5:D7)-D10 -> 303 | E11: =SUM(E5:E7)-E10 -> 1983.0508
A14: Kierros 1: | C14: Tuomari 1 | D14: Tuomari 2 | E14: Tuomari 3 | F14: Tuomari 4 | G14: Tuomari 5 | H14: yht.
A15: 1. | B15: =IF(Kilpailu!$B$6 =Kilpailu!$A$79,Kilpailu!B30,IF(Kilpailu!$B$6 =Kilpailu!$A$80,Kilpailu!B45,IF(Kilpailu!$B$6 =Kilpailu!$A$81,Kilpailu!B60,""))) -> Timantti | C15: 5.5 | D15: 7 | E15: 7 | F15: 0 | G15: 10 | H15: =SUM(C15:G15) -> 29.5
A16: 2. | B16: =IF(Kilpailu!$B$6 =Kilpailu!$A$79,Kilpailu!B31,IF(Kilpailu!$B$6 =Kilpailu!$A$80,Kilpailu!B46,IF(Kilpailu!$B$6 =Kilpailu!$A$81,Kilpailu!B61,""))) -> Suora leijutus kahdella 180 piruet. | C16: 7 | D16: 7.5 | E16: 6.5 | F16: 0 | G16: 10 | H16: =SUM(C16:G16) -> 31
A17: 3. | B17: =IF(Kilpailu!$B$6 =Kilpailu!$A$79,Kilpailu!B32,IF(Kilpailu!$B$6 =Kilpailu!$A$80,Kilpailu!B47,IF(Kilpailu!$B$6 =Kilpailu!$A$81,Kilpailu!B62,""))) -> Pystykolmio 360 piruetilla | C17: 7 | D17: 5.5 | E17: 7 | F17: 0 | G17: 10 | H17: =SUM(C17:G17) -> 29.5
A18: 4. | B18: =IF(Kilpailu!$B$6 =Kilpailu!$A$79,Kilpailu!B33,IF(Kilpailu!$B$6 =Kilpailu!$A$80,Kilpailu!B48,IF(Kilpailu!$B$6 =Kilpailu!$A$81,Kilpailu!B63,""))) -> Vaakakierre | C18: 7.5 | D18: 8 | E18: 7.5 | F18: 0 | G18: 10 | H18: =SUM(C18:G18) -> 33
A19: 5. | B19: =IF(Kilpailu!$B$6 =Kilpailu!$A$79,Kilpailu!B34,IF(Kilpailu!$B$6 =Kilpailu!$A$80,Kilpailu!B49,IF(Kilpailu!$B$6 =Kilpailu!$A$81,Kilpailu!B64,""))) -> Tuplasilmukat | C19: 6.5 | D19: 7 | E19: 7.5 | F19: 0 | G19: 10 | H19: =SUM(C19:G19) -> 31
A20: 6. | B20: =IF(Kilpailu!$B$6 =Kilpailu!$A$79,Kilpailu!B35,IF(Kilpailu!$B$6 =Kilpailu!$A$80,Kilpailu!B50,IF(Kilpailu!$B$6 =Kilpailu!$A$81,Kilpailu!B65,""))) -> Pystykäännökset | C20: 5.5 | D20: 4.5 | E20: 6.5 | F20: 0 | G20: 10 | H20: =SUM(C20:G20) -> 26.5
A21: 7. | B21: =IF(Kilpailu!$B$6 =Kilpailu!$A$79,Kilpailu!B36,IF(Kilpailu!$B$6 =Kilpailu!$A$80,Kilpailu!B51,IF(Kilpailu!$B$6 =Kilpailu!$A$81,Kilpailu!B66,""))) -> Pushover | C21: 6 | D21: 6.5 | E21: 7 | F21: 0 | G21: 10 | H21: =SUM(C21:G21) -> 29.5
A22: 8. | B22: =IF(Kilpailu!$B$6 =Kilpailu!$A$79,Kilpailu!B37,IF(Kilpailu!$B$6 =Kilpailu!$A$80,Kilpailu!B52,IF(Kilpailu!$B$6 =Kilpailu!$A$81,Kilpailu!B67,""))) -> Puolikas cuubalainen kahdeksikko | C22: 6 | D22: 5 | E22: 6.5 | F22: 0 | G22: 10 | H22: =SUM(C22:G22) -> 27.5
A23: 9. | B23: =IF(Kilpailu!$B$6 =Kilpailu!$A$79,Kilpailu!B38,IF(Kilpailu!$B$6 =Kilpailu!$A$80,Kilpailu!B53,IF(Kilpailu!$B$6 =Kilpailu!$A$81,Kilpailu!B68,""))) -> Suora autorotaation 45 ast. Kulm. | C23: 4.5 | D23: 6 | E23: 6 | F23: 0 | G23: 10 | H23: =SUM(C23:G23) -> 26.5
A24: 10. | B24: =IF(Kilpailu!$B$6 =Kilpailu!$A$79,Kilpailu!B39,IF(Kilpailu!$B$6 =Kilpailu!$A$80,Kilpailu!B54,IF(Kilpailu!$B$6 =Kilpailu!$A$81,Kilpailu!B69,""))) | H24: =SUM(C24:G24) -> 0
A25: 11. | B25: =IF(Kilpailu!$B$6 =Kilpailu!$A$79,Kilpailu!B40,IF(Kilpailu!$B$6 =Kilpailu!$A$80,Kilpailu!B55,IF(Kilpailu!$B$6 =Kilpailu!$A$81,Kilpailu!B70,""))) | H25: =SUM(C25:G25) -> 0
B26: Yht. | C26: =SUM(C15:C25) -> 55.5 | D26: =SUM(D15:D25) -> 57 | E26: =SUM(E15:E25) -> 61.5 | F26: =SUM(F15:F25) -> 0 | G26: =SUM(G15:G25) -> 90
A30: Kierros 2: | C30: Tuomari 1 | D30: Tuomari 2 | E30: Tuomari 3 | F30: Tuomari 4 | G30: Tuomari 5 | H30: yht.
A31: 1. | B31: =IF(Kilpailu!$B$6 =Kilpailu!$A$79,Kilpailu!B30,IF(Kilpailu!$B$6 =Kilpailu!$A$80,Kilpailu!B45,IF(Kilpailu!$B$6 =Kilpailu!$A$81,Kilpailu!B60,""))) -> Timantti | C31: 5.5 | D31: 7.5 | E31: 6 | F31: 0 | G31: 10 | H31: =SUM(C31:G31) -> 29
A32: 2. | B32: =IF(Kilpailu!$B$6 =Kilpailu!$A$79,Kilpailu!B31,IF(Kilpailu!$B$6 =Kilpailu!$A$80,Kilpailu!B46,IF(Kilpailu!$B$6 =Kilpailu!$A$81,Kilpailu!B61,""))) -> Suora leijutus kahdella 180 piruet. | C32: 6.5 | D32: 7.5 | E32: 7 | F32: 0 | G32: 10 | H32: =SUM(C32:G32) -> 31
A33: 3. | B33: =IF(Kilpailu!$B$6 =Kilpailu!$A$79,Kilpailu!B32,IF(Kilpailu!$B$6 =Kilpailu!$A$80,Kilpailu!B47,IF(Kilpailu!$B$6 =Kilpailu!$A$81,Kilpailu!B62,""))) -> Pystykolmio 360 piruetilla | C33: 7.5 | D33: 8 | E33: 7.5 | F33: 0 | G33: 10 | H33: =SUM(C33:G33) -> 33
A34: 4. | B34: =IF(Kilpailu!$B$6 =Kilpailu!$A$79,Kilpailu!B33,IF(Kilpailu!$B$6 =Kilpailu!$A$80,Kilpailu!B48,IF(Kilpailu!$B$6 =Kilpailu!$A$81,Kilpailu!B63,""))) -> Vaakakierre | C34: 8 | D34: 8.5 | E34: 8 | F34: 0 | G34: 10 | H34: =SUM(C34:G34) -> 34.5
A35: 5. | B35: =IF(Kilpailu!$B$6 =Kilpailu!$A$79,Kilpailu!B34,IF(Kilpailu!$B$6 =Kilpailu!$A$80,Kilpailu!B49,IF(Kilpailu!$B$6 =Kilpailu!$A$81,Kilpailu!B64,""))) -> Tuplasilmukat | C35: 7 | D35: 6.5 | E35: 7 | F35: 0 | G35: 10 | H35: =SUM(C35:G35) -> 30.5
A36: 6. | B36: =IF(Kilpailu!$B$6 =Kilpailu!$A$79,Kilpailu!B35,IF(Kilpailu!$B$6 =Kilpailu!$A$80,Kilpailu!B50,IF(Kilpailu!$B$6 =Kilpailu!$A$81,Kilpailu!B65,""))) -> Pystykäännökset | C36: 6.5 | D36: 7 | E36: 7 | F36: 0 | G36: 10 | H36: =SUM(C36:G36) -> 30.5
A37: 7. | B37: =IF(Kilpailu!$B$6 =Kilpailu!$A$79,Kilpailu!B36,IF(Kilpailu!$B$6 =Kilpailu!$A$80,Kilpailu!B51,IF(Kilpailu!$B$6 =Kilpailu!$A$81,Kilpailu!B66,""))) -> Pushover | C37: 0 | D37: 0 | E37: 0 | F37: 0 | G37: 10 | H37: =SUM(C37:G37) -> 10
A38: 8. | B38: =IF(Kilpailu!$B$6 =Kilpailu!$A$79,Kilpailu!B37,IF(Kilpailu!$B$6 =Kilpailu!$A$80,Kilpailu!B52,IF(Kilpailu!$B$6 =Kilpailu!$A$81,Kilpailu!B67,""))) -> Puolikas cuubalainen kahdeksikko | C38: 0 | D38: 0 | E38: 0 | F38: 0 | G38: 10 | H38: =SUM(C38:G38) -> 10
A39: 9. | B39: =IF(Kilpailu!$B$6 =Kilpailu!$A$79,Kilpailu!B38,IF(Kilpailu!$B$6 =Kilpailu!$A$80,Kilpailu!B53,IF(Kilpailu!$B$6 =Kilpailu!$A$81,Kilpailu!B68,""))) -> Suora autorotaation 45 ast. Kulm. | C39: 0 | D39: 0 | E39: 0 | F39: 0 | G39: 10 | H39: =SUM(C39:G39) -> 10
A40: 10. | B40: =IF(Kilpailu!$B$6 =Kilpailu!$A$79,Kilpailu!B39,IF(Kilpailu!$B$6 =Kilpailu!$A$80,Kilpailu!B54,IF(Kilpailu!$B$6 =Kilpailu!$A$81,Kilpailu!B69,""))) | H40: =SUM(C40:G40) -> 0
A41: 11. | B41: =IF(Kilpailu!$B$6 =Kilpailu!$A$79,Kilpailu!B40,IF(Kilpailu!$B$6 =Kilpailu!$A$80,Kilpailu!B55,IF(Kilpailu!$B$6 =Kilpailu!$A$81,Kilpailu!B70,""))) | H41: =SUM(C41:G41) -> 0
B42: Yht. | C42: =SUM(C31:C41) -> 41 | D42: =SUM(D31:D41) -> 45 | E42: =SUM(E31:E41) -> 42.5 | F42: =SUM(F31:F41) -> 0 | G42: =SUM(G31:G41) -> 90
A46: Kierros 3: | C46: Tuomari 1 | D46: Tuomari 2 | E46: Tuomari 3 | F46: Tuomari 4 | G46: Tuomari 5 | H46: yht.
A47: 1. | B47: =IF(Kilpailu!$B$6 =Kilpailu!$A$79,Kilpailu!B30,IF(Kilpailu!$B$6 =Kilpailu!$A$80,Kilpailu!B45,IF(Kilpailu!$B$6 =Kilpailu!$A$81,Kilpailu!B60,""))) -> Timantti | C47: 6 | D47: 7 | E47: 6 | H47: =SUM(C47:G47) -> 19
A48: 2. | B48: =IF(Kilpailu!$B$6 =Kilpailu!$A$79,Kilpailu!B31,IF(Kilpailu!$B$6 =Kilpailu!$A$80,Kilpailu!B46,IF(Kilpailu!$B$6 =Kilpailu!$A$81,Kilpailu!B61,""))) -> Suora leijutus kahdella 180 piruet. | C48: 7 | D48: 7.5 | E48: 7 | H48: =SUM(C48:G48) -> 21.5
A49: 3. | B49: =IF(Kilpailu!$B$6 =Kilpailu!$A$79,Kilpailu!B32,IF(Kilpailu!$B$6 =Kilpailu!$A$80,Kilpailu!B47,IF(Kilpailu!$B$6 =Kilpailu!$A$81,Kilpailu!B62,""))) -> Pystykolmio 360 piruetilla | C49: 7.5 | D49: 7.5 | E49: 7 | H49: =SUM(C49:G49) -> 22
A50: 4. | B50: =IF(Kilpailu!$B$6 =Kilpailu!$A$79,Kilpailu!B33,IF(Kilpailu!$B$6 =Kilpailu!$A$80,Kilpailu!B48,IF(Kilpailu!$B$6 =Kilpailu!$A$81,Kilpailu!B63,""))) -> Vaakakierre | C50: 8 | D50: 7.5 | E50: 8 | H50: =SUM(C50:G50) -> 23.5
A51: 5. | B51: =IF(Kilpailu!$B$6 =Kilpailu!$A$79,Kilpailu!B34,IF(Kilpailu!$B$6 =Kilpailu!$A$80,Kilpailu!B49,IF(Kilpailu!$B$6 =Kilpailu!$A$81,Kilpailu!B64,""))) -> Tuplasilmukat | C51: 8 | D51: 8 | E51: 9 | H51: =SUM(C51:G51) -> 25
A52: 6. | B52: =IF(Kilpailu!$B$6 =Kilpailu!$A$79,Kilpailu!B35,IF(Kilpailu!$B$6 =Kilpailu!$A$80,Kilpailu!B50,IF(Kilpailu!$B$6 =Kilpailu!$A$81,Kilpailu!B65,""))) -> Pystykäännökset | C52: 6.5 | D52: 7 | E52: 7 | H52: =SUM(C52:G52) -> 20.5
A53: 7. | B53: =IF(Kilpailu!$B$6 =Kilpailu!$A$79,Kilpailu!B36,IF(Kilpailu!$B$6 =Kilpailu!$A$80,Kilpailu!B51,IF(Kilpailu!$B$6 =Kilpailu!$A$81,Kilpailu!B66,""))) -> Pushover | C53: 8 | D53: 7 | E53: 7.5 | H53: =SUM(C53:G53) -> 22.5
A54: 8. | B54: =IF(Kilpailu!$B$6 =Kilpailu!$A$79,Kilpailu!B37,IF(Kilpailu!$B$6 =Kilpailu!$A$80,Kilpailu!B52,IF(Kilpailu!$B$6 =Kilpailu!$A$81,Kilpailu!B67,""))) -> Puolikas cuubalainen kahdeksikko | C54: 7 | D54: 6 | E54: 7 | H54: =SUM(C54:G54) -> 20
A55: 9. | B55: =IF(Kilpailu!$B$6 =Kilpailu!$A$79,Kilpailu!B38,IF(Kilpailu!$B$6 =Kilpailu!$A$80,Kilpailu!B53,IF(Kilpailu!$B$6 =Kilpailu!$A$81,Kilpailu!B68,""))) -> Suora autorotaation 45 ast. Kulm. | C55: 6 | D55: 7.5 | E55: 7 | H55: =SUM(C55:G55) -> 20.5
A56: 10. | B56: =IF(Kilpailu!$B$6 =Kilpailu!$A$79,Kilpailu!B39,IF(Kilpailu!$B$6 =Kilpailu!$A$80,Kilpailu!B54,IF(Kilpailu!$B$6 =Kilpailu!$A$81,Kilpailu!B69,""))) | H56: =SUM(C56:G56) -> 0
A57: 11. | B57: =IF(Kilpailu!$B$6 =Kilpailu!$A$79,Kilpailu!B40,IF(Kilpailu!$B$6 =Kilpailu!$A$80,Kilpailu!B55,IF(Kilpailu!$B$6 =Kilpailu!$A$81,Kilpailu!B70,""))) | H57: =SUM(C57:G57) -> 0
B58: Yht. | C58: =SUM(C47:C57) -> 64 | D58: =SUM(D47:D57) -> 65 | E58: =SUM(E47:E57) -> 65.5 | F58: =SUM(F47:F57) -> 0 | G58: =SUM(G47:G57) -> 0

Sheet 3
D4: Pisteet | E4: Suht…
A5: Nimi: | B5: =Kilpailu!B12 -> Tero Vartiainen | C5: Kierros 1. | D5: =SUM(C26:G26)-LARGE(C26:G26,1)-SMALL(C26:G26,1) -> 177 | E5: =Tulokset!D30 -> 1000
C6: Kierros 2. | D6: =SUM(C42:G42)-LARGE(C42:G42,1)-SMALL(C42:G42,1) -> 169 | E6: =Tulokset!D50 -> 1000
A7: Paikka: | B7: =Kilpailu!B4 -> Forssa | C7: Kierros 3. | D7: =SUM(C58:G58)-LARGE(C58:G58,1)-SMALL(C58:G58,1) -> 117 | E7: =Tulokset!D70 -> 906.97674
A8: Päivä: | B8: =Kilpailu!B5 -> 40019
A9: Ohjelma: | B9: =Kilpailu!B6 -> Eurosport | C9: yhteensä: | D9: =SUM(D5:D7) -> 463 | E9: =SUM(E5:E7) -> 2906.9767
C10: pois: | D10: =SMALL(D5:D7,1) -> 117 | E10: =SMALL(E5:E7,1) -> 906.97674
C11: 2 parasta: | D11: =SUM(D5:D7)-D10 -> 346 | E11: =SUM(E5:E7)-E10 -> 2000
A14: Kierros 1: | C14: Tuomari 1 | D14: Tuomari 2 | E14: Tuomari 3 | F14: Tuomari 4 | G14: Tuomari 5 | H14: yht.
A15: 1. | B15: =IF(Kilpailu!$B$6 =Kilpailu!$A$79,Kilpailu!B30,IF(Kilpailu!$B$6 =Kilpailu!$A$80,Kilpailu!B45,IF(Kilpailu!$B$6 =Kilpailu!$A$81,Kilpailu!B60,""))) -> Timantti | C15: 6 | D15: 5 | E15: 6 | F15: 0 | G15: 10 | H15: =SUM(C15:G15) -> 27
A16: 2. | B16: =IF(Kilpailu!$B$6 =Kilpailu!$A$79,Kilpailu!B31,IF(Kilpailu!$B$6 =Kilpailu!$A$80,Kilpailu!B46,IF(Kilpailu!$B$6 =Kilpailu!$A$81,Kilpailu!B61,""))) -> Suora leijutus kahdella 180 piruet. | C16: 7.5 | D16: 7 | E16: 7 | F16: 0 | G16: 10 | H16: =SUM(C16:G16) -> 31.5
A17: 3. | B17: =IF(Kilpailu!$B$6 =Kilpailu!$A$79,Kilpailu!B32,IF(Kilpailu!$B$6 =Kilpailu!$A$80,Kilpailu!B47,IF(Kilpailu!$B$6 =Kilpailu!$A$81,Kilpailu!B62,""))) -> Pystykolmio 360 piruetilla | C17: 5 | D17: 4.5 | E17: 6.5 | F17: 0 | G17: 10 | H17: =SUM(C17:G17) -> 26
A18: 4. | B18: =IF(Kilpailu!$B$6 =Kilpailu!$A$79,Kilpailu!B33,IF(Kilpailu!$B$6 =Kilpailu!$A$80,Kilpailu!B48,IF(Kilpailu!$B$6 =Kilpailu!$A$81,Kilpailu!B63,""))) -> Vaakakierre | C18: 7 | D18: 8.5 | E18: 6.5 | F18: 0 | G18: 10 | H18: =SUM(C18:G18) -> 32
A19: 5. | B19: =IF(Kilpailu!$B$6 =Kilpailu!$A$79,Kilpailu!B34,IF(Kilpailu!$B$6 =Kilpailu!$A$80,Kilpailu!B49,IF(Kilpailu!$B$6 =Kilpailu!$A$81,Kilpailu!B64,""))) -> Tuplasilmukat | C19: 6.5 | D19: 8 | E19: 7 | F19: 0 | G19: 10 | H19: =SUM(C19:G19) -> 31.5
A20: 6. | B20: =IF(Kilpailu!$B$6 =Kilpailu!$A$79,Kilpailu!B35,IF(Kilpailu!$B$6 =Kilpailu!$A$80,Kilpailu!B50,IF(Kilpailu!$B$6 =Kilpailu!$A$81,Kilpailu!B65,""))) -> Pystykäännökset | C20: 7 | D20: 6.5 | E20: 5.5 | F20: 0 | G20: 10 | H20: =SUM(C20:G20) -> 29
A21: 7. | B21: =IF(Kilpailu!$B$6 =Kilpailu!$A$79,Kilpailu!B36,IF(Kilpailu!$B$6 =Kilpailu!$A$80,Kilpailu!B51,IF(Kilpailu!$B$6 =Kilpailu!$A$81,Kilpailu!B66,""))) -> Pushover | C21: 6.5 | D21: 6 | E21: 6 | F21: 0 | G21: 10 | H21: =SUM(C21:G21) -> 28.5
A22: 8. | B22: =IF(Kilpailu!$B$6 =Kilpailu!$A$79,Kilpailu!B37,IF(Kilpailu!$B$6 =Kilpailu!$A$80,Kilpailu!B52,IF(Kilpailu!$B$6 =Kilpailu!$A$81,Kilpailu!B67,""))) -> Puolikas cuubalainen kahdeksikko | C22: 7.5 | D22: 7 | E22: 8 | F22: 0 | G22: 10 | H22: =SUM(C22:G22) -> 32.5
A23: 9. | B23: =IF(Kilpailu!$B$6 =Kilpailu!$A$79,Kilpailu!B38,IF(Kilpailu!$B$6 =Kilpailu!$A$80,Kilpailu!B53,IF(Kilpailu!$B$6 =Kilpailu!$A$81,Kilpailu!B68,""))) -> Suora autorotaation 45 ast. Kulm. | C23: 5 | D23: 7 | E23: 7 | F23: 0 | G23: 10 | H23: =SUM(C23:G23) -> 29
A24: 10. | B24: =IF(Kilpailu!$B$6 =Kilpailu!$A$79,Kilpailu!B39,IF(Kilpailu!$B$6 =Kilpailu!$A$80,Kilpailu!B54,IF(Kilpailu!$B$6 =Kilpailu!$A$81,Kilpailu!B69,""))) | H24: =SUM(C24:G24) -> 0
A25: 11. | B25: =IF(Kilpailu!$B$6 =Kilpailu!$A$79,Kilpailu!B40,IF(Kilpailu!$B$6 =Kilpailu!$A$80,Kilpailu!B55,IF(Kilpailu!$B$6 =Kilpailu!$A$81,Kilpailu!B70,""))) | H25: =SUM(C25:G25) -> 0
B26: Yht. | C26: =SUM(C15:C25) -> 58 | D26: =SUM(D15:D25) -> 59.5 | E26: =SUM(E15:E25) -> 59.5 | F26: =SUM(F15:F25) -> 0 | G26: =SUM(G15:G25) -> 90
A30: Kierros 2: | C30: Tuomari 1 | D30: Tuomari 2 | E30: Tuomari 3 | F30: Tuomari 4 | G30: Tuomari 5 | H30: yht.
A31: 1. | B31: =IF(Kilpailu!$B$6 =Kilpailu!$A$79,Kilpailu!B30,IF(Kilpailu!$B$6 =Kilpailu!$A$80,Kilpailu!B45,IF(Kilpailu!$B$6 =Kilpailu!$A$81,Kilpailu!B60,""))) -> Timantti | C31: 5.5 | D31: 6 | E31: 6 | F31: 0 | G31: 10 | H31: =SUM(C31:G31) -> 27.5
A32: 2. | B32: =IF(Kilpailu!$B$6 =Kilpailu!$A$79,Kilpailu!B31,IF(Kilpailu!$B$6 =Kilpailu!$A$80,Kilpailu!B46,IF(Kilpailu!$B$6 =Kilpailu!$A$81,Kilpailu!B61,""))) -> Suora leijutus kahdella 180 piruet. | C32: 6.5 | D32: 6.5 | E32: 6.5 | F32: 0 | G32: 10 | H32: =SUM(C32:G32) -> 29.5
A33: 3. | B33: =IF(Kilpailu!$B$6 =Kilpailu!$A$79,Kilpailu!B32,IF(Kilpailu!$B$6 =Kilpailu!$A$80,Kilpailu!B47,IF(Kilpailu!$B$6 =Kilpailu!$A$81,Kilpailu!B62,""))) -> Pystykolmio 360 piruetilla | C33: 6 | D33: 4.5 | E33: 7 | F33: 0 | G33: 10 | H33: =SUM(C33:G33) -> 27.5
A34: 4. | B34: =IF(Kilpailu!$B$6 =Kilpailu!$A$79,Kilpailu!B33,IF(Kilpailu!$B$6 =Kilpailu!$A$80,Kilpailu!B48,IF(Kilpailu!$B$6 =Kilpailu!$A$81,Kilpailu!B63,""))) -> Vaakakierre | C34: 6 | D34: 8 | E34: 6.5 | F34: 0 | G34: 10 | H34: =SUM(C34:G34) -> 30.5
A35: 5. | B35: =IF(Kilpailu!$B$6 =Kilpailu!$A$79,Kilpailu!B34,IF(Kilpailu!$B$6 =Kilpailu!$A$80,Kilpailu!B49,IF(Kilpailu!$B$6 =Kilpailu!$A$81,Kilpailu!B64,""))) -> Tuplasilmukat | C35: 6 | D35: 7.5 | E35: 6 | F35: 0 | G35: 10 | H35: =SUM(C35:G35) -> 29.5
A36: 6. | B36: =IF(Kilpailu!$B$6 =Kilpailu!$A$79,Kilpailu!B35,IF(Kilpailu!$B$6 =Kilpailu!$A$80,Kilpailu!B50,IF(Kilpailu!$B$6 =Kilpailu!$A$81,Kilpailu!B65,""))) -> Pystykäännökset | C36: 6 | D36: 6.5 | E36: 6 | F36: 0 | G36: 10 | H36: =SUM(C36:G36) -> 28.5
A37: 7. | B37: =IF(Kilpailu!$B$6 =Kilpailu!$A$79,Kilpailu!B36,IF(Kilpailu!$B$6 =Kilpailu!$A$80,Kilpailu!B51,IF(Kilpailu!$B$6 =Kilpailu!$A$81,Kilpailu!B66,""))) -> Pushover | C37: 5 | D37: 6 | E37: 5.5 | F37: 0 | G37: 10 | H37: =SUM(C37:G37) -> 26.5
A38: 8. | B38: =IF(Kilpailu!$B$6 =Kilpailu!$A$79,Kilpailu!B37,IF(Kilpailu!$B$6 =Kilpailu!$A$80,Kilpailu!B52,IF(Kilpailu!$B$6 =Kilpailu!$A$81,Kilpailu!B67,""))) -> Puolikas cuubalainen kahdeksikko | C38: 6.5 | D38: 8 | E38: 7 | F38: 0 | G38: 10 | H38: =SUM(C38:G38) -> 31.5
A39: 9. | B39: =IF(Kilpailu!$B$6 =Kilpailu!$A$79,Kilpailu!B38,IF(Kilpailu!$B$6 =Kilpailu!$A$80,Kilpailu!B53,IF(Kilpailu!$B$6 =Kilpailu!$A$81,Kilpailu!B68,""))) -> Suora autorotaation 45 ast. Kulm. | C39: 5 | D39: 5.5 | E39: 7.5 | F39: 0 | G39: 10 | H39: =SUM(C39:G39) -> 28
A40: 10. | B40: =IF(Kilpailu!$B$6 =Kilpailu!$A$79,Kilpailu!B39,IF(Kilpailu!$B$6 =Kilpailu!$A$80,Kilpailu!B54,IF(Kilpailu!$B$6 =Kilpailu!$A$81,Kilpailu!B69,""))) | H40: =SUM(C40:G40) -> 0
A41: 11. | B41: =IF(Kilpailu!$B$6 =Kilpailu!$A$79,Kilpailu!B40,IF(Kilpailu!$B$6 =Kilpailu!$A$80,Kilpailu!B55,IF(Kilpailu!$B$6 =Kilpailu!$A$81,Kilpailu!B70,""))) | H41: =SUM(C41:G41) -> 0
B42: Yht. | C42: =SUM(C31:C41) -> 52.5 | D42: =SUM(D31:D41) -> 58.5 | E42: =SUM(E31:E41) -> 58 | F42: =SUM(F31:F41) -> 0 | G42: =SUM(G31:G41) -> 90
A46: Kierros 3: | C46: Tuomari 1 | D46: Tuomari 2 | E46: Tuomari 3 | F46: Tuomari 4 | G46: Tuomari 5 | H46: yht.
A47: 1. | B47: =IF(Kilpailu!$B$6 =Kilpailu!$A$79,Kilpailu!B30,IF(Kilpailu!$B$6 =Kilpailu!$A$80,Kilpailu!B45,IF(Kilpailu!$B$6 =Kilpailu!$A$81,Kilpailu!B60,""))) -> Timantti | C47: 6 | D47: 6 | E47: 6 | H47: =SUM(C47:G47) -> 18
A48: 2. | B48: =IF(Kilpailu!$B$6 =Kilpailu!$A$79,Kilpailu!B31,IF(Kilpailu!$B$6 =Kilpailu!$A$80,Kilpailu!B46,IF(Kilpailu!$B$6 =Kilpailu!$A$81,Kilpailu!B61,""))) -> Suora leijutus kahdella 180 piruet. | C48: 5.5 | D48: 6.5 | E48: 6.5 | H48: =SUM(C48:G48) -> 18.5
A49: 3. | B49: =IF(Kilpailu!$B$6 =Kilpailu!$A$79,Kilpailu!B32,IF(Kilpailu!$B$6 =Kilpailu!$A$80,Kilpailu!B47,IF(Kilpailu!$B$6 =Kilpailu!$A$81,Kilpailu!B62,""))) -> Pystykolmio 360 piruetilla | C49: 6.5 | D49: 7 | E49: 7 | H49: =SUM(C49:G49) -> 20.5
A50: 4. | B50: =IF(Kilpailu!$B$6 =Kilpailu!$A$79,Kilpailu!B33,IF(Kilpailu!$B$6 =Kilpailu!$A$80,Kilpailu!B48,IF(Kilpailu!$B$6 =Kilpailu!$A$81,Kilpailu!B63,""))) -> Vaakakierre | C50: 7 | D50: 7 | E50: 7.5 | H50: =SUM(C50:G50) -> 21.5
A51: 5. | B51: =IF(Kilpailu!$B$6 =Kilpailu!$A$79,Kilpailu!B34,IF(Kilpailu!$B$6 =Kilpailu!$A$80,Kilpailu!B49,IF(Kilpailu!$B$6 =Kilpailu!$A$81,Kilpailu!B64,""))) -> Tuplasilmukat | C51: 6.5 | D51: 7 | E51: 6.5 | H51: =SUM(C51:G51) -> 20
A52: 6. | B52: =IF(Kilpailu!$B$6 =Kilpailu!$A$79,Kilpailu!B35,IF(Kilpailu!$B$6 =Kilpailu!$A$80,Kilpailu!B50,IF(Kilpailu!$B$6 =Kilpailu!$A$81,Kilpailu!B65,""))) -> Pystykäännökset | C52: 6.5 | D52: 7 | E52: 6.5 | H52: =SUM(C52:G52) -> 20
A53: 7. | B53: =IF(Kilpailu!$B$6 =Kilpailu!$A$79,Kilpailu!B36,IF(Kilpailu!$B$6 =Kilpailu!$A$80,Kilpailu!B51,IF(Kilpailu!$B$6 =Kilpailu!$A$81,Kilpailu!B66,""))) -> Pushover | C53: 7 | D53: 6 | E53: 6.5 | H53: =SUM(C53:G53) -> 19.5
A54: 8. | B54: =IF(Kilpailu!$B$6 =Kilpailu!$A$79,Kilpailu!B37,IF(Kilpailu!$B$6 =Kilpailu!$A$80,Kilpailu!B52,IF(Kilpailu!$B$6 =Kilpailu!$A$81,Kilpailu!B67,""))) -> Puolikas cuubalainen kahdeksikko | C54: 7.5 | D54: 8 | E54: 7.5 | H54: =SUM(C54:G54) -> 23
A55: 9. | B55: =IF(Kilpailu!$B$6 =Kilpailu!$A$79,Kilpailu!B38,IF(Kilpailu!$B$6 =Kilpailu!$A$80,Kilpailu!B53,IF(Kilpailu!$B$6 =Kilpailu!$A$81,Kilpailu!B68,""))) -> Suora autorotaation 45 ast. Kulm. | C55: 5 | D55: 7.5 | E55: 5.5 | H55: =SUM(C55:G55) -> 18
A56: 10. | B56: =IF(Kilpailu!$B$6 =Kilpailu!$A$79,Kilpailu!B39,IF(Kilpailu!$B$6 =Kilpailu!$A$80,Kilpailu!B54,IF(Kilpailu!$B$6 =Kilpailu!$A$81,Kilpailu!B69,""))) | H56: =SUM(C56:G56) -> 0
A57: 11. | B57: =IF(Kilpailu!$B$6 =Kilpailu!$A$79,Kilpailu!B40,IF(Kilpailu!$B$6 =Kilpailu!$A$80,Kilpailu!B55,IF(Kilpailu!$B$6 =Kilpailu!$A$81,Kilpailu!B70,""))) | H57: =SUM(C57:G57) -> 0
B58: Yht. | C58: =SUM(C47:C57) -> 57.5 | D58: =SUM(D47:D57) -> 62 | E58: =SUM(E47:E57) -> 59.5 | F58: =SUM(F47:F57) -> 0 | G58: =SUM(G47:G57) -> 0

Sheet 4
D4: Pisteet | E4: Suht…
A5: Nimi: | B5: =Kilpailu!B13 -> 0 | C5: Kierros 1. | D5: =SUM(C26:G26)-LARGE(C26:G26,1)-SMALL(C26:G26,1) -> 0 | E5: =Tulokset!D31 -> 0
C6: Kierros 2. | D6: =SUM(C42:G42)-LARGE(C42:G42,1)-SMALL(C42:G42,1) -> 0 | E6: =Tulokset!D51 -> 0
A7: Paikka: | B7: =Kilpailu!B4 -> Forssa | C7: Kierros 3. | D7: =SUM(C58:G58)-LARGE(C58:G58,1)-SMALL(C58:G58,1) -> 0 | E7: =Tulokset!D71 -> 0
A8: Päivä: | B8: =Kilpailu!B5 -> 40019
A9: Ohjelma: | B9: =Kilpailu!B6 -> Eurosport | C9: yhteensä: | D9: =SUM(D5:D7) -> 0 | E9: =SUM(E5:E7) -> 0
C10: pois: | D10: =SMALL(D5:D7,1) -> 0 | E10: =SMALL(E5:E7,1) -> 0
C11: 2 parasta: | D11: =SUM(D5:D7)-D10 -> 0 | E11: =SUM(E5:E7)-E10 -> 0
A14: Kierros 1: | C14: Tuomari 1 | D14: Tuomari 2 | E14: Tuomari 3 | F14: Tuomari 4 | G14: Tuomari 5 | H14: yht.
A15: 1. | B15: =IF(Kilpailu!$B$6 =Kilpailu!$A$79,Kilpailu!B30,IF(Kilpailu!$B$6 =Kilpailu!$A$80,Kilpailu!B45,IF(Kilpailu!$B$6 =Kilpailu!$A$81,Kilpailu!B60,""))) -> Timantti | F15: 0 | G15: 10 | H15: =SUM(C15:G15) -> 10
A16: 2. | B16: =IF(Kilpailu!$B$6 =Kilpailu!$A$79,Kilpailu!B31,IF(Kilpailu!$B$6 =Kilpailu!$A$80,Kilpailu!B46,IF(Kilpailu!$B$6 =Kilpailu!$A$81,Kilpailu!B61,""))) -> Suora leijutus kahdella 180 piruet. | F16: 0 | G16: 10 | H16: =SUM(C16:G16) -> 10
A17: 3. | B17: =IF(Kilpailu!$B$6 =Kilpailu!$A$79,Kilpailu!B32,IF(Kilpailu!$B$6 =Kilpailu!$A$80,Kilpailu!B47,IF(Kilpailu!$B$6 =Kilpailu!$A$81,Kilpailu!B62,""))) -> Pystykolmio 360 piruetilla | F17: 0 | G17: 10 | H17: =SUM(C17:G17) -> 10
A18: 4. | B18: =IF(Kilpailu!$B$6 =Kilpailu!$A$79,Kilpailu!B33,IF(Kilpailu!$B$6 =Kilpailu!$A$80,Kilpailu!B48,IF(Kilpailu!$B$6 =Kilpailu!$A$81,Kilpailu!B63,""))) -> Vaakakierre | F18: 0 | G18: 10 | H18: =SUM(C18:G18) -> 10
A19: 5. | B19: =IF(Kilpailu!$B$6 =Kilpailu!$A$79,Kilpailu!B34,IF(Kilpailu!$B$6 =Kilpailu!$A$80,Kilpailu!B49,IF(Kilpailu!$B$6 =Kilpailu!$A$81,Kilpailu!B64,""))) -> Tuplasilmukat | F19: 0 | G19: 10 | H19: =SUM(C19:G19) -> 10
A20: 6. | B20: =IF(Kilpailu!$B$6 =Kilpailu!$A$79,Kilpailu!B35,IF(Kilpailu!$B$6 =Kilpailu!$A$80,Kilpailu!B50,IF(Kilpailu!$B$6 =Kilpailu!$A$81,Kilpailu!B65,""))) -> Pystykäännökset | F20: 0 | G20: 10 | H20: =SUM(C20:G20) -> 10
A21: 7. | B21: =IF(Kilpailu!$B$6 =Kilpailu!$A$79,Kilpailu!B36,IF(Kilpailu!$B$6 =Kilpailu!$A$80,Kilpailu!B51,IF(Kilpailu!$B$6 =Kilpailu!$A$81,Kilpailu!B66,""))) -> Pushover | F21: 0 | G21: 10 | H21: =SUM(C21:G21) -> 10
A22: 8. | B22: =IF(Kilpailu!$B$6 =Kilpailu!$A$79,Kilpailu!B37,IF(Kilpailu!$B$6 =Kilpailu!$A$80,Kilpailu!B52,IF(Kilpailu!$B$6 =Kilpailu!$A$81,Kilpailu!B67,""))) -> Puolikas cuubalainen kahdeksikko | F22: 0 | G22: 10 | H22: =SUM(C22:G22) -> 10
A23: 9. | B23: =IF(Kilpailu!$B$6 =Kilpailu!$A$79,Kilpailu!B38,IF(Kilpailu!$B$6 =Kilpailu!$A$80,Kilpailu!B53,IF(Kilpailu!$B$6 =Kilpailu!$A$81,Kilpailu!B68,""))) -> Suora autorotaation 45 ast. Kulm. | F23: 0 | G23: 10 | H23: =SUM(C23:G23) -> 10
A24: 10. | B24: =IF(Kilpailu!$B$6 =Kilpailu!$A$79,Kilpailu!B39,IF(Kilpailu!$B$6 =Kilpailu!$A$80,Kilpailu!B54,IF(Kilpailu!$B$6 =Kilpailu!$A$81,Kilpailu!B69,""))) | H24: =SUM(C24:G24) -> 0
A25: 11. | B25: =IF(Kilpailu!$B$6 =Kilpailu!$A$79,Kilpailu!B40,IF(Kilpailu!$B$6 =Kilpailu!$A$80,Kilpailu!B55,IF(Kilpailu!$B$6 =Kilpailu!$A$81,Kilpailu!B70,""))) | H25: =SUM(C25:G25) -> 0
B26: Yht. | C26: =SUM(C15:C25) -> 0 | D26: =SUM(D15:D25) -> 0 | E26: =SUM(E15:E25) -> 0 | F26: =SUM(F15:F25) -> 0 | G26: =SUM(G15:G25) -> 90
A30: Kierros 2: | C30: Tuomari 1 | D30: Tuomari 2 | E30: Tuomari 3 | F30: Tuomari 4 | G30: Tuomari 5 | H30: yht.
A31: 1. | B31: =IF(Kilpailu!$B$6 =Kilpailu!$A$79,Kilpailu!B30,IF(Kilpailu!$B$6 =Kilpailu!$A$80,Kilpailu!B45,IF(Kilpailu!$B$6 =Kilpailu!$A$81,Kilpailu!B60,""))) -> Timantti | F31: 0 | G31: 10 | H31: =SUM(C31:G31) -> 10
A32: 2. | B32: =IF(Kilpailu!$B$6 =Kilpailu!$A$79,Kilpailu!B31,IF(Kilpailu!$B$6 =Kilpailu!$A$80,Kilpailu!B46,IF(Kilpailu!$B$6 =Kilpailu!$A$81,Kilpailu!B61,""))) -> Suora leijutus kahdella 180 piruet. | F32: 0 | G32: 10 | H32: =SUM(C32:G32) -> 10
A33: 3. | B33: =IF(Kilpailu!$B$6 =Kilpailu!$A$79,Kilpailu!B32,IF(Kilpailu!$B$6 =Kilpailu!$A$80,Kilpailu!B47,IF(Kilpailu!$B$6 =Kilpailu!$A$81,Kilpailu!B62,""))) -> Pystykolmio 360 piruetilla | F33: 0 | G33: 10 | H33: =SUM(C33:G33) -> 10
A34: 4. | B34: =IF(Kilpailu!$B$6 =Kilpailu!$A$79,Kilpailu!B33,IF(Kilpailu!$B$6 =Kilpailu!$A$80,Kilpailu!B48,IF(Kilpailu!$B$6 =Kilpailu!$A$81,Kilpailu!B63,""))) -> Vaakakierre | F34: 0 | G34: 10 | H34: =SUM(C34:G34) -> 10
A35: 5. | B35: =IF(Kilpailu!$B$6 =Kilpailu!$A$79,Kilpailu!B34,IF(Kilpailu!$B$6 =Kilpailu!$A$80,Kilpailu!B49,IF(Kilpailu!$B$6 =Kilpailu!$A$81,Kilpailu!B64,""))) -> Tuplasilmukat | F35: 0 | G35: 10 | H35: =SUM(C35:G35) -> 10
A36: 6. | B36: =IF(Kilpailu!$B$6 =Kilpailu!$A$79,Kilpailu!B35,IF(Kilpailu!$B$6 =Kilpailu!$A$80,Kilpailu!B50,IF(Kilpailu!$B$6 =Kilpailu!$A$81,Kilpailu!B65,""))) -> Pystykäännökset | F36: 0 | G36: 10 | H36: =SUM(C36:G36) -> 10
A37: 7. | B37: =IF(Kilpailu!$B$6 =Kilpailu!$A$79,Kilpailu!B36,IF(Kilpailu!$B$6 =Kilpailu!$A$80,Kilpailu!B51,IF(Kilpailu!$B$6 =Kilpailu!$A$81,Kilpailu!B66,""))) -> Pushover | F37: 0 | G37: 10 | H37: =SUM(C37:G37) -> 10
A38: 8. | B38: =IF(Kilpailu!$B$6 =Kilpailu!$A$79,Kilpailu!B37,IF(Kilpailu!$B$6 =Kilpailu!$A$80,Kilpailu!B52,IF(Kilpailu!$B$6 =Kilpailu!$A$81,Kilpailu!B67,""))) -> Puolikas cuubalainen kahdeksikko | F38: 0 | G38: 10 | H38: =SUM(C38:G38) -> 10
A39: 9. | B39: =IF(Kilpailu!$B$6 =Kilpailu!$A$79,Kilpailu!B38,IF(Kilpailu!$B$6 =Kilpailu!$A$80,Kilpailu!B53,IF(Kilpailu!$B$6 =Kilpailu!$A$81,Kilpailu!B68,""))) -> Suora autorotaation 45 ast. Kulm. | F39: 0 | G39: 10 | H39: =SUM(C39:G39) -> 10
A40: 10. | B40: =IF(Kilpailu!$B$6 =Kilpailu!$A$79,Kilpailu!B39,IF(Kilpailu!$B$6 =Kilpailu!$A$80,Kilpailu!B54,IF(Kilpailu!$B$6 =Kilpailu!$A$81,Kilpailu!B69,""))) | H40: =SUM(C40:G40) -> 0
A41: 11. | B41: =IF(Kilpailu!$B$6 =Kilpailu!$A$79,Kilpailu!B40,IF(Kilpailu!$B$6 =Kilpailu!$A$80,Kilpailu!B55,IF(Kilpailu!$B$6 =Kilpailu!$A$81,Kilpailu!B70,""))) | H41: =SUM(C41:G41) -> 0
B42: Yht. | C42: =SUM(C31:C41) -> 0 | D42: =SUM(D31:D41) -> 0 | E42: =SUM(E31:E41) -> 0 | F42: =SUM(F31:F41) -> 0 | G42: =SUM(G31:G41) -> 90
A46: Kierros 3: | C46: Tuomari 1 | D46: Tuomari 2 | E46: Tuomari 3 | F46: Tuomari 4 | G46: Tuomari 5 | H46: yht.
A47: 1. | B47: =IF(Kilpailu!$B$6 =Kilpailu!$A$79,Kilpailu!B30,IF(Kilpailu!$B$6 =Kilpailu!$A$80,Kilpailu!B45,IF(Kilpailu!$B$6 =Kilpailu!$A$81,Kilpailu!B60,""))) -> Timantti | H47: =SUM(C47:G47) -> 0
A48: 2. | B48: =IF(Kilpailu!$B$6 =Kilpailu!$A$79,Kilpailu!B31,IF(Kilpailu!$B$6 =Kilpailu!$A$80,Kilpailu!B46,IF(Kilpailu!$B$6 =Kilpailu!$A$81,Kilpailu!B61,""))) -> Suora leijutus kahdella 180 piruet. | H48: =SUM(C48:G48) -> 0
A49: 3. | B49: =IF(Kilpailu!$B$6 =Kilpailu!$A$79,Kilpailu!B32,IF(Kilpailu!$B$6 =Kilpailu!$A$80,Kilpailu!B47,IF(Kilpailu!$B$6 =Kilpailu!$A$81,Kilpailu!B62,""))) -> Pystykolmio 360 piruetilla | H49: =SUM(C49:G49) -> 0
A50: 4. | B50: =IF(Kilpailu!$B$6 =Kilpailu!$A$79,Kilpailu!B33,IF(Kilpailu!$B$6 =Kilpailu!$A$80,Kilpailu!B48,IF(Kilpailu!$B$6 =Kilpailu!$A$81,Kilpailu!B63,""))) -> Vaakakierre | H50: =SUM(C50:G50) -> 0
A51: 5. | B51: =IF(Kilpailu!$B$6 =Kilpailu!$A$79,Kilpailu!B34,IF(Kilpailu!$B$6 =Kilpailu!$A$80,Kilpailu!B49,IF(Kilpailu!$B$6 =Kilpailu!$A$81,Kilpailu!B64,""))) -> Tuplasilmukat | H51: =SUM(C51:G51) -> 0
A52: 6. | B52: =IF(Kilpailu!$B$6 =Kilpailu!$A$79,Kilpailu!B35,IF(Kilpailu!$B$6 =Kilpailu!$A$80,Kilpailu!B50,IF(Kilpailu!$B$6 =Kilpailu!$A$81,Kilpailu!B65,""))) -> Pystykäännökset | H52: =SUM(C52:G52) -> 0
A53: 7. | B53: =IF(Kilpailu!$B$6 =Kilpailu!$A$79,Kilpailu!B36,IF(Kilpailu!$B$6 =Kilpailu!$A$80,Kilpailu!B51,IF(Kilpailu!$B$6 =Kilpailu!$A$81,Kilpailu!B66,""))) -> Pushover | H53: =SUM(C53:G53) -> 0
A54: 8. | B54: =IF(Kilpailu!$B$6 =Kilpailu!$A$79,Kilpailu!B37,IF(Kilpailu!$B$6 =Kilpailu!$A$80,Kilpailu!B52,IF(Kilpailu!$B$6 =Kilpailu!$A$81,Kilpailu!B67,""))) -> Puolikas cuubalainen kahdeksikko | H54: =SUM(C54:G54) -> 0
A55: 9. | B55: =IF(Kilpailu!$B$6 =Kilpailu!$A$79,Kilpailu!B38,IF(Kilpailu!$B$6 =Kilpailu!$A$80,Kilpailu!B53,IF(Kilpailu!$B$6 =Kilpailu!$A$81,Kilpailu!B68,""))) -> Suora autorotaation 45 ast. Kulm. | H55: =SUM(C55:G55) -> 0
A56: 10. | B56: =IF(Kilpailu!$B$6 =Kilpailu!$A$79,Kilpailu!B39,IF(Kilpailu!$B$6 =Kilpailu!$A$80,Kilpailu!B54,IF(Kilpailu!$B$6 =Kilpailu!$A$81,Kilpailu!B69,""))) | H56: =SUM(C56:G56) -> 0
A57: 11. | B57: =IF(Kilpailu!$B$6 =Kilpailu!$A$79,Kilpailu!B40,IF(Kilpailu!$B$6 =Kilpailu!$A$80,Kilpailu!B55,IF(Kilpailu!$B$6 =Kilpailu!$A$81,Kilpailu!B70,""))) | H57: =SUM(C57:G57) -> 0
B58: Yht. | C58: =SUM(C47:C57) -> 0 | D58: =SUM(D47:D57) -> 0 | E58: =SUM(E47:E57) -> 0 | F58: =SUM(F47:F57) -> 0 | G58: =SUM(G47:G57) -> 0

Sheet 5
D4: Pisteet | E4: Suht…
A5: Nimi: | B5: =Kilpailu!B14 -> 0 | C5: Kierros 1. | D5: =SUM(C26:G26)-LARGE(C26:G26,1)-SMALL(C26:G26,1) -> 0 | E5: =Tulokset!D32 -> 0
C6: Kierros 2. | D6: =SUM(C42:G42)-LARGE(C42:G42,1)-SMALL(C42:G42,1) -> 0 | E6: =Tulokset!D52 -> 0
A7: Paikka: | B7: =Kilpailu!B4 -> Forssa | C7: Kierros 3. | D7: =SUM(C58:G58)-LARGE(C58:G58,1)-SMALL(C58:G58,1) -> 0 | E7: =Tulokset!D72 -> 0
A8: Päivä: | B8: =Kilpailu!B5 -> 40019
A9: Ohjelma: | B9: =Kilpailu!B6 -> Eurosport | C9: yhteensä: | D9: =SUM(D5:D7) -> 0 | E9: =SUM(E5:E7) -> 0
C10: pois: | D10: =SMALL(D5:D7,1) -> 0 | E10: =SMALL(E5:E7,1) -> 0
C11: 2 parasta: | D11: =SUM(D5:D7)-D10 -> 0 | E11: =SUM(E5:E7)-E10 -> 0
A14: Kierros 1: | C14: Tuomari 1 | D14: Tuomari 2 | E14: Tuomari 3 | F14: Tuomari 4 | G14: Tuomari 5 | H14: yht.
A15: 1. | B15: =IF(Kilpailu!$B$6 =Kilpailu!$A$79,Kilpailu!B30,IF(Kilpailu!$B$6 =Kilpailu!$A$80,Kilpailu!B45,IF(Kilpailu!$B$6 =Kilpailu!$A$81,Kilpailu!B60,""))) -> Timantti | F15: 0 | G15: 10 | H15: =SUM(C15:G15) -> 10
A16: 2. | B16: =IF(Kilpailu!$B$6 =Kilpailu!$A$79,Kilpailu!B31,IF(Kilpailu!$B$6 =Kilpailu!$A$80,Kilpailu!B46,IF(Kilpailu!$B$6 =Kilpailu!$A$81,Kilpailu!B61,""))) -> Suora leijutus kahdella 180 piruet. | F16: 0 | G16: 10 | H16: =SUM(C16:G16) -> 10
A17: 3. | B17: =IF(Kilpailu!$B$6 =Kilpailu!$A$79,Kilpailu!B32,IF(Kilpailu!$B$6 =Kilpailu!$A$80,Kilpailu!B47,IF(Kilpailu!$B$6 =Kilpailu!$A$81,Kilpailu!B62,""))) -> Pystykolmio 360 piruetilla | F17: 0 | G17: 10 | H17: =SUM(C17:G17) -> 10
A18: 4. | B18: =IF(Kilpailu!$B$6 =Kilpailu!$A$79,Kilpailu!B33,IF(Kilpailu!$B$6 =Kilpailu!$A$80,Kilpailu!B48,IF(Kilpailu!$B$6 =Kilpailu!$A$81,Kilpailu!B63,""))) -> Vaakakierre | F18: 0 | G18: 10 | H18: =SUM(C18:G18) -> 10
A19: 5. | B19: =IF(Kilpailu!$B$6 =Kilpailu!$A$79,Kilpailu!B34,IF(Kilpailu!$B$6 =Kilpailu!$A$80,Kilpailu!B49,IF(Kilpailu!$B$6 =Kilpailu!$A$81,Kilpailu!B64,""))) -> Tuplasilmukat | F19: 0 | G19: 10 | H19: =SUM(C19:G19) -> 10
A20: 6. | B20: =IF(Kilpailu!$B$6 =Kilpailu!$A$79,Kilpailu!B35,IF(Kilpailu!$B$6 =Kilpailu!$A$80,Kilpailu!B50,IF(Kilpailu!$B$6 =Kilpailu!$A$81,Kilpailu!B65,""))) -> Pystykäännökset | F20: 0 | G20: 10 | H20: =SUM(C20:G20) -> 10
A21: 7. | B21: =IF(Kilpailu!$B$6 =Kilpailu!$A$79,Kilpailu!B36,IF(Kilpailu!$B$6 =Kilpailu!$A$80,Kilpailu!B51,IF(Kilpailu!$B$6 =Kilpailu!$A$81,Kilpailu!B66,""))) -> Pushover | F21: 0 | G21: 10 | H21: =SUM(C21:G21) -> 10
A22: 8. | B22: =IF(Kilpailu!$B$6 =Kilpailu!$A$79,Kilpailu!B37,IF(Kilpailu!$B$6 =Kilpailu!$A$80,Kilpailu!B52,IF(Kilpailu!$B$6 =Kilpailu!$A$81,Kilpailu!B67,""))) -> Puolikas cuubalainen kahdeksikko | F22: 0 | G22: 10 | H22: =SUM(C22:G22) -> 10
A23: 9. | B23: =IF(Kilpailu!$B$6 =Kilpailu!$A$79,Kilpailu!B38,IF(Kilpailu!$B$6 =Kilpailu!$A$80,Kilpailu!B53,IF(Kilpailu!$B$6 =Kilpailu!$A$81,Kilpailu!B68,""))) -> Suora autorotaation 45 ast. Kulm. | F23: 0 | G23: 10 | H23: =SUM(C23:G23) -> 10
A24: 10. | B24: =IF(Kilpailu!$B$6 =Kilpailu!$A$79,Kilpailu!B39,IF(Kilpailu!$B$6 =Kilpailu!$A$80,Kilpailu!B54,IF(Kilpailu!$B$6 =Kilpailu!$A$81,Kilpailu!B69,""))) | H24: =SUM(C24:G24) -> 0
A25: 11. | B25: =IF(Kilpailu!$B$6 =Kilpailu!$A$79,Kilpailu!B40,IF(Kilpailu!$B$6 =Kilpailu!$A$80,Kilpailu!B55,IF(Kilpailu!$B$6 =Kilpailu!$A$81,Kilpailu!B70,""))) | H25: =SUM(C25:G25) -> 0
B26: Yht. | C26: =SUM(C15:C25) -> 0 | D26: =SUM(D15:D25) -> 0 | E26: =SUM(E15:E25) -> 0 | F26: =SUM(F15:F25) -> 0 | G26: =SUM(G15:G25) -> 90
A30: Kierros 2: | C30: Tuomari 1 | D30: Tuomari 2 | E30: Tuomari 3 | F30: Tuomari 4 | G30: Tuomari 5 | H30: yht.
A31: 1. | B31: =IF(Kilpailu!$B$6 =Kilpailu!$A$79,Kilpailu!B30,IF(Kilpailu!$B$6 =Kilpailu!$A$80,Kilpailu!B45,IF(Kilpailu!$B$6 =Kilpailu!$A$81,Kilpailu!B60,""))) -> Timantti | F31: 0 | G31: 10 | H31: =SUM(C31:G31) -> 10
A32: 2. | B32: =IF(Kilpailu!$B$6 =Kilpailu!$A$79,Kilpailu!B31,IF(Kilpailu!$B$6 =Kilpailu!$A$80,Kilpailu!B46,IF(Kilpailu!$B$6 =Kilpailu!$A$81,Kilpailu!B61,""))) -> Suora leijutus kahdella 180 piruet. | F32: 0 | G32: 10 | H32: =SUM(C32:G32) -> 10
A33: 3. | B33: =IF(Kilpailu!$B$6 =Kilpailu!$A$79,Kilpailu!B32,IF(Kilpailu!$B$6 =Kilpailu!$A$80,Kilpailu!B47,IF(Kilpailu!$B$6 =Kilpailu!$A$81,Kilpailu!B62,""))) -> Pystykolmio 360 piruetilla | F33: 0 | G33: 10 | H33: =SUM(C33:G33) -> 10
A34: 4. | B34: =IF(Kilpailu!$B$6 =Kilpailu!$A$79,Kilpailu!B33,IF(Kilpailu!$B$6 =Kilpailu!$A$80,Kilpailu!B48,IF(Kilpailu!$B$6 =Kilpailu!$A$81,Kilpailu!B63,""))) -> Vaakakierre | F34: 0 | G34: 10 | H34: =SUM(C34:G34) -> 10
A35: 5. | B35: =IF(Kilpailu!$B$6 =Kilpailu!$A$79,Kilpailu!B34,IF(Kilpailu!$B$6 =Kilpailu!$A$80,Kilpailu!B49,IF(Kilpailu!$B$6 =Kilpailu!$A$81,Kilpailu!B64,""))) -> Tuplasilmukat | F35: 0 | G35: 10 | H35: =SUM(C35:G35) -> 10
A36: 6. | B36: =IF(Kilpailu!$B$6 =Kilpailu!$A$79,Kilpailu!B35,IF(Kilpailu!$B$6 =Kilpailu!$A$80,Kilpailu!B50,IF(Kilpailu!$B$6 =Kilpailu!$A$81,Kilpailu!B65,""))) -> Pystykäännökset | F36: 0 | G36: 10 | H36: =SUM(C36:G36) -> 10
A37: 7. | B37: =IF(Kilpailu!$B$6 =Kilpailu!$A$79,Kilpailu!B36,IF(Kilpailu!$B$6 =Kilpailu!$A$80,Kilpailu!B51,IF(Kilpailu!$B$6 =Kilpailu!$A$81,Kilpailu!B66,""))) -> Pushover | F37: 0 | G37: 10 | H37: =SUM(C37:G37) -> 10
A38: 8. | B38: =IF(Kilpailu!$B$6 =Kilpailu!$A$79,Kilpailu!B37,IF(Kilpailu!$B$6 =Kilpailu!$A$80,Kilpailu!B52,IF(Kilpailu!$B$6 =Kilpailu!$A$81,Kilpailu!B67,""))) -> Puolikas cuubalainen kahdeksikko | F38: 0 | G38: 10 | H38: =SUM(C38:G38) -> 10
A39: 9. | B39: =IF(Kilpailu!$B$6 =Kilpailu!$A$79,Kilpailu!B38,IF(Kilpailu!$B$6 =Kilpailu!$A$80,Kilpailu!B53,IF(Kilpailu!$B$6 =Kilpailu!$A$81,Kilpailu!B68,""))) -> Suora autorotaation 45 ast. Kulm. | F39: 0 | G39: 10 | H39: =SUM(C39:G39) -> 10
A40: 10. | B40: =IF(Kilpailu!$B$6 =Kilpailu!$A$79,Kilpailu!B39,IF(Kilpailu!$B$6 =Kilpailu!$A$80,Kilpailu!B54,IF(Kilpailu!$B$6 =Kilpailu!$A$81,Kilpailu!B69,""))) | H40: =SUM(C40:G40) -> 0
A41: 11. | B41: =IF(Kilpailu!$B$6 =Kilpailu!$A$79,Kilpailu!B40,IF(Kilpailu!$B$6 =Kilpailu!$A$80,Kilpailu!B55,IF(Kilpailu!$B$6 =Kilpailu!$A$81,Kilpailu!B70,""))) | H41: =SUM(C41:G41) -> 0
B42: Yht. | C42: =SUM(C31:C41) -> 0 | D42: =SUM(D31:D41) -> 0 | E42: =SUM(E31:E41) -> 0 | F42: =SUM(F31:F41) -> 0 | G42: =SUM(G31:G41) -> 90
A46: Kierros 3: | C46: Tuomari 1 | D46: Tuomari 2 | E46: Tuomari 3 | F46: Tuomari 4 | G46: Tuomari 5 | H46: yht.
A47: 1. | B47: =IF(Kilpailu!$B$6 =Kilpailu!$A$79,Kilpailu!B30,IF(Kilpailu!$B$6 =Kilpailu!$A$80,Kilpailu!B45,IF(Kilpailu!$B$6 =Kilpailu!$A$81,Kilpailu!B60,""))) -> Timantti | H47: =SUM(C47:G47) -> 0
A48: 2. | B48: =IF(Kilpailu!$B$6 =Kilpailu!$A$79,Kilpailu!B31,IF(Kilpailu!$B$6 =Kilpailu!$A$80,Kilpailu!B46,IF(Kilpailu!$B$6 =Kilpailu!$A$81,Kilpailu!B61,""))) -> Suora leijutus kahdella 180 piruet. | H48: =SUM(C48:G48) -> 0
A49: 3. | B49: =IF(Kilpailu!$B$6 =Kilpailu!$A$79,Kilpailu!B32,IF(Kilpailu!$B$6 =Kilpailu!$A$80,Kilpailu!B47,IF(Kilpailu!$B$6 =Kilpailu!$A$81,Kilpailu!B62,""))) -> Pystykolmio 360 piruetilla | H49: =SUM(C49:G49) -> 0
A50: 4. | B50: =IF(Kilpailu!$B$6 =Kilpailu!$A$79,Kilpailu!B33,IF(Kilpailu!$B$6 =Kilpailu!$A$80,Kilpailu!B48,IF(Kilpailu!$B$6 =Kilpailu!$A$81,Kilpailu!B63,""))) -> Vaakakierre | H50: =SUM(C50:G50) -> 0
A51: 5. | B51: =IF(Kilpailu!$B$6 =Kilpailu!$A$79,Kilpailu!B34,IF(Kilpailu!$B$6 =Kilpailu!$A$80,Kilpailu!B49,IF(Kilpailu!$B$6 =Kilpailu!$A$81,Kilpailu!B64,""))) -> Tuplasilmukat | H51: =SUM(C51:G51) -> 0
A52: 6. | B52: =IF(Kilpailu!$B$6 =Kilpailu!$A$79,Kilpailu!B35,IF(Kilpailu!$B$6 =Kilpailu!$A$80,Kilpailu!B50,IF(Kilpailu!$B$6 =Kilpailu!$A$81,Kilpailu!B65,""))) -> Pystykäännökset | H52: =SUM(C52:G52) -> 0
A53: 7. | B53: =IF(Kilpailu!$B$6 =Kilpailu!$A$79,Kilpailu!B36,IF(Kilpailu!$B$6 =Kilpailu!$A$80,Kilpailu!B51,IF(Kilpailu!$B$6 =Kilpailu!$A$81,Kilpailu!B66,""))) -> Pushover | H53: =SUM(C53:G53) -> 0
A54: 8. | B54: =IF(Kilpailu!$B$6 =Kilpailu!$A$79,Kilpailu!B37,IF(Kilpailu!$B$6 =Kilpailu!$A$80,Kilpailu!B52,IF(Kilpailu!$B$6 =Kilpailu!$A$81,Kilpailu!B67,""))) -> Puolikas cuubalainen kahdeksikko | H54: =SUM(C54:G54) -> 0
A55: 9. | B55: =IF(Kilpailu!$B$6 =Kilpailu!$A$79,Kilpailu!B38,IF(Kilpailu!$B$6 =Kilpailu!$A$80,Kilpailu!B53,IF(Kilpailu!$B$6 =Kilpailu!$A$81,Kilpailu!B68,""))) -> Suora autorotaation 45 ast. Kulm. | H55: =SUM(C55:G55) -> 0
A56: 10. | B56: =IF(Kilpailu!$B$6 =Kilpailu!$A$79,Kilpailu!B39,IF(Kilpailu!$B$6 =Kilpailu!$A$80,Kilpailu!B54,IF(Kilpailu!$B$6 =Kilpailu!$A$81,Kilpailu!B69,""))) | H56: =SUM(C56:G56) -> 0
A57: 11. | B57: =IF(Kilpailu!$B$6 =Kilpailu!$A$79,Kilpailu!B40,IF(Kilpailu!$B$6 =Kilpailu!$A$80,Kilpailu!B55,IF(Kilpailu!$B$6 =Kilpailu!$A$81,Kilpailu!B70,""))) | H57: =SUM(C57:G57) -> 0
B58: Yht. | C58: =SUM(C47:C57) -> 0 | D58: =SUM(D47:D57) -> 0 | E58: =SUM(E47:E57) -> 0 | F58: =SUM(F47:F57) -> 0 | G58: =SUM(G47:G57) -> 0

Sheet 6
D4: Pisteet | E4: Suht…
A5: Nimi: | B5: =Kilpailu!B15 -> 0 | C5: Kierros 1. | D5: =SUM(C26:G26)-LARGE(C26:G26,1)-SMALL(C26:G26,1) -> 0 | E5: =Tulokset!D33 -> 0
C6: Kierros 2. | D6: =SUM(C42:G42)-LARGE(C42:G42,1)-SMALL(C42:G42,1) -> 0 | E6: =Tulokset!D53 -> 0
A7: Paikka: | B7: =Kilpailu!B4 -> Forssa | C7: Kierros 3. | D7: =SUM(C58:G58)-LARGE(C58:G58,1)-SMALL(C58:G58,1) -> 0 | E7: =Tulokset!D73 -> 0
A8: Päivä: | B8: =Kilpailu!B5 -> 40019
A9: Ohjelma: | B9: =Kilpailu!B6 -> Eurosport | C9: yhteensä: | D9: =SUM(D5:D7) -> 0 | E9: =SUM(E5:E7) -> 0
C10: pois: | D10: =SMALL(D5:D7,1) -> 0 | E10: =SMALL(E5:E7,1) -> 0
C11: 2 parasta: | D11: =SUM(D5:D7)-D10 -> 0 | E11: =SUM(E5:E7)-E10 -> 0
A14: Kierros 1: | C14: Tuomari 1 | D14: Tuomari 2 | E14: Tuomari 3 | F14: Tuomari 4 | G14: Tuomari 5 | H14: yht.
A15: 1. | B15: =IF(Kilpailu!$B$6 =Kilpailu!$A$79,Kilpailu!B30,IF(Kilpailu!$B$6 =Kilpailu!$A$80,Kilpailu!B45,IF(Kilpailu!$B$6 =Kilpailu!$A$81,Kilpailu!B60,""))) -> Timantti | H15: =SUM(C15:G15) -> 0
A16: 2. | B16: =IF(Kilpailu!$B$6 =Kilpailu!$A$79,Kilpailu!B31,IF(Kilpailu!$B$6 =Kilpailu!$A$80,Kilpailu!B46,IF(Kilpailu!$B$6 =Kilpailu!$A$81,Kilpailu!B61,""))) -> Suora leijutus kahdella 180 piruet. | H16: =SUM(C16:G16) -> 0
A17: 3. | B17: =IF(Kilpailu!$B$6 =Kilpailu!$A$79,Kilpailu!B32,IF(Kilpailu!$B$6 =Kilpailu!$A$80,Kilpailu!B47,IF(Kilpailu!$B$6 =Kilpailu!$A$81,Kilpailu!B62,""))) -> Pystykolmio 360 piruetilla | H17: =SUM(C17:G17) -> 0
A18: 4. | B18: =IF(Kilpailu!$B$6 =Kilpailu!$A$79,Kilpailu!B33,IF(Kilpailu!$B$6 =Kilpailu!$A$80,Kilpailu!B48,IF(Kilpailu!$B$6 =Kilpailu!$A$81,Kilpailu!B63,""))) -> Vaakakierre | H18: =SUM(C18:G18) -> 0
A19: 5. | B19: =IF(Kilpailu!$B$6 =Kilpailu!$A$79,Kilpailu!B34,IF(Kilpailu!$B$6 =Kilpailu!$A$80,Kilpailu!B49,IF(Kilpailu!$B$6 =Kilpailu!$A$81,Kilpailu!B64,""))) -> Tuplasilmukat | H19: =SUM(C19:G19) -> 0
A20: 6. | B20: =IF(Kilpailu!$B$6 =Kilpailu!$A$79,Kilpailu!B35,IF(Kilpailu!$B$6 =Kilpailu!$A$80,Kilpailu!B50,IF(Kilpailu!$B$6 =Kilpailu!$A$81,Kilpailu!B65,""))) -> Pystykäännökset | H20: =SUM(C20:G20) -> 0
A21: 7. | B21: =IF(Kilpailu!$B$6 =Kilpailu!$A$79,Kilpailu!B36,IF(Kilpailu!$B$6 =Kilpailu!$A$80,Kilpailu!B51,IF(Kilpailu!$B$6 =Kilpailu!$A$81,Kilpailu!B66,""))) -> Pushover | H21: =SUM(C21:G21) -> 0
A22: 8. | B22: =IF(Kilpailu!$B$6 =Kilpailu!$A$79,Kilpailu!B37,IF(Kilpailu!$B$6 =Kilpailu!$A$80,Kilpailu!B52,IF(Kilpailu!$B$6 =Kilpailu!$A$81,Kilpailu!B67,""))) -> Puolikas cuubalainen kahdeksikko | H22: =SUM(C22:G22) -> 0
A23: 9. | B23: =IF(Kilpailu!$B$6 =Kilpailu!$A$79,Kilpailu!B38,IF(Kilpailu!$B$6 =Kilpailu!$A$80,Kilpailu!B53,IF(Kilpailu!$B$6 =Kilpailu!$A$81,Kilpailu!B68,""))) -> Suora autorotaation 45 ast. Kulm. | H23: =SUM(C23:G23) -> 0
A24: 10. | B24: =IF(Kilpailu!$B$6 =Kilpailu!$A$79,Kilpailu!B39,IF(Kilpailu!$B$6 =Kilpailu!$A$80,Kilpailu!B54,IF(Kilpailu!$B$6 =Kilpailu!$A$81,Kilpailu!B69,""))) | H24: =SUM(C24:G24) -> 0
A25: 11. | B25: =IF(Kilpailu!$B$6 =Kilpailu!$A$79,Kilpailu!B40,IF(Kilpailu!$B$6 =Kilpailu!$A$80,Kilpailu!B55,IF(Kilpailu!$B$6 =Kilpailu!$A$81,Kilpailu!B70,""))) | H25: =SUM(C25:G25) -> 0
B26: Yht. | C26: =SUM(C15:C25) -> 0 | D26: =SUM(D15:D25) -> 0 | E26: =SUM(E15:E25) -> 0 | F26: =SUM(F15:F25) -> 0 | G26: =SUM(G15:G25) -> 0
A30: Kierros 2: | C30: Tuomari 1 | D30: Tuomari 2 | E30: Tuomari 3 | F30: Tuomari 4 | G30: Tuomari 5 | H30: yht.
A31: 1. | B31: =IF(Kilpailu!$B$6 =Kilpailu!$A$79,Kilpailu!B30,IF(Kilpailu!$B$6 =Kilpailu!$A$80,Kilpailu!B45,IF(Kilpailu!$B$6 =Kilpailu!$A$81,Kilpailu!B60,""))) -> Timantti | H31: =SUM(C31:G31) -> 0
A32: 2. | B32: =IF(Kilpailu!$B$6 =Kilpailu!$A$79,Kilpailu!B31,IF(Kilpailu!$B$6 =Kilpailu!$A$80,Kilpailu!B46,IF(Kilpailu!$B$6 =Kilpailu!$A$81,Kilpailu!B61,""))) -> Suora leijutus kahdella 180 piruet. | H32: =SUM(C32:G32) -> 0
A33: 3. | B33: =IF(Kilpailu!$B$6 =Kilpailu!$A$79,Kilpailu!B32,IF(Kilpailu!$B$6 =Kilpailu!$A$80,Kilpailu!B47,IF(Kilpailu!$B$6 =Kilpailu!$A$81,Kilpailu!B62,""))) -> Pystykolmio 360 piruetilla | H33: =SUM(C33:G33) -> 0
A34: 4. | B34: =IF(Kilpailu!$B$6 =Kilpailu!$A$79,Kilpailu!B33,IF(Kilpailu!$B$6 =Kilpailu!$A$80,Kilpailu!B48,IF(Kilpailu!$B$6 =Kilpailu!$A$81,Kilpailu!B63,""))) -> Vaakakierre | H34: =SUM(C34:G34) -> 0
A35: 5. | B35: =IF(Kilpailu!$B$6 =Kilpailu!$A$79,Kilpailu!B34,IF(Kilpailu!$B$6 =Kilpailu!$A$80,Kilpailu!B49,IF(Kilpailu!$B$6 =Kilpailu!$A$81,Kilpailu!B64,""))) -> Tuplasilmukat | H35: =SUM(C35:G35) -> 0
A36: 6. | B36: =IF(Kilpailu!$B$6 =Kilpailu!$A$79,Kilpailu!B35,IF(Kilpailu!$B$6 =Kilpailu!$A$80,Kilpailu!B50,IF(Kilpailu!$B$6 =Kilpailu!$A$81,Kilpailu!B65,""))) -> Pystykäännökset | H36: =SUM(C36:G36) -> 0
A37: 7. | B37: =IF(Kilpailu!$B$6 =Kilpailu!$A$79,Kilpailu!B36,IF(Kilpailu!$B$6 =Kilpailu!$A$80,Kilpailu!B51,IF(Kilpailu!$B$6 =Kilpailu!$A$81,Kilpailu!B66,""))) -> Pushover | H37: =SUM(C37:G37) -> 0
A38: 8. | B38: =IF(Kilpailu!$B$6 =Kilpailu!$A$79,Kilpailu!B37,IF(Kilpailu!$B$6 =Kilpailu!$A$80,Kilpailu!B52,IF(Kilpailu!$B$6 =Kilpailu!$A$81,Kilpailu!B67,""))) -> Puolikas cuubalainen kahdeksikko | H38: =SUM(C38:G38) -> 0
A39: 9. | B39: =IF(Kilpailu!$B$6 =Kilpailu!$A$79,Kilpailu!B38,IF(Kilpailu!$B$6 =Kilpailu!$A$80,Kilpailu!B53,IF(Kilpailu!$B$6 =Kilpailu!$A$81,Kilpailu!B68,""))) -> Suora autorotaation 45 ast. Kulm. | H39: =SUM(C39:G39) -> 0
A40: 10. | B40: =IF(Kilpailu!$B$6 =Kilpailu!$A$79,Kilpailu!B39,IF(Kilpailu!$B$6 =Kilpailu!$A$80,Kilpailu!B54,IF(Kilpailu!$B$6 =Kilpailu!$A$81,Kilpailu!B69,""))) | H40: =SUM(C40:G40) -> 0
A41: 11. | B41: =IF(Kilpailu!$B$6 =Kilpailu!$A$79,Kilpailu!B40,IF(Kilpailu!$B$6 =Kilpailu!$A$80,Kilpailu!B55,IF(Kilpailu!$B$6 =Kilpailu!$A$81,Kilpailu!B70,""))) | H41: =SUM(C41:G41) -> 0
B42: Yht. | C42: =SUM(C31:C41) -> 0 | D42: =SUM(D31:D41) -> 0 | E42: =SUM(E31:E41) -> 0 | F42: =SUM(F31:F41) -> 0 | G42: =SUM(G31:G41) -> 0
A46: Kierros 3: | C46: Tuomari 1 | D46: Tuomari 2 | E46: Tuomari 3 | F46: Tuomari 4 | G46: Tuomari 5 | H46: yht.
A47: 1. | B47: =IF(Kilpailu!$B$6 =Kilpailu!$A$79,Kilpailu!B30,IF(Kilpailu!$B$6 =Kilpailu!$A$80,Kilpailu!B45,IF(Kilpailu!$B$6 =Kilpailu!$A$81,Kilpailu!B60,""))) -> Timantti | H47: =SUM(C47:G47) -> 0
A48: 2. | B48: =IF(Kilpailu!$B$6 =Kilpailu!$A$79,Kilpailu!B31,IF(Kilpailu!$B$6 =Kilpailu!$A$80,Kilpailu!B46,IF(Kilpailu!$B$6 =Kilpailu!$A$81,Kilpailu!B61,""))) -> Suora leijutus kahdella 180 piruet. | H48: =SUM(C48:G48) -> 0
A49: 3. | B49: =IF(Kilpailu!$B$6 =Kilpailu!$A$79,Kilpailu!B32,IF(Kilpailu!$B$6 =Kilpailu!$A$80,Kilpailu!B47,IF(Kilpailu!$B$6 =Kilpailu!$A$81,Kilpailu!B62,""))) -> Pystykolmio 360 piruetilla | H49: =SUM(C49:G49) -> 0
A50: 4. | B50: =IF(Kilpailu!$B$6 =Kilpailu!$A$79,Kilpailu!B33,IF(Kilpailu!$B$6 =Kilpailu!$A$80,Kilpailu!B48,IF(Kilpailu!$B$6 =Kilpailu!$A$81,Kilpailu!B63,""))) -> Vaakakierre | H50: =SUM(C50:G50) -> 0
A51: 5. | B51: =IF(Kilpailu!$B$6 =Kilpailu!$A$79,Kilpailu!B34,IF(Kilpailu!$B$6 =Kilpailu!$A$80,Kilpailu!B49,IF(Kilpailu!$B$6 =Kilpailu!$A$81,Kilpailu!B64,""))) -> Tuplasilmukat | H51: =SUM(C51:G51) -> 0
A52: 6. | B52: =IF(Kilpailu!$B$6 =Kilpailu!$A$79,Kilpailu!B35,IF(Kilpailu!$B$6 =Kilpailu!$A$80,Kilpailu!B50,IF(Kilpailu!$B$6 =Kilpailu!$A$81,Kilpailu!B65,""))) -> Pystykäännökset | H52: =SUM(C52:G52) -> 0
A53: 7. | B53: =IF(Kilpailu!$B$6 =Kilpailu!$A$79,Kilpailu!B36,IF(Kilpailu!$B$6 =Kilpailu!$A$80,Kilpailu!B51,IF(Kilpailu!$B$6 =Kilpailu!$A$81,Kilpailu!B66,""))) -> Pushover | H53: =SUM(C53:G53) -> 0
A54: 8. | B54: =IF(Kilpailu!$B$6 =Kilpailu!$A$79,Kilpailu!B37,IF(Kilpailu!$B$6 =Kilpailu!$A$80,Kilpailu!B52,IF(Kilpailu!$B$6 =Kilpailu!$A$81,Kilpailu!B67,""))) -> Puolikas cuubalainen kahdeksikko | H54: =SUM(C54:G54) -> 0
A55: 9. | B55: =IF(Kilpailu!$B$6 =Kilpailu!$A$79,Kilpailu!B38,IF(Kilpailu!$B$6 =Kilpailu!$A$80,Kilpailu!B53,IF(Kilpailu!$B$6 =Kilpailu!$A$81,Kilpailu!B68,""))) -> Suora autorotaation 45 ast. Kulm. | H55: =SUM(C55:G55) -> 0
A56: 10. | B56: =IF(Kilpailu!$B$6 =Kilpailu!$A$79,Kilpailu!B39,IF(Kilpailu!$B$6 =Kilpailu!$A$80,Kilpailu!B54,IF(Kilpailu!$B$6 =Kilpailu!$A$81,Kilpailu!B69,""))) | H56: =SUM(C56:G56) -> 0
A57: 11. | B57: =IF(Kilpailu!$B$6 =Kilpailu!$A$79,Kilpailu!B40,IF(Kilpailu!$B$6 =Kilpailu!$A$80,Kilpailu!B55,IF(Kilpailu!$B$6 =Kilpailu!$A$81,Kilpailu!B70,""))) | H57: =SUM(C57:G57) -> 0
B58: Yht. | C58: =SUM(C47:C57) -> 0 | D58: =SUM(D47:D57) -> 0 | E58: =SUM(E47:E57) -> 0 | F58: =SUM(F47:F57) -> 0 | G58: =SUM(G47:G57) -> 0

Sheet 7
D4: Pisteet | E4: Suht…
A5: Nimi: | B5: =Kilpailu!B16 -> 0 | C5: Kierros 1. | D5: =SUM(C26:G26)-LARGE(C26:G26,1)-SMALL(C26:G26,1) -> 0 | E5: =Tulokset!D34 -> 0
C6: Kierros 2. | D6: =SUM(C42:G42)-LARGE(C42:G42,1)-SMALL(C42:G42,1) -> 0 | E6: =Tulokset!D54 -> 0
A7: Paikka: | B7: =Kilpailu!B4 -> Forssa | C7: Kierros 3. | D7: =SUM(C58:G58)-LARGE(C58:G58,1)-SMALL(C58:G58,1) -> 0 | E7: =Tulokset!D74 -> 0
A8: Päivä: | B8: =Kilpailu!B5 -> 40019
A9: Ohjelma: | B9: =Kilpailu!B6 -> Eurosport | C9: yhteensä: | D9: =SUM(D5:D7) -> 0 | E9: =SUM(E5:E7) -> 0
C10: pois: | D10: =SMALL(D5:D7,1) -> 0 | E10: =SMALL(E5:E7,1) -> 0
C11: 2 parasta: | D11: =SUM(D5:D7)-D10 -> 0 | E11: =SUM(E5:E7)-E10 -> 0
A14: Kierros 1: | C14: Tuomari 1 | D14: Tuomari 2 | E14: Tuomari 3 | F14: Tuomari 4 | G14: Tuomari 5 | H14: yht.
A15: 1. | B15: =IF(Kilpailu!$B$6 =Kilpailu!$A$79,Kilpailu!B30,IF(Kilpailu!$B$6 =Kilpailu!$A$80,Kilpailu!B45,IF(Kilpailu!$B$6 =Kilpailu!$A$81,Kilpailu!B60,""))) -> Timantti | H15: =SUM(C15:G15) -> 0
A16: 2. | B16: =IF(Kilpailu!$B$6 =Kilpailu!$A$79,Kilpailu!B31,IF(Kilpailu!$B$6 =Kilpailu!$A$80,Kilpailu!B46,IF(Kilpailu!$B$6 =Kilpailu!$A$81,Kilpailu!B61,""))) -> Suora leijutus kahdella 180 piruet. | H16: =SUM(C16:G16) -> 0
A17: 3. | B17: =IF(Kilpailu!$B$6 =Kilpailu!$A$79,Kilpailu!B32,IF(Kilpailu!$B$6 =Kilpailu!$A$80,Kilpailu!B47,IF(Kilpailu!$B$6 =Kilpailu!$A$81,Kilpailu!B62,""))) -> Pystykolmio 360 piruetilla | H17: =SUM(C17:G17) -> 0
A18: 4. | B18: =IF(Kilpailu!$B$6 =Kilpailu!$A$79,Kilpailu!B33,IF(Kilpailu!$B$6 =Kilpailu!$A$80,Kilpailu!B48,IF(Kilpailu!$B$6 =Kilpailu!$A$81,Kilpailu!B63,""))) -> Vaakakierre | H18: =SUM(C18:G18) -> 0
A19: 5. | B19: =IF(Kilpailu!$B$6 =Kilpailu!$A$79,Kilpailu!B34,IF(Kilpailu!$B$6 =Kilpailu!$A$80,Kilpailu!B49,IF(Kilpailu!$B$6 =Kilpailu!$A$81,Kilpailu!B64,""))) -> Tuplasilmukat | H19: =SUM(C19:G19) -> 0
A20: 6. | B20: =IF(Kilpailu!$B$6 =Kilpailu!$A$79,Kilpailu!B35,IF(Kilpailu!$B$6 =Kilpailu!$A$80,Kilpailu!B50,IF(Kilpailu!$B$6 =Kilpailu!$A$81,Kilpailu!B65,""))) -> Pystykäännökset | H20: =SUM(C20:G20) -> 0
A21: 7. | B21: =IF(Kilpailu!$B$6 =Kilpailu!$A$79,Kilpailu!B36,IF(Kilpailu!$B$6 =Kilpailu!$A$80,Kilpailu!B51,IF(Kilpailu!$B$6 =Kilpailu!$A$81,Kilpailu!B66,""))) -> Pushover | H21: =SUM(C21:G21) -> 0
A22: 8. | B22: =IF(Kilpailu!$B$6 =Kilpailu!$A$79,Kilpailu!B37,IF(Kilpailu!$B$6 =Kilpailu!$A$80,Kilpailu!B52,IF(Kilpailu!$B$6 =Kilpailu!$A$81,Kilpailu!B67,""))) -> Puolikas cuubalainen kahdeksikko | H22: =SUM(C22:G22) -> 0
A23: 9. | B23: =IF(Kilpailu!$B$6 =Kilpailu!$A$79,Kilpailu!B38,IF(Kilpailu!$B$6 =Kilpailu!$A$80,Kilpailu!B53,IF(Kilpailu!$B$6 =Kilpailu!$A$81,Kilpailu!B68,""))) -> Suora autorotaation 45 ast. Kulm. | H23: =SUM(C23:G23) -> 0
A24: 10. | B24: =IF(Kilpailu!$B$6 =Kilpailu!$A$79,Kilpailu!B39,IF(Kilpailu!$B$6 =Kilpailu!$A$80,Kilpailu!B54,IF(Kilpailu!$B$6 =Kilpailu!$A$81,Kilpailu!B69,""))) | H24: =SUM(C24:G24) -> 0
A25: 11. | B25: =IF(Kilpailu!$B$6 =Kilpailu!$A$79,Kilpailu!B40,IF(Kilpailu!$B$6 =Kilpailu!$A$80,Kilpailu!B55,IF(Kilpailu!$B$6 =Kilpailu!$A$81,Kilpailu!B70,""))) | H25: =SUM(C25:G25) -> 0
B26: Yht. | C26: =SUM(C15:C25) -> 0 | D26: =SUM(D15:D25) -> 0 | E26: =SUM(E15:E25) -> 0 | F26: =SUM(F15:F25) -> 0 | G26: =SUM(G15:G25) -> 0
A30: Kierros 2: | C30: Tuomari 1 | D30: Tuomari 2 | E30: Tuomari 3 | F30: Tuomari 4 | G30: Tuomari 5 | H30: yht.
A31: 1. | B31: =IF(Kilpailu!$B$6 =Kilpailu!$A$79,Kilpailu!B30,IF(Kilpailu!$B$6 =Kilpailu!$A$80,Kilpailu!B45,IF(Kilpailu!$B$6 =Kilpailu!$A$81,Kilpailu!B60,""))) -> Timantti | H31: =SUM(C31:G31) -> 0
A32: 2. | B32: =IF(Kilpailu!$B$6 =Kilpailu!$A$79,Kilpailu!B31,IF(Kilpailu!$B$6 =Kilpailu!$A$80,Kilpailu!B46,IF(Kilpailu!$B$6 =Kilpailu!$A$81,Kilpailu!B61,""))) -> Suora leijutus kahdella 180 piruet. | H32: =SUM(C32:G32) -> 0
A33: 3. | B33: =IF(Kilpailu!$B$6 =Kilpailu!$A$79,Kilpailu!B32,IF(Kilpailu!$B$6 =Kilpailu!$A$80,Kilpailu!B47,IF(Kilpailu!$B$6 =Kilpailu!$A$81,Kilpailu!B62,""))) -> Pystykolmio 360 piruetilla | H33: =SUM(C33:G33) -> 0
A34: 4. | B34: =IF(Kilpailu!$B$6 =Kilpailu!$A$79,Kilpailu!B33,IF(Kilpailu!$B$6 =Kilpailu!$A$80,Kilpailu!B48,IF(Kilpailu!$B$6 =Kilpailu!$A$81,Kilpailu!B63,""))) -> Vaakakierre | H34: =SUM(C34:G34) -> 0
A35: 5. | B35: =IF(Kilpailu!$B$6 =Kilpailu!$A$79,Kilpailu!B34,IF(Kilpailu!$B$6 =Kilpailu!$A$80,Kilpailu!B49,IF(Kilpailu!$B$6 =Kilpailu!$A$81,Kilpailu!B64,""))) -> Tuplasilmukat | H35: =SUM(C35:G35) -> 0
A36: 6. | B36: =IF(Kilpailu!$B$6 =Kilpailu!$A$79,Kilpailu!B35,IF(Kilpailu!$B$6 =Kilpailu!$A$80,Kilpailu!B50,IF(Kilpailu!$B$6 =Kilpailu!$A$81,Kilpailu!B65,""))) -> Pystykäännökset | H36: =SUM(C36:G36) -> 0
A37: 7. | B37: =IF(Kilpailu!$B$6 =Kilpailu!$A$79,Kilpailu!B36,IF(Kilpailu!$B$6 =Kilpailu!$A$80,Kilpailu!B51,IF(Kilpailu!$B$6 =Kilpailu!$A$81,Kilpailu!B66,""))) -> Pushover | H37: =SUM(C37:G37) -> 0
A38: 8. | B38: =IF(Kilpailu!$B$6 =Kilpailu!$A$79,Kilpailu!B37,IF(Kilpailu!$B$6 =Kilpailu!$A$80,Kilpailu!B52,IF(Kilpailu!$B$6 =Kilpailu!$A$81,Kilpailu!B67,""))) -> Puolikas cuubalainen kahdeksikko | H38: =SUM(C38:G38) -> 0
A39: 9. | B39: =IF(Kilpailu!$B$6 =Kilpailu!$A$79,Kilpailu!B38,IF(Kilpailu!$B$6 =Kilpailu!$A$80,Kilpailu!B53,IF(Kilpailu!$B$6 =Kilpailu!$A$81,Kilpailu!B68,""))) -> Suora autorotaation 45 ast. Kulm. | H39: =SUM(C39:G39) -> 0
A40: 10. | B40: =IF(Kilpailu!$B$6 =Kilpailu!$A$79,Kilpailu!B39,IF(Kilpailu!$B$6 =Kilpailu!$A$80,Kilpailu!B54,IF(Kilpailu!$B$6 =Kilpailu!$A$81,Kilpailu!B69,""))) | H40: =SUM(C40:G40) -> 0
A41: 11. | B41: =IF(Kilpailu!$B$6 =Kilpailu!$A$79,Kilpailu!B40,IF(Kilpailu!$B$6 =Kilpailu!$A$80,Kilpailu!B55,IF(Kilpailu!$B$6 =Kilpailu!$A$81,Kilpailu!B70,""))) | H41: =SUM(C41:G41) -> 0
B42: Yht. | C42: =SUM(C31:C41) -> 0 | D42: =SUM(D31:D41) -> 0 | E42: =SUM(E31:E41) -> 0 | F42: =SUM(F31:F41) -> 0 | G42: =SUM(G31:G41) -> 0
A46: Kierros 3: | C46: Tuomari 1 | D46: Tuomari 2 | E46: Tuomari 3 | F46: Tuomari 4 | G46: Tuomari 5 | H46: yht.
A47: 1. | B47: =IF(Kilpailu!$B$6 =Kilpailu!$A$79,Kilpailu!B30,IF(Kilpailu!$B$6 =Kilpailu!$A$80,Kilpailu!B45,IF(Kilpailu!$B$6 =Kilpailu!$A$81,Kilpailu!B60,""))) -> Timantti | H47: =SUM(C47:G47) -> 0
A48: 2. | B48: =IF(Kilpailu!$B$6 =Kilpailu!$A$79,Kilpailu!B31,IF(Kilpailu!$B$6 =Kilpailu!$A$80,Kilpailu!B46,IF(Kilpailu!$B$6 =Kilpailu!$A$81,Kilpailu!B61,""))) -> Suora leijutus kahdella 180 piruet. | H48: =SUM(C48:G48) -> 0
A49: 3. | B49: =IF(Kilpailu!$B$6 =Kilpailu!$A$79,Kilpailu!B32,IF(Kilpailu!$B$6 =Kilpailu!$A$80,Kilpailu!B47,IF(Kilpailu!$B$6 =Kilpailu!$A$81,Kilpailu!B62,""))) -> Pystykolmio 360 piruetilla | H49: =SUM(C49:G49) -> 0
A50: 4. | B50: =IF(Kilpailu!$B$6 =Kilpailu!$A$79,Kilpailu!B33,IF(Kilpailu!$B$6 =Kilpailu!$A$80,Kilpailu!B48,IF(Kilpailu!$B$6 =Kilpailu!$A$81,Kilpailu!B63,""))) -> Vaakakierre | H50: =SUM(C50:G50) -> 0
A51: 5. | B51: =IF(Kilpailu!$B$6 =Kilpailu!$A$79,Kilpailu!B34,IF(Kilpailu!$B$6 =Kilpailu!$A$80,Kilpailu!B49,IF(Kilpailu!$B$6 =Kilpailu!$A$81,Kilpailu!B64,""))) -> Tuplasilmukat | H51: =SUM(C51:G51) -> 0
A52: 6. | B52: =IF(Kilpailu!$B$6 =Kilpailu!$A$79,Kilpailu!B35,IF(Kilpailu!$B$6 =Kilpailu!$A$80,Kilpailu!B50,IF(Kilpailu!$B$6 =Kilpailu!$A$81,Kilpailu!B65,""))) -> Pystykäännökset | H52: =SUM(C52:G52) -> 0
A53: 7. | B53: =IF(Kilpailu!$B$6 =Kilpailu!$A$79,Kilpailu!B36,IF(Kilpailu!$B$6 =Kilpailu!$A$80,Kilpailu!B51,IF(Kilpailu!$B$6 =Kilpailu!$A$81,Kilpailu!B66,""))) -> Pushover | H53: =SUM(C53:G53) -> 0
A54: 8. | B54: =IF(Kilpailu!$B$6 =Kilpailu!$A$79,Kilpailu!B37,IF(Kilpailu!$B$6 =Kilpailu!$A$80,Kilpailu!B52,IF(Kilpailu!$B$6 =Kilpailu!$A$81,Kilpailu!B67,""))) -> Puolikas cuubalainen kahdeksikko | H54: =SUM(C54:G54) -> 0
A55: 9. | B55: =IF(Kilpailu!$B$6 =Kilpailu!$A$79,Kilpailu!B38,IF(Kilpailu!$B$6 =Kilpailu!$A$80,Kilpailu!B53,IF(Kilpailu!$B$6 =Kilpailu!$A$81,Kilpailu!B68,""))) -> Suora autorotaation 45 ast. Kulm. | H55: =SUM(C55:G55) -> 0
A56: 10. | B56: =IF(Kilpailu!$B$6 =Kilpailu!$A$79,Kilpailu!B39,IF(Kilpailu!$B$6 =Kilpailu!$A$80,Kilpailu!B54,IF(Kilpailu!$B$6 =Kilpailu!$A$81,Kilpailu!B69,""))) | H56: =SUM(C56:G56) -> 0
A57: 11. | B57: =IF(Kilpailu!$B$6 =Kilpailu!$A$79,Kilpailu!B40,IF(Kilpailu!$B$6 =Kilpailu!$A$80,Kilpailu!B55,IF(Kilpailu!$B$6 =Kilpailu!$A$81,Kilpailu!B70,""))) | H57: =SUM(C57:G57) -> 0
B58: Yht. | C58: =SUM(C47:C57) -> 0 | D58: =SUM(D47:D57) -> 0 | E58: =SUM(E47:E57) -> 0 | F58: =SUM(F47:F57) -> 0 | G58: =SUM(G47:G57) -> 0

Sheet 8
D4: Pisteet | E4: Suht…
A5: Nimi: | B5: =Kilpailu!B17 -> 0 | C5: Kierros 1. | D5: =SUM(C26:G26)-LARGE(C26:G26,1)-SMALL(C26:G26,1) -> 0 | E5: =Tulokset!D35 -> 0
C6: Kierros 2. | D6: =SUM(C42:G42)-LARGE(C42:G42,1)-SMALL(C42:G42,1) -> 0 | E6: =Tulokset!D55 -> 0
A7: Paikka: | B7: =Kilpailu!B4 -> Forssa | C7: Kierros 3. | D7: =SUM(C58:G58)-LARGE(C58:G58,1)-SMALL(C58:G58,1) -> 0 | E7: =Tulokset!D75 -> 0
A8: Päivä: | B8: =Kilpailu!B5 -> 40019
A9: Ohjelma: | B9: =Kilpailu!B6 -> Eurosport | C9: yhteensä: | D9: =SUM(D5:D7) -> 0 | E9: =SUM(E5:E7) -> 0
C10: pois: | D10: =SMALL(D5:D7,1) -> 0 | E10: =SMALL(E5:E7,1) -> 0
C11: 2 parasta: | D11: =SUM(D5:D7)-D10 -> 0 | E11: =SUM(E5:E7)-E10 -> 0
A14: Kierros 1: | C14: Tuomari 1 | D14: Tuomari 2 | E14: Tuomari 3 | F14: Tuomari 4 | G14: Tuomari 5 | H14: yht.
A15: 1. | B15: =IF(Kilpailu!$B$6 =Kilpailu!$A$79,Kilpailu!B30,IF(Kilpailu!$B$6 =Kilpailu!$A$80,Kilpailu!B45,IF(Kilpailu!$B$6 =Kilpailu!$A$81,Kilpailu!B60,""))) -> Timantti | H15: =SUM(C15:G15) -> 0
A16: 2. | B16: =IF(Kilpailu!$B$6 =Kilpailu!$A$79,Kilpailu!B31,IF(Kilpailu!$B$6 =Kilpailu!$A$80,Kilpailu!B46,IF(Kilpailu!$B$6 =Kilpailu!$A$81,Kilpailu!B61,""))) -> Suora leijutus kahdella 180 piruet. | H16: =SUM(C16:G16) -> 0
A17: 3. | B17: =IF(Kilpailu!$B$6 =Kilpailu!$A$79,Kilpailu!B32,IF(Kilpailu!$B$6 =Kilpailu!$A$80,Kilpailu!B47,IF(Kilpailu!$B$6 =Kilpailu!$A$81,Kilpailu!B62,""))) -> Pystykolmio 360 piruetilla | H17: =SUM(C17:G17) -> 0
A18: 4. | B18: =IF(Kilpailu!$B$6 =Kilpailu!$A$79,Kilpailu!B33,IF(Kilpailu!$B$6 =Kilpailu!$A$80,Kilpailu!B48,IF(Kilpailu!$B$6 =Kilpailu!$A$81,Kilpailu!B63,""))) -> Vaakakierre | H18: =SUM(C18:G18) -> 0
A19: 5. | B19: =IF(Kilpailu!$B$6 =Kilpailu!$A$79,Kilpailu!B34,IF(Kilpailu!$B$6 =Kilpailu!$A$80,Kilpailu!B49,IF(Kilpailu!$B$6 =Kilpailu!$A$81,Kilpailu!B64,""))) -> Tuplasilmukat | H19: =SUM(C19:G19) -> 0
A20: 6. | B20: =IF(Kilpailu!$B$6 =Kilpailu!$A$79,Kilpailu!B35,IF(Kilpailu!$B$6 =Kilpailu!$A$80,Kilpailu!B50,IF(Kilpailu!$B$6 =Kilpailu!$A$81,Kilpailu!B65,""))) -> Pystykäännökset | H20: =SUM(C20:G20) -> 0
A21: 7. | B21: =IF(Kilpailu!$B$6 =Kilpailu!$A$79,Kilpailu!B36,IF(Kilpailu!$B$6 =Kilpailu!$A$80,Kilpailu!B51,IF(Kilpailu!$B$6 =Kilpailu!$A$81,Kilpailu!B66,""))) -> Pushover | H21: =SUM(C21:G21) -> 0
A22: 8. | B22: =IF(Kilpailu!$B$6 =Kilpailu!$A$79,Kilpailu!B37,IF(Kilpailu!$B$6 =Kilpailu!$A$80,Kilpailu!B52,IF(Kilpailu!$B$6 =Kilpailu!$A$81,Kilpailu!B67,""))) -> Puolikas cuubalainen kahdeksikko | H22: =SUM(C22:G22) -> 0
A23: 9. | B23: =IF(Kilpailu!$B$6 =Kilpailu!$A$79,Kilpailu!B38,IF(Kilpailu!$B$6 =Kilpailu!$A$80,Kilpailu!B53,IF(Kilpailu!$B$6 =Kilpailu!$A$81,Kilpailu!B68,""))) -> Suora autorotaation 45 ast. Kulm. | H23: =SUM(C23:G23) -> 0
A24: 10. | B24: =IF(Kilpailu!$B$6 =Kilpailu!$A$79,Kilpailu!B39,IF(Kilpailu!$B$6 =Kilpailu!$A$80,Kilpailu!B54,IF(Kilpailu!$B$6 =Kilpailu!$A$81,Kilpailu!B69,""))) | H24: =SUM(C24:G24) -> 0
A25: 11. | B25: =IF(Kilpailu!$B$6 =Kilpailu!$A$79,Kilpailu!B40,IF(Kilpailu!$B$6 =Kilpailu!$A$80,Kilpailu!B55,IF(Kilpailu!$B$6 =Kilpailu!$A$81,Kilpailu!B70,""))) | H25: =SUM(C25:G25) -> 0
B26: Yht. | C26: =SUM(C15:C25) -> 0 | D26: =SUM(D15:D25) -> 0 | E26: =SUM(E15:E25) -> 0 | F26: =SUM(F15:F25) -> 0 | G26: =SUM(G15:G25) -> 0
A30: Kierros 2: | C30: Tuomari 1 | D30: Tuomari 2 | E30: Tuomari 3 | F30: Tuomari 4 | G30: Tuomari 5 | H30: yht.
A31: 1. | B31: =IF(Kilpailu!$B$6 =Kilpailu!$A$79,Kilpailu!B30,IF(Kilpailu!$B$6 =Kilpailu!$A$80,Kilpailu!B45,IF(Kilpailu!$B$6 =Kilpailu!$A$81,Kilpailu!B60,""))) -> Timantti | H31: =SUM(C31:G31) -> 0
A32: 2. | B32: =IF(Kilpailu!$B$6 =Kilpailu!$A$79,Kilpailu!B31,IF(Kilpailu!$B$6 =Kilpailu!$A$80,Kilpailu!B46,IF(Kilpailu!$B$6 =Kilpailu!$A$81,Kilpailu!B61,""))) -> Suora leijutus kahdella 180 piruet. | H32: =SUM(C32:G32) -> 0
A33: 3. | B33: =IF(Kilpailu!$B$6 =Kilpailu!$A$79,Kilpailu!B32,IF(Kilpailu!$B$6 =Kilpailu!$A$80,Kilpailu!B47,IF(Kilpailu!$B$6 =Kilpailu!$A$81,Kilpailu!B62,""))) -> Pystykolmio 360 piruetilla | H33: =SUM(C33:G33) -> 0
A34: 4. | B34: =IF(Kilpailu!$B$6 =Kilpailu!$A$79,Kilpailu!B33,IF(Kilpailu!$B$6 =Kilpailu!$A$80,Kilpailu!B48,IF(Kilpailu!$B$6 =Kilpailu!$A$81,Kilpailu!B63,""))) -> Vaakakierre | H34: =SUM(C34:G34) -> 0
A35: 5. | B35: =IF(Kilpailu!$B$6 =Kilpailu!$A$79,Kilpailu!B34,IF(Kilpailu!$B$6 =Kilpailu!$A$80,Kilpailu!B49,IF(Kilpailu!$B$6 =Kilpailu!$A$81,Kilpailu!B64,""))) -> Tuplasilmukat | H35: =SUM(C35:G35) -> 0
A36: 6. | B36: =IF(Kilpailu!$B$6 =Kilpailu!$A$79,Kilpailu!B35,IF(Kilpailu!$B$6 =Kilpailu!$A$80,Kilpailu!B50,IF(Kilpailu!$B$6 =Kilpailu!$A$81,Kilpailu!B65,""))) -> Pystykäännökset | H36: =SUM(C36:G36) -> 0
A37: 7. | B37: =IF(Kilpailu!$B$6 =Kilpailu!$A$79,Kilpailu!B36,IF(Kilpailu!$B$6 =Kilpailu!$A$80,Kilpailu!B51,IF(Kilpailu!$B$6 =Kilpailu!$A$81,Kilpailu!B66,""))) -> Pushover | H37: =SUM(C37:G37) -> 0
A38: 8. | B38: =IF(Kilpailu!$B$6 =Kilpailu!$A$79,Kilpailu!B37,IF(Kilpailu!$B$6 =Kilpailu!$A$80,Kilpailu!B52,IF(Kilpailu!$B$6 =Kilpailu!$A$81,Kilpailu!B67,""))) -> Puolikas cuubalainen kahdeksikko | H38: =SUM(C38:G38) -> 0
A39: 9. | B39: =IF(Kilpailu!$B$6 =Kilpailu!$A$79,Kilpailu!B38,IF(Kilpailu!$B$6 =Kilpailu!$A$80,Kilpailu!B53,IF(Kilpailu!$B$6 =Kilpailu!$A$81,Kilpailu!B68,""))) -> Suora autorotaation 45 ast. Kulm. | H39: =SUM(C39:G39) -> 0
A40: 10. | B40: =IF(Kilpailu!$B$6 =Kilpailu!$A$79,Kilpailu!B39,IF(Kilpailu!$B$6 =Kilpailu!$A$80,Kilpailu!B54,IF(Kilpailu!$B$6 =Kilpailu!$A$81,Kilpailu!B69,""))) | H40: =SUM(C40:G40) -> 0
A41: 11. | B41: =IF(Kilpailu!$B$6 =Kilpailu!$A$79,Kilpailu!B40,IF(Kilpailu!$B$6 =Kilpailu!$A$80,Kilpailu!B55,IF(Kilpailu!$B$6 =Kilpailu!$A$81,Kilpailu!B70,""))) | H41: =SUM(C41:G41) -> 0
B42: Yht. | C42: =SUM(C31:C41) -> 0 | D42: =SUM(D31:D41) -> 0 | E42: =SUM(E31:E41) -> 0 | F42: =SUM(F31:F41) -> 0 | G42: =SUM(G31:G41) -> 0
A46: Kierros 3: | C46: Tuomari 1 | D46: Tuomari 2 | E46: Tuomari 3 | F46: Tuomari 4 | G46: Tuomari 5 | H46: yht.
A47: 1. | B47: =IF(Kilpailu!$B$6 =Kilpailu!$A$79,Kilpailu!B30,IF(Kilpailu!$B$6 =Kilpailu!$A$80,Kilpailu!B45,IF(Kilpailu!$B$6 =Kilpailu!$A$81,Kilpailu!B60,""))) -> Timantti | H47: =SUM(C47:G47) -> 0
A48: 2. | B48: =IF(Kilpailu!$B$6 =Kilpailu!$A$79,Kilpailu!B31,IF(Kilpailu!$B$6 =Kilpailu!$A$80,Kilpailu!B46,IF(Kilpailu!$B$6 =Kilpailu!$A$81,Kilpailu!B61,""))) -> Suora leijutus kahdella 180 piruet. | H48: =SUM(C48:G48) -> 0
A49: 3. | B49: =IF(Kilpailu!$B$6 =Kilpailu!$A$79,Kilpailu!B32,IF(Kilpailu!$B$6 =Kilpailu!$A$80,Kilpailu!B47,IF(Kilpailu!$B$6 =Kilpailu!$A$81,Kilpailu!B62,""))) -> Pystykolmio 360 piruetilla | H49: =SUM(C49:G49) -> 0
A50: 4. | B50: =IF(Kilpailu!$B$6 =Kilpailu!$A$79,Kilpailu!B33,IF(Kilpailu!$B$6 =Kilpailu!$A$80,Kilpailu!B48,IF(Kilpailu!$B$6 =Kilpailu!$A$81,Kilpailu!B63,""))) -> Vaakakierre | H50: =SUM(C50:G50) -> 0
A51: 5. | B51: =IF(Kilpailu!$B$6 =Kilpailu!$A$79,Kilpailu!B34,IF(Kilpailu!$B$6 =Kilpailu!$A$80,Kilpailu!B49,IF(Kilpailu!$B$6 =Kilpailu!$A$81,Kilpailu!B64,""))) -> Tuplasilmukat | H51: =SUM(C51:G51) -> 0
A52: 6. | B52: =IF(Kilpailu!$B$6 =Kilpailu!$A$79,Kilpailu!B35,IF(Kilpailu!$B$6 =Kilpailu!$A$80,Kilpailu!B50,IF(Kilpailu!$B$6 =Kilpailu!$A$81,Kilpailu!B65,""))) -> Pystykäännökset | H52: =SUM(C52:G52) -> 0
A53: 7. | B53: =IF(Kilpailu!$B$6 =Kilpailu!$A$79,Kilpailu!B36,IF(Kilpailu!$B$6 =Kilpailu!$A$80,Kilpailu!B51,IF(Kilpailu!$B$6 =Kilpailu!$A$81,Kilpailu!B66,""))) -> Pushover | H53: =SUM(C53:G53) -> 0
A54: 8. | B54: =IF(Kilpailu!$B$6 =Kilpailu!$A$79,Kilpailu!B37,IF(Kilpailu!$B$6 =Kilpailu!$A$80,Kilpailu!B52,IF(Kilpailu!$B$6 =Kilpailu!$A$81,Kilpailu!B67,""))) -> Puolikas cuubalainen kahdeksikko | H54: =SUM(C54:G54) -> 0
A55: 9. | B55: =IF(Kilpailu!$B$6 =Kilpailu!$A$79,Kilpailu!B38,IF(Kilpailu!$B$6 =Kilpailu!$A$80,Kilpailu!B53,IF(Kilpailu!$B$6 =Kilpailu!$A$81,Kilpailu!B68,""))) -> Suora autorotaation 45 ast. Kulm. | H55: =SUM(C55:G55) -> 0
A56: 10. | B56: =IF(Kilpailu!$B$6 =Kilpailu!$A$79,Kilpailu!B39,IF(Kilpailu!$B$6 =Kilpailu!$A$80,Kilpailu!B54,IF(Kilpailu!$B$6 =Kilpailu!$A$81,Kilpailu!B69,""))) | H56: =SUM(C56:G56) -> 0
A57: 11. | B57: =IF(Kilpailu!$B$6 =Kilpailu!$A$79,Kilpailu!B40,IF(Kilpailu!$B$6 =Kilpailu!$A$80,Kilpailu!B55,IF(Kilpailu!$B$6 =Kilpailu!$A$81,Kilpailu!B70,""))) | H57: =SUM(C57:G57) -> 0
B58: Yht. | C58: =SUM(C47:C57) -> 0 | D58: =SUM(D47:D57) -> 0 | E58: =SUM(E47:E57) -> 0 | F58: =SUM(F47:F57) -> 0 | G58: =SUM(G47:G57) -> 0

Sheet 9
D4: Pisteet | E4: Suht…
A5: Nimi: | C5: Kierros 1. | D5: =SUM(C26:G26)-LARGE(C26:G26,1)-SMALL(C26:G26,1) -> 0 | E5: =Tulokset!D36 -> 0
C6: Kierros 2. | D6: =SUM(C42:G42)-LARGE(C42:G42,1)-SMALL(C42:G42,1) -> 0 | E6: =Tulokset!D56 -> 0
A7: Paikka: | B7: =Kilpailu!B4 -> Forssa | C7: Kierros 3. | D7: =SUM(C58:G58)-LARGE(C58:G58,1)-SMALL(C58:G58,1) -> 0 | E7: =Tulokset!D76 -> 0
A8: Päivä: | B8: =Kilpailu!B5 -> 40019
A9: Ohjelma: | B9: =Kilpailu!B6 -> Eurosport | C9: yhteensä: | D9: =SUM(D5:D7) -> 0 | E9: =SUM(E5:E7) -> 0
C10: pois: | D10: =SMALL(D5:D7,1) -> 0 | E10: =SMALL(E5:E7,1) -> 0
C11: 2 parasta: | D11: =SUM(D5:D7)-D10 -> 0 | E11: =SUM(E5:E7)-E10 -> 0
A14: Kierros 1: | C14: Tuomari 1 | D14: Tuomari 2 | E14: Tuomari 3 | F14: Tuomari 4 | G14: Tuomari 5 | H14: yht.
A15: 1. | B15: =IF(Kilpailu!$B$6 =Kilpailu!$A$79,Kilpailu!B30,IF(Kilpailu!$B$6 =Kilpailu!$A$80,Kilpailu!B45,IF(Kilpailu!$B$6 =Kilpailu!$A$81,Kilpailu!B60,""))) -> Timantti | H15: =SUM(C15:G15) -> 0
A16: 2. | B16: =IF(Kilpailu!$B$6 =Kilpailu!$A$79,Kilpailu!B31,IF(Kilpailu!$B$6 =Kilpailu!$A$80,Kilpailu!B46,IF(Kilpailu!$B$6 =Kilpailu!$A$81,Kilpailu!B61,""))) -> Suora leijutus kahdella 180 piruet. | H16: =SUM(C16:G16) -> 0
A17: 3. | B17: =IF(Kilpailu!$B$6 =Kilpailu!$A$79,Kilpailu!B32,IF(Kilpailu!$B$6 =Kilpailu!$A$80,Kilpailu!B47,IF(Kilpailu!$B$6 =Kilpailu!$A$81,Kilpailu!B62,""))) -> Pystykolmio 360 piruetilla | H17: =SUM(C17:G17) -> 0
A18: 4. | B18: =IF(Kilpailu!$B$6 =Kilpailu!$A$79,Kilpailu!B33,IF(Kilpailu!$B$6 =Kilpailu!$A$80,Kilpailu!B48,IF(Kilpailu!$B$6 =Kilpailu!$A$81,Kilpailu!B63,""))) -> Vaakakierre | H18: =SUM(C18:G18) -> 0
A19: 5. | B19: =IF(Kilpailu!$B$6 =Kilpailu!$A$79,Kilpailu!B34,IF(Kilpailu!$B$6 =Kilpailu!$A$80,Kilpailu!B49,IF(Kilpailu!$B$6 =Kilpailu!$A$81,Kilpailu!B64,""))) -> Tuplasilmukat | H19: =SUM(C19:G19) -> 0
A20: 6. | B20: =IF(Kilpailu!$B$6 =Kilpailu!$A$79,Kilpailu!B35,IF(Kilpailu!$B$6 =Kilpailu!$A$80,Kilpailu!B50,IF(Kilpailu!$B$6 =Kilpailu!$A$81,Kilpailu!B65,""))) -> Pystykäännökset | H20: =SUM(C20:G20) -> 0
A21: 7. | B21: =IF(Kilpailu!$B$6 =Kilpailu!$A$79,Kilpailu!B36,IF(Kilpailu!$B$6 =Kilpailu!$A$80,Kilpailu!B51,IF(Kilpailu!$B$6 =Kilpailu!$A$81,Kilpailu!B66,""))) -> Pushover | H21: =SUM(C21:G21) -> 0
A22: 8. | B22: =IF(Kilpailu!$B$6 =Kilpailu!$A$79,Kilpailu!B37,IF(Kilpailu!$B$6 =Kilpailu!$A$80,Kilpailu!B52,IF(Kilpailu!$B$6 =Kilpailu!$A$81,Kilpailu!B67,""))) -> Puolikas cuubalainen kahdeksikko | H22: =SUM(C22:G22) -> 0
A23: 9. | B23: =IF(Kilpailu!$B$6 =Kilpailu!$A$79,Kilpailu!B38,IF(Kilpailu!$B$6 =Kilpailu!$A$80,Kilpailu!B53,IF(Kilpailu!$B$6 =Kilpailu!$A$81,Kilpailu!B68,""))) -> Suora autorotaation 45 ast. Kulm. | H23: =SUM(C23:G23) -> 0
A24: 10. | B24: =IF(Kilpailu!$B$6 =Kilpailu!$A$79,Kilpailu!B39,IF(Kilpailu!$B$6 =Kilpailu!$A$80,Kilpailu!B54,IF(Kilpailu!$B$6 =Kilpailu!$A$81,Kilpailu!B69,""))) | H24: =SUM(C24:G24) -> 0
A25: 11. | B25: =IF(Kilpailu!$B$6 =Kilpailu!$A$79,Kilpailu!B40,IF(Kilpailu!$B$6 =Kilpailu!$A$80,Kilpailu!B55,IF(Kilpailu!$B$6 =Kilpailu!$A$81,Kilpailu!B70,""))) | H25: =SUM(C25:G25) -> 0
B26: Yht. | C26: =SUM(C15:C25) -> 0 | D26: =SUM(D15:D25) -> 0 | E26: =SUM(E15:E25) -> 0 | F26: =SUM(F15:F25) -> 0 | G26: =SUM(G15:G25) -> 0
A30: Kierros 2: | C30: Tuomari 1 | D30: Tuomari 2 | E30: Tuomari 3 | F30: Tuomari 4 | G30: Tuomari 5 | H30: yht.
A31: 1. | B31: =IF(Kilpailu!$B$6 =Kilpailu!$A$79,Kilpailu!B30,IF(Kilpailu!$B$6 =Kilpailu!$A$80,Kilpailu!B45,IF(Kilpailu!$B$6 =Kilpailu!$A$81,Kilpailu!B60,""))) -> Timantti | H31: =SUM(C31:G31) -> 0
A32: 2. | B32: =IF(Kilpailu!$B$6 =Kilpailu!$A$79,Kilpailu!B31,IF(Kilpailu!$B$6 =Kilpailu!$A$80,Kilpailu!B46,IF(Kilpailu!$B$6 =Kilpailu!$A$81,Kilpailu!B61,""))) -> Suora leijutus kahdella 180 piruet. | H32: =SUM(C32:G32) -> 0
A33: 3. | B33: =IF(Kilpailu!$B$6 =Kilpailu!$A$79,Kilpailu!B32,IF(Kilpailu!$B$6 =Kilpailu!$A$80,Kilpailu!B47,IF(Kilpailu!$B$6 =Kilpailu!$A$81,Kilpailu!B62,""))) -> Pystykolmio 360 piruetilla | H33: =SUM(C33:G33) -> 0
A34: 4. | B34: =IF(Kilpailu!$B$6 =Kilpailu!$A$79,Kilpailu!B33,IF(Kilpailu!$B$6 =Kilpailu!$A$80,Kilpailu!B48,IF(Kilpailu!$B$6 =Kilpailu!$A$81,Kilpailu!B63,""))) -> Vaakakierre | H34: =SUM(C34:G34) -> 0
A35: 5. | B35: =IF(Kilpailu!$B$6 =Kilpailu!$A$79,Kilpailu!B34,IF(Kilpailu!$B$6 =Kilpailu!$A$80,Kilpailu!B49,IF(Kilpailu!$B$6 =Kilpailu!$A$81,Kilpailu!B64,""))) -> Tuplasilmukat | H35: =SUM(C35:G35) -> 0
A36: 6. | B36: =IF(Kilpailu!$B$6 =Kilpailu!$A$79,Kilpailu!B35,IF(Kilpailu!$B$6 =Kilpailu!$A$80,Kilpailu!B50,IF(Kilpailu!$B$6 =Kilpailu!$A$81,Kilpailu!B65,""))) -> Pystykäännökset | H36: =SUM(C36:G36) -> 0
A37: 7. | B37: =IF(Kilpailu!$B$6 =Kilpailu!$A$79,Kilpailu!B36,IF(Kilpailu!$B$6 =Kilpailu!$A$80,Kilpailu!B51,IF(Kilpailu!$B$6 =Kilpailu!$A$81,Kilpailu!B66,""))) -> Pushover | H37: =SUM(C37:G37) -> 0
A38: 8. | B38: =IF(Kilpailu!$B$6 =Kilpailu!$A$79,Kilpailu!B37,IF(Kilpailu!$B$6 =Kilpailu!$A$80,Kilpailu!B52,IF(Kilpailu!$B$6 =Kilpailu!$A$81,Kilpailu!B67,""))) -> Puolikas cuubalainen kahdeksikko | H38: =SUM(C38:G38) -> 0
A39: 9. | B39: =IF(Kilpailu!$B$6 =Kilpailu!$A$79,Kilpailu!B38,IF(Kilpailu!$B$6 =Kilpailu!$A$80,Kilpailu!B53,IF(Kilpailu!$B$6 =Kilpailu!$A$81,Kilpailu!B68,""))) -> Suora autorotaation 45 ast. Kulm. | H39: =SUM(C39:G39) -> 0
A40: 10. | B40: =IF(Kilpailu!$B$6 =Kilpailu!$A$79,Kilpailu!B39,IF(Kilpailu!$B$6 =Kilpailu!$A$80,Kilpailu!B54,IF(Kilpailu!$B$6 =Kilpailu!$A$81,Kilpailu!B69,""))) | H40: =SUM(C40:G40) -> 0
A41: 11. | B41: =IF(Kilpailu!$B$6 =Kilpailu!$A$79,Kilpailu!B40,IF(Kilpailu!$B$6 =Kilpailu!$A$80,Kilpailu!B55,IF(Kilpailu!$B$6 =Kilpailu!$A$81,Kilpailu!B70,""))) | H41: =SUM(C41:G41) -> 0
B42: Yht. | C42: =SUM(C31:C41) -> 0 | D42: =SUM(D31:D41) -> 0 | E42: =SUM(E31:E41) -> 0 | F42: =SUM(F31:F41) -> 0 | G42: =SUM(G31:G41) -> 0
A46: Kierros 3: | C46: Tuomari 1 | D46: Tuomari 2 | E46: Tuomari 3 | F46: Tuomari 4 | G46: Tuomari 5 | H46: yht.
A47: 1. | B47: =IF(Kilpailu!$B$6 =Kilpailu!$A$79,Kilpailu!B30,IF(Kilpailu!$B$6 =Kilpailu!$A$80,Kilpailu!B45,IF(Kilpailu!$B$6 =Kilpailu!$A$81,Kilpailu!B60,""))) -> Timantti | H47: =SUM(C47:G47) -> 0
A48: 2. | B48: =IF(Kilpailu!$B$6 =Kilpailu!$A$79,Kilpailu!B31,IF(Kilpailu!$B$6 =Kilpailu!$A$80,Kilpailu!B46,IF(Kilpailu!$B$6 =Kilpailu!$A$81,Kilpailu!B61,""))) -> Suora leijutus kahdella 180 piruet. | H48: =SUM(C48:G48) -> 0
A49: 3. | B49: =IF(Kilpailu!$B$6 =Kilpailu!$A$79,Kilpailu!B32,IF(Kilpailu!$B$6 =Kilpailu!$A$80,Kilpailu!B47,IF(Kilpailu!$B$6 =Kilpailu!$A$81,Kilpailu!B62,""))) -> Pystykolmio 360 piruetilla | H49: =SUM(C49:G49) -> 0
A50: 4. | B50: =IF(Kilpailu!$B$6 =Kilpailu!$A$79,Kilpailu!B33,IF(Kilpailu!$B$6 =Kilpailu!$A$80,Kilpailu!B48,IF(Kilpailu!$B$6 =Kilpailu!$A$81,Kilpailu!B63,""))) -> Vaakakierre | H50: =SUM(C50:G50) -> 0
A51: 5. | B51: =IF(Kilpailu!$B$6 =Kilpailu!$A$79,Kilpailu!B34,IF(Kilpailu!$B$6 =Kilpailu!$A$80,Kilpailu!B49,IF(Kilpailu!$B$6 =Kilpailu!$A$81,Kilpailu!B64,""))) -> Tuplasilmukat | H51: =SUM(C51:G51) -> 0
A52: 6. | B52: =IF(Kilpailu!$B$6 =Kilpailu!$A$79,Kilpailu!B35,IF(Kilpailu!$B$6 =Kilpailu!$A$80,Kilpailu!B50,IF(Kilpailu!$B$6 =Kilpailu!$A$81,Kilpailu!B65,""))) -> Pystykäännökset | H52: =SUM(C52:G52) -> 0
A53: 7. | B53: =IF(Kilpailu!$B$6 =Kilpailu!$A$79,Kilpailu!B36,IF(Kilpailu!$B$6 =Kilpailu!$A$80,Kilpailu!B51,IF(Kilpailu!$B$6 =Kilpailu!$A$81,Kilpailu!B66,""))) -> Pushover | H53: =SUM(C53:G53) -> 0
A54: 8. | B54: =IF(Kilpailu!$B$6 =Kilpailu!$A$79,Kilpailu!B37,IF(Kilpailu!$B$6 =Kilpailu!$A$80,Kilpailu!B52,IF(Kilpailu!$B$6 =Kilpailu!$A$81,Kilpailu!B67,""))) -> Puolikas cuubalainen kahdeksikko | H54: =SUM(C54:G54) -> 0
A55: 9. | B55: =IF(Kilpailu!$B$6 =Kilpailu!$A$79,Kilpailu!B38,IF(Kilpailu!$B$6 =Kilpailu!$A$80,Kilpailu!B53,IF(Kilpailu!$B$6 =Kilpailu!$A$81,Kilpailu!B68,""))) -> Suora autorotaation 45 ast. Kulm. | H55: =SUM(C55:G55) -> 0
A56: 10. | B56: =IF(Kilpailu!$B$6 =Kilpailu!$A$79,Kilpailu!B39,IF(Kilpailu!$B$6 =Kilpailu!$A$80,Kilpailu!B54,IF(Kilpailu!$B$6 =Kilpailu!$A$81,Kilpailu!B69,""))) | H56: =SUM(C56:G56) -> 0
A57: 11. | B57: =IF(Kilpailu!$B$6 =Kilpailu!$A$79,Kilpailu!B40,IF(Kilpailu!$B$6 =Kilpailu!$A$80,Kilpailu!B55,IF(Kilpailu!$B$6 =Kilpailu!$A$81,Kilpailu!B70,""))) | H57: =SUM(C57:G57) -> 0
B58: Yht. | C58: =SUM(C47:C57) -> 0 | D58: =SUM(D47:D57) -> 0 | E58: =SUM(E47:E57) -> 0 | F58: =SUM(F47:F57) -> 0 | G58: =SUM(G47:G57) -> 0

Sheet 10
D4: Pisteet | E4: Suht…
A5: Nimi: | C5: Kierros 1. | D5: =SUM(C26:G26)-LARGE(C26:G26,1)-SMALL(C26:G26,1) -> 0 | E5: =Tulokset!D37 -> 0
C6: Kierros 2. | D6: =SUM(C42:G42)-LARGE(C42:G42,1)-SMALL(C42:G42,1) -> 0 | E6: =Tulokset!D57 -> 0
A7: Paikka: | B7: =Kilpailu!B4 -> Forssa | C7: Kierros 3. | D7: =SUM(C58:G58)-LARGE(C58:G58,1)-SMALL(C58:G58,1) -> 0 | E7: =Tulokset!D77 -> 0
A8: Päivä: | B8: =Kilpailu!B5 -> 40019
A9: Ohjelma: | B9: =Kilpailu!B6 -> Eurosport | C9: yhteensä: | D9: =SUM(D5:D7) -> 0 | E9: =SUM(E5:E7) -> 0
C10: pois: | D10: =SMALL(D5:D7,1) -> 0 | E10: =SMALL(E5:E7,1) -> 0
C11: 2 parasta: | D11: =SUM(D5:D7)-D10 -> 0 | E11: =SUM(E5:E7)-E10 -> 0
A14: Kierros 1: | C14: Tuomari 1 | D14: Tuomari 2 | E14: Tuomari 3 | F14: Tuomari 4 | G14: Tuomari 5 | H14: yht.
A15: 1. | B15: =IF(Kilpailu!$B$6 =Kilpailu!$A$79,Kilpailu!B30,IF(Kilpailu!$B$6 =Kilpailu!$A$80,Kilpailu!B45,IF(Kilpailu!$B$6 =Kilpailu!$A$81,Kilpailu!B60,""))) -> Timantti | H15: =SUM(C15:G15) -> 0
A16: 2. | B16: =IF(Kilpailu!$B$6 =Kilpailu!$A$79,Kilpailu!B31,IF(Kilpailu!$B$6 =Kilpailu!$A$80,Kilpailu!B46,IF(Kilpailu!$B$6 =Kilpailu!$A$81,Kilpailu!B61,""))) -> Suora leijutus kahdella 180 piruet. | H16: =SUM(C16:G16) -> 0
A17: 3. | B17: =IF(Kilpailu!$B$6 =Kilpailu!$A$79,Kilpailu!B32,IF(Kilpailu!$B$6 =Kilpailu!$A$80,Kilpailu!B47,IF(Kilpailu!$B$6 =Kilpailu!$A$81,Kilpailu!B62,""))) -> Pystykolmio 360 piruetilla | H17: =SUM(C17:G17) -> 0
A18: 4. | B18: =IF(Kilpailu!$B$6 =Kilpailu!$A$79,Kilpailu!B33,IF(Kilpailu!$B$6 =Kilpailu!$A$80,Kilpailu!B48,IF(Kilpailu!$B$6 =Kilpailu!$A$81,Kilpailu!B63,""))) -> Vaakakierre | H18: =SUM(C18:G18) -> 0
A19: 5. | B19: =IF(Kilpailu!$B$6 =Kilpailu!$A$79,Kilpailu!B34,IF(Kilpailu!$B$6 =Kilpailu!$A$80,Kilpailu!B49,IF(Kilpailu!$B$6 =Kilpailu!$A$81,Kilpailu!B64,""))) -> Tuplasilmukat | H19: =SUM(C19:G19) -> 0
A20: 6. | B20: =IF(Kilpailu!$B$6 =Kilpailu!$A$79,Kilpailu!B35,IF(Kilpailu!$B$6 =Kilpailu!$A$80,Kilpailu!B50,IF(Kilpailu!$B$6 =Kilpailu!$A$81,Kilpailu!B65,""))) -> Pystykäännökset | H20: =SUM(C20:G20) -> 0
A21: 7. | B21: =IF(Kilpailu!$B$6 =Kilpailu!$A$79,Kilpailu!B36,IF(Kilpailu!$B$6 =Kilpailu!$A$80,Kilpailu!B51,IF(Kilpailu!$B$6 =Kilpailu!$A$81,Kilpailu!B66,""))) -> Pushover | H21: =SUM(C21:G21) -> 0
A22: 8. | B22: =IF(Kilpailu!$B$6 =Kilpailu!$A$79,Kilpailu!B37,IF(Kilpailu!$B$6 =Kilpailu!$A$80,Kilpailu!B52,IF(Kilpailu!$B$6 =Kilpailu!$A$81,Kilpailu!B67,""))) -> Puolikas cuubalainen kahdeksikko | H22: =SUM(C22:G22) -> 0
A23: 9. | B23: =IF(Kilpailu!$B$6 =Kilpailu!$A$79,Kilpailu!B38,IF(Kilpailu!$B$6 =Kilpailu!$A$80,Kilpailu!B53,IF(Kilpailu!$B$6 =Kilpailu!$A$81,Kilpailu!B68,""))) -> Suora autorotaation 45 ast. Kulm. | H23: =SUM(C23:G23) -> 0
A24: 10. | B24: =IF(Kilpailu!$B$6 =Kilpailu!$A$79,Kilpailu!B39,IF(Kilpailu!$B$6 =Kilpailu!$A$80,Kilpailu!B54,IF(Kilpailu!$B$6 =Kilpailu!$A$81,Kilpailu!B69,""))) | H24: =SUM(C24:G24) -> 0
A25: 11. | B25: =IF(Kilpailu!$B$6 =Kilpailu!$A$79,Kilpailu!B40,IF(Kilpailu!$B$6 =Kilpailu!$A$80,Kilpailu!B55,IF(Kilpailu!$B$6 =Kilpailu!$A$81,Kilpailu!B70,""))) | H25: =SUM(C25:G25) -> 0
B26: Yht. | C26: =SUM(C15:C25) -> 0 | D26: =SUM(D15:D25) -> 0 | E26: =SUM(E15:E25) -> 0 | F26: =SUM(F15:F25) -> 0 | G26: =SUM(G15:G25) -> 0
A30: Kierros 2: | C30: Tuomari 1 | D30: Tuomari 2 | E30: Tuomari 3 | F30: Tuomari 4 | G30: Tuomari 5 | H30: yht.
A31: 1. | B31: =IF(Kilpailu!$B$6 =Kilpailu!$A$79,Kilpailu!B30,IF(Kilpailu!$B$6 =Kilpailu!$A$80,Kilpailu!B45,IF(Kilpailu!$B$6 =Kilpailu!$A$81,Kilpailu!B60,""))) -> Timantti | H31: =SUM(C31:G31) -> 0
A32: 2. | B32: =IF(Kilpailu!$B$6 =Kilpailu!$A$79,Kilpailu!B31,IF(Kilpailu!$B$6 =Kilpailu!$A$80,Kilpailu!B46,IF(Kilpailu!$B$6 =Kilpailu!$A$81,Kilpailu!B61,""))) -> Suora leijutus kahdella 180 piruet. | H32: =SUM(C32:G32) -> 0
A33: 3. | B33: =IF(Kilpailu!$B$6 =Kilpailu!$A$79,Kilpailu!B32,IF(Kilpailu!$B$6 =Kilpailu!$A$80,Kilpailu!B47,IF(Kilpailu!$B$6 =Kilpailu!$A$81,Kilpailu!B62,""))) -> Pystykolmio 360 piruetilla | H33: =SUM(C33:G33) -> 0
A34: 4. | B34: =IF(Kilpailu!$B$6 =Kilpailu!$A$79,Kilpailu!B33,IF(Kilpailu!$B$6 =Kilpailu!$A$80,Kilpailu!B48,IF(Kilpailu!$B$6 =Kilpailu!$A$81,Kilpailu!B63,""))) -> Vaakakierre | H34: =SUM(C34:G34) -> 0
A35: 5. | B35: =IF(Kilpailu!$B$6 =Kilpailu!$A$79,Kilpailu!B34,IF(Kilpailu!$B$6 =Kilpailu!$A$80,Kilpailu!B49,IF(Kilpailu!$B$6 =Kilpailu!$A$81,Kilpailu!B64,""))) -> Tuplasilmukat | H35: =SUM(C35:G35) -> 0
A36: 6. | B36: =IF(Kilpailu!$B$6 =Kilpailu!$A$79,Kilpailu!B35,IF(Kilpailu!$B$6 =Kilpailu!$A$80,Kilpailu!B50,IF(Kilpailu!$B$6 =Kilpailu!$A$81,Kilpailu!B65,""))) -> Pystykäännökset | H36: =SUM(C36:G36) -> 0
A37: 7. | B37: =IF(Kilpailu!$B$6 =Kilpailu!$A$79,Kilpailu!B36,IF(Kilpailu!$B$6 =Kilpailu!$A$80,Kilpailu!B51,IF(Kilpailu!$B$6 =Kilpailu!$A$81,Kilpailu!B66,""))) -> Pushover | H37: =SUM(C37:G37) -> 0
A38: 8. | B38: =IF(Kilpailu!$B$6 =Kilpailu!$A$79,Kilpailu!B37,IF(Kilpailu!$B$6 =Kilpailu!$A$80,Kilpailu!B52,IF(Kilpailu!$B$6 =Kilpailu!$A$81,Kilpailu!B67,""))) -> Puolikas cuubalainen kahdeksikko | H38: =SUM(C38:G38) -> 0
A39: 9. | B39: =IF(Kilpailu!$B$6 =Kilpailu!$A$79,Kilpailu!B38,IF(Kilpailu!$B$6 =Kilpailu!$A$80,Kilpailu!B53,IF(Kilpailu!$B$6 =Kilpailu!$A$81,Kilpailu!B68,""))) -> Suora autorotaation 45 ast. Kulm. | H39: =SUM(C39:G39) -> 0
A40: 10. | B40: =IF(Kilpailu!$B$6 =Kilpailu!$A$79,Kilpailu!B39,IF(Kilpailu!$B$6 =Kilpailu!$A$80,Kilpailu!B54,IF(Kilpailu!$B$6 =Kilpailu!$A$81,Kilpailu!B69,""))) | H40: =SUM(C40:G40) -> 0
A41: 11. | B41: =IF(Kilpailu!$B$6 =Kilpailu!$A$79,Kilpailu!B40,IF(Kilpailu!$B$6 =Kilpailu!$A$80,Kilpailu!B55,IF(Kilpailu!$B$6 =Kilpailu!$A$81,Kilpailu!B70,""))) | H41: =SUM(C41:G41) -> 0
B42: Yht. | C42: =SUM(C31:C41) -> 0 | D42: =SUM(D31:D41) -> 0 | E42: =SUM(E31:E41) -> 0 | F42: =SUM(F31:F41) -> 0 | G42: =SUM(G31:G41) -> 0
A46: Kierros 3: | C46: Tuomari 1 | D46: Tuomari 2 | E46: Tuomari 3 | F46: Tuomari 4 | G46: Tuomari 5 | H46: yht.
A47: 1. | B47: =IF(Kilpailu!$B$6 =Kilpailu!$A$79,Kilpailu!B30,IF(Kilpailu!$B$6 =Kilpailu!$A$80,Kilpailu!B45,IF(Kilpailu!$B$6 =Kilpailu!$A$81,Kilpailu!B60,""))) -> Timantti | H47: =SUM(C47:G47) -> 0
A48: 2. | B48: =IF(Kilpailu!$B$6 =Kilpailu!$A$79,Kilpailu!B31,IF(Kilpailu!$B$6 =Kilpailu!$A$80,Kilpailu!B46,IF(Kilpailu!$B$6 =Kilpailu!$A$81,Kilpailu!B61,""))) -> Suora leijutus kahdella 180 piruet. | H48: =SUM(C48:G48) -> 0
A49: 3. | B49: =IF(Kilpailu!$B$6 =Kilpailu!$A$79,Kilpailu!B32,IF(Kilpailu!$B$6 =Kilpailu!$A$80,Kilpailu!B47,IF(Kilpailu!$B$6 =Kilpailu!$A$81,Kilpailu!B62,""))) -> Pystykolmio 360 piruetilla | H49: =SUM(C49:G49) -> 0
A50: 4. | B50: =IF(Kilpailu!$B$6 =Kilpailu!$A$79,Kilpailu!B33,IF(Kilpailu!$B$6 =Kilpailu!$A$80,Kilpailu!B48,IF(Kilpailu!$B$6 =Kilpailu!$A$81,Kilpailu!B63,""))) -> Vaakakierre | H50: =SUM(C50:G50) -> 0
A51: 5. | B51: =IF(Kilpailu!$B$6 =Kilpailu!$A$79,Kilpailu!B34,IF(Kilpailu!$B$6 =Kilpailu!$A$80,Kilpailu!B49,IF(Kilpailu!$B$6 =Kilpailu!$A$81,Kilpailu!B64,""))) -> Tuplasilmukat | H51: =SUM(C51:G51) -> 0
A52: 6. | B52: =IF(Kilpailu!$B$6 =Kilpailu!$A$79,Kilpailu!B35,IF(Kilpailu!$B$6 =Kilpailu!$A$80,Kilpailu!B50,IF(Kilpailu!$B$6 =Kilpailu!$A$81,Kilpailu!B65,""))) -> Pystykäännökset | H52: =SUM(C52:G52) -> 0
A53: 7. | B53: =IF(Kilpailu!$B$6 =Kilpailu!$A$79,Kilpailu!B36,IF(Kilpailu!$B$6 =Kilpailu!$A$80,Kilpailu!B51,IF(Kilpailu!$B$6 =Kilpailu!$A$81,Kilpailu!B66,""))) -> Pushover | H53: =SUM(C53:G53) -> 0
A54: 8. | B54: =IF(Kilpailu!$B$6 =Kilpailu!$A$79,Kilpailu!B37,IF(Kilpailu!$B$6 =Kilpailu!$A$80,Kilpailu!B52,IF(Kilpailu!$B$6 =Kilpailu!$A$81,Kilpailu!B67,""))) -> Puolikas cuubalainen kahdeksikko | H54: =SUM(C54:G54) -> 0
A55: 9. | B55: =IF(Kilpailu!$B$6 =Kilpailu!$A$79,Kilpailu!B38,IF(Kilpailu!$B$6 =Kilpailu!$A$80,Kilpailu!B53,IF(Kilpailu!$B$6 =Kilpailu!$A$81,Kilpailu!B68,""))) -> Suora autorotaation 45 ast. Kulm. | H55: =SUM(C55:G55) -> 0
A56: 10. | B56: =IF(Kilpailu!$B$6 =Kilpailu!$A$79,Kilpailu!B39,IF(Kilpailu!$B$6 =Kilpailu!$A$80,Kilpailu!B54,IF(Kilpailu!$B$6 =Kilpailu!$A$81,Kilpailu!B69,""))) | H56: =SUM(C56:G56) -> 0
A57: 11. | B57: =IF(Kilpailu!$B$6 =Kilpailu!$A$79,Kilpailu!B40,IF(Kilpailu!$B$6 =Kilpailu!$A$80,Kilpailu!B55,IF(Kilpailu!$B$6 =Kilpailu!$A$81,Kilpailu!B70,""))) | H57: =SUM(C57:G57) -> 0
B58: Yht. | C58: =SUM(C47:C57) -> 0 | D58: =SUM(D47:D57) -> 0 | E58: =SUM(E47:E57) -> 0 | F58: =SUM(F47:F57) -> 0 | G58: =SUM(G47:G57) -> 0

Sheet 11
D4: Pisteet | E4: Suht…
A5: Nimi: | C5: Kierros 1. | D5: =SUM(C26:G26)-LARGE(C26:G26,1)-SMALL(C26:G26,1) -> 0 | E5: =Tulokset!D38 -> 0
C6: Kierros 2. | D6: =SUM(C42:G42)-LARGE(C42:G42,1)-SMALL(C42:G42,1) -> 0 | E6: =Tulokset!D58 -> 0
A7: Paikka: | B7: =Kilpailu!B4 -> Forssa | C7: Kierros 3. | D7: =SUM(C58:G58)-LARGE(C58:G58,1)-SMALL(C58:G58,1) -> 0 | E7: =Tulokset!D78 -> 0
A8: Päivä: | B8: =Kilpailu!B5 -> 40019
A9: Ohjelma: | B9: =Kilpailu!B6 -> Eurosport | C9: yhteensä: | D9: =SUM(D5:D7) -> 0 | E9: =SUM(E5:E7) -> 0
C10: pois: | D10: =SMALL(D5:D7,1) -> 0 | E10: =SMALL(E5:E7,1) -> 0
C11: 2 parasta: | D11: =SUM(D5:D7)-D10 -> 0 | E11: =SUM(E5:E7)-E10 -> 0
A14: Kierros 1: | C14: Tuomari 1 | D14: Tuomari 2 | E14: Tuomari 3 | F14: Tuomari 4 | G14: Tuomari 5 | H14: yht.
A15: 1. | B15: =IF(Kilpailu!$B$6 =Kilpailu!$A$79,Kilpailu!B30,IF(Kilpailu!$B$6 =Kilpailu!$A$80,Kilpailu!B45,IF(Kilpailu!$B$6 =Kilpailu!$A$81,Kilpailu!B60,""))) -> Timantti | H15: =SUM(C15:G15) -> 0
A16: 2. | B16: =IF(Kilpailu!$B$6 =Kilpailu!$A$79,Kilpailu!B31,IF(Kilpailu!$B$6 =Kilpailu!$A$80,Kilpailu!B46,IF(Kilpailu!$B$6 =Kilpailu!$A$81,Kilpailu!B61,""))) -> Suora leijutus kahdella 180 piruet. | H16: =SUM(C16:G16) -> 0
A17: 3. | B17: =IF(Kilpailu!$B$6 =Kilpailu!$A$79,Kilpailu!B32,IF(Kilpailu!$B$6 =Kilpailu!$A$80,Kilpailu!B47,IF(Kilpailu!$B$6 =Kilpailu!$A$81,Kilpailu!B62,""))) -> Pystykolmio 360 piruetilla | H17: =SUM(C17:G17) -> 0
A18: 4. | B18: =IF(Kilpailu!$B$6 =Kilpailu!$A$79,Kilpailu!B33,IF(Kilpailu!$B$6 =Kilpailu!$A$80,Kilpailu!B48,IF(Kilpailu!$B$6 =Kilpailu!$A$81,Kilpailu!B63,""))) -> Vaakakierre | H18: =SUM(C18:G18) -> 0
A19: 5. | B19: =IF(Kilpailu!$B$6 =Kilpailu!$A$79,Kilpailu!B34,IF(Kilpailu!$B$6 =Kilpailu!$A$80,Kilpailu!B49,IF(Kilpailu!$B$6 =Kilpailu!$A$81,Kilpailu!B64,""))) -> Tuplasilmukat | H19: =SUM(C19:G19) -> 0
A20: 6. | B20: =IF(Kilpailu!$B$6 =Kilpailu!$A$79,Kilpailu!B35,IF(Kilpailu!$B$6 =Kilpailu!$A$80,Kilpailu!B50,IF(Kilpailu!$B$6 =Kilpailu!$A$81,Kilpailu!B65,""))) -> Pystykäännökset | H20: =SUM(C20:G20) -> 0
A21: 7. | B21: =IF(Kilpailu!$B$6 =Kilpailu!$A$79,Kilpailu!B36,IF(Kilpailu!$B$6 =Kilpailu!$A$80,Kilpailu!B51,IF(Kilpailu!$B$6 =Kilpailu!$A$81,Kilpailu!B66,""))) -> Pushover | H21: =SUM(C21:G21) -> 0
A22: 8. | B22: =IF(Kilpailu!$B$6 =Kilpailu!$A$79,Kilpailu!B37,IF(Kilpailu!$B$6 =Kilpailu!$A$80,Kilpailu!B52,IF(Kilpailu!$B$6 =Kilpailu!$A$81,Kilpailu!B67,""))) -> Puolikas cuubalainen kahdeksikko | H22: =SUM(C22:G22) -> 0
A23: 9. | B23: =IF(Kilpailu!$B$6 =Kilpailu!$A$79,Kilpailu!B38,IF(Kilpailu!$B$6 =Kilpailu!$A$80,Kilpailu!B53,IF(Kilpailu!$B$6 =Kilpailu!$A$81,Kilpailu!B68,""))) -> Suora autorotaation 45 ast. Kulm. | H23: =SUM(C23:G23) -> 0
A24: 10. | B24: =IF(Kilpailu!$B$6 =Kilpailu!$A$79,Kilpailu!B39,IF(Kilpailu!$B$6 =Kilpailu!$A$80,Kilpailu!B54,IF(Kilpailu!$B$6 =Kilpailu!$A$81,Kilpailu!B69,""))) | H24: =SUM(C24:G24) -> 0
A25: 11. | B25: =IF(Kilpailu!$B$6 =Kilpailu!$A$79,Kilpailu!B40,IF(Kilpailu!$B$6 =Kilpailu!$A$80,Kilpailu!B55,IF(Kilpailu!$B$6 =Kilpailu!$A$81,Kilpailu!B70,""))) | H25: =SUM(C25:G25) -> 0
B26: Yht. | C26: =SUM(C15:C25) -> 0 | D26: =SUM(D15:D25) -> 0 | E26: =SUM(E15:E25) -> 0 | F26: =SUM(F15:F25) -> 0 | G26: =SUM(G15:G25) -> 0
A30: Kierros 2: | C30: Tuomari 1 | D30: Tuomari 2 | E30: Tuomari 3 | F30: Tuomari 4 | G30: Tuomari 5 | H30: yht.
A31: 1. | B31: =IF(Kilpailu!$B$6 =Kilpailu!$A$79,Kilpailu!B30,IF(Kilpailu!$B$6 =Kilpailu!$A$80,Kilpailu!B45,IF(Kilpailu!$B$6 =Kilpailu!$A$81,Kilpailu!B60,""))) -> Timantti | H31: =SUM(C31:G31) -> 0
A32: 2. | B32: =IF(Kilpailu!$B$6 =Kilpailu!$A$79,Kilpailu!B31,IF(Kilpailu!$B$6 =Kilpailu!$A$80,Kilpailu!B46,IF(Kilpailu!$B$6 =Kilpailu!$A$81,Kilpailu!B61,""))) -> Suora leijutus kahdella 180 piruet. | H32: =SUM(C32:G32) -> 0
A33: 3. | B33: =IF(Kilpailu!$B$6 =Kilpailu!$A$79,Kilpailu!B32,IF(Kilpailu!$B$6 =Kilpailu!$A$80,Kilpailu!B47,IF(Kilpailu!$B$6 =Kilpailu!$A$81,Kilpailu!B62,""))) -> Pystykolmio 360 piruetilla | H33: =SUM(C33:G33) -> 0
A34: 4. | B34: =IF(Kilpailu!$B$6 =Kilpailu!$A$79,Kilpailu!B33,IF(Kilpailu!$B$6 =Kilpailu!$A$80,Kilpailu!B48,IF(Kilpailu!$B$6 =Kilpailu!$A$81,Kilpailu!B63,""))) -> Vaakakierre | H34: =SUM(C34:G34) -> 0
A35: 5. | B35: =IF(Kilpailu!$B$6 =Kilpailu!$A$79,Kilpailu!B34,IF(Kilpailu!$B$6 =Kilpailu!$A$80,Kilpailu!B49,IF(Kilpailu!$B$6 =Kilpailu!$A$81,Kilpailu!B64,""))) -> Tuplasilmukat | H35: =SUM(C35:G35) -> 0
A36: 6. | B36: =IF(Kilpailu!$B$6 =Kilpailu!$A$79,Kilpailu!B35,IF(Kilpailu!$B$6 =Kilpailu!$A$80,Kilpailu!B50,IF(Kilpailu!$B$6 =Kilpailu!$A$81,Kilpailu!B65,""))) -> Pystykäännökset | H36: =SUM(C36:G36) -> 0
A37: 7. | B37: =IF(Kilpailu!$B$6 =Kilpailu!$A$79,Kilpailu!B36,IF(Kilpailu!$B$6 =Kilpailu!$A$80,Kilpailu!B51,IF(Kilpailu!$B$6 =Kilpailu!$A$81,Kilpailu!B66,""))) -> Pushover | H37: =SUM(C37:G37) -> 0
A38: 8. | B38: =IF(Kilpailu!$B$6 =Kilpailu!$A$79,Kilpailu!B37,IF(Kilpailu!$B$6 =Kilpailu!$A$80,Kilpailu!B52,IF(Kilpailu!$B$6 =Kilpailu!$A$81,Kilpailu!B67,""))) -> Puolikas cuubalainen kahdeksikko | H38: =SUM(C38:G38) -> 0
A39: 9. | B39: =IF(Kilpailu!$B$6 =Kilpailu!$A$79,Kilpailu!B38,IF(Kilpailu!$B$6 =Kilpailu!$A$80,Kilpailu!B53,IF(Kilpailu!$B$6 =Kilpailu!$A$81,Kilpailu!B68,""))) -> Suora autorotaation 45 ast. Kulm. | H39: =SUM(C39:G39) -> 0
A40: 10. | B40: =IF(Kilpailu!$B$6 =Kilpailu!$A$79,Kilpailu!B39,IF(Kilpailu!$B$6 =Kilpailu!$A$80,Kilpailu!B54,IF(Kilpailu!$B$6 =Kilpailu!$A$81,Kilpailu!B69,""))) | H40: =SUM(C40:G40) -> 0
A41: 11. | B41: =IF(Kilpailu!$B$6 =Kilpailu!$A$79,Kilpailu!B40,IF(Kilpailu!$B$6 =Kilpailu!$A$80,Kilpailu!B55,IF(Kilpailu!$B$6 =Kilpailu!$A$81,Kilpailu!B70,""))) | H41: =SUM(C41:G41) -> 0
B42: Yht. | C42: =SUM(C31:C41) -> 0 | D42: =SUM(D31:D41) -> 0 | E42: =SUM(E31:E41) -> 0 | F42: =SUM(F31:F41) -> 0 | G42: =SUM(G31:G41) -> 0
A46: Kierros 3: | C46: Tuomari 1 | D46: Tuomari 2 | E46: Tuomari 3 | F46: Tuomari 4 | G46: Tuomari 5 | H46: yht.
A47: 1. | B47: =IF(Kilpailu!$B$6 =Kilpailu!$A$79,Kilpailu!B30,IF(Kilpailu!$B$6 =Kilpailu!$A$80,Kilpailu!B45,IF(Kilpailu!$B$6 =Kilpailu!$A$81,Kilpailu!B60,""))) -> Timantti | H47: =SUM(C47:G47) -> 0
A48: 2. | B48: =IF(Kilpailu!$B$6 =Kilpailu!$A$79,Kilpailu!B31,IF(Kilpailu!$B$6 =Kilpailu!$A$80,Kilpailu!B46,IF(Kilpailu!$B$6 =Kilpailu!$A$81,Kilpailu!B61,""))) -> Suora leijutus kahdella 180 piruet. | H48: =SUM(C48:G48) -> 0
A49: 3. | B49: =IF(Kilpailu!$B$6 =Kilpailu!$A$79,Kilpailu!B32,IF(Kilpailu!$B$6 =Kilpailu!$A$80,Kilpailu!B47,IF(Kilpailu!$B$6 =Kilpailu!$A$81,Kilpailu!B62,""))) -> Pystykolmio 360 piruetilla | H49: =SUM(C49:G49) -> 0
A50: 4. | B50: =IF(Kilpailu!$B$6 =Kilpailu!$A$79,Kilpailu!B33,IF(Kilpailu!$B$6 =Kilpailu!$A$80,Kilpailu!B48,IF(Kilpailu!$B$6 =Kilpailu!$A$81,Kilpailu!B63,""))) -> Vaakakierre | H50: =SUM(C50:G50) -> 0
A51: 5. | B51: =IF(Kilpailu!$B$6 =Kilpailu!$A$79,Kilpailu!B34,IF(Kilpailu!$B$6 =Kilpailu!$A$80,Kilpailu!B49,IF(Kilpailu!$B$6 =Kilpailu!$A$81,Kilpailu!B64,""))) -> Tuplasilmukat | H51: =SUM(C51:G51) -> 0
A52: 6. | B52: =IF(Kilpailu!$B$6 =Kilpailu!$A$79,Kilpailu!B35,IF(Kilpailu!$B$6 =Kilpailu!$A$80,Kilpailu!B50,IF(Kilpailu!$B$6 =Kilpailu!$A$81,Kilpailu!B65,""))) -> Pystykäännökset | H52: =SUM(C52:G52) -> 0
A53: 7. | B53: =IF(Kilpailu!$B$6 =Kilpailu!$A$79,Kilpailu!B36,IF(Kilpailu!$B$6 =Kilpailu!$A$80,Kilpailu!B51,IF(Kilpailu!$B$6 =Kilpailu!$A$81,Kilpailu!B66,""))) -> Pushover | H53: =SUM(C53:G53) -> 0
A54: 8. | B54: =IF(Kilpailu!$B$6 =Kilpailu!$A$79,Kilpailu!B37,IF(Kilpailu!$B$6 =Kilpailu!$A$80,Kilpailu!B52,IF(Kilpailu!$B$6 =Kilpailu!$A$81,Kilpailu!B67,""))) -> Puolikas cuubalainen kahdeksikko | H54: =SUM(C54:G54) -> 0
A55: 9. | B55: =IF(Kilpailu!$B$6 =Kilpailu!$A$79,Kilpailu!B38,IF(Kilpailu!$B$6 =Kilpailu!$A$80,Kilpailu!B53,IF(Kilpailu!$B$6 =Kilpailu!$A$81,Kilpailu!B68,""))) -> Suora autorotaation 45 ast. Kulm. | H55: =SUM(C55:G55) -> 0
A56: 10. | B56: =IF(Kilpailu!$B$6 =Kilpailu!$A$79,Kilpailu!B39,IF(Kilpailu!$B$6 =Kilpailu!$A$80,Kilpailu!B54,IF(Kilpailu!$B$6 =Kilpailu!$A$81,Kilpailu!B69,""))) | H56: =SUM(C56:G56) -> 0
A57: 11. | B57: =IF(Kilpailu!$B$6 =Kilpailu!$A$79,Kilpailu!B40,IF(Kilpailu!$B$6 =Kilpailu!$A$80,Kilpailu!B55,IF(Kilpailu!$B$6 =Kilpailu!$A$81,Kilpailu!B70,""))) | H57: =SUM(C57:G57) -> 0
B58: Yht. | C58: =SUM(C47:C57) -> 0 | D58: =SUM(D47:D57) -> 0 | E58: =SUM(E47:E57) -> 0 | F58: =SUM(F47:F57) -> 0 | G58: =SUM(G47:G57) -> 0

Sheet 12
D4: Pisteet | E4: Suht…
A5: Nimi: | C5: Kierros 1. | D5: =SUM(C26:G26)-LARGE(C26:G26,1)-SMALL(C26:G26,1) -> 0 | E5: =Tulokset!D39 -> 0
C6: Kierros 2. | D6: =SUM(C42:G42)-LARGE(C42:G42,1)-SMALL(C42:G42,1) -> 0 | E6: =Tulokset!D59 -> 0
A7: Paikka: | B7: =Kilpailu!B4 -> Forssa | C7: Kierros 3. | D7: =SUM(C58:G58)-LARGE(C58:G58,1)-SMALL(C58:G58,1) -> 0 | E7: =Tulokset!D79 -> 0
A8: Päivä: | B8: =Kilpailu!B5 -> 40019
A9: Ohjelma: | B9: =Kilpailu!B6 -> Eurosport | C9: yhteensä: | D9: =SUM(D5:D7) -> 0 | E9: =SUM(E5:E7) -> 0
C10: pois: | D10: =SMALL(D5:D7,1) -> 0 | E10: =SMALL(E5:E7,1) -> 0
C11: 2 parasta: | D11: =SUM(D5:D7)-D10 -> 0 | E11: =SUM(E5:E7)-E10 -> 0
A14: Kierros 1: | C14: Tuomari 1 | D14: Tuomari 2 | E14: Tuomari 3 | F14: Tuomari 4 | G14: Tuomari 5 | H14: yht.
A15: 1. | B15: =IF(Kilpailu!$B$6 =Kilpailu!$A$79,Kilpailu!B30,IF(Kilpailu!$B$6 =Kilpailu!$A$80,Kilpailu!B45,IF(Kilpailu!$B$6 =Kilpailu!$A$81,Kilpailu!B60,""))) -> Timantti | H15: =SUM(C15:G15) -> 0
A16: 2. | B16: =IF(Kilpailu!$B$6 =Kilpailu!$A$79,Kilpailu!B31,IF(Kilpailu!$B$6 =Kilpailu!$A$80,Kilpailu!B46,IF(Kilpailu!$B$6 =Kilpailu!$A$81,Kilpailu!B61,""))) -> Suora leijutus kahdella 180 piruet. | H16: =SUM(C16:G16) -> 0
A17: 3. | B17: =IF(Kilpailu!$B$6 =Kilpailu!$A$79,Kilpailu!B32,IF(Kilpailu!$B$6 =Kilpailu!$A$80,Kilpailu!B47,IF(Kilpailu!$B$6 =Kilpailu!$A$81,Kilpailu!B62,""))) -> Pystykolmio 360 piruetilla | H17: =SUM(C17:G17) -> 0
A18: 4. | B18: =IF(Kilpailu!$B$6 =Kilpailu!$A$79,Kilpailu!B33,IF(Kilpailu!$B$6 =Kilpailu!$A$80,Kilpailu!B48,IF(Kilpailu!$B$6 =Kilpailu!$A$81,Kilpailu!B63,""))) -> Vaakakierre | H18: =SUM(C18:G18) -> 0
A19: 5. | B19: =IF(Kilpailu!$B$6 =Kilpailu!$A$79,Kilpailu!B34,IF(Kilpailu!$B$6 =Kilpailu!$A$80,Kilpailu!B49,IF(Kilpailu!$B$6 =Kilpailu!$A$81,Kilpailu!B64,""))) -> Tuplasilmukat | H19: =SUM(C19:G19) -> 0
A20: 6. | B20: =IF(Kilpailu!$B$6 =Kilpailu!$A$79,Kilpailu!B35,IF(Kilpailu!$B$6 =Kilpailu!$A$80,Kilpailu!B50,IF(Kilpailu!$B$6 =Kilpailu!$A$81,Kilpailu!B65,""))) -> Pystykäännökset | H20: =SUM(C20:G20) -> 0
A21: 7. | B21: =IF(Kilpailu!$B$6 =Kilpailu!$A$79,Kilpailu!B36,IF(Kilpailu!$B$6 =Kilpailu!$A$80,Kilpailu!B51,IF(Kilpailu!$B$6 =Kilpailu!$A$81,Kilpailu!B66,""))) -> Pushover | H21: =SUM(C21:G21) -> 0
A22: 8. | B22: =IF(Kilpailu!$B$6 =Kilpailu!$A$79,Kilpailu!B37,IF(Kilpailu!$B$6 =Kilpailu!$A$80,Kilpailu!B52,IF(Kilpailu!$B$6 =Kilpailu!$A$81,Kilpailu!B67,""))) -> Puolikas cuubalainen kahdeksikko | H22: =SUM(C22:G22) -> 0
A23: 9. | B23: =IF(Kilpailu!$B$6 =Kilpailu!$A$79,Kilpailu!B38,IF(Kilpailu!$B$6 =Kilpailu!$A$80,Kilpailu!B53,IF(Kilpailu!$B$6 =Kilpailu!$A$81,Kilpailu!B68,""))) -> Suora autorotaation 45 ast. Kulm. | H23: =SUM(C23:G23) -> 0
A24: 10. | B24: =IF(Kilpailu!$B$6 =Kilpailu!$A$79,Kilpailu!B39,IF(Kilpailu!$B$6 =Kilpailu!$A$80,Kilpailu!B54,IF(Kilpailu!$B$6 =Kilpailu!$A$81,Kilpailu!B69,""))) | H24: =SUM(C24:G24) -> 0
A25: 11. | B25: =IF(Kilpailu!$B$6 =Kilpailu!$A$79,Kilpailu!B40,IF(Kilpailu!$B$6 =Kilpailu!$A$80,Kilpailu!B55,IF(Kilpailu!$B$6 =Kilpailu!$A$81,Kilpailu!B70,""))) | H25: =SUM(C25:G25) -> 0
B26: Yht. | C26: =SUM(C15:C25) -> 0 | D26: =SUM(D15:D25) -> 0 | E26: =SUM(E15:E25) -> 0 | F26: =SUM(F15:F25) -> 0 | G26: =SUM(G15:G25) -> 0
A30: Kierros 2: | C30: Tuomari 1 | D30: Tuomari 2 | E30: Tuomari 3 | F30: Tuomari 4 | G30: Tuomari 5 | H30: yht.
A31: 1. | B31: =IF(Kilpailu!$B$6 =Kilpailu!$A$79,Kilpailu!B30,IF(Kilpailu!$B$6 =Kilpailu!$A$80,Kilpailu!B45,IF(Kilpailu!$B$6 =Kilpailu!$A$81,Kilpailu!B60,""))) -> Timantti | H31: =SUM(C31:G31) -> 0
A32: 2. | B32: =IF(Kilpailu!$B$6 =Kilpailu!$A$79,Kilpailu!B31,IF(Kilpailu!$B$6 =Kilpailu!$A$80,Kilpailu!B46,IF(Kilpailu!$B$6 =Kilpailu!$A$81,Kilpailu!B61,""))) -> Suora leijutus kahdella 180 piruet. | H32: =SUM(C32:G32) -> 0
A33: 3. | B33: =IF(Kilpailu!$B$6 =Kilpailu!$A$79,Kilpailu!B32,IF(Kilpailu!$B$6 =Kilpailu!$A$80,Kilpailu!B47,IF(Kilpailu!$B$6 =Kilpailu!$A$81,Kilpailu!B62,""))) -> Pystykolmio 360 piruetilla | H33: =SUM(C33:G33) -> 0
A34: 4. | B34: =IF(Kilpailu!$B$6 =Kilpailu!$A$79,Kilpailu!B33,IF(Kilpailu!$B$6 =Kilpailu!$A$80,Kilpailu!B48,IF(Kilpailu!$B$6 =Kilpailu!$A$81,Kilpailu!B63,""))) -> Vaakakierre | H34: =SUM(C34:G34) -> 0
A35: 5. | B35: =IF(Kilpailu!$B$6 =Kilpailu!$A$79,Kilpailu!B34,IF(Kilpailu!$B$6 =Kilpailu!$A$80,Kilpailu!B49,IF(Kilpailu!$B$6 =Kilpailu!$A$81,Kilpailu!B64,""))) -> Tuplasilmukat | H35: =SUM(C35:G35) -> 0
A36: 6. | B36: =IF(Kilpailu!$B$6 =Kilpailu!$A$79,Kilpailu!B35,IF(Kilpailu!$B$6 =Kilpailu!$A$80,Kilpailu!B50,IF(Kilpailu!$B$6 =Kilpailu!$A$81,Kilpailu!B65,""))) -> Pystykäännökset | H36: =SUM(C36:G36) -> 0
A37: 7. | B37: =IF(Kilpailu!$B$6 =Kilpailu!$A$79,Kilpailu!B36,IF(Kilpailu!$B$6 =Kilpailu!$A$80,Kilpailu!B51,IF(Kilpailu!$B$6 =Kilpailu!$A$81,Kilpailu!B66,""))) -> Pushover | H37: =SUM(C37:G37) -> 0
A38: 8. | B38: =IF(Kilpailu!$B$6 =Kilpailu!$A$79,Kilpailu!B37,IF(Kilpailu!$B$6 =Kilpailu!$A$80,Kilpailu!B52,IF(Kilpailu!$B$6 =Kilpailu!$A$81,Kilpailu!B67,""))) -> Puolikas cuubalainen kahdeksikko | H38: =SUM(C38:G38) -> 0
A39: 9. | B39: =IF(Kilpailu!$B$6 =Kilpailu!$A$79,Kilpailu!B38,IF(Kilpailu!$B$6 =Kilpailu!$A$80,Kilpailu!B53,IF(Kilpailu!$B$6 =Kilpailu!$A$81,Kilpailu!B68,""))) -> Suora autorotaation 45 ast. Kulm. | H39: =SUM(C39:G39) -> 0
A40: 10. | B40: =IF(Kilpailu!$B$6 =Kilpailu!$A$79,Kilpailu!B39,IF(Kilpailu!$B$6 =Kilpailu!$A$80,Kilpailu!B54,IF(Kilpailu!$B$6 =Kilpailu!$A$81,Kilpailu!B69,""))) | H40: =SUM(C40:G40) -> 0
A41: 11. | B41: =IF(Kilpailu!$B$6 =Kilpailu!$A$79,Kilpailu!B40,IF(Kilpailu!$B$6 =Kilpailu!$A$80,Kilpailu!B55,IF(Kilpailu!$B$6 =Kilpailu!$A$81,Kilpailu!B70,""))) | H41: =SUM(C41:G41) -> 0
B42: Yht. | C42: =SUM(C31:C41) -> 0 | D42: =SUM(D31:D41) -> 0 | E42: =SUM(E31:E41) -> 0 | F42: =SUM(F31:F41) -> 0 | G42: =SUM(G31:G41) -> 0
A46: Kierros 3: | C46: Tuomari 1 | D46: Tuomari 2 | E46: Tuomari 3 | F46: Tuomari 4 | G46: Tuomari 5 | H46: yht.
A47: 1. | B47: =IF(Kilpailu!$B$6 =Kilpailu!$A$79,Kilpailu!B30,IF(Kilpailu!$B$6 =Kilpailu!$A$80,Kilpailu!B45,IF(Kilpailu!$B$6 =Kilpailu!$A$81,Kilpailu!B60,""))) -> Timantti | H47: =SUM(C47:G47) -> 0
A48: 2. | B48: =IF(Kilpailu!$B$6 =Kilpailu!$A$79,Kilpailu!B31,IF(Kilpailu!$B$6 =Kilpailu!$A$80,Kilpailu!B46,IF(Kilpailu!$B$6 =Kilpailu!$A$81,Kilpailu!B61,""))) -> Suora leijutus kahdella 180 piruet. | H48: =SUM(C48:G48) -> 0
A49: 3. | B49: =IF(Kilpailu!$B$6 =Kilpailu!$A$79,Kilpailu!B32,IF(Kilpailu!$B$6 =Kilpailu!$A$80,Kilpailu!B47,IF(Kilpailu!$B$6 =Kilpailu!$A$81,Kilpailu!B62,""))) -> Pystykolmio 360 piruetilla | H49: =SUM(C49:G49) -> 0
A50: 4. | B50: =IF(Kilpailu!$B$6 =Kilpailu!$A$79,Kilpailu!B33,IF(Kilpailu!$B$6 =Kilpailu!$A$80,Kilpailu!B48,IF(Kilpailu!$B$6 =Kilpailu!$A$81,Kilpailu!B63,""))) -> Vaakakierre | H50: =SUM(C50:G50) -> 0
A51: 5. | B51: =IF(Kilpailu!$B$6 =Kilpailu!$A$79,Kilpailu!B34,IF(Kilpailu!$B$6 =Kilpailu!$A$80,Kilpailu!B49,IF(Kilpailu!$B$6 =Kilpailu!$A$81,Kilpailu!B64,""))) -> Tuplasilmukat | H51: =SUM(C51:G51) -> 0
A52: 6. | B52: =IF(Kilpailu!$B$6 =Kilpailu!$A$79,Kilpailu!B35,IF(Kilpailu!$B$6 =Kilpailu!$A$80,Kilpailu!B50,IF(Kilpailu!$B$6 =Kilpailu!$A$81,Kilpailu!B65,""))) -> Pystykäännökset | H52: =SUM(C52:G52) -> 0
A53: 7. | B53: =IF(Kilpailu!$B$6 =Kilpailu!$A$79,Kilpailu!B36,IF(Kilpailu!$B$6 =Kilpailu!$A$80,Kilpailu!B51,IF(Kilpailu!$B$6 =Kilpailu!$A$81,Kilpailu!B66,""))) -> Pushover | H53: =SUM(C53:G53) -> 0
A54: 8. | B54: =IF(Kilpailu!$B$6 =Kilpailu!$A$79,Kilpailu!B37,IF(Kilpailu!$B$6 =Kilpailu!$A$80,Kilpailu!B52,IF(Kilpailu!$B$6 =Kilpailu!$A$81,Kilpailu!B67,""))) -> Puolikas cuubalainen kahdeksikko | H54: =SUM(C54:G54) -> 0
A55: 9. | B55: =IF(Kilpailu!$B$6 =Kilpailu!$A$79,Kilpailu!B38,IF(Kilpailu!$B$6 =Kilpailu!$A$80,Kilpailu!B53,IF(Kilpailu!$B$6 =Kilpailu!$A$81,Kilpailu!B68,""))) -> Suora autorotaation 45 ast. Kulm. | H55: =SUM(C55:G55) -> 0
A56: 10. | B56: =IF(Kilpailu!$B$6 =Kilpailu!$A$79,Kilpailu!B39,IF(Kilpailu!$B$6 =Kilpailu!$A$80,Kilpailu!B54,IF(Kilpailu!$B$6 =Kilpailu!$A$81,Kilpailu!B69,""))) | H56: =SUM(C56:G56) -> 0
A57: 11. | B57: =IF(Kilpailu!$B$6 =Kilpailu!$A$79,Kilpailu!B40,IF(Kilpailu!$B$6 =Kilpailu!$A$80,Kilpailu!B55,IF(Kilpailu!$B$6 =Kilpailu!$A$81,Kilpailu!B70,""))) | H57: =SUM(C57:G57) -> 0
B58: Yht. | C58: =SUM(C47:C57) -> 0 | D58: =SUM(D47:D57) -> 0 | E58: =SUM(E47:E57) -> 0 | F58: =SUM(F47:F57) -> 0 | G58: =SUM(G47:G57) -> 0

Sheet 13
D4: Pisteet | E4: Suht…
A5: Nimi: | C5: Kierros 1. | D5: =SUM(C26:G26)-LARGE(C26:G26,1)-SMALL(C26:G26,1) -> 0 | E5: =Tulokset!D40 -> 0
C6: Kierros 2. | D6: =SUM(C42:G42)-LARGE(C42:G42,1)-SMALL(C42:G42,1) -> 0 | E6: =Tulokset!D60 -> 0
A7: Paikka: | B7: =Kilpailu!B4 -> Forssa | C7: Kierros 3. | D7: =SUM(C58:G58)-LARGE(C58:G58,1)-SMALL(C58:G58,1) -> 0 | E7: =Tulokset!D80 -> 0
A8: Päivä: | B8: =Kilpailu!B5 -> 40019
A9: Ohjelma: | B9: =Kilpailu!B6 -> Eurosport | C9: yhteensä: | D9: =SUM(D5:D7) -> 0 | E9: =SUM(E5:E7) -> 0
C10: pois: | D10: =SMALL(D5:D7,1) -> 0 | E10: =SMALL(E5:E7,1) -> 0
C11: 2 parasta: | D11: =SUM(D5:D7)-D10 -> 0 | E11: =SUM(E5:E7)-E10 -> 0
A14: Kierros 1: | C14: Tuomari 1 | D14: Tuomari 2 | E14: Tuomari 3 | F14: Tuomari 4 | G14: Tuomari 5 | H14: yht.
A15: 1. | B15: =IF(Kilpailu!$B$6 =Kilpailu!$A$79,Kilpailu!B30,IF(Kilpailu!$B$6 =Kilpailu!$A$80,Kilpailu!B45,IF(Kilpailu!$B$6 =Kilpailu!$A$81,Kilpailu!B60,""))) -> Timantti | H15: =SUM(C15:G15) -> 0
A16: 2. | B16: =IF(Kilpailu!$B$6 =Kilpailu!$A$79,Kilpailu!B31,IF(Kilpailu!$B$6 =Kilpailu!$A$80,Kilpailu!B46,IF(Kilpailu!$B$6 =Kilpailu!$A$81,Kilpailu!B61,""))) -> Suora leijutus kahdella 180 piruet. | H16: =SUM(C16:G16) -> 0
A17: 3. | B17: =IF(Kilpailu!$B$6 =Kilpailu!$A$79,Kilpailu!B32,IF(Kilpailu!$B$6 =Kilpailu!$A$80,Kilpailu!B47,IF(Kilpailu!$B$6 =Kilpailu!$A$81,Kilpailu!B62,""))) -> Pystykolmio 360 piruetilla | H17: =SUM(C17:G17) -> 0
A18: 4. | B18: =IF(Kilpailu!$B$6 =Kilpailu!$A$79,Kilpailu!B33,IF(Kilpailu!$B$6 =Kilpailu!$A$80,Kilpailu!B48,IF(Kilpailu!$B$6 =Kilpailu!$A$81,Kilpailu!B63,""))) -> Vaakakierre | H18: =SUM(C18:G18) -> 0
A19: 5. | B19: =IF(Kilpailu!$B$6 =Kilpailu!$A$79,Kilpailu!B34,IF(Kilpailu!$B$6 =Kilpailu!$A$80,Kilpailu!B49,IF(Kilpailu!$B$6 =Kilpailu!$A$81,Kilpailu!B64,""))) -> Tuplasilmukat | H19: =SUM(C19:G19) -> 0
A20: 6. | B20: =IF(Kilpailu!$B$6 =Kilpailu!$A$79,Kilpailu!B35,IF(Kilpailu!$B$6 =Kilpailu!$A$80,Kilpailu!B50,IF(Kilpailu!$B$6 =Kilpailu!$A$81,Kilpailu!B65,""))) -> Pystykäännökset | H20: =SUM(C20:G20) -> 0
A21: 7. | B21: =IF(Kilpailu!$B$6 =Kilpailu!$A$79,Kilpailu!B36,IF(Kilpailu!$B$6 =Kilpailu!$A$80,Kilpailu!B51,IF(Kilpailu!$B$6 =Kilpailu!$A$81,Kilpailu!B66,""))) -> Pushover | H21: =SUM(C21:G21) -> 0
A22: 8. | B22: =IF(Kilpailu!$B$6 =Kilpailu!$A$79,Kilpailu!B37,IF(Kilpailu!$B$6 =Kilpailu!$A$80,Kilpailu!B52,IF(Kilpailu!$B$6 =Kilpailu!$A$81,Kilpailu!B67,""))) -> Puolikas cuubalainen kahdeksikko | H22: =SUM(C22:G22) -> 0
A23: 9. | B23: =IF(Kilpailu!$B$6 =Kilpailu!$A$79,Kilpailu!B38,IF(Kilpailu!$B$6 =Kilpailu!$A$80,Kilpailu!B53,IF(Kilpailu!$B$6 =Kilpailu!$A$81,Kilpailu!B68,""))) -> Suora autorotaation 45 ast. Kulm. | H23: =SUM(C23:G23) -> 0
A24: 10. | B24: =IF(Kilpailu!$B$6 =Kilpailu!$A$79,Kilpailu!B39,IF(Kilpailu!$B$6 =Kilpailu!$A$80,Kilpailu!B54,IF(Kilpailu!$B$6 =Kilpailu!$A$81,Kilpailu!B69,""))) | H24: =SUM(C24:G24) -> 0
A25: 11. | B25: =IF(Kilpailu!$B$6 =Kilpailu!$A$79,Kilpailu!B40,IF(Kilpailu!$B$6 =Kilpailu!$A$80,Kilpailu!B55,IF(Kilpailu!$B$6 =Kilpailu!$A$81,Kilpailu!B70,""))) | H25: =SUM(C25:G25) -> 0
B26: Yht. | C26: =SUM(C15:C25) -> 0 | D26: =SUM(D15:D25) -> 0 | E26: =SUM(E15:E25) -> 0 | F26: =SUM(F15:F25) -> 0 | G26: =SUM(G15:G25) -> 0
A30: Kierros 2: | C30: Tuomari 1 | D30: Tuomari 2 | E30: Tuomari 3 | F30: Tuomari 4 | G30: Tuomari 5 | H30: yht.
A31: 1. | B31: =IF(Kilpailu!$B$6 =Kilpailu!$A$79,Kilpailu!B30,IF(Kilpailu!$B$6 =Kilpailu!$A$80,Kilpailu!B45,IF(Kilpailu!$B$6 =Kilpailu!$A$81,Kilpailu!B60,""))) -> Timantti | H31: =SUM(C31:G31) -> 0
A32: 2. | B32: =IF(Kilpailu!$B$6 =Kilpailu!$A$79,Kilpailu!B31,IF(Kilpailu!$B$6 =Kilpailu!$A$80,Kilpailu!B46,IF(Kilpailu!$B$6 =Kilpailu!$A$81,Kilpailu!B61,""))) -> Suora leijutus kahdella 180 piruet. | H32: =SUM(C32:G32) -> 0
A33: 3. | B33: =IF(Kilpailu!$B$6 =Kilpailu!$A$79,Kilpailu!B32,IF(Kilpailu!$B$6 =Kilpailu!$A$80,Kilpailu!B47,IF(Kilpailu!$B$6 =Kilpailu!$A$81,Kilpailu!B62,""))) -> Pystykolmio 360 piruetilla | H33: =SUM(C33:G33) -> 0
A34: 4. | B34: =IF(Kilpailu!$B$6 =Kilpailu!$A$79,Kilpailu!B33,IF(Kilpailu!$B$6 =Kilpailu!$A$80,Kilpailu!B48,IF(Kilpailu!$B$6 =Kilpailu!$A$81,Kilpailu!B63,""))) -> Vaakakierre | H34: =SUM(C34:G34) -> 0
A35: 5. | B35: =IF(Kilpailu!$B$6 =Kilpailu!$A$79,Kilpailu!B34,IF(Kilpailu!$B$6 =Kilpailu!$A$80,Kilpailu!B49,IF(Kilpailu!$B$6 =Kilpailu!$A$81,Kilpailu!B64,""))) -> Tuplasilmukat | H35: =SUM(C35:G35) -> 0
A36: 6. | B36: =IF(Kilpailu!$B$6 =Kilpailu!$A$79,Kilpailu!B35,IF(Kilpailu!$B$6 =Kilpailu!$A$80,Kilpailu!B50,IF(Kilpailu!$B$6 =Kilpailu!$A$81,Kilpailu!B65,""))) -> Pystykäännökset | H36: =SUM(C36:G36) -> 0
A37: 7. | B37: =IF(Kilpailu!$B$6 =Kilpailu!$A$79,Kilpailu!B36,IF(Kilpailu!$B$6 =Kilpailu!$A$80,Kilpailu!B51,IF(Kilpailu!$B$6 =Kilpailu!$A$81,Kilpailu!B66,""))) -> Pushover | H37: =SUM(C37:G37) -> 0
A38: 8. | B38: =IF(Kilpailu!$B$6 =Kilpailu!$A$79,Kilpailu!B37,IF(Kilpailu!$B$6 =Kilpailu!$A$80,Kilpailu!B52,IF(Kilpailu!$B$6 =Kilpailu!$A$81,Kilpailu!B67,""))) -> Puolikas cuubalainen kahdeksikko | H38: =SUM(C38:G38) -> 0
A39: 9. | B39: =IF(Kilpailu!$B$6 =Kilpailu!$A$79,Kilpailu!B38,IF(Kilpailu!$B$6 =Kilpailu!$A$80,Kilpailu!B53,IF(Kilpailu!$B$6 =Kilpailu!$A$81,Kilpailu!B68,""))) -> Suora autorotaation 45 ast. Kulm. | H39: =SUM(C39:G39) -> 0
A40: 10. | B40: =IF(Kilpailu!$B$6 =Kilpailu!$A$79,Kilpailu!B39,IF(Kilpailu!$B$6 =Kilpailu!$A$80,Kilpailu!B54,IF(Kilpailu!$B$6 =Kilpailu!$A$81,Kilpailu!B69,""))) | H40: =SUM(C40:G40) -> 0
A41: 11. | B41: =IF(Kilpailu!$B$6 =Kilpailu!$A$79,Kilpailu!B40,IF(Kilpailu!$B$6 =Kilpailu!$A$80,Kilpailu!B55,IF(Kilpailu!$B$6 =Kilpailu!$A$81,Kilpailu!B70,""))) | H41: =SUM(C41:G41) -> 0
B42: Yht. | C42: =SUM(C31:C41) -> 0 | D42: =SUM(D31:D41) -> 0 | E42: =SUM(E31:E41) -> 0 | F42: =SUM(F31:F41) -> 0 | G42: =SUM(G31:G41) -> 0
A46: Kierros 3: | C46: Tuomari 1 | D46: Tuomari 2 | E46: Tuomari 3 | F46: Tuomari 4 | G46: Tuomari 5 | H46: yht.
A47: 1. | B47: =IF(Kilpailu!$B$6 =Kilpailu!$A$79,Kilpailu!B30,IF(Kilpailu!$B$6 =Kilpailu!$A$80,Kilpailu!B45,IF(Kilpailu!$B$6 =Kilpailu!$A$81,Kilpailu!B60,""))) -> Timantti | H47: =SUM(C47:G47) -> 0
A48: 2. | B48: =IF(Kilpailu!$B$6 =Kilpailu!$A$79,Kilpailu!B31,IF(Kilpailu!$B$6 =Kilpailu!$A$80,Kilpailu!B46,IF(Kilpailu!$B$6 =Kilpailu!$A$81,Kilpailu!B61,""))) -> Suora leijutus kahdella 180 piruet. | H48: =SUM(C48:G48) -> 0
A49: 3. | B49: =IF(Kilpailu!$B$6 =Kilpailu!$A$79,Kilpailu!B32,IF(Kilpailu!$B$6 =Kilpailu!$A$80,Kilpailu!B47,IF(Kilpailu!$B$6 =Kilpailu!$A$81,Kilpailu!B62,""))) -> Pystykolmio 360 piruetilla | H49: =SUM(C49:G49) -> 0
A50: 4. | B50: =IF(Kilpailu!$B$6 =Kilpailu!$A$79,Kilpailu!B33,IF(Kilpailu!$B$6 =Kilpailu!$A$80,Kilpailu!B48,IF(Kilpailu!$B$6 =Kilpailu!$A$81,Kilpailu!B63,""))) -> Vaakakierre | H50: =SUM(C50:G50) -> 0
A51: 5. | B51: =IF(Kilpailu!$B$6 =Kilpailu!$A$79,Kilpailu!B34,IF(Kilpailu!$B$6 =Kilpailu!$A$80,Kilpailu!B49,IF(Kilpailu!$B$6 =Kilpailu!$A$81,Kilpailu!B64,""))) -> Tuplasilmukat | H51: =SUM(C51:G51) -> 0
A52: 6. | B52: =IF(Kilpailu!$B$6 =Kilpailu!$A$79,Kilpailu!B35,IF(Kilpailu!$B$6 =Kilpailu!$A$80,Kilpailu!B50,IF(Kilpailu!$B$6 =Kilpailu!$A$81,Kilpailu!B65,""))) -> Pystykäännökset | H52: =SUM(C52:G52) -> 0
A53: 7. | B53: =IF(Kilpailu!$B$6 =Kilpailu!$A$79,Kilpailu!B36,IF(Kilpailu!$B$6 =Kilpailu!$A$80,Kilpailu!B51,IF(Kilpailu!$B$6 =Kilpailu!$A$81,Kilpailu!B66,""))) -> Pushover | H53: =SUM(C53:G53) -> 0
A54: 8. | B54: =IF(Kilpailu!$B$6 =Kilpailu!$A$79,Kilpailu!B37,IF(Kilpailu!$B$6 =Kilpailu!$A$80,Kilpailu!B52,IF(Kilpailu!$B$6 =Kilpailu!$A$81,Kilpailu!B67,""))) -> Puolikas cuubalainen kahdeksikko | H54: =SUM(C54:G54) -> 0
A55: 9. | B55: =IF(Kilpailu!$B$6 =Kilpailu!$A$79,Kilpailu!B38,IF(Kilpailu!$B$6 =Kilpailu!$A$80,Kilpailu!B53,IF(Kilpailu!$B$6 =Kilpailu!$A$81,Kilpailu!B68,""))) -> Suora autorotaation 45 ast. Kulm. | H55: =SUM(C55:G55) -> 0
A56: 10. | B56: =IF(Kilpailu!$B$6 =Kilpailu!$A$79,Kilpailu!B39,IF(Kilpailu!$B$6 =Kilpailu!$A$80,Kilpailu!B54,IF(Kilpailu!$B$6 =Kilpailu!$A$81,Kilpailu!B69,""))) | H56: =SUM(C56:G56) -> 0
A57: 11. | B57: =IF(Kilpailu!$B$6 =Kilpailu!$A$79,Kilpailu!B40,IF(Kilpailu!$B$6 =Kilpailu!$A$80,Kilpailu!B55,IF(Kilpailu!$B$6 =Kilpailu!$A$81,Kilpailu!B70,""))) | H57: =SUM(C57:G57) -> 0
B58: Yht. | C58: =SUM(C47:C57) -> 0 | D58: =SUM(D47:D57) -> 0 | E58: =SUM(E47:E57) -> 0 | F58: =SUM(F47:F57) -> 0 | G58: =SUM(G47:G57) -> 0

Sheet 14
D4: Pisteet | E4: Suht…
A5: Nimi: | C5: Kierros 1. | D5: =SUM(C26:G26)-LARGE(C26:G26,1)-SMALL(C26:G26,1) -> 0 | E5: =Tulokset!D41 -> 0
C6: Kierros 2. | D6: =SUM(C42:G42)-LARGE(C42:G42,1)-SMALL(C42:G42,1) -> 0 | E6: =Tulokset!D61 -> 0
A7: Paikka: | B7: =Kilpailu!B4 -> Forssa | C7: Kierros 3. | D7: =SUM(C58:G58)-LARGE(C58:G58,1)-SMALL(C58:G58,1) -> 0 | E7: =Tulokset!D81 -> 0
A8: Päivä: | B8: =Kilpailu!B5 -> 40019
A9: Ohjelma: | B9: =Kilpailu!B6 -> Eurosport | C9: yhteensä: | D9: =SUM(D5:D7) -> 0 | E9: =SUM(E5:E7) -> 0
C10: pois: | D10: =SMALL(D5:D7,1) -> 0 | E10: =SMALL(E5:E7,1) -> 0
C11: 2 parasta: | D11: =SUM(D5:D7)-D10 -> 0 | E11: =SUM(E5:E7)-E10 -> 0
A14: Kierros 1: | C14: Tuomari 1 | D14: Tuomari 2 | E14: Tuomari 3 | F14: Tuomari 4 | G14: Tuomari 5 | H14: yht.
A15: 1. | B15: =IF(Kilpailu!$B$6 =Kilpailu!$A$79,Kilpailu!B30,IF(Kilpailu!$B$6 =Kilpailu!$A$80,Kilpailu!B45,IF(Kilpailu!$B$6 =Kilpailu!$A$81,Kilpailu!B60,""))) -> Timantti | H15: =SUM(C15:G15) -> 0
A16: 2. | B16: =IF(Kilpailu!$B$6 =Kilpailu!$A$79,Kilpailu!B31,IF(Kilpailu!$B$6 =Kilpailu!$A$80,Kilpailu!B46,IF(Kilpailu!$B$6 =Kilpailu!$A$81,Kilpailu!B61,""))) -> Suora leijutus kahdella 180 piruet. | H16: =SUM(C16:G16) -> 0
A17: 3. | B17: =IF(Kilpailu!$B$6 =Kilpailu!$A$79,Kilpailu!B32,IF(Kilpailu!$B$6 =Kilpailu!$A$80,Kilpailu!B47,IF(Kilpailu!$B$6 =Kilpailu!$A$81,Kilpailu!B62,""))) -> Pystykolmio 360 piruetilla | H17: =SUM(C17:G17) -> 0
A18: 4. | B18: =IF(Kilpailu!$B$6 =Kilpailu!$A$79,Kilpailu!B33,IF(Kilpailu!$B$6 =Kilpailu!$A$80,Kilpailu!B48,IF(Kilpailu!$B$6 =Kilpailu!$A$81,Kilpailu!B63,""))) -> Vaakakierre | H18: =SUM(C18:G18) -> 0
A19: 5. | B19: =IF(Kilpailu!$B$6 =Kilpailu!$A$79,Kilpailu!B34,IF(Kilpailu!$B$6 =Kilpailu!$A$80,Kilpailu!B49,IF(Kilpailu!$B$6 =Kilpailu!$A$81,Kilpailu!B64,""))) -> Tuplasilmukat | H19: =SUM(C19:G19) -> 0
A20: 6. | B20: =IF(Kilpailu!$B$6 =Kilpailu!$A$79,Kilpailu!B35,IF(Kilpailu!$B$6 =Kilpailu!$A$80,Kilpailu!B50,IF(Kilpailu!$B$6 =Kilpailu!$A$81,Kilpailu!B65,""))) -> Pystykäännökset | H20: =SUM(C20:G20) -> 0
A21: 7. | B21: =IF(Kilpailu!$B$6 =Kilpailu!$A$79,Kilpailu!B36,IF(Kilpailu!$B$6 =Kilpailu!$A$80,Kilpailu!B51,IF(Kilpailu!$B$6 =Kilpailu!$A$81,Kilpailu!B66,""))) -> Pushover | H21: =SUM(C21:G21) -> 0
A22: 8. | B22: =IF(Kilpailu!$B$6 =Kilpailu!$A$79,Kilpailu!B37,IF(Kilpailu!$B$6 =Kilpailu!$A$80,Kilpailu!B52,IF(Kilpailu!$B$6 =Kilpailu!$A$81,Kilpailu!B67,""))) -> Puolikas cuubalainen kahdeksikko | H22: =SUM(C22:G22) -> 0
A23: 9. | B23: =IF(Kilpailu!$B$6 =Kilpailu!$A$79,Kilpailu!B38,IF(Kilpailu!$B$6 =Kilpailu!$A$80,Kilpailu!B53,IF(Kilpailu!$B$6 =Kilpailu!$A$81,Kilpailu!B68,""))) -> Suora autorotaation 45 ast. Kulm. | H23: =SUM(C23:G23) -> 0
A24: 10. | B24: =IF(Kilpailu!$B$6 =Kilpailu!$A$79,Kilpailu!B39,IF(Kilpailu!$B$6 =Kilpailu!$A$80,Kilpailu!B54,IF(Kilpailu!$B$6 =Kilpailu!$A$81,Kilpailu!B69,""))) | H24: =SUM(C24:G24) -> 0
A25: 11. | B25: =IF(Kilpailu!$B$6 =Kilpailu!$A$79,Kilpailu!B40,IF(Kilpailu!$B$6 =Kilpailu!$A$80,Kilpailu!B55,IF(Kilpailu!$B$6 =Kilpailu!$A$81,Kilpailu!B70,""))) | H25: =SUM(C25:G25) -> 0
B26: Yht. | C26: =SUM(C15:C25) -> 0 | D26: =SUM(D15:D25) -> 0 | E26: =SUM(E15:E25) -> 0 | F26: =SUM(F15:F25) -> 0 | G26: =SUM(G15:G25) -> 0
A30: Kierros 2: | C30: Tuomari 1 | D30: Tuomari 2 | E30: Tuomari 3 | F30: Tuomari 4 | G30: Tuomari 5 | H30: yht.
A31: 1. | B31: =IF(Kilpailu!$B$6 =Kilpailu!$A$79,Kilpailu!B30,IF(Kilpailu!$B$6 =Kilpailu!$A$80,Kilpailu!B45,IF(Kilpailu!$B$6 =Kilpailu!$A$81,Kilpailu!B60,""))) -> Timantti | H31: =SUM(C31:G31) -> 0
A32: 2. | B32: =IF(Kilpailu!$B$6 =Kilpailu!$A$79,Kilpailu!B31,IF(Kilpailu!$B$6 =Kilpailu!$A$80,Kilpailu!B46,IF(Kilpailu!$B$6 =Kilpailu!$A$81,Kilpailu!B61,""))) -> Suora leijutus kahdella 180 piruet. | H32: =SUM(C32:G32) -> 0
A33: 3. | B33: =IF(Kilpailu!$B$6 =Kilpailu!$A$79,Kilpailu!B32,IF(Kilpailu!$B$6 =Kilpailu!$A$80,Kilpailu!B47,IF(Kilpailu!$B$6 =Kilpailu!$A$81,Kilpailu!B62,""))) -> Pystykolmio 360 piruetilla | H33: =SUM(C33:G33) -> 0
A34: 4. | B34: =IF(Kilpailu!$B$6 =Kilpailu!$A$79,Kilpailu!B33,IF(Kilpailu!$B$6 =Kilpailu!$A$80,Kilpailu!B48,IF(Kilpailu!$B$6 =Kilpailu!$A$81,Kilpailu!B63,""))) -> Vaakakierre | H34: =SUM(C34:G34) -> 0
A35: 5. | B35: =IF(Kilpailu!$B$6 =Kilpailu!$A$79,Kilpailu!B34,IF(Kilpailu!$B$6 =Kilpailu!$A$80,Kilpailu!B49,IF(Kilpailu!$B$6 =Kilpailu!$A$81,Kilpailu!B64,""))) -> Tuplasilmukat | H35: =SUM(C35:G35) -> 0
A36: 6. | B36: =IF(Kilpailu!$B$6 =Kilpailu!$A$79,Kilpailu!B35,IF(Kilpailu!$B$6 =Kilpailu!$A$80,Kilpailu!B50,IF(Kilpailu!$B$6 =Kilpailu!$A$81,Kilpailu!B65,""))) -> Pystykäännökset | H36: =SUM(C36:G36) -> 0
A37: 7. | B37: =IF(Kilpailu!$B$6 =Kilpailu!$A$79,Kilpailu!B36,IF(Kilpailu!$B$6 =Kilpailu!$A$80,Kilpailu!B51,IF(Kilpailu!$B$6 =Kilpailu!$A$81,Kilpailu!B66,""))) -> Pushover | H37: =SUM(C37:G37) -> 0
A38: 8. | B38: =IF(Kilpailu!$B$6 =Kilpailu!$A$79,Kilpailu!B37,IF(Kilpailu!$B$6 =Kilpailu!$A$80,Kilpailu!B52,IF(Kilpailu!$B$6 =Kilpailu!$A$81,Kilpailu!B67,""))) -> Puolikas cuubalainen kahdeksikko | H38: =SUM(C38:G38) -> 0
A39: 9. | B39: =IF(Kilpailu!$B$6 =Kilpailu!$A$79,Kilpailu!B38,IF(Kilpailu!$B$6 =Kilpailu!$A$80,Kilpailu!B53,IF(Kilpailu!$B$6 =Kilpailu!$A$81,Kilpailu!B68,""))) -> Suora autorotaation 45 ast. Kulm. | H39: =SUM(C39:G39) -> 0
A40: 10. | B40: =IF(Kilpailu!$B$6 =Kilpailu!$A$79,Kilpailu!B39,IF(Kilpailu!$B$6 =Kilpailu!$A$80,Kilpailu!B54,IF(Kilpailu!$B$6 =Kilpailu!$A$81,Kilpailu!B69,""))) | H40: =SUM(C40:G40) -> 0
A41: 11. | B41: =IF(Kilpailu!$B$6 =Kilpailu!$A$79,Kilpailu!B40,IF(Kilpailu!$B$6 =Kilpailu!$A$80,Kilpailu!B55,IF(Kilpailu!$B$6 =Kilpailu!$A$81,Kilpailu!B70,""))) | H41: =SUM(C41:G41) -> 0
B42: Yht. | C42: =SUM(C31:C41) -> 0 | D42: =SUM(D31:D41) -> 0 | E42: =SUM(E31:E41) -> 0 | F42: =SUM(F31:F41) -> 0 | G42: =SUM(G31:G41) -> 0
A46: Kierros 3: | C46: Tuomari 1 | D46: Tuomari 2 | E46: Tuomari 3 | F46: Tuomari 4 | G46: Tuomari 5 | H46: yht.
A47: 1. | B47: =IF(Kilpailu!$B$6 =Kilpailu!$A$79,Kilpailu!B30,IF(Kilpailu!$B$6 =Kilpailu!$A$80,Kilpailu!B45,IF(Kilpailu!$B$6 =Kilpailu!$A$81,Kilpailu!B60,""))) -> Timantti | H47: =SUM(C47:G47) -> 0
A48: 2. | B48: =IF(Kilpailu!$B$6 =Kilpailu!$A$79,Kilpailu!B31,IF(Kilpailu!$B$6 =Kilpailu!$A$80,Kilpailu!B46,IF(Kilpailu!$B$6 =Kilpailu!$A$81,Kilpailu!B61,""))) -> Suora leijutus kahdella 180 piruet. | H48: =SUM(C48:G48) -> 0
A49: 3. | B49: =IF(Kilpailu!$B$6 =Kilpailu!$A$79,Kilpailu!B32,IF(Kilpailu!$B$6 =Kilpailu!$A$80,Kilpailu!B47,IF(Kilpailu!$B$6 =Kilpailu!$A$81,Kilpailu!B62,""))) -> Pystykolmio 360 piruetilla | H49: =SUM(C49:G49) -> 0
A50: 4. | B50: =IF(Kilpailu!$B$6 =Kilpailu!$A$79,Kilpailu!B33,IF(Kilpailu!$B$6 =Kilpailu!$A$80,Kilpailu!B48,IF(Kilpailu!$B$6 =Kilpailu!$A$81,Kilpailu!B63,""))) -> Vaakakierre | H50: =SUM(C50:G50) -> 0
A51: 5. | B51: =IF(Kilpailu!$B$6 =Kilpailu!$A$79,Kilpailu!B34,IF(Kilpailu!$B$6 =Kilpailu!$A$80,Kilpailu!B49,IF(Kilpailu!$B$6 =Kilpailu!$A$81,Kilpailu!B64,""))) -> Tuplasilmukat | H51: =SUM(C51:G51) -> 0
A52: 6. | B52: =IF(Kilpailu!$B$6 =Kilpailu!$A$79,Kilpailu!B35,IF(Kilpailu!$B$6 =Kilpailu!$A$80,Kilpailu!B50,IF(Kilpailu!$B$6 =Kilpailu!$A$81,Kilpailu!B65,""))) -> Pystykäännökset | H52: =SUM(C52:G52) -> 0
A53: 7. | B53: =IF(Kilpailu!$B$6 =Kilpailu!$A$79,Kilpailu!B36,IF(Kilpailu!$B$6 =Kilpailu!$A$80,Kilpailu!B51,IF(Kilpailu!$B$6 =Kilpailu!$A$81,Kilpailu!B66,""))) -> Pushover | H53: =SUM(C53:G53) -> 0
A54: 8. | B54: =IF(Kilpailu!$B$6 =Kilpailu!$A$79,Kilpailu!B37,IF(Kilpailu!$B$6 =Kilpailu!$A$80,Kilpailu!B52,IF(Kilpailu!$B$6 =Kilpailu!$A$81,Kilpailu!B67,""))) -> Puolikas cuubalainen kahdeksikko | H54: =SUM(C54:G54) -> 0
A55: 9. | B55: =IF(Kilpailu!$B$6 =Kilpailu!$A$79,Kilpailu!B38,IF(Kilpailu!$B$6 =Kilpailu!$A$80,Kilpailu!B53,IF(Kilpailu!$B$6 =Kilpailu!$A$81,Kilpailu!B68,""))) -> Suora autorotaation 45 ast. Kulm. | H55: =SUM(C55:G55) -> 0
A56: 10. | B56: =IF(Kilpailu!$B$6 =Kilpailu!$A$79,Kilpailu!B39,IF(Kilpailu!$B$6 =Kilpailu!$A$80,Kilpailu!B54,IF(Kilpailu!$B$6 =Kilpailu!$A$81,Kilpailu!B69,""))) | H56: =SUM(C56:G56) -> 0
A57: 11. | B57: =IF(Kilpailu!$B$6 =Kilpailu!$A$79,Kilpailu!B40,IF(Kilpailu!$B$6 =Kilpailu!$A$80,Kilpailu!B55,IF(Kilpailu!$B$6 =Kilpailu!$A$81,Kilpailu!B70,""))) | H57: =SUM(C57:G57) -> 0
B58: Yht. | C58: =SUM(C47:C57) -> 0 | D58: =SUM(D47:D57) -> 0 | E58: =SUM(E47:E57) -> 0 | F58: =SUM(F47:F57) -> 0 | G58: =SUM(G47:G57) -> 0

Sheet 15
D4: Pisteet | E4: Suht…
A5: Nimi: | C5: Kierros 1. | D5: =SUM(C26:G26)-LARGE(C26:G26,1)-SMALL(C26:G26,1) -> 0 | E5: =Tulokset!D42 -> 0
C6: Kierros 2. | D6: =SUM(C42:G42)-LARGE(C42:G42,1)-SMALL(C42:G42,1) -> 0 | E6: =Tulokset!D62 -> 0
A7: Paikka: | B7: =Kilpailu!B4 -> Forssa | C7: Kierros 3. | D7: =SUM(C58:G58)-LARGE(C58:G58,1)-SMALL(C58:G58,1) -> 0 | E7: =Tulokset!D82 -> 0
A8: Päivä: | B8: =Kilpailu!B5 -> 40019
A9: Ohjelma: | B9: =Kilpailu!B6 -> Eurosport | C9: yhteensä: | D9: =SUM(D5:D7) -> 0 | E9: =SUM(E5:E7) -> 0
C10: pois: | D10: =SMALL(D5:D7,1) -> 0 | E10: =SMALL(E5:E7,1) -> 0
C11: 2 parasta: | D11: =SUM(D5:D7)-D10 -> 0 | E11: =SUM(E5:E7)-E10 -> 0
A14: Kierros 1: | C14: Tuomari 1 | D14: Tuomari 2 | E14: Tuomari 3 | F14: Tuomari 4 | G14: Tuomari 5 | H14: yht.
A15: 1. | B15: =IF(Kilpailu!$B$6 =Kilpailu!$A$79,Kilpailu!B30,IF(Kilpailu!$B$6 =Kilpailu!$A$80,Kilpailu!B45,IF(Kilpailu!$B$6 =Kilpailu!$A$81,Kilpailu!B60,""))) -> Timantti | H15: =SUM(C15:G15) -> 0
A16: 2. | B16: =IF(Kilpailu!$B$6 =Kilpailu!$A$79,Kilpailu!B31,IF(Kilpailu!$B$6 =Kilpailu!$A$80,Kilpailu!B46,IF(Kilpailu!$B$6 =Kilpailu!$A$81,Kilpailu!B61,""))) -> Suora leijutus kahdella 180 piruet. | H16: =SUM(C16:G16) -> 0
A17: 3. | B17: =IF(Kilpailu!$B$6 =Kilpailu!$A$79,Kilpailu!B32,IF(Kilpailu!$B$6 =Kilpailu!$A$80,Kilpailu!B47,IF(Kilpailu!$B$6 =Kilpailu!$A$81,Kilpailu!B62,""))) -> Pystykolmio 360 piruetilla | H17: =SUM(C17:G17) -> 0
A18: 4. | B18: =IF(Kilpailu!$B$6 =Kilpailu!$A$79,Kilpailu!B33,IF(Kilpailu!$B$6 =Kilpailu!$A$80,Kilpailu!B48,IF(Kilpailu!$B$6 =Kilpailu!$A$81,Kilpailu!B63,""))) -> Vaakakierre | H18: =SUM(C18:G18) -> 0
A19: 5. | B19: =IF(Kilpailu!$B$6 =Kilpailu!$A$79,Kilpailu!B34,IF(Kilpailu!$B$6 =Kilpailu!$A$80,Kilpailu!B49,IF(Kilpailu!$B$6 =Kilpailu!$A$81,Kilpailu!B64,""))) -> Tuplasilmukat | H19: =SUM(C19:G19) -> 0
A20: 6. | B20: =IF(Kilpailu!$B$6 =Kilpailu!$A$79,Kilpailu!B35,IF(Kilpailu!$B$6 =Kilpailu!$A$80,Kilpailu!B50,IF(Kilpailu!$B$6 =Kilpailu!$A$81,Kilpailu!B65,""))) -> Pystykäännökset | H20: =SUM(C20:G20) -> 0
A21: 7. | B21: =IF(Kilpailu!$B$6 =Kilpailu!$A$79,Kilpailu!B36,IF(Kilpailu!$B$6 =Kilpailu!$A$80,Kilpailu!B51,IF(Kilpailu!$B$6 =Kilpailu!$A$81,Kilpailu!B66,""))) -> Pushover | H21: =SUM(C21:G21) -> 0
A22: 8. | B22: =IF(Kilpailu!$B$6 =Kilpailu!$A$79,Kilpailu!B37,IF(Kilpailu!$B$6 =Kilpailu!$A$80,Kilpailu!B52,IF(Kilpailu!$B$6 =Kilpailu!$A$81,Kilpailu!B67,""))) -> Puolikas cuubalainen kahdeksikko | H22: =SUM(C22:G22) -> 0
A23: 9. | B23: =IF(Kilpailu!$B$6 =Kilpailu!$A$79,Kilpailu!B38,IF(Kilpailu!$B$6 =Kilpailu!$A$80,Kilpailu!B53,IF(Kilpailu!$B$6 =Kilpailu!$A$81,Kilpailu!B68,""))) -> Suora autorotaation 45 ast. Kulm. | H23: =SUM(C23:G23) -> 0
A24: 10. | B24: =IF(Kilpailu!$B$6 =Kilpailu!$A$79,Kilpailu!B39,IF(Kilpailu!$B$6 =Kilpailu!$A$80,Kilpailu!B54,IF(Kilpailu!$B$6 =Kilpailu!$A$81,Kilpailu!B69,""))) | H24: =SUM(C24:G24) -> 0
A25: 11. | B25: =IF(Kilpailu!$B$6 =Kilpailu!$A$79,Kilpailu!B40,IF(Kilpailu!$B$6 =Kilpailu!$A$80,Kilpailu!B55,IF(Kilpailu!$B$6 =Kilpailu!$A$81,Kilpailu!B70,""))) | H25: =SUM(C25:G25) -> 0
B26: Yht. | C26: =SUM(C15:C25) -> 0 | D26: =SUM(D15:D25) -> 0 | E26: =SUM(E15:E25) -> 0 | F26: =SUM(F15:F25) -> 0 | G26: =SUM(G15:G25) -> 0
A30: Kierros 2: | C30: Tuomari 1 | D30: Tuomari 2 | E30: Tuomari 3 | F30: Tuomari 4 | G30: Tuomari 5 | H30: yht.
A31: 1. | B31: =IF(Kilpailu!$B$6 =Kilpailu!$A$79,Kilpailu!B30,IF(Kilpailu!$B$6 =Kilpailu!$A$80,Kilpailu!B45,IF(Kilpailu!$B$6 =Kilpailu!$A$81,Kilpailu!B60,""))) -> Timantti | H31: =SUM(C31:G31) -> 0
A32: 2. | B32: =IF(Kilpailu!$B$6 =Kilpailu!$A$79,Kilpailu!B31,IF(Kilpailu!$B$6 =Kilpailu!$A$80,Kilpailu!B46,IF(Kilpailu!$B$6 =Kilpailu!$A$81,Kilpailu!B61,""))) -> Suora leijutus kahdella 180 piruet. | H32: =SUM(C32:G32) -> 0
A33: 3. | B33: =IF(Kilpailu!$B$6 =Kilpailu!$A$79,Kilpailu!B32,IF(Kilpailu!$B$6 =Kilpailu!$A$80,Kilpailu!B47,IF(Kilpailu!$B$6 =Kilpailu!$A$81,Kilpailu!B62,""))) -> Pystykolmio 360 piruetilla | H33: =SUM(C33:G33) -> 0
A34: 4. | B34: =IF(Kilpailu!$B$6 =Kilpailu!$A$79,Kilpailu!B33,IF(Kilpailu!$B$6 =Kilpailu!$A$80,Kilpailu!B48,IF(Kilpailu!$B$6 =Kilpailu!$A$81,Kilpailu!B63,""))) -> Vaakakierre | H34: =SUM(C34:G34) -> 0
A35: 5. | B35: =IF(Kilpailu!$B$6 =Kilpailu!$A$79,Kilpailu!B34,IF(Kilpailu!$B$6 =Kilpailu!$A$80,Kilpailu!B49,IF(Kilpailu!$B$6 =Kilpailu!$A$81,Kilpailu!B64,""))) -> Tuplasilmukat | H35: =SUM(C35:G35) -> 0
A36: 6. | B36: =IF(Kilpailu!$B$6 =Kilpailu!$A$79,Kilpailu!B35,IF(Kilpailu!$B$6 =Kilpailu!$A$80,Kilpailu!B50,IF(Kilpailu!$B$6 =Kilpailu!$A$81,Kilpailu!B65,""))) -> Pystykäännökset | H36: =SUM(C36:G36) -> 0
A37: 7. | B37: =IF(Kilpailu!$B$6 =Kilpailu!$A$79,Kilpailu!B36,IF(Kilpailu!$B$6 =Kilpailu!$A$80,Kilpailu!B51,IF(Kilpailu!$B$6 =Kilpailu!$A$81,Kilpailu!B66,""))) -> Pushover | H37: =SUM(C37:G37) -> 0
A38: 8. | B38: =IF(Kilpailu!$B$6 =Kilpailu!$A$79,Kilpailu!B37,IF(Kilpailu!$B$6 =Kilpailu!$A$80,Kilpailu!B52,IF(Kilpailu!$B$6 =Kilpailu!$A$81,Kilpailu!B67,""))) -> Puolikas cuubalainen kahdeksikko | H38: =SUM(C38:G38) -> 0
A39: 9. | B39: =IF(Kilpailu!$B$6 =Kilpailu!$A$79,Kilpailu!B38,IF(Kilpailu!$B$6 =Kilpailu!$A$80,Kilpailu!B53,IF(Kilpailu!$B$6 =Kilpailu!$A$81,Kilpailu!B68,""))) -> Suora autorotaation 45 ast. Kulm. | H39: =SUM(C39:G39) -> 0
A40: 10. | B40: =IF(Kilpailu!$B$6 =Kilpailu!$A$79,Kilpailu!B39,IF(Kilpailu!$B$6 =Kilpailu!$A$80,Kilpailu!B54,IF(Kilpailu!$B$6 =Kilpailu!$A$81,Kilpailu!B69,""))) | H40: =SUM(C40:G40) -> 0
A41: 11. | B41: =IF(Kilpailu!$B$6 =Kilpailu!$A$79,Kilpailu!B40,IF(Kilpailu!$B$6 =Kilpailu!$A$80,Kilpailu!B55,IF(Kilpailu!$B$6 =Kilpailu!$A$81,Kilpailu!B70,""))) | H41: =SUM(C41:G41) -> 0
B42: Yht. | C42: =SUM(C31:C41) -> 0 | D42: =SUM(D31:D41) -> 0 | E42: =SUM(E31:E41) -> 0 | F42: =SUM(F31:F41) -> 0 | G42: =SUM(G31:G41) -> 0
A46: Kierros 3: | C46: Tuomari 1 | D46: Tuomari 2 | E46: Tuomari 3 | F46: Tuomari 4 | G46: Tuomari 5 | H46: yht.
A47: 1. | B47: =IF(Kilpailu!$B$6 =Kilpailu!$A$79,Kilpailu!B30,IF(Kilpailu!$B$6 =Kilpailu!$A$80,Kilpailu!B45,IF(Kilpailu!$B$6 =Kilpailu!$A$81,Kilpailu!B60,""))) -> Timantti | H47: =SUM(C47:G47) -> 0
A48: 2. | B48: =IF(Kilpailu!$B$6 =Kilpailu!$A$79,Kilpailu!B31,IF(Kilpailu!$B$6 =Kilpailu!$A$80,Kilpailu!B46,IF(Kilpailu!$B$6 =Kilpailu!$A$81,Kilpailu!B61,""))) -> Suora leijutus kahdella 180 piruet. | H48: =SUM(C48:G48) -> 0
A49: 3. | B49: =IF(Kilpailu!$B$6 =Kilpailu!$A$79,Kilpailu!B32,IF(Kilpailu!$B$6 =Kilpailu!$A$80,Kilpailu!B47,IF(Kilpailu!$B$6 =Kilpailu!$A$81,Kilpailu!B62,""))) -> Pystykolmio 360 piruetilla | H49: =SUM(C49:G49) -> 0
A50: 4. | B50: =IF(Kilpailu!$B$6 =Kilpailu!$A$79,Kilpailu!B33,IF(Kilpailu!$B$6 =Kilpailu!$A$80,Kilpailu!B48,IF(Kilpailu!$B$6 =Kilpailu!$A$81,Kilpailu!B63,""))) -> Vaakakierre | H50: =SUM(C50:G50) -> 0
A51: 5. | B51: =IF(Kilpailu!$B$6 =Kilpailu!$A$79,Kilpailu!B34,IF(Kilpailu!$B$6 =Kilpailu!$A$80,Kilpailu!B49,IF(Kilpailu!$B$6 =Kilpailu!$A$81,Kilpailu!B64,""))) -> Tuplasilmukat | H51: =SUM(C51:G51) -> 0
A52: 6. | B52: =IF(Kilpailu!$B$6 =Kilpailu!$A$79,Kilpailu!B35,IF(Kilpailu!$B$6 =Kilpailu!$A$80,Kilpailu!B50,IF(Kilpailu!$B$6 =Kilpailu!$A$81,Kilpailu!B65,""))) -> Pystykäännökset | H52: =SUM(C52:G52) -> 0
A53: 7. | B53: =IF(Kilpailu!$B$6 =Kilpailu!$A$79,Kilpailu!B36,IF(Kilpailu!$B$6 =Kilpailu!$A$80,Kilpailu!B51,IF(Kilpailu!$B$6 =Kilpailu!$A$81,Kilpailu!B66,""))) -> Pushover | H53: =SUM(C53:G53) -> 0
A54: 8. | B54: =IF(Kilpailu!$B$6 =Kilpailu!$A$79,Kilpailu!B37,IF(Kilpailu!$B$6 =Kilpailu!$A$80,Kilpailu!B52,IF(Kilpailu!$B$6 =Kilpailu!$A$81,Kilpailu!B67,""))) -> Puolikas cuubalainen kahdeksikko | H54: =SUM(C54:G54) -> 0
A55: 9. | B55: =IF(Kilpailu!$B$6 =Kilpailu!$A$79,Kilpailu!B38,IF(Kilpailu!$B$6 =Kilpailu!$A$80,Kilpailu!B53,IF(Kilpailu!$B$6 =Kilpailu!$A$81,Kilpailu!B68,""))) -> Suora autorotaation 45 ast. Kulm. | H55: =SUM(C55:G55) -> 0
A56: 10. | B56: =IF(Kilpailu!$B$6 =Kilpailu!$A$79,Kilpailu!B39,IF(Kilpailu!$B$6 =Kilpailu!$A$80,Kilpailu!B54,IF(Kilpailu!$B$6 =Kilpailu!$A$81,Kilpailu!B69,""))) | H56: =SUM(C56:G56) -> 0
A57: 11. | B57: =IF(Kilpailu!$B$6 =Kilpailu!$A$79,Kilpailu!B40,IF(Kilpailu!$B$6 =Kilpailu!$A$80,Kilpailu!B55,IF(Kilpailu!$B$6 =Kilpailu!$A$81,Kilpailu!B70,""))) | H57: =SUM(C57:G57) -> 0
B58: Yht. | C58: =SUM(C47:C57) -> 0 | D58: =SUM(D47:D57) -> 0 | E58: =SUM(E47:E57) -> 0 | F58: =SUM(F47:F57) -> 0 | G58: =SUM(G47:G57) -> 0

Sheet Arvostelu lomakkeet
A1: Nimi: | C1: Tuomari: | E1: Kierros:
A2: =Kilpailu!$B$5 -> 40019 | B2: =Kilpailu!$B$4 -> Forssa
A3: 1. | B3: =IF(Kilpailu!$B$6 =Kilpailu!$A$79,Kilpailu!$B$30,IF(Kilpailu!$B$6 =Kilpailu!$A$80,Kilpailu!$B$45,IF(Kilpailu!$B$6 =Kilpailu!$A$81,Kilpailu!$B$60,""))) -> Timantti
A4: 2. | B4: =IF(Kilpailu!$B$6 =Kilpailu!$A$79,Kilpailu!$B$31,IF(Kilpailu!$B$6 =Kilpailu!$A$80,Kilpailu!$B$46,IF(Kilpailu!$B$6 =Kilpailu!$A$81,Kilpailu!$B$61,""))) -> Suora leijutus kahdella 180 piruet.
A5: 3. | B5: =IF(Kilpailu!$B$6 =Kilpailu!$A$79,Kilpailu!$B$32,IF(Kilpailu!$B$6 =Kilpailu!$A$80,Kilpailu!$B$47,IF(Kilpailu!$B$6 =Kilpailu!$A$81,Kilpailu!$B$62,""))) -> Pystykolmio 360 piruetilla
A6: 4. | B6: =IF(Kilpailu!$B$6 =Kilpailu!$A$79,Kilpailu!$B$33,IF(Kilpailu!$B$6 =Kilpailu!$A$80,Kilpailu!$B$48,IF(Kilpailu!$B$6 =Kilpailu!$A$81,Kilpailu!$B$63,""))) -> Vaakakierre
A7: 5. | B7: =IF(Kilpailu!$B$6 =Kilpailu!$A$79,Kilpailu!$B$34,IF(Kilpailu!$B$6 =Kilpailu!$A$80,Kilpailu!$B$49,IF(Kilpailu!$B$6 =Kilpailu!$A$81,Kilpailu!$B$64,""))) -> Tuplasilmukat
A8: 6. | B8: =IF(Kilpailu!$B$6 =Kilpailu!$A$79,Kilpailu!$B$35,IF(Kilpailu!$B$6 =Kilpailu!$A$80,Kilpailu!$B$50,IF(Kilpailu!$B$6 =Kilpailu!$A$81,Kilpailu!$B$65,""))) -> Pystykäännökset
A9: 7. | B9: =IF(Kilpailu!$B$6 =Kilpailu!$A$79,Kilpailu!$B$36,IF(Kilpailu!$B$6 =Kilpailu!$A$80,Kilpailu!$B$51,IF(Kilpailu!$B$6 =Kilpailu!$A$81,Kilpailu!$B$66,""))) -> Pushover
A10: 8. | B10: =IF(Kilpailu!$B$6 =Kilpailu!$A$79,Kilpailu!$B$37,IF(Kilpailu!$B$6 =Kilpailu!$A$80,Kilpailu!$B$52,IF(Kilpailu!$B$6 =Kilpailu!$A$81,Kilpailu!$B$67,""))) -> Puolikas cuubalainen kahdeksikko
A11: 9. | B11: =IF(Kilpailu!$B$6 =Kilpailu!$A$79,Kilpailu!$B$38,IF(Kilpailu!$B$6 =Kilpailu!$A$80,Kilpailu!$B$53,IF(Kilpailu!$B$6 =Kilpailu!$A$81,Kilpailu!$B$68,""))) -> Suora autorotaation 45 ast. Kulm.
A12: 10. | B12: =IF(Kilpailu!$B$6 =Kilpailu!$A$79,Kilpailu!$B$39,IF(Kilpailu!$B$6 =Kilpailu!$A$80,Kilpailu!$B$54,IF(Kilpailu!$B$6 =Kilpailu!$A$81,Kilpailu!$B$69,"")))
A13: 11. | B13: =IF(Kilpailu!$B$6 =Kilpailu!$A$79,Kilpailu!$B$40,IF(Kilpailu!$B$6 =Kilpailu!$A$80,Kilpailu!$B$55,IF(Kilpailu!$B$6 =Kilpailu!$A$81,Kilpailu!$B$70,"")))
A16: Nimi: | C16: Tuomari: | E16: Kierros:
A17: =Kilpailu!$B$5 -> 40019 | B17: =Kilpailu!$B$4 -> Forssa
A18: 1. | B18: =IF(Kilpailu!$B$6 =Kilpailu!$A$79,Kilpailu!$B$30,IF(Kilpailu!$B$6 =Kilpailu!$A$80,Kilpailu!$B$45,IF(Kilpailu!$B$6 =Kilpailu!$A$81,Kilpailu!$B$60,""))) -> Timantti
A19: 2. | B19: =IF(Kilpailu!$B$6 =Kilpailu!$A$79,Kilpailu!$B$31,IF(Kilpailu!$B$6 =Kilpailu!$A$80,Kilpailu!$B$46,IF(Kilpailu!$B$6 =Kilpailu!$A$81,Kilpailu!$B$61,""))) -> Suora leijutus kahdella 180 piruet.
A20: 3. | B20: =IF(Kilpailu!$B$6 =Kilpailu!$A$79,Kilpailu!$B$32,IF(Kilpailu!$B$6 =Kilpailu!$A$80,Kilpailu!$B$47,IF(Kilpailu!$B$6 =Kilpailu!$A$81,Kilpailu!$B$62,""))) -> Pystykolmio 360 piruetilla
A21: 4. | B21: =IF(Kilpailu!$B$6 =Kilpailu!$A$79,Kilpailu!$B$33,IF(Kilpailu!$B$6 =Kilpailu!$A$80,Kilpailu!$B$48,IF(Kilpailu!$B$6 =Kilpailu!$A$81,Kilpailu!$B$63,""))) -> Vaakakierre
A22: 5. | B22: =IF(Kilpailu!$B$6 =Kilpailu!$A$79,Kilpailu!$B$34,IF(Kilpailu!$B$6 =Kilpailu!$A$80,Kilpailu!$B$49,IF(Kilpailu!$B$6 =Kilpailu!$A$81,Kilpailu!$B$64,""))) -> Tuplasilmukat
A23: 6. | B23: =IF(Kilpailu!$B$6 =Kilpailu!$A$79,Kilpailu!$B$35,IF(Kilpailu!$B$6 =Kilpailu!$A$80,Kilpailu!$B$50,IF(Kilpailu!$B$6 =Kilpailu!$A$81,Kilpailu!$B$65,""))) -> Pystykäännökset
A24: 7. | B24: =IF(Kilpailu!$B$6 =Kilpailu!$A$79,Kilpailu!$B$36,IF(Kilpailu!$B$6 =Kilpailu!$A$80,Kilpailu!$B$51,IF(Kilpailu!$B$6 =Kilpailu!$A$81,Kilpailu!$B$66,""))) -> Pushover
A25: 8. | B25: =IF(Kilpailu!$B$6 =Kilpailu!$A$79,Kilpailu!$B$37,IF(Kilpailu!$B$6 =Kilpailu!$A$80,Kilpailu!$B$52,IF(Kilpailu!$B$6 =Kilpailu!$A$81,Kilpailu!$B$67,""))) -> Puolikas cuubalainen kahdeksikko
A26: 9. | B26: =IF(Kilpailu!$B$6 =Kilpailu!$A$79,Kilpailu!$B$38,IF(Kilpailu!$B$6 =Kilpailu!$A$80,Kilpailu!$B$53,IF(Kilpailu!$B$6 =Kilpailu!$A$81,Kilpailu!$B$68,""))) -> Suora autorotaation 45 ast. Kulm.
A27: 10. | B27: =IF(Kilpailu!$B$6 =Kilpailu!$A$79,Kilpailu!$B$39,IF(Kilpailu!$B$6 =Kilpailu!$A$80,Kilpailu!$B$54,IF(Kilpailu!$B$6 =Kilpailu!$A$81,Kilpailu!$B$69,"")))
A28: 11. | B28: =IF(Kilpailu!$B$6 =Kilpailu!$A$79,Kilpailu!$B$40,IF(Kilpailu!$B$6 =Kilpailu!$A$80,Kilpailu!$B$55,IF(Kilpailu!$B$6 =Kilpailu!$A$81,Kilpailu!$B$70,"")))
A31: Nimi: | C31: Tuomari: | E31: Kierros:
A32: =Kilpailu!$B$5 -> 40019 | B32: =Kilpailu!$B$4 -> Forssa
A33: 1. | B33: =IF(Kilpailu!$B$6 =Kilpailu!$A$79,Kilpailu!$B$30,IF(Kilpailu!$B$6 =Kilpailu!$A$80,Kilpailu!$B$45,IF(Kilpailu!$B$6 =Kilpailu!$A$81,Kilpailu!$B$60,""))) -> Timantti
A34: 2. | B34: =IF(Kilpailu!$B$6 =Kilpailu!$A$79,Kilpailu!$B$31,IF(Kilpailu!$B$6 =Kilpailu!$A$80,Kilpailu!$B$46,IF(Kilpailu!$B$6 =Kilpailu!$A$81,Kilpailu!$B$61,""))) -> Suora leijutus kahdella 180 piruet.
A35: 3. | B35: =IF(Kilpailu!$B$6 =Kilpailu!$A$79,Kilpailu!$B$32,IF(Kilpailu!$B$6 =Kilpailu!$A$80,Kilpailu!$B$47,IF(Kilpailu!$B$6 =Kilpailu!$A$81,Kilpailu!$B$62,""))) -> Pystykolmio 360 piruetilla
A36: 4. | B36: =IF(Kilpailu!$B$6 =Kilpailu!$A$79,Kilpailu!$B$33,IF(Kilpailu!$B$6 =Kilpailu!$A$80,Kilpailu!$B$48,IF(Kilpailu!$B$6 =Kilpailu!$A$81,Kilpailu!$B$63,""))) -> Vaakakierre
A37: 5. | B37: =IF(Kilpailu!$B$6 =Kilpailu!$A$79,Kilpailu!$B$34,IF(Kilpailu!$B$6 =Kilpailu!$A$80,Kilpailu!$B$49,IF(Kilpailu!$B$6 =Kilpailu!$A$81,Kilpailu!$B$64,""))) -> Tuplasilmukat
A38: 6. | B38: =IF(Kilpailu!$B$6 =Kilpailu!$A$79,Kilpailu!$B$35,IF(Kilpailu!$B$6 =Kilpailu!$A$80,Kilpailu!$B$50,IF(Kilpailu!$B$6 =Kilpailu!$A$81,Kilpailu!$B$65,""))) -> Pystykäännökset
A39: 7. | B39: =IF(Kilpailu!$B$6 =Kilpailu!$A$79,Kilpailu!$B$36,IF(Kilpailu!$B$6 =Kilpailu!$A$80,Kilpailu!$B$51,IF(Kilpailu!$B$6 =Kilpailu!$A$81,Kilpailu!$B$66,""))) -> Pushover
A40: 8. | B40: =IF(Kilpailu!$B$6 =Kilpailu!$A$79,Kilpailu!$B$37,IF(Kilpailu!$B$6 =Kilpailu!$A$80,Kilpailu!$B$52,IF(Kilpailu!$B$6 =Kilpailu!$A$81,Kilpailu!$B$67,""))) -> Puolikas cuubalainen kahdeksikko
A41: 9. | B41: =IF(Kilpailu!$B$6 =Kilpailu!$A$79,Kilpailu!$B$38,IF(Kilpailu!$B$6 =Kilpailu!$A$80,Kilpailu!$B$53,IF(Kilpailu!$B$6 =Kilpailu!$A$81,Kilpailu!$B$68,""))) -> Suora autorotaation 45 ast. Kulm.
A42: 10. | B42: =IF(Kilpailu!$B$6 =Kilpailu!$A$79,Kilpailu!$B$39,IF(Kilpailu!$B$6 =Kilpailu!$A$80,Kilpailu!$B$54,IF(Kilpailu!$B$6 =Kilpailu!$A$81,Kilpailu!$B$69,"")))
A43: 11. | B43: =IF(Kilpailu!$B$6 =Kilpailu!$A$79,Kilpailu!$B$40,IF(Kilpailu!$B$6 =Kilpailu!$A$80,Kilpailu!$B$55,IF(Kilpailu!$B$6 =Kilpailu!$A$81,Kilpailu!$B$70,"")))
